{"text_format":"1","workbook":"xlsx","n_sheets":8,"sheets":["Титульный лист","Движение денежных средств","Доходы","Расходы","Баланс","Соответствия статей","Отчет по операциям","ДАННЫЕ ДИАГРАММЫ"],"not_rendered":{"charts":10,"images":0,"macros":1,"external_links":0,"defined_names":21,"comments":0,"pivot_tables":0},"unopened":[],"bounds":{"document_bytes":16777216,"sheet_cells":100000,"rows_first":2000,"rows_last":500,"rows_between":2000,"halvings":0,"cell_chars":16384,"cell_head_chars":4096},"cells_cut":0,"cells_raw":0,"read":"whole","date_system":"1900"}

{"sheet":"Титульный лист","index":0,"n_rows":18,"n_cols":2,"rows_kept":18,"cut":false,"hidden":false,"merged":[[12,1,14,8],[10,1,11,8],[15,1,16,8],[17,1,19,8]]}
[]
[]
[]
[null,"Годовой семейный бюджет"]
[null,"Планируйте и отслеживайте доходы и расходы семьи в течение всего года"]
[]
[]
[]
[null,"Как пользоваться этим шаблоном"]
[]
[null,"1. Укажите наименование бюджета и номер года на листе \"Движение денежных средств\""]
[]
[null,"2. Заполните или обновите данные на листах \"Доходы\" и \"Расходы\" путем ввода данных через пользоватльские формы или путем загрузки выписки из интернет банка"]
[]
[]
[null,"3. На листе \"Баланс\" отражайте данные об изменении Активов и погашении Задолженностей"]
[]
[null,"4. Анализируйте динамику изменения доходов, расходов и структуры баланса по графикам и диаграммам"]

{"sheet":"Движение денежных средств","index":1,"n_rows":11,"n_cols":41,"rows_kept":11,"cut":false,"hidden":false,"merged":[[6,38,6,40],[6,35,6,37],[13,2,13,3],[13,4,13,5],[13,6,13,7],[6,17,6,19],[6,2,6,4],[6,5,6,7],[6,8,6,10],[6,11,6,13],[6,14,6,16],[6,20,6,22],[6,23,6,25],[6,26,6,28],[6,29,6,31],[6,32,6,34]]}
[null,"Михаил"]
[null,"Личный бюджет"]
[]
[null,{"$f":"YEAR(TODAY())","v":2020}]
[null,"Примечание. Данные в таблице движения денежных средств автоматически рассчитываются на основе записей в таблицах \"Доходы за месяц\" и \"Расходы за месяц\"."]
[]
[null,"Движение денежных средств",{"$f":"DATE($B6,1,1)","v":"1900-01-01"},null,null,{"$f":"DATE($B6,2,1)","v":"1900-02-01"},null,null,{"$f":"DATE($B6,3,1)","v":"1900-03-01"},null,null,{"$f":"DATE($B6,4,1)","v":"1900-04-01"},null,null,{"$f":"DATE($B6,5,1)","v":"1900-05-01"},null,null,{"$f":"DATE($B6,6,1)","v":"1900-06-01"},null,null,{"$f":"DATE($B6,7,1)","v":"1900-07-01"},null,null,{"$f":"DATE($B6,8,1)","v":"1900-08-01"},null,null,{"$f":"DATE($B6,9,1)","v":"1900-09-01"},null,null,{"$f":"DATE($B6,10,1)","v":"1900-10-01"},null,null,{"$f":"DATE($B6,11,1)","v":"1900-11-01"},null,null,{"$f":"DATE($B6,12,1)","v":"1900-12-01"},null,null,"Итого"]
[null,"Показатели","План","Факт","Разница","План","Факт","Разница","План","Факт","Разница","План","Факт","Разница","План","Факт","Разница","План","Факт","Разница","План","Факт","Разница","План","Факт","Разница","План","Факт","Разница","План","Факт","Разница","План","Факт","Разница","План","Факт","Разница","План","Факт","Разница"]
[null,"Доходы",{"$f":"Доходы!C12","v":72000},{"$f":"Доходы!D12","v":88167.039999999994},{"$f":"D9-C9","v":16167.039999999994},{"$f":"Доходы!F12","v":57000},{"$f":"Доходы!G12","v":92004.69},{"$f":"G9-F9","v":35004.69},{"$f":"Доходы!I12","v":57000},{"$f":"Доходы!J12","v":92583.8},{"$f":"J9-I9","v":35583.800000000003},{"$f":"Доходы!L12","v":57000},{"$f":"Доходы!M12","v":88167.039999999994},{"$f":"M9-L9","v":31167.039999999994},{"$f":"Доходы!O12","v":57000},{"$f":"Доходы!P12","v":92004.69},{"$f":"P9-O9","v":35004.69},{"$f":"Доходы!R12","v":57000},{"$f":"Доходы!S12","v":92583.8},{"$f":"S9-R9","v":35583.800000000003},{"$f":"Доходы!U12","v":57000},{"$f":"Доходы!V12","v":88167.039999999994},{"$f":"V9-U9","v":31167.039999999994},{"$f":"Доходы!X12","v":57000},{"$f":"Доходы!Y12","v":92004.69},{"$f":"Y9-X9","v":35004.69},{"$f":"Доходы!AA12","v":57000},{"$f":"Доходы!AB12","v":92583.8},{"$f":"AB9-AA9","v":35583.800000000003},{"$f":"Доходы!AD12","v":57000},{"$f":"Доходы!AE12","v":88167.039999999994},{"$f":"AE9-AD9","v":31167.039999999994},{"$f":"Доходы!AG12","v":57000},{"$f":"Доходы!AH12","v":92004.69},{"$f":"AH9-AG9","v":35004.69},{"$f":"Доходы!AJ12","v":57000},{"$f":"Доходы!AK12","v":92583.8},{"$f":"AK9-AJ9","v":35583.800000000003},{"$f":"SUMIFS($C9:$AL9,$C8:$AL8,AM$8)","v":699000},{"$f":"SUMIFS($C9:$AL9,$C8:$AL8,AN$8)","v":1091022.1200000001},{"$f":"AN9-AM9","v":392022.12000000011}]
[null,"Расходы",{"$f":"-Расходы!C36","v":-34730},{"$f":"-Расходы!D36","v":-64809.440000000002},{"$f":"D10-C10","v":-30079.440000000002},{"$f":"-Расходы!F36","v":-34730},{"$f":"-Расходы!G36","v":-66968.53},{"$f":"G10-F10","v":-32238.53},{"$f":"-Расходы!I36","v":-34730},{"$f":"-Расходы!J36","v":-166924.73000000001},{"$f":"J10-I10","v":-132194.73000000001},{"$f":"-Расходы!L36","v":-34730},{"$f":"-Расходы!M36","v":-64809.440000000002},{"$f":"M10-L10","v":-30079.440000000002},{"$f":"-Расходы!O36","v":-34730},{"$f":"-Расходы!P36","v":-66968.53},{"$f":"P10-O10","v":-32238.53},{"$f":"-Расходы!R36","v":-34730},{"$f":"-Расходы!S36","v":-166924.73000000001},{"$f":"S10-R10","v":-132194.73000000001},{"$f":"-Расходы!U36","v":-34730},{"$f":"-Расходы!V36","v":-64809.440000000002},{"$f":"V10-U10","v":-30079.440000000002},{"$f":"-Расходы!X36","v":-34730},{"$f":"-Расходы!Y36","v":-66968.53},{"$f":"Y10-X10","v":-32238.53},{"$f":"-Расходы!AA36","v":-34730},{"$f":"-Расходы!AB36","v":-166924.73000000001},{"$f":"AB10-AA10","v":-132194.73000000001},{"$f":"-Расходы!AD36","v":-34730},{"$f":"-Расходы!AE36","v":-64809.440000000002},{"$f":"AE10-AD10","v":-30079.440000000002},{"$f":"-Расходы!AG36","v":-34730},{"$f":"-Расходы!AH36","v":-66968.53},{"$f":"AH10-AG10","v":-32238.53},{"$f":"-Расходы!AJ36","v":-34730},{"$f":"-Расходы!AK36","v":-166924.73000000001},{"$f":"AK10-AJ10","v":-132194.73000000001},{"$f":"SUMIFS($C10:$AL10,$C8:$AL8,AM$8)","v":-416760},{"$f":"SUMIFS($C10:$AL10,$C8:$AL8,AN$8)","v":-1194810.8},{"$f":"AN10-AM10","v":-778050.8}]
[null,"Итого остаток денежных средств",{"$f":"C9+C10","v":37270},{"$f":"D9+D10","v":23357.599999999991},{"$f":"D11-C11","v":-13912.400000000009},{"$f":"F9+F10","v":22270},{"$f":"G9+G10","v":25036.160000000003},{"$f":"G11-F11","v":2766.1600000000035},{"$f":"I9+I10","v":22270},{"$f":"J9+J10","v":-74340.930000000008},{"$f":"J11-I11","v":-96610.930000000008},{"$f":"L9+L10","v":22270},{"$f":"M9+M10","v":23357.599999999991},{"$f":"M11-L11","v":1087.5999999999913},{"$f":"O9+O10","v":22270},{"$f":"P9+P10","v":25036.160000000003},{"$f":"P11-O11","v":2766.1600000000035},{"$f":"R9+R10","v":22270},{"$f":"S9+S10","v":-74340.930000000008},{"$f":"S11-R11","v":-96610.930000000008},{"$f":"U9+U10","v":22270},{"$f":"V9+V10","v":23357.599999999991},{"$f":"V11-U11","v":1087.5999999999913},{"$f":"X9+X10","v":22270},{"$f":"Y9+Y10","v":25036.160000000003},{"$f":"Y11-X11","v":2766.1600000000035},{"$f":"AA9+AA10","v":22270},{"$f":"AB9+AB10","v":-74340.930000000008},{"$f":"AB11-AA11","v":-96610.930000000008},{"$f":"AD9+AD10","v":22270},{"$f":"AE9+AE10","v":23357.599999999991},{"$f":"AE11-AD11","v":1087.5999999999913},{"$f":"AG9+AG10","v":22270},{"$f":"AH9+AH10","v":25036.160000000003},{"$f":"AH11-AG11","v":2766.1600000000035},{"$f":"AJ9+AJ10","v":22270},{"$f":"AK9+AK10","v":-74340.930000000008},{"$f":"AK11-AJ11","v":-96610.930000000008},{"$f":"AM9+AM10","v":282240},{"$f":"AN9+AN10","v":-103788.67999999993},{"$f":"AN11-AM11","v":-386028.67999999993}]

{"sheet":"Доходы","index":2,"n_rows":28,"n_cols":41,"rows_kept":28,"cut":false,"hidden":false,"merged":[[4,38,4,40],[4,2,4,4],[4,35,4,37],[4,5,4,7],[4,8,4,10],[4,11,4,13],[4,14,4,16],[4,17,4,19],[4,20,4,22],[4,23,4,25],[4,26,4,28],[4,29,4,31],[4,32,4,34]]}
[null,{"$f":"Имя","v":"Михаил"}]
[null,{"$f":"BudgetTitle","v":"Личный бюджет"}]
[]
[null,{"$f":"Год","v":2020}]
[null,"Доходы за месяц",{"$f":"DATE($B4,1,1)","v":"2020-01-01"},null,null,{"$f":"DATE($B4,2,1)","v":"2020-02-01"},null,null,{"$f":"DATE($B4,3,1)","v":"2020-03-01"},null,null,{"$f":"DATE($B4,4,1)","v":"2020-04-01"},null,null,{"$f":"DATE($B4,5,1)","v":"2020-05-01"},null,null,{"$f":"DATE($B4,6,1)","v":"2020-06-01"},null,null,{"$f":"DATE($B4,7,1)","v":"2020-07-01"},null,null,{"$f":"DATE($B4,8,1)","v":"2020-08-01"},null,null,{"$f":"DATE($B4,9,1)","v":"2020-09-01"},null,null,{"$f":"DATE($B4,10,1)","v":"2020-10-01"},null,null,{"$f":"DATE($B4,11,1)","v":"2020-11-01"},null,null,{"$f":"DATE($B4,12,1)","v":"2020-12-01"},null,null,"Итого"]
[null,"Показатели","План","Факт","Разница","План","Факт","Разница","План","Факт","Разница","План","Факт","Разница","План","Факт","Разница","План","Факт","Разница","План","Факт","Разница","План","Факт","Разница","План","Факт","Разница","План","Факт","Разница","План","Факт","Разница","План","Факт","Разница","План","Факт","Разница"]
[null,"Заработная плата",55000,{"$f":"SUMIFS(СуммаОпераций,КатегорияОпераций,$B7,ДатаОперации,\">=\"&C$5,ДатаОперации,\"<\"&F$5)","v":55000},{"$f":"Доходы[[#This Row],[Факт Январь]]-Доходы[[#This Row],[План Январь]]","v":0},40000,{"$f":"SUMIFS(СуммаОпераций,КатегорияОпераций,$B7,ДатаОперации,\">=\"&F$5,ДатаОперации,\"<\"&I$5)","v":55000},{"$f":"Доходы[[#This Row],[Факт Февраль]]-Доходы[[#This Row],[План Февраль]]","v":15000},40000,{"$f":"SUMIFS(СуммаОпераций,КатегорияОпераций,$B7,ДатаОперации,\">=\"&I$5,ДатаОперации,\"<\"&L$5)","v":55000},{"$f":"Доходы[[#This Row],[Факт Март]]-Доходы[[#This Row],[План Март]]","v":15000},40000,{"$f":"SUMIFS(СуммаОпераций,КатегорияОпераций,$B7,ДатаОперации,\">=\"&L$5,ДатаОперации,\"<\"&O$5)","v":55000},{"$f":"Доходы[[#This Row],[Факт Апрель]]-Доходы[[#This Row],[План Апрель]]","v":15000},40000,{"$f":"SUMIFS(СуммаОпераций,КатегорияОпераций,$B7,ДатаОперации,\">=\"&O$5,ДатаОперации,\"<\"&R$5)","v":55000},{"$f":"Доходы[[#This Row],[Факт Май]]-Доходы[[#This Row],[План Май]]","v":15000},40000,{"$f":"SUMIFS(СуммаОпераций,КатегорияОпераций,$B7,ДатаОперации,\">=\"&R$5,ДатаОперации,\"<\"&U$5)","v":55000},{"$f":"Доходы[[#This Row],[Факт Июнь]]-Доходы[[#This Row],[План Июнь]]","v":15000},40000,{"$f":"SUMIFS(СуммаОпераций,КатегорияОпераций,$B7,ДатаОперации,\">=\"&U$5,ДатаОперации,\"<\"&X$5)","v":55000},{"$f":"Доходы[[#This Row],[Факт Июль]]-Доходы[[#This Row],[План Июль]]","v":15000},40000,{"$f":"SUMIFS(СуммаОпераций,КатегорияОпераций,$B7,ДатаОперации,\">=\"&X$5,ДатаОперации,\"<\"&AA$5)","v":55000},{"$f":"Доходы[[#This Row],[Факт Август]]-Доходы[[#This Row],[План Август]]","v":15000},40000,{"$f":"SUMIFS(СуммаОпераций,КатегорияОпераций,$B7,ДатаОперации,\">=\"&AA$5,ДатаОперации,\"<\"&AD$5)","v":55000},{"$f":"Доходы[[#This Row],[Факт Сентябрь]]-Доходы[[#This Row],[План Сентябрь]]","v":15000},40000,{"$f":"SUMIFS(СуммаОпераций,КатегорияОпераций,$B7,ДатаОперации,\">=\"&AD$5,ДатаОперации,\"<\"&AG$5)","v":55000},{"$f":"Доходы[[#This Row],[Факт Октябрь]]-Доходы[[#This Row],[План Октябрь]]","v":15000},40000,{"$f":"SUMIFS(СуммаОпераций,КатегорияОпераций,$B7,ДатаОперации,\">=\"&AG$5,ДатаОперации,\"<\"&AJ$5)","v":55000},{"$f":"Доходы[[#This Row],[Факт Ноябрь]]-Доходы[[#This Row],[План Ноябрь]]","v":15000},40000,{"$f":"SUMIFS(СуммаОпераций,КатегорияОпераций,$B7,ДатаОперации,\">=\"&AJ$5,ДатаОперации,\"<\"&DATE($B$4,13,1))","v":55000},{"$f":"Доходы[[#This Row],[Факт Декабрь]]-Доходы[[#This Row],[План Декабрь]]","v":15000},{"$f":"SUMIFS($C7:$AL7,$C$6:$AL$6,AM$6)","v":495000},{"$f":"SUMIFS($C7:$AL7,$C$6:$AL$6,AN$6)","v":660000},{"$f":"AN7-AM7","v":165000}]
[null,"Оплата за преподавание",14000,{"$f":"SUMIFS(СуммаОпераций,КатегорияОпераций,$B8,ДатаОперации,\">=\"&C$5,ДатаОперации,\"<\"&F$5)","v":15000},{"$f":"Доходы[[#This Row],[Факт Январь]]-Доходы[[#This Row],[План Январь]]","v":1000},14000,{"$f":"SUMIFS(СуммаОпераций,КатегорияОпераций,$B8,ДатаОперации,\">=\"&F$5,ДатаОперации,\"<\"&I$5)","v":15000},{"$f":"Доходы[[#This Row],[Факт Февраль]]-Доходы[[#This Row],[План Февраль]]","v":1000},14000,{"$f":"SUMIFS(СуммаОпераций,КатегорияОпераций,$B8,ДатаОперации,\">=\"&I$5,ДатаОперации,\"<\"&L$5)","v":15000},{"$f":"Доходы[[#This Row],[Факт Март]]-Доходы[[#This Row],[План Март]]","v":1000},14000,{"$f":"SUMIFS(СуммаОпераций,КатегорияОпераций,$B8,ДатаОперации,\">=\"&L$5,ДатаОперации,\"<\"&O$5)","v":15000},{"$f":"Доходы[[#This Row],[Факт Апрель]]-Доходы[[#This Row],[План Апрель]]","v":1000},14000,{"$f":"SUMIFS(СуммаОпераций,КатегорияОпераций,$B8,ДатаОперации,\">=\"&O$5,ДатаОперации,\"<\"&R$5)","v":15000},{"$f":"Доходы[[#This Row],[Факт Май]]-Доходы[[#This Row],[План Май]]","v":1000},14000,{"$f":"SUMIFS(СуммаОпераций,КатегорияОпераций,$B8,ДатаОперации,\">=\"&R$5,ДатаОперации,\"<\"&U$5)","v":15000},{"$f":"Доходы[[#This Row],[Факт Июнь]]-Доходы[[#This Row],[План Июнь]]","v":1000},14000,{"$f":"SUMIFS(СуммаОпераций,КатегорияОпераций,$B8,ДатаОперации,\">=\"&U$5,ДатаОперации,\"<\"&X$5)","v":15000},{"$f":"Доходы[[#This Row],[Факт Июль]]-Доходы[[#This Row],[План Июль]]","v":1000},14000,{"$f":"SUMIFS(СуммаОпераций,КатегорияОпераций,$B8,ДатаОперации,\">=\"&X$5,ДатаОперации,\"<\"&AA$5)","v":15000},{"$f":"Доходы[[#This Row],[Факт Август]]-Доходы[[#This Row],[План Август]]","v":1000},14000,{"$f":"SUMIFS(СуммаОпераций,КатегорияОпераций,$B8,ДатаОперации,\">=\"&AA$5,ДатаОперации,\"<\"&AD$5)","v":15000},{"$f":"Доходы[[#This Row],[Факт Сентябрь]]-Доходы[[#This Row],[План Сентябрь]]","v":1000},14000,{"$f":"SUMIFS(СуммаОпераций,КатегорияОпераций,$B8,ДатаОперации,\">=\"&AD$5,ДатаОперации,\"<\"&AG$5)","v":15000},{"$f":"Доходы[[#This Row],[Факт Октябрь]]-Доходы[[#This Row],[План Октябрь]]","v":1000},14000,{"$f":"SUMIFS(СуммаОпераций,КатегорияОпераций,$B8,ДатаОперации,\">=\"&AG$5,ДатаОперации,\"<\"&AJ$5)","v":15000},{"$f":"Доходы[[#This Row],[Факт Ноябрь]]-Доходы[[#This Row],[План Ноябрь]]","v":1000},14000,{"$f":"SUMIFS(СуммаОпераций,КатегорияОпераций,$B8,ДатаОперации,\">=\"&AJ$5,ДатаОперации,\"<\"&DATE($B$4,13,1))","v":15000},{"$f":"Доходы[[#This Row],[Факт Декабрь]]-Доходы[[#This Row],[План Декабрь]]","v":1000},168000,180000,12000]
[null,"Прочие доходы",null,{"$f":"SUMIFS(СуммаОпераций,КатегорияОпераций,$B9,ДатаОперации,\">=\"&C$5,ДатаОперации,\"<\"&F$5)","v":8167.04},{"$f":"Доходы[[#This Row],[Факт Январь]]-Доходы[[#This Row],[План Январь]]","v":8167.04},null,{"$f":"SUMIFS(СуммаОпераций,КатегорияОпераций,$B9,ДатаОперации,\">=\"&F$5,ДатаОперации,\"<\"&I$5)","v":12004.69},{"$f":"Доходы[[#This Row],[Факт Январь]]-Доходы[[#This Row],[План Январь]]","v":8167.04},null,{"$f":"SUMIFS(СуммаОпераций,КатегорияОпераций,$B9,ДатаОперации,\">=\"&I$5,ДатаОперации,\"<\"&L$5)","v":12583.8},{"$f":"Доходы[[#This Row],[Факт Январь]]-Доходы[[#This Row],[План Январь]]","v":8167.04},null,{"$f":"SUMIFS(СуммаОпераций,КатегорияОпераций,$B9,ДатаОперации,\">=\"&L$5,ДатаОперации,\"<\"&O$5)","v":8167.04},{"$f":"Доходы[[#This Row],[Факт Январь]]-Доходы[[#This Row],[План Январь]]","v":8167.04},null,{"$f":"SUMIFS(СуммаОпераций,КатегорияОпераций,$B9,ДатаОперации,\">=\"&O$5,ДатаОперации,\"<\"&R$5)","v":12004.69},{"$f":"Доходы[[#This Row],[Факт Январь]]-Доходы[[#This Row],[План Январь]]","v":8167.04},null,{"$f":"SUMIFS(СуммаОпераций,КатегорияОпераций,$B9,ДатаОперации,\">=\"&R$5,ДатаОперации,\"<\"&U$5)","v":12583.8},{"$f":"Доходы[[#This Row],[Факт Январь]]-Доходы[[#This Row],[План Январь]]","v":8167.04},null,{"$f":"SUMIFS(СуммаОпераций,КатегорияОпераций,$B9,ДатаОперации,\">=\"&U$5,ДатаОперации,\"<\"&X$5)","v":8167.04},{"$f":"Доходы[[#This Row],[Факт Январь]]-Доходы[[#This Row],[План Январь]]","v":8167.04},null,{"$f":"SUMIFS(СуммаОпераций,КатегорияОпераций,$B9,ДатаОперации,\">=\"&X$5,ДатаОперации,\"<\"&AA$5)","v":12004.69},{"$f":"Доходы[[#This Row],[Факт Январь]]-Доходы[[#This Row],[План Январь]]","v":8167.04},null,{"$f":"SUMIFS(СуммаОпераций,КатегорияОпераций,$B9,ДатаОперации,\">=\"&AA$5,ДатаОперации,\"<\"&AD$5)","v":12583.8},{"$f":"Доходы[[#This Row],[Факт Январь]]-Доходы[[#This Row],[План Январь]]","v":8167.04},null,{"$f":"SUMIFS(СуммаОпераций,КатегорияОпераций,$B9,ДатаОперации,\">=\"&AD$5,ДатаОперации,\"<\"&AG$5)","v":8167.04},{"$f":"Доходы[[#This Row],[Факт Январь]]-Доходы[[#This Row],[План Январь]]","v":8167.04},null,{"$f":"SUMIFS(СуммаОпераций,КатегорияОпераций,$B9,ДатаОперации,\">=\"&AG$5,ДатаОперации,\"<\"&AJ$5)","v":12004.69},{"$f":"Доходы[[#This Row],[Факт Январь]]-Доходы[[#This Row],[План Январь]]","v":8167.04},null,{"$f":"SUMIFS(СуммаОпераций,КатегорияОпераций,$B9,ДатаОперации,\">=\"&AJ$5,ДатаОперации,\"<\"&DATE($B$4,13,1))","v":12583.8},{"$f":"Доходы[[#This Row],[Факт Январь]]-Доходы[[#This Row],[План Январь]]","v":8167.04},0,131022.12,131022.12]
[null,"Дивиденды",null,{"$f":"SUMIFS(СуммаОпераций,КатегорияОпераций,$B10,ДатаОперации,\">=\"&C$5,ДатаОперации,\"<\"&F$5)","v":5000},{"$f":"Доходы[[#This Row],[Факт Январь]]-Доходы[[#This Row],[План Январь]]","v":5000},null,{"$f":"SUMIFS(СуммаОпераций,КатегорияОпераций,$B10,ДатаОперации,\">=\"&F$5,ДатаОперации,\"<\"&I$5)","v":5000},{"$f":"Доходы[[#This Row],[Факт Февраль]]-Доходы[[#This Row],[План Февраль]]","v":5000},null,{"$f":"SUMIFS(СуммаОпераций,КатегорияОпераций,$B10,ДатаОперации,\">=\"&I$5,ДатаОперации,\"<\"&L$5)","v":5000},{"$f":"Доходы[[#This Row],[Факт Март]]-Доходы[[#This Row],[План Март]]","v":5000},null,{"$f":"SUMIFS(СуммаОпераций,КатегорияОпераций,$B10,ДатаОперации,\">=\"&L$5,ДатаОперации,\"<\"&O$5)","v":5000},{"$f":"Доходы[[#This Row],[Факт Апрель]]-Доходы[[#This Row],[План Апрель]]","v":5000},null,{"$f":"SUMIFS(СуммаОпераций,КатегорияОпераций,$B10,ДатаОперации,\">=\"&O$5,ДатаОперации,\"<\"&R$5)","v":5000},{"$f":"Доходы[[#This Row],[Факт Май]]-Доходы[[#This Row],[План Май]]","v":5000},null,{"$f":"SUMIFS(СуммаОпераций,КатегорияОпераций,$B10,ДатаОперации,\">=\"&R$5,ДатаОперации,\"<\"&U$5)","v":5000},{"$f":"Доходы[[#This Row],[Факт Июнь]]-Доходы[[#This Row],[План Июнь]]","v":5000},null,{"$f":"SUMIFS(СуммаОпераций,КатегорияОпераций,$B10,ДатаОперации,\">=\"&U$5,ДатаОперации,\"<\"&X$5)","v":5000},{"$f":"Доходы[[#This Row],[Факт Июль]]-Доходы[[#This Row],[План Июль]]","v":5000},null,{"$f":"SUMIFS(СуммаОпераций,КатегорияОпераций,$B10,ДатаОперации,\">=\"&X$5,ДатаОперации,\"<\"&AA$5)","v":5000},{"$f":"Доходы[[#This Row],[Факт Август]]-Доходы[[#This Row],[План Август]]","v":5000},null,{"$f":"SUMIFS(СуммаОпераций,КатегорияОпераций,$B10,ДатаОперации,\">=\"&AA$5,ДатаОперации,\"<\"&AD$5)","v":5000},{"$f":"Доходы[[#This Row],[Факт Сентябрь]]-Доходы[[#This Row],[План Сентябрь]]","v":5000},null,{"$f":"SUMIFS(СуммаОпераций,КатегорияОпераций,$B10,ДатаОперации,\">=\"&AD$5,ДатаОперации,\"<\"&AG$5)","v":5000},{"$f":"Доходы[[#This Row],[Факт Октябрь]]-Доходы[[#This Row],[План Октябрь]]","v":5000},null,{"$f":"SUMIFS(СуммаОпераций,КатегорияОпераций,$B10,ДатаОперации,\">=\"&AG$5,ДатаОперации,\"<\"&AJ$5)","v":5000},{"$f":"Доходы[[#This Row],[Факт Ноябрь]]-Доходы[[#This Row],[План Ноябрь]]","v":5000},null,{"$f":"SUMIFS(СуммаОпераций,КатегорияОпераций,$B10,ДатаОперации,\">=\"&AJ$5,ДатаОперации,\"<\"&DATE($B$4,13,1))","v":5000},{"$f":"Доходы[[#This Row],[Факт Декабрь]]-Доходы[[#This Row],[План Декабрь]]","v":5000},0,60000,60000]
[null,"Проценты по вкладам",3000,{"$f":"SUMIFS(СуммаОпераций,КатегорияОпераций,$B11,ДатаОперации,\">=\"&C$5,ДатаОперации,\"<\"&F$5)","v":5000},{"$f":"Доходы[[#This Row],[Факт Январь]]-Доходы[[#This Row],[План Январь]]","v":2000},3000,{"$f":"SUMIFS(СуммаОпераций,КатегорияОпераций,$B11,ДатаОперации,\">=\"&F$5,ДатаОперации,\"<\"&I$5)","v":5000},{"$f":"Доходы[[#This Row],[Факт Февраль]]-Доходы[[#This Row],[План Февраль]]","v":2000},3000,{"$f":"SUMIFS(СуммаОпераций,КатегорияОпераций,$B11,ДатаОперации,\">=\"&I$5,ДатаОперации,\"<\"&L$5)","v":5000},{"$f":"Доходы[[#This Row],[Факт Март]]-Доходы[[#This Row],[План Март]]","v":2000},3000,{"$f":"SUMIFS(СуммаОпераций,КатегорияОпераций,$B11,ДатаОперации,\">=\"&L$5,ДатаОперации,\"<\"&O$5)","v":5000},{"$f":"Доходы[[#This Row],[Факт Апрель]]-Доходы[[#This Row],[План Апрель]]","v":2000},3000,{"$f":"SUMIFS(СуммаОпераций,КатегорияОпераций,$B11,ДатаОперации,\">=\"&O$5,ДатаОперации,\"<\"&R$5)","v":5000},{"$f":"Доходы[[#This Row],[Факт Май]]-Доходы[[#This Row],[План Май]]","v":2000},3000,{"$f":"SUMIFS(СуммаОпераций,КатегорияОпераций,$B11,ДатаОперации,\">=\"&R$5,ДатаОперации,\"<\"&U$5)","v":5000},{"$f":"Доходы[[#This Row],[Факт Июнь]]-Доходы[[#This Row],[План Июнь]]","v":2000},3000,{"$f":"SUMIFS(СуммаОпераций,КатегорияОпераций,$B11,ДатаОперации,\">=\"&U$5,ДатаОперации,\"<\"&X$5)","v":5000},{"$f":"Доходы[[#This Row],[Факт Июль]]-Доходы[[#This Row],[План Июль]]","v":2000},3000,{"$f":"SUMIFS(СуммаОпераций,КатегорияОпераций,$B11,ДатаОперации,\">=\"&X$5,ДатаОперации,\"<\"&AA$5)","v":5000},{"$f":"Доходы[[#This Row],[Факт Август]]-Доходы[[#This Row],[План Август]]","v":2000},3000,{"$f":"SUMIFS(СуммаОпераций,КатегорияОпераций,$B11,ДатаОперации,\">=\"&AA$5,ДатаОперации,\"<\"&AD$5)","v":5000},{"$f":"Доходы[[#This Row],[Факт Сентябрь]]-Доходы[[#This Row],[План Сентябрь]]","v":2000},3000,{"$f":"SUMIFS(СуммаОпераций,КатегорияОпераций,$B11,ДатаОперации,\">=\"&AD$5,ДатаОперации,\"<\"&AG$5)","v":5000},{"$f":"Доходы[[#This Row],[Факт Октябрь]]-Доходы[[#This Row],[План Октябрь]]","v":2000},3000,{"$f":"SUMIFS(СуммаОпераций,КатегорияОпераций,$B11,ДатаОперации,\">=\"&AG$5,ДатаОперации,\"<\"&AJ$5)","v":5000},{"$f":"Доходы[[#This Row],[Факт Ноябрь]]-Доходы[[#This Row],[План Ноябрь]]","v":2000},3000,{"$f":"SUMIFS(СуммаОпераций,КатегорияОпераций,$B11,ДатаОперации,\">=\"&AJ$5,ДатаОперации,\"<\"&DATE($B$4,13,1))","v":5000},{"$f":"Доходы[[#This Row],[Факт Декабрь]]-Доходы[[#This Row],[План Декабрь]]","v":2000},36000,60000,24000]
[null,"Общие доходы",{"$f":"SUBTOTAL(109,Доходы[План Январь])","v":72000},{"$f":"SUBTOTAL(109,Доходы[Факт Январь])","v":88167.039999999994},{"$f":"SUBTOTAL(109,Доходы[Разница Январь])","v":16167.04},{"$f":"SUBTOTAL(109,Доходы[План Февраль])","v":57000},{"$f":"SUBTOTAL(109,Доходы[Факт Февраль])","v":92004.69},{"$f":"SUBTOTAL(109,Доходы[Разница Февраль])","v":31167.040000000001},{"$f":"SUBTOTAL(109,Доходы[План Март])","v":57000},{"$f":"SUBTOTAL(109,Доходы[Факт Март])","v":92583.8},{"$f":"SUBTOTAL(109,Доходы[Разница Март])","v":31167.040000000001},{"$f":"SUBTOTAL(109,Доходы[План Апрель])","v":57000},{"$f":"SUBTOTAL(109,Доходы[Факт Апрель])","v":88167.039999999994},{"$f":"SUBTOTAL(109,Доходы[Разница Апрель])","v":31167.040000000001},{"$f":"SUBTOTAL(109,Доходы[План Май])","v":57000},{"$f":"SUBTOTAL(109,Доходы[Факт Май])","v":92004.69},{"$f":"SUBTOTAL(109,Доходы[Разница Май])","v":31167.040000000001},{"$f":"SUBTOTAL(109,Доходы[План Июнь])","v":57000},{"$f":"SUBTOTAL(109,Доходы[Факт Июнь])","v":92583.8},{"$f":"SUBTOTAL(109,Доходы[Разница Июнь])","v":31167.040000000001},{"$f":"SUBTOTAL(109,Доходы[План Июль])","v":57000},{"$f":"SUBTOTAL(109,Доходы[Факт Июль])","v":88167.039999999994},{"$f":"SUBTOTAL(109,Доходы[Разница Июль])","v":31167.040000000001},{"$f":"SUBTOTAL(109,Доходы[План Август])","v":57000},{"$f":"SUBTOTAL(109,Доходы[Факт Август])","v":92004.69},{"$f":"SUBTOTAL(109,Доходы[Разница Август])","v":31167.040000000001},{"$f":"SUBTOTAL(109,Доходы[План Сентябрь])","v":57000},{"$f":"SUBTOTAL(109,Доходы[Факт Сентябрь])","v":92583.8},{"$f":"SUBTOTAL(109,Доходы[Разница Сентябрь])","v":31167.040000000001},{"$f":"SUBTOTAL(109,Доходы[План Октябрь])","v":57000},{"$f":"SUBTOTAL(109,Доходы[Факт Октябрь])","v":88167.039999999994},{"$f":"SUBTOTAL(109,Доходы[Разница Октябрь])","v":31167.040000000001},{"$f":"SUBTOTAL(109,Доходы[План Ноябрь])","v":57000},{"$f":"SUBTOTAL(109,Доходы[Факт Ноябрь])","v":92004.69},{"$f":"SUBTOTAL(109,Доходы[Разница Ноябрь])","v":31167.040000000001},{"$f":"SUBTOTAL(109,Доходы[План Декабрь])","v":57000},{"$f":"SUBTOTAL(109,Доходы[Факт Декабрь])","v":92583.8},{"$f":"SUBTOTAL(109,Доходы[Разница Декабрь])","v":31167.040000000001},{"$f":"SUM(AM7:AM11)","v":699000},{"$f":"SUM(AN7:AN11)","v":1091022.1200000001},{"$f":"SUM(AO7:AO11)","v":392022.12}]
[]
[]
[]
[]
[]
[]
[]
[]
[]
[]
[]
[]
[]
[]
[null,"Выберете месяц:"]
[null,"Ноябрь"]

{"sheet":"Расходы","index":3,"n_rows":59,"n_cols":41,"rows_kept":59,"cut":false,"hidden":false,"merged":[[4,38,4,40],[4,35,4,37],[4,2,4,4],[4,5,4,7],[4,8,4,10],[4,11,4,13],[4,14,4,16],[4,17,4,19],[4,20,4,22],[4,23,4,25],[4,26,4,28],[4,29,4,31],[4,32,4,34]]}
[null,{"$f":"Имя","v":"Михаил"}]
[null,{"$f":"BudgetTitle","v":"Личный бюджет"}]
[]
[null,{"$f":"Год","v":2020}]
[null,"Расходы за месяц",{"$f":"DATE($B4,1,1)","v":"2020-01-01"},null,null,{"$f":"DATE($B4,2,1)","v":"2020-02-01"},null,null,{"$f":"DATE($B4,3,1)","v":"2020-03-01"},null,null,{"$f":"DATE($B4,4,1)","v":"2020-04-01"},null,null,{"$f":"DATE($B4,5,1)","v":"2020-05-01"},null,null,{"$f":"DATE($B4,6,1)","v":"2020-06-01"},null,null,{"$f":"DATE($B4,7,1)","v":"2020-07-01"},null,null,{"$f":"DATE($B4,8,1)","v":"2020-08-01"},null,null,{"$f":"DATE($B4,9,1)","v":"2020-09-01"},null,null,{"$f":"DATE($B4,10,1)","v":"2020-10-01"},null,null,{"$f":"DATE($B4,11,1)","v":"2020-11-01"},null,null,{"$f":"DATE($B4,12,1)","v":"2020-12-01"},null,null,"ИТОГО"]
[null,"Показатели","План","Факт","Разница","План","Факт","Разница","План","Факт","Разница","План","Факт","Разница","План","Факт","Разница","План","Факт","Разница","План","Факт","Разница","План","Факт","Разница","План","Факт","Разница","План","Факт","Разница","План","Факт","Разница","План","Факт","Разница","План","Факт","Разница"]
[null,"Жилье",15000,{"$f":"-SUMIFS(СуммаОпераций,КатегорияОпераций,Расходы!$B7,ДатаОперации,\">=\"&C$5,ДатаОперации,\"<\"&F$5)","v":0},{"$f":"Расходы[[#This Row],[Январь План]]-Расходы[[#This Row],[Январь Факт]]","v":15000},15000,{"$f":"-SUMIFS(СуммаОпераций,КатегорияОпераций,Расходы!$B7,ДатаОперации,\">=\"&F$5,ДатаОперации,\"<\"&I$5)","v":0},{"$f":"Расходы[[#This Row],[Февраль План]]-Расходы[[#This Row],[Февраль Факт]]","v":15000},15000,{"$f":"-SUMIFS(СуммаОпераций,КатегорияОпераций,Расходы!$B7,ДатаОперации,\">=\"&I$5,ДатаОперации,\"<\"&L$5)","v":0},{"$f":"Расходы[[#This Row],[Март План]]-Расходы[[#This Row],[Март Факт]]","v":15000},15000,{"$f":"-SUMIFS(СуммаОпераций,КатегорияОпераций,Расходы!$B7,ДатаОперации,\">=\"&L$5,ДатаОперации,\"<\"&O$5)","v":0},{"$f":"Расходы[[#This Row],[Апрель План]]-Расходы[[#This Row],[Апрель Факт]]","v":15000},15000,{"$f":"-SUMIFS(СуммаОпераций,КатегорияОпераций,Расходы!$B7,ДатаОперации,\">=\"&O$5,ДатаОперации,\"<\"&R$5)","v":0},{"$f":"Расходы[[#This Row],[Май План]]-Расходы[[#This Row],[Май Факт]]","v":15000},15000,{"$f":"-SUMIFS(СуммаОпераций,КатегорияОпераций,Расходы!$B7,ДатаОперации,\">=\"&R$5,ДатаОперации,\"<\"&U$5)","v":0},{"$f":"Расходы[[#This Row],[Июнь План]]-Расходы[[#This Row],[Июнь Факт]]","v":15000},15000,{"$f":"-SUMIFS(СуммаОпераций,КатегорияОпераций,Расходы!$B7,ДатаОперации,\">=\"&U$5,ДатаОперации,\"<\"&X$5)","v":0},{"$f":"Расходы[[#This Row],[Июль План]]-Расходы[[#This Row],[Июль Факт]]","v":15000},15000,{"$f":"-SUMIFS(СуммаОпераций,КатегорияОпераций,Расходы!$B7,ДатаОперации,\">=\"&X$5,ДатаОперации,\"<\"&AA$5)","v":0},{"$f":"Расходы[[#This Row],[Август План]]-Расходы[[#This Row],[Август Факт]]","v":15000},15000,{"$f":"-SUMIFS(СуммаОпераций,КатегорияОпераций,Расходы!$B7,ДатаОперации,\">=\"&AA$5,ДатаОперации,\"<\"&AD$5)","v":0},{"$f":"Расходы[[#This Row],[Сентябрь План]]-Расходы[[#This Row],[Сентябрь Факт]]","v":15000},15000,{"$f":"-SUMIFS(СуммаОпераций,КатегорияОпераций,Расходы!$B7,ДатаОперации,\">=\"&AD$5,ДатаОперации,\"<\"&AG$5)","v":0},{"$f":"Расходы[[#This Row],[Октябрь План]]-Расходы[[#This Row],[Октябрь Факт]]","v":15000},15000,{"$f":"-SUMIFS(СуммаОпераций,КатегорияОпераций,Расходы!$B7,ДатаОперации,\">=\"&AG$5,ДатаОперации,\"<\"&AJ$5)","v":0},{"$f":"Расходы[[#This Row],[Ноябрь План]]-Расходы[[#This Row],[Ноябрь Факт]]","v":15000},15000,{"$f":"-SUMIFS(СуммаОпераций,КатегорияОпераций,Расходы!$B7,ДатаОперации,\">=\"&AJ$5,ДатаОперации,\"<\"&DATE($B$4,13,1))","v":0},{"$f":"Расходы[[#This Row],[Декабрь План]]-Расходы[[#This Row],[Декабрь Факт]]","v":15000},{"$f":"SUMIFS($C7:$AL7,$C$6:$AL$6,AM$6)","v":180000},{"$f":"SUMIFS($C7:$AL7,$C$6:$AL$6,AN$6)","v":0},{"$f":"AM7-AN7","v":180000}]
[null,"Продукты",2500,{"$f":"-SUMIFS(СуммаОпераций,КатегорияОпераций,Расходы!$B8,ДатаОперации,\">=\"&C$5,ДатаОперации,\"<\"&F$5)","v":9923.49},{"$f":"Расходы[[#This Row],[Январь План]]-Расходы[[#This Row],[Январь Факт]]","v":-7423.49},2500,{"$f":"-SUMIFS(СуммаОпераций,КатегорияОпераций,Расходы!$B8,ДатаОперации,\">=\"&F$5,ДатаОперации,\"<\"&I$5)","v":13887.400000000001},{"$f":"Расходы[[#This Row],[Февраль План]]-Расходы[[#This Row],[Февраль Факт]]","v":-11387.400000000001},2500,{"$f":"-SUMIFS(СуммаОпераций,КатегорияОпераций,Расходы!$B8,ДатаОперации,\">=\"&I$5,ДатаОперации,\"<\"&L$5)","v":19746.739999999998},{"$f":"Расходы[[#This Row],[Март План]]-Расходы[[#This Row],[Март Факт]]","v":-17246.739999999998},2500,{"$f":"-SUMIFS(СуммаОпераций,КатегорияОпераций,Расходы!$B8,ДатаОперации,\">=\"&L$5,ДатаОперации,\"<\"&O$5)","v":9923.49},{"$f":"Расходы[[#This Row],[Апрель План]]-Расходы[[#This Row],[Апрель Факт]]","v":-7423.49},2500,{"$f":"-SUMIFS(СуммаОпераций,КатегорияОпераций,Расходы!$B8,ДатаОперации,\">=\"&O$5,ДатаОперации,\"<\"&R$5)","v":13887.400000000001},{"$f":"Расходы[[#This Row],[Май План]]-Расходы[[#This Row],[Май Факт]]","v":-11387.400000000001},2500,{"$f":"-SUMIFS(СуммаОпераций,КатегорияОпераций,Расходы!$B8,ДатаОперации,\">=\"&R$5,ДатаОперации,\"<\"&U$5)","v":19746.739999999998},{"$f":"Расходы[[#This Row],[Июнь План]]-Расходы[[#This Row],[Июнь Факт]]","v":-17246.739999999998},2500,{"$f":"-SUMIFS(СуммаОпераций,КатегорияОпераций,Расходы!$B8,ДатаОперации,\">=\"&U$5,ДатаОперации,\"<\"&X$5)","v":9923.49},{"$f":"Расходы[[#This Row],[Июль План]]-Расходы[[#This Row],[Июль Факт]]","v":-7423.49},2500,{"$f":"-SUMIFS(СуммаОпераций,КатегорияОпераций,Расходы!$B8,ДатаОперации,\">=\"&X$5,ДатаОперации,\"<\"&AA$5)","v":13887.400000000001},{"$f":"Расходы[[#This Row],[Август План]]-Расходы[[#This Row],[Август Факт]]","v":-11387.400000000001},2500,{"$f":"-SUMIFS(СуммаОпераций,КатегорияОпераций,Расходы!$B8,ДатаОперации,\">=\"&AA$5,ДатаОперации,\"<\"&AD$5)","v":19746.739999999998},{"$f":"Расходы[[#This Row],[Сентябрь План]]-Расходы[[#This Row],[Сентябрь Факт]]","v":-17246.739999999998},2500,{"$f":"-SUMIFS(СуммаОпераций,КатегорияОпераций,Расходы!$B8,ДатаОперации,\">=\"&AD$5,ДатаОперации,\"<\"&AG$5)","v":9923.49},{"$f":"Расходы[[#This Row],[Октябрь План]]-Расходы[[#This Row],[Октябрь Факт]]","v":-7423.49},2500,{"$f":"-SUMIFS(СуммаОпераций,КатегорияОпераций,Расходы!$B8,ДатаОперации,\">=\"&AG$5,ДатаОперации,\"<\"&AJ$5)","v":13887.400000000001},{"$f":"Расходы[[#This Row],[Ноябрь План]]-Расходы[[#This Row],[Ноябрь Факт]]","v":-11387.400000000001},2500,{"$f":"-SUMIFS(СуммаОпераций,КатегорияОпераций,Расходы!$B8,ДатаОперации,\">=\"&AJ$5,ДатаОперации,\"<\"&DATE($B$4,13,1))","v":19746.739999999998},{"$f":"Расходы[[#This Row],[Декабрь План]]-Расходы[[#This Row],[Декабрь Факт]]","v":-17246.739999999998},30000,174230.51999999996,-144230.51999999996]
[null,"Телефонная связь",380,{"$f":"-SUMIFS(СуммаОпераций,КатегорияОпераций,Расходы!$B9,ДатаОперации,\">=\"&C$5,ДатаОперации,\"<\"&F$5)","v":420},{"$f":"Расходы[[#This Row],[Январь План]]-Расходы[[#This Row],[Январь Факт]]","v":-40},380,{"$f":"-SUMIFS(СуммаОпераций,КатегорияОпераций,Расходы!$B9,ДатаОперации,\">=\"&F$5,ДатаОперации,\"<\"&I$5)","v":1227},{"$f":"Расходы[[#This Row],[Февраль План]]-Расходы[[#This Row],[Февраль Факт]]","v":-847},380,{"$f":"-SUMIFS(СуммаОпераций,КатегорияОпераций,Расходы!$B9,ДатаОперации,\">=\"&I$5,ДатаОперации,\"<\"&L$5)","v":470},{"$f":"Расходы[[#This Row],[Март План]]-Расходы[[#This Row],[Март Факт]]","v":-90},380,{"$f":"-SUMIFS(СуммаОпераций,КатегорияОпераций,Расходы!$B9,ДатаОперации,\">=\"&L$5,ДатаОперации,\"<\"&O$5)","v":420},{"$f":"Расходы[[#This Row],[Апрель План]]-Расходы[[#This Row],[Апрель Факт]]","v":-40},380,{"$f":"-SUMIFS(СуммаОпераций,КатегорияОпераций,Расходы!$B9,ДатаОперации,\">=\"&O$5,ДатаОперации,\"<\"&R$5)","v":1227},{"$f":"Расходы[[#This Row],[Май План]]-Расходы[[#This Row],[Май Факт]]","v":-847},380,{"$f":"-SUMIFS(СуммаОпераций,КатегорияОпераций,Расходы!$B9,ДатаОперации,\">=\"&R$5,ДатаОперации,\"<\"&U$5)","v":470},{"$f":"Расходы[[#This Row],[Июнь План]]-Расходы[[#This Row],[Июнь Факт]]","v":-90},380,{"$f":"-SUMIFS(СуммаОпераций,КатегорияОпераций,Расходы!$B9,ДатаОперации,\">=\"&U$5,ДатаОперации,\"<\"&X$5)","v":420},{"$f":"Расходы[[#This Row],[Июль План]]-Расходы[[#This Row],[Июль Факт]]","v":-40},380,{"$f":"-SUMIFS(СуммаОпераций,КатегорияОпераций,Расходы!$B9,ДатаОперации,\">=\"&X$5,ДатаОперации,\"<\"&AA$5)","v":1227},{"$f":"Расходы[[#This Row],[Август План]]-Расходы[[#This Row],[Август Факт]]","v":-847},380,{"$f":"-SUMIFS(СуммаОпераций,КатегорияОпераций,Расходы!$B9,ДатаОперации,\">=\"&AA$5,ДатаОперации,\"<\"&AD$5)","v":470},{"$f":"Расходы[[#This Row],[Сентябрь План]]-Расходы[[#This Row],[Сентябрь Факт]]","v":-90},380,{"$f":"-SUMIFS(СуммаОпераций,КатегорияОпераций,Расходы!$B9,ДатаОперации,\">=\"&AD$5,ДатаОперации,\"<\"&AG$5)","v":420},{"$f":"Расходы[[#This Row],[Октябрь План]]-Расходы[[#This Row],[Октябрь Факт]]","v":-40},380,{"$f":"-SUMIFS(СуммаОпераций,КатегорияОпераций,Расходы!$B9,ДатаОперации,\">=\"&AG$5,ДатаОперации,\"<\"&AJ$5)","v":1227},{"$f":"Расходы[[#This Row],[Ноябрь План]]-Расходы[[#This Row],[Ноябрь Факт]]","v":-847},380,{"$f":"-SUMIFS(СуммаОпераций,КатегорияОпераций,Расходы!$B9,ДатаОперации,\">=\"&AJ$5,ДатаОперации,\"<\"&DATE($B$4,13,1))","v":470},{"$f":"Расходы[[#This Row],[Декабрь План]]-Расходы[[#This Row],[Декабрь Факт]]","v":-90},4560,8468,-3908]
[null,"Коммунальные услуги",650,{"$f":"-SUMIFS(СуммаОпераций,КатегорияОпераций,Расходы!$B10,ДатаОперации,\">=\"&C$5,ДатаОперации,\"<\"&F$5)","v":520.86},{"$f":"Расходы[[#This Row],[Январь План]]-Расходы[[#This Row],[Январь Факт]]","v":129.13999999999999},650,{"$f":"-SUMIFS(СуммаОпераций,КатегорияОпераций,Расходы!$B10,ДатаОперации,\">=\"&F$5,ДатаОперации,\"<\"&I$5)","v":715.51},{"$f":"Расходы[[#This Row],[Февраль План]]-Расходы[[#This Row],[Февраль Факт]]","v":-65.509999999999991},650,{"$f":"-SUMIFS(СуммаОпераций,КатегорияОпераций,Расходы!$B10,ДатаОперации,\">=\"&I$5,ДатаОперации,\"<\"&L$5)","v":758.34},{"$f":"Расходы[[#This Row],[Март План]]-Расходы[[#This Row],[Март Факт]]","v":-108.34000000000003},650,{"$f":"-SUMIFS(СуммаОпераций,КатегорияОпераций,Расходы!$B10,ДатаОперации,\">=\"&L$5,ДатаОперации,\"<\"&O$5)","v":520.86},{"$f":"Расходы[[#This Row],[Апрель План]]-Расходы[[#This Row],[Апрель Факт]]","v":129.13999999999999},650,{"$f":"-SUMIFS(СуммаОпераций,КатегорияОпераций,Расходы!$B10,ДатаОперации,\">=\"&O$5,ДатаОперации,\"<\"&R$5)","v":715.51},{"$f":"Расходы[[#This Row],[Май План]]-Расходы[[#This Row],[Май Факт]]","v":-65.509999999999991},650,{"$f":"-SUMIFS(СуммаОпераций,КатегорияОпераций,Расходы!$B10,ДатаОперации,\">=\"&R$5,ДатаОперации,\"<\"&U$5)","v":758.34},{"$f":"Расходы[[#This Row],[Июнь План]]-Расходы[[#This Row],[Июнь Факт]]","v":-108.34000000000003},650,{"$f":"-SUMIFS(СуммаОпераций,КатегорияОпераций,Расходы!$B10,ДатаОперации,\">=\"&U$5,ДатаОперации,\"<\"&X$5)","v":520.86},{"$f":"Расходы[[#This Row],[Июль План]]-Расходы[[#This Row],[Июль Факт]]","v":129.13999999999999},650,{"$f":"-SUMIFS(СуммаОпераций,КатегорияОпераций,Расходы!$B10,ДатаОперации,\">=\"&X$5,ДатаОперации,\"<\"&AA$5)","v":715.51},{"$f":"Расходы[[#This Row],[Август План]]-Расходы[[#This Row],[Август Факт]]","v":-65.509999999999991},650,{"$f":"-SUMIFS(СуммаОпераций,КатегорияОпераций,Расходы!$B10,ДатаОперации,\">=\"&AA$5,ДатаОперации,\"<\"&AD$5)","v":758.34},{"$f":"Расходы[[#This Row],[Сентябрь План]]-Расходы[[#This Row],[Сентябрь Факт]]","v":-108.34000000000003},650,{"$f":"-SUMIFS(СуммаОпераций,КатегорияОпераций,Расходы!$B10,ДатаОперации,\">=\"&AD$5,ДатаОперации,\"<\"&AG$5)","v":520.86},{"$f":"Расходы[[#This Row],[Октябрь План]]-Расходы[[#This Row],[Октябрь Факт]]","v":129.13999999999999},650,{"$f":"-SUMIFS(СуммаОпераций,КатегорияОпераций,Расходы!$B10,ДатаОперации,\">=\"&AG$5,ДатаОперации,\"<\"&AJ$5)","v":715.51},{"$f":"Расходы[[#This Row],[Ноябрь План]]-Расходы[[#This Row],[Ноябрь Факт]]","v":-65.509999999999991},650,{"$f":"-SUMIFS(СуммаОпераций,КатегорияОпераций,Расходы!$B10,ДатаОперации,\">=\"&AJ$5,ДатаОперации,\"<\"&DATE($B$4,13,1))","v":758.34},{"$f":"Расходы[[#This Row],[Декабрь План]]-Расходы[[#This Row],[Декабрь Факт]]","v":-108.34000000000003},7800,7978.84,-178.84000000000015]
[null,"Телевидение",750,{"$f":"-SUMIFS(СуммаОпераций,КатегорияОпераций,Расходы!$B11,ДатаОперации,\">=\"&C$5,ДатаОперации,\"<\"&F$5)","v":0},{"$f":"Расходы[[#This Row],[Январь План]]-Расходы[[#This Row],[Январь Факт]]","v":750},750,{"$f":"-SUMIFS(СуммаОпераций,КатегорияОпераций,Расходы!$B11,ДатаОперации,\">=\"&F$5,ДатаОперации,\"<\"&I$5)","v":0},{"$f":"Расходы[[#This Row],[Февраль План]]-Расходы[[#This Row],[Февраль Факт]]","v":750},750,{"$f":"-SUMIFS(СуммаОпераций,КатегорияОпераций,Расходы!$B11,ДатаОперации,\">=\"&I$5,ДатаОперации,\"<\"&L$5)","v":0},{"$f":"Расходы[[#This Row],[Март План]]-Расходы[[#This Row],[Март Факт]]","v":750},750,{"$f":"-SUMIFS(СуммаОпераций,КатегорияОпераций,Расходы!$B11,ДатаОперации,\">=\"&L$5,ДатаОперации,\"<\"&O$5)","v":0},{"$f":"Расходы[[#This Row],[Апрель План]]-Расходы[[#This Row],[Апрель Факт]]","v":750},750,{"$f":"-SUMIFS(СуммаОпераций,КатегорияОпераций,Расходы!$B11,ДатаОперации,\">=\"&O$5,ДатаОперации,\"<\"&R$5)","v":0},{"$f":"Расходы[[#This Row],[Май План]]-Расходы[[#This Row],[Май Факт]]","v":750},750,{"$f":"-SUMIFS(СуммаОпераций,КатегорияОпераций,Расходы!$B11,ДатаОперации,\">=\"&R$5,ДатаОперации,\"<\"&U$5)","v":0},{"$f":"Расходы[[#This Row],[Июнь План]]-Расходы[[#This Row],[Июнь Факт]]","v":750},750,{"$f":"-SUMIFS(СуммаОпераций,КатегорияОпераций,Расходы!$B11,ДатаОперации,\">=\"&U$5,ДатаОперации,\"<\"&X$5)","v":0},{"$f":"Расходы[[#This Row],[Июль План]]-Расходы[[#This Row],[Июль Факт]]","v":750},750,{"$f":"-SUMIFS(СуммаОпераций,КатегорияОпераций,Расходы!$B11,ДатаОперации,\">=\"&X$5,ДатаОперации,\"<\"&AA$5)","v":0},{"$f":"Расходы[[#This Row],[Август План]]-Расходы[[#This Row],[Август Факт]]","v":750},750,{"$f":"-SUMIFS(СуммаОпераций,КатегорияОпераций,Расходы!$B11,ДатаОперации,\">=\"&AA$5,ДатаОперации,\"<\"&AD$5)","v":0},{"$f":"Расходы[[#This Row],[Сентябрь План]]-Расходы[[#This Row],[Сентябрь Факт]]","v":750},750,{"$f":"-SUMIFS(СуммаОпераций,КатегорияОпераций,Расходы!$B11,ДатаОперации,\">=\"&AD$5,ДатаОперации,\"<\"&AG$5)","v":0},{"$f":"Расходы[[#This Row],[Октябрь План]]-Расходы[[#This Row],[Октябрь Факт]]","v":750},750,{"$f":"-SUMIFS(СуммаОпераций,КатегорияОпераций,Расходы!$B11,ДатаОперации,\">=\"&AG$5,ДатаОперации,\"<\"&AJ$5)","v":0},{"$f":"Расходы[[#This Row],[Ноябрь План]]-Расходы[[#This Row],[Ноябрь Факт]]","v":750},750,{"$f":"-SUMIFS(СуммаОпераций,КатегорияОпераций,Расходы!$B11,ДатаОперации,\">=\"&AJ$5,ДатаОперации,\"<\"&DATE($B$4,13,1))","v":0},{"$f":"Расходы[[#This Row],[Декабрь План]]-Расходы[[#This Row],[Декабрь Факт]]","v":750},9000,0,9000]
[null,"Интернет",600,{"$f":"-SUMIFS(СуммаОпераций,КатегорияОпераций,Расходы!$B12,ДатаОперации,\">=\"&C$5,ДатаОперации,\"<\"&F$5)","v":0},{"$f":"Расходы[[#This Row],[Январь План]]-Расходы[[#This Row],[Январь Факт]]","v":600},600,{"$f":"-SUMIFS(СуммаОпераций,КатегорияОпераций,Расходы!$B12,ДатаОперации,\">=\"&F$5,ДатаОперации,\"<\"&I$5)","v":0},{"$f":"Расходы[[#This Row],[Февраль План]]-Расходы[[#This Row],[Февраль Факт]]","v":600},600,{"$f":"-SUMIFS(СуммаОпераций,КатегорияОпераций,Расходы!$B12,ДатаОперации,\">=\"&I$5,ДатаОперации,\"<\"&L$5)","v":0},{"$f":"Расходы[[#This Row],[Март План]]-Расходы[[#This Row],[Март Факт]]","v":600},600,{"$f":"-SUMIFS(СуммаОпераций,КатегорияОпераций,Расходы!$B12,ДатаОперации,\">=\"&L$5,ДатаОперации,\"<\"&O$5)","v":0},{"$f":"Расходы[[#This Row],[Апрель План]]-Расходы[[#This Row],[Апрель Факт]]","v":600},600,{"$f":"-SUMIFS(СуммаОпераций,КатегорияОпераций,Расходы!$B12,ДатаОперации,\">=\"&O$5,ДатаОперации,\"<\"&R$5)","v":0},{"$f":"Расходы[[#This Row],[Май План]]-Расходы[[#This Row],[Май Факт]]","v":600},600,{"$f":"-SUMIFS(СуммаОпераций,КатегорияОпераций,Расходы!$B12,ДатаОперации,\">=\"&R$5,ДатаОперации,\"<\"&U$5)","v":0},{"$f":"Расходы[[#This Row],[Июнь План]]-Расходы[[#This Row],[Июнь Факт]]","v":600},600,{"$f":"-SUMIFS(СуммаОпераций,КатегорияОпераций,Расходы!$B12,ДатаОперации,\">=\"&U$5,ДатаОперации,\"<\"&X$5)","v":0},{"$f":"Расходы[[#This Row],[Июль План]]-Расходы[[#This Row],[Июль Факт]]","v":600},600,{"$f":"-SUMIFS(СуммаОпераций,КатегорияОпераций,Расходы!$B12,ДатаОперации,\">=\"&X$5,ДатаОперации,\"<\"&AA$5)","v":0},{"$f":"Расходы[[#This Row],[Август План]]-Расходы[[#This Row],[Август Факт]]","v":600},600,{"$f":"-SUMIFS(СуммаОпераций,КатегорияОпераций,Расходы!$B12,ДатаОперации,\">=\"&AA$5,ДатаОперации,\"<\"&AD$5)","v":0},{"$f":"Расходы[[#This Row],[Сентябрь План]]-Расходы[[#This Row],[Сентябрь Факт]]","v":600},600,{"$f":"-SUMIFS(СуммаОпераций,КатегорияОпераций,Расходы!$B12,ДатаОперации,\">=\"&AD$5,ДатаОперации,\"<\"&AG$5)","v":0},{"$f":"Расходы[[#This Row],[Октябрь План]]-Расходы[[#This Row],[Октябрь Факт]]","v":600},600,{"$f":"-SUMIFS(СуммаОпераций,КатегорияОпераций,Расходы!$B12,ДатаОперации,\">=\"&AG$5,ДатаОперации,\"<\"&AJ$5)","v":0},{"$f":"Расходы[[#This Row],[Ноябрь План]]-Расходы[[#This Row],[Ноябрь Факт]]","v":600},600,{"$f":"-SUMIFS(СуммаОпераций,КатегорияОпераций,Расходы!$B12,ДатаОперации,\">=\"&AJ$5,ДатаОперации,\"<\"&DATE($B$4,13,1))","v":0},{"$f":"Расходы[[#This Row],[Декабрь План]]-Расходы[[#This Row],[Декабрь Факт]]","v":600},7200,0,7200]
[null,"Ремонт, техническое обслуживание",0,{"$f":"-SUMIFS(СуммаОпераций,КатегорияОпераций,Расходы!$B13,ДатаОперации,\">=\"&C$5,ДатаОперации,\"<\"&F$5)","v":0},{"$f":"Расходы[[#This Row],[Январь План]]-Расходы[[#This Row],[Январь Факт]]","v":0},0,{"$f":"-SUMIFS(СуммаОпераций,КатегорияОпераций,Расходы!$B13,ДатаОперации,\">=\"&F$5,ДатаОперации,\"<\"&I$5)","v":0},{"$f":"Расходы[[#This Row],[Февраль План]]-Расходы[[#This Row],[Февраль Факт]]","v":0},0,{"$f":"-SUMIFS(СуммаОпераций,КатегорияОпераций,Расходы!$B13,ДатаОперации,\">=\"&I$5,ДатаОперации,\"<\"&L$5)","v":0},{"$f":"Расходы[[#This Row],[Март План]]-Расходы[[#This Row],[Март Факт]]","v":0},0,{"$f":"-SUMIFS(СуммаОпераций,КатегорияОпераций,Расходы!$B13,ДатаОперации,\">=\"&L$5,ДатаОперации,\"<\"&O$5)","v":0},{"$f":"Расходы[[#This Row],[Апрель План]]-Расходы[[#This Row],[Апрель Факт]]","v":0},0,{"$f":"-SUMIFS(СуммаОпераций,КатегорияОпераций,Расходы!$B13,ДатаОперации,\">=\"&O$5,ДатаОперации,\"<\"&R$5)","v":0},{"$f":"Расходы[[#This Row],[Май План]]-Расходы[[#This Row],[Май Факт]]","v":0},0,{"$f":"-SUMIFS(СуммаОпераций,КатегорияОпераций,Расходы!$B13,ДатаОперации,\">=\"&R$5,ДатаОперации,\"<\"&U$5)","v":0},{"$f":"Расходы[[#This Row],[Июнь План]]-Расходы[[#This Row],[Июнь Факт]]","v":0},0,{"$f":"-SUMIFS(СуммаОпераций,КатегорияОпераций,Расходы!$B13,ДатаОперации,\">=\"&U$5,ДатаОперации,\"<\"&X$5)","v":0},{"$f":"Расходы[[#This Row],[Июль План]]-Расходы[[#This Row],[Июль Факт]]","v":0},0,{"$f":"-SUMIFS(СуммаОпераций,КатегорияОпераций,Расходы!$B13,ДатаОперации,\">=\"&X$5,ДатаОперации,\"<\"&AA$5)","v":0},{"$f":"Расходы[[#This Row],[Август План]]-Расходы[[#This Row],[Август Факт]]","v":0},0,{"$f":"-SUMIFS(СуммаОпераций,КатегорияОпераций,Расходы!$B13,ДатаОперации,\">=\"&AA$5,ДатаОперации,\"<\"&AD$5)","v":0},{"$f":"Расходы[[#This Row],[Сентябрь План]]-Расходы[[#This Row],[Сентябрь Факт]]","v":0},0,{"$f":"-SUMIFS(СуммаОпераций,КатегорияОпераций,Расходы!$B13,ДатаОперации,\">=\"&AD$5,ДатаОперации,\"<\"&AG$5)","v":0},{"$f":"Расходы[[#This Row],[Октябрь План]]-Расходы[[#This Row],[Октябрь Факт]]","v":0},0,{"$f":"-SUMIFS(СуммаОпераций,КатегорияОпераций,Расходы!$B13,ДатаОперации,\">=\"&AG$5,ДатаОперации,\"<\"&AJ$5)","v":0},{"$f":"Расходы[[#This Row],[Ноябрь План]]-Расходы[[#This Row],[Ноябрь Факт]]","v":0},0,{"$f":"-SUMIFS(СуммаОпераций,КатегорияОпераций,Расходы!$B13,ДатаОперации,\">=\"&AJ$5,ДатаОперации,\"<\"&DATE($B$4,13,1))","v":0},{"$f":"Расходы[[#This Row],[Декабрь План]]-Расходы[[#This Row],[Декабрь Факт]]","v":0},0,0,0]
[null,"Уход за ребенком",1800,{"$f":"-SUMIFS(СуммаОпераций,КатегорияОпераций,Расходы!$B14,ДатаОперации,\">=\"&C$5,ДатаОперации,\"<\"&F$5)","v":0},{"$f":"Расходы[[#This Row],[Январь План]]-Расходы[[#This Row],[Январь Факт]]","v":1800},1800,{"$f":"-SUMIFS(СуммаОпераций,КатегорияОпераций,Расходы!$B14,ДатаОперации,\">=\"&F$5,ДатаОперации,\"<\"&I$5)","v":0},{"$f":"Расходы[[#This Row],[Февраль План]]-Расходы[[#This Row],[Февраль Факт]]","v":1800},1800,{"$f":"-SUMIFS(СуммаОпераций,КатегорияОпераций,Расходы!$B14,ДатаОперации,\">=\"&I$5,ДатаОперации,\"<\"&L$5)","v":0},{"$f":"Расходы[[#This Row],[Март План]]-Расходы[[#This Row],[Март Факт]]","v":1800},1800,{"$f":"-SUMIFS(СуммаОпераций,КатегорияОпераций,Расходы!$B14,ДатаОперации,\">=\"&L$5,ДатаОперации,\"<\"&O$5)","v":0},{"$f":"Расходы[[#This Row],[Апрель План]]-Расходы[[#This Row],[Апрель Факт]]","v":1800},1800,{"$f":"-SUMIFS(СуммаОпераций,КатегорияОпераций,Расходы!$B14,ДатаОперации,\">=\"&O$5,ДатаОперации,\"<\"&R$5)","v":0},{"$f":"Расходы[[#This Row],[Май План]]-Расходы[[#This Row],[Май Факт]]","v":1800},1800,{"$f":"-SUMIFS(СуммаОпераций,КатегорияОпераций,Расходы!$B14,ДатаОперации,\">=\"&R$5,ДатаОперации,\"<\"&U$5)","v":0},{"$f":"Расходы[[#This Row],[Июнь План]]-Расходы[[#This Row],[Июнь Факт]]","v":1800},1800,{"$f":"-SUMIFS(СуммаОпераций,КатегорияОпераций,Расходы!$B14,ДатаОперации,\">=\"&U$5,ДатаОперации,\"<\"&X$5)","v":0},{"$f":"Расходы[[#This Row],[Июль План]]-Расходы[[#This Row],[Июль Факт]]","v":1800},1800,{"$f":"-SUMIFS(СуммаОпераций,КатегорияОпераций,Расходы!$B14,ДатаОперации,\">=\"&X$5,ДатаОперации,\"<\"&AA$5)","v":0},{"$f":"Расходы[[#This Row],[Август План]]-Расходы[[#This Row],[Август Факт]]","v":1800},1800,{"$f":"-SUMIFS(СуммаОпераций,КатегорияОпераций,Расходы!$B14,ДатаОперации,\">=\"&AA$5,ДатаОперации,\"<\"&AD$5)","v":0},{"$f":"Расходы[[#This Row],[Сентябрь План]]-Расходы[[#This Row],[Сентябрь Факт]]","v":1800},1800,{"$f":"-SUMIFS(СуммаОпераций,КатегорияОпераций,Расходы!$B14,ДатаОперации,\">=\"&AD$5,ДатаОперации,\"<\"&AG$5)","v":0},{"$f":"Расходы[[#This Row],[Октябрь План]]-Расходы[[#This Row],[Октябрь Факт]]","v":1800},1800,{"$f":"-SUMIFS(СуммаОпераций,КатегорияОпераций,Расходы!$B14,ДатаОперации,\">=\"&AG$5,ДатаОперации,\"<\"&AJ$5)","v":0},{"$f":"Расходы[[#This Row],[Ноябрь План]]-Расходы[[#This Row],[Ноябрь Факт]]","v":1800},1800,{"$f":"-SUMIFS(СуммаОпераций,КатегорияОпераций,Расходы!$B14,ДатаОперации,\">=\"&AJ$5,ДатаОперации,\"<\"&DATE($B$4,13,1))","v":0},{"$f":"Расходы[[#This Row],[Декабрь План]]-Расходы[[#This Row],[Декабрь Факт]]","v":1800},21600,0,21600]
[null,"Обучение",2500,{"$f":"-SUMIFS(СуммаОпераций,КатегорияОпераций,Расходы!$B15,ДатаОперации,\">=\"&C$5,ДатаОперации,\"<\"&F$5)","v":0},{"$f":"Расходы[[#This Row],[Январь План]]-Расходы[[#This Row],[Январь Факт]]","v":2500},2500,{"$f":"-SUMIFS(СуммаОпераций,КатегорияОпераций,Расходы!$B15,ДатаОперации,\">=\"&F$5,ДатаОперации,\"<\"&I$5)","v":471},{"$f":"Расходы[[#This Row],[Февраль План]]-Расходы[[#This Row],[Февраль Факт]]","v":2029},2500,{"$f":"-SUMIFS(СуммаОпераций,КатегорияОпераций,Расходы!$B15,ДатаОперации,\">=\"&I$5,ДатаОперации,\"<\"&L$5)","v":290},{"$f":"Расходы[[#This Row],[Март План]]-Расходы[[#This Row],[Март Факт]]","v":2210},2500,{"$f":"-SUMIFS(СуммаОпераций,КатегорияОпераций,Расходы!$B15,ДатаОперации,\">=\"&L$5,ДатаОперации,\"<\"&O$5)","v":0},{"$f":"Расходы[[#This Row],[Апрель План]]-Расходы[[#This Row],[Апрель Факт]]","v":2500},2500,{"$f":"-SUMIFS(СуммаОпераций,КатегорияОпераций,Расходы!$B15,ДатаОперации,\">=\"&O$5,ДатаОперации,\"<\"&R$5)","v":471},{"$f":"Расходы[[#This Row],[Май План]]-Расходы[[#This Row],[Май Факт]]","v":2029},2500,{"$f":"-SUMIFS(СуммаОпераций,КатегорияОпераций,Расходы!$B15,ДатаОперации,\">=\"&R$5,ДатаОперации,\"<\"&U$5)","v":290},{"$f":"Расходы[[#This Row],[Июнь План]]-Расходы[[#This Row],[Июнь Факт]]","v":2210},2500,{"$f":"-SUMIFS(СуммаОпераций,КатегорияОпераций,Расходы!$B15,ДатаОперации,\">=\"&U$5,ДатаОперации,\"<\"&X$5)","v":0},{"$f":"Расходы[[#This Row],[Июль План]]-Расходы[[#This Row],[Июль Факт]]","v":2500},2500,{"$f":"-SUMIFS(СуммаОпераций,КатегорияОпераций,Расходы!$B15,ДатаОперации,\">=\"&X$5,ДатаОперации,\"<\"&AA$5)","v":471},{"$f":"Расходы[[#This Row],[Август План]]-Расходы[[#This Row],[Август Факт]]","v":2029},2500,{"$f":"-SUMIFS(СуммаОпераций,КатегорияОпераций,Расходы!$B15,ДатаОперации,\">=\"&AA$5,ДатаОперации,\"<\"&AD$5)","v":290},{"$f":"Расходы[[#This Row],[Сентябрь План]]-Расходы[[#This Row],[Сентябрь Факт]]","v":2210},2500,{"$f":"-SUMIFS(СуммаОпераций,КатегорияОпераций,Расходы!$B15,ДатаОперации,\">=\"&AD$5,ДатаОперации,\"<\"&AG$5)","v":0},{"$f":"Расходы[[#This Row],[Октябрь План]]-Расходы[[#This Row],[Октябрь Факт]]","v":2500},2500,{"$f":"-SUMIFS(СуммаОпераций,КатегорияОпераций,Расходы!$B15,ДатаОперации,\">=\"&AG$5,ДатаОперации,\"<\"&AJ$5)","v":471},{"$f":"Расходы[[#This Row],[Ноябрь План]]-Расходы[[#This Row],[Ноябрь Факт]]","v":2029},2500,{"$f":"-SUMIFS(СуммаОпераций,КатегорияОпераций,Расходы!$B15,ДатаОперации,\">=\"&AJ$5,ДатаОперации,\"<\"&DATE($B$4,13,1))","v":290},{"$f":"Расходы[[#This Row],[Декабрь План]]-Расходы[[#This Row],[Декабрь Факт]]","v":2210},30000,3044,26956]
[null,"Домашние животные",750,{"$f":"-SUMIFS(СуммаОпераций,КатегорияОпераций,Расходы!$B16,ДатаОперации,\">=\"&C$5,ДатаОперации,\"<\"&F$5)","v":0},{"$f":"Расходы[[#This Row],[Январь План]]-Расходы[[#This Row],[Январь Факт]]","v":750},750,{"$f":"-SUMIFS(СуммаОпераций,КатегорияОпераций,Расходы!$B16,ДатаОперации,\">=\"&F$5,ДатаОперации,\"<\"&I$5)","v":0},{"$f":"Расходы[[#This Row],[Февраль План]]-Расходы[[#This Row],[Февраль Факт]]","v":750},750,{"$f":"-SUMIFS(СуммаОпераций,КатегорияОпераций,Расходы!$B16,ДатаОперации,\">=\"&I$5,ДатаОперации,\"<\"&L$5)","v":0},{"$f":"Расходы[[#This Row],[Март План]]-Расходы[[#This Row],[Март Факт]]","v":750},750,{"$f":"-SUMIFS(СуммаОпераций,КатегорияОпераций,Расходы!$B16,ДатаОперации,\">=\"&L$5,ДатаОперации,\"<\"&O$5)","v":0},{"$f":"Расходы[[#This Row],[Апрель План]]-Расходы[[#This Row],[Апрель Факт]]","v":750},750,{"$f":"-SUMIFS(СуммаОпераций,КатегорияОпераций,Расходы!$B16,ДатаОперации,\">=\"&O$5,ДатаОперации,\"<\"&R$5)","v":0},{"$f":"Расходы[[#This Row],[Май План]]-Расходы[[#This Row],[Май Факт]]","v":750},750,{"$f":"-SUMIFS(СуммаОпераций,КатегорияОпераций,Расходы!$B16,ДатаОперации,\">=\"&R$5,ДатаОперации,\"<\"&U$5)","v":0},{"$f":"Расходы[[#This Row],[Июнь План]]-Расходы[[#This Row],[Июнь Факт]]","v":750},750,{"$f":"-SUMIFS(СуммаОпераций,КатегорияОпераций,Расходы!$B16,ДатаОперации,\">=\"&U$5,ДатаОперации,\"<\"&X$5)","v":0},{"$f":"Расходы[[#This Row],[Июль План]]-Расходы[[#This Row],[Июль Факт]]","v":750},750,{"$f":"-SUMIFS(СуммаОпераций,КатегорияОпераций,Расходы!$B16,ДатаОперации,\">=\"&X$5,ДатаОперации,\"<\"&AA$5)","v":0},{"$f":"Расходы[[#This Row],[Август План]]-Расходы[[#This Row],[Август Факт]]","v":750},750,{"$f":"-SUMIFS(СуммаОпераций,КатегорияОпераций,Расходы!$B16,ДатаОперации,\">=\"&AA$5,ДатаОперации,\"<\"&AD$5)","v":0},{"$f":"Расходы[[#This Row],[Сентябрь План]]-Расходы[[#This Row],[Сентябрь Факт]]","v":750},750,{"$f":"-SUMIFS(СуммаОпераций,КатегорияОпераций,Расходы!$B16,ДатаОперации,\">=\"&AD$5,ДатаОперации,\"<\"&AG$5)","v":0},{"$f":"Расходы[[#This Row],[Октябрь План]]-Расходы[[#This Row],[Октябрь Факт]]","v":750},750,{"$f":"-SUMIFS(СуммаОпераций,КатегорияОпераций,Расходы!$B16,ДатаОперации,\">=\"&AG$5,ДатаОперации,\"<\"&AJ$5)","v":0},{"$f":"Расходы[[#This Row],[Ноябрь План]]-Расходы[[#This Row],[Ноябрь Факт]]","v":750},750,{"$f":"-SUMIFS(СуммаОпераций,КатегорияОпераций,Расходы!$B16,ДатаОперации,\">=\"&AJ$5,ДатаОперации,\"<\"&DATE($B$4,13,1))","v":0},{"$f":"Расходы[[#This Row],[Декабрь План]]-Расходы[[#This Row],[Декабрь Факт]]","v":750},9000,0,9000]
[null,"Транспорт",2500,{"$f":"-SUMIFS(СуммаОпераций,КатегорияОпераций,Расходы!$B17,ДатаОперации,\">=\"&C$5,ДатаОперации,\"<\"&F$5)","v":2367},{"$f":"Расходы[[#This Row],[Январь План]]-Расходы[[#This Row],[Январь Факт]]","v":133},2500,{"$f":"-SUMIFS(СуммаОпераций,КатегорияОпераций,Расходы!$B17,ДатаОперации,\">=\"&F$5,ДатаОперации,\"<\"&I$5)","v":1207},{"$f":"Расходы[[#This Row],[Февраль План]]-Расходы[[#This Row],[Февраль Факт]]","v":1293},2500,{"$f":"-SUMIFS(СуммаОпераций,КатегорияОпераций,Расходы!$B17,ДатаОперации,\">=\"&I$5,ДатаОперации,\"<\"&L$5)","v":2053},{"$f":"Расходы[[#This Row],[Март План]]-Расходы[[#This Row],[Март Факт]]","v":447},2500,{"$f":"-SUMIFS(СуммаОпераций,КатегорияОпераций,Расходы!$B17,ДатаОперации,\">=\"&L$5,ДатаОперации,\"<\"&O$5)","v":2367},{"$f":"Расходы[[#This Row],[Апрель План]]-Расходы[[#This Row],[Апрель Факт]]","v":133},2500,{"$f":"-SUMIFS(СуммаОпераций,КатегорияОпераций,Расходы!$B17,ДатаОперации,\">=\"&O$5,ДатаОперации,\"<\"&R$5)","v":1207},{"$f":"Расходы[[#This Row],[Май План]]-Расходы[[#This Row],[Май Факт]]","v":1293},2500,{"$f":"-SUMIFS(СуммаОпераций,КатегорияОпераций,Расходы!$B17,ДатаОперации,\">=\"&R$5,ДатаОперации,\"<\"&U$5)","v":2053},{"$f":"Расходы[[#This Row],[Июнь План]]-Расходы[[#This Row],[Июнь Факт]]","v":447},2500,{"$f":"-SUMIFS(СуммаОпераций,КатегорияОпераций,Расходы!$B17,ДатаОперации,\">=\"&U$5,ДатаОперации,\"<\"&X$5)","v":2367},{"$f":"Расходы[[#This Row],[Июль План]]-Расходы[[#This Row],[Июль Факт]]","v":133},2500,{"$f":"-SUMIFS(СуммаОпераций,КатегорияОпераций,Расходы!$B17,ДатаОперации,\">=\"&X$5,ДатаОперации,\"<\"&AA$5)","v":1207},{"$f":"Расходы[[#This Row],[Август План]]-Расходы[[#This Row],[Август Факт]]","v":1293},2500,{"$f":"-SUMIFS(СуммаОпераций,КатегорияОпераций,Расходы!$B17,ДатаОперации,\">=\"&AA$5,ДатаОперации,\"<\"&AD$5)","v":2053},{"$f":"Расходы[[#This Row],[Сентябрь План]]-Расходы[[#This Row],[Сентябрь Факт]]","v":447},2500,{"$f":"-SUMIFS(СуммаОпераций,КатегорияОпераций,Расходы!$B17,ДатаОперации,\">=\"&AD$5,ДатаОперации,\"<\"&AG$5)","v":2367},{"$f":"Расходы[[#This Row],[Октябрь План]]-Расходы[[#This Row],[Октябрь Факт]]","v":133},2500,{"$f":"-SUMIFS(СуммаОпераций,КатегорияОпераций,Расходы!$B17,ДатаОперации,\">=\"&AG$5,ДатаОперации,\"<\"&AJ$5)","v":1207},{"$f":"Расходы[[#This Row],[Ноябрь План]]-Расходы[[#This Row],[Ноябрь Факт]]","v":1293},2500,{"$f":"-SUMIFS(СуммаОпераций,КатегорияОпераций,Расходы!$B17,ДатаОперации,\">=\"&AJ$5,ДатаОперации,\"<\"&DATE($B$4,13,1))","v":2053},{"$f":"Расходы[[#This Row],[Декабрь План]]-Расходы[[#This Row],[Декабрь Факт]]","v":447},30000,22508,7492]
[null,"Переводы",null,{"$f":"-SUMIFS(СуммаОпераций,КатегорияОпераций,Расходы!$B18,ДатаОперации,\">=\"&C$5,ДатаОперации,\"<\"&F$5)","v":26050},{"$f":"Расходы[[#This Row],[Январь План]]-Расходы[[#This Row],[Январь Факт]]","v":-26050},null,{"$f":"-SUMIFS(СуммаОпераций,КатегорияОпераций,Расходы!$B18,ДатаОперации,\">=\"&F$5,ДатаОперации,\"<\"&I$5)","v":4799},{"$f":"Расходы[[#This Row],[Январь План]]-Расходы[[#This Row],[Январь Факт]]","v":-26050},null,{"$f":"-SUMIFS(СуммаОпераций,КатегорияОпераций,Расходы!$B18,ДатаОперации,\">=\"&I$5,ДатаОперации,\"<\"&L$5)","v":-800},{"$f":"Расходы[[#This Row],[Январь План]]-Расходы[[#This Row],[Январь Факт]]","v":-26050},null,{"$f":"-SUMIFS(СуммаОпераций,КатегорияОпераций,Расходы!$B18,ДатаОперации,\">=\"&L$5,ДатаОперации,\"<\"&O$5)","v":26050},{"$f":"Расходы[[#This Row],[Январь План]]-Расходы[[#This Row],[Январь Факт]]","v":-26050},null,{"$f":"-SUMIFS(СуммаОпераций,КатегорияОпераций,Расходы!$B18,ДатаОперации,\">=\"&O$5,ДатаОперации,\"<\"&R$5)","v":4799},{"$f":"Расходы[[#This Row],[Январь План]]-Расходы[[#This Row],[Январь Факт]]","v":-26050},null,{"$f":"-SUMIFS(СуммаОпераций,КатегорияОпераций,Расходы!$B18,ДатаОперации,\">=\"&R$5,ДатаОперации,\"<\"&U$5)","v":-800},{"$f":"Расходы[[#This Row],[Январь План]]-Расходы[[#This Row],[Январь Факт]]","v":-26050},null,{"$f":"-SUMIFS(СуммаОпераций,КатегорияОпераций,Расходы!$B18,ДатаОперации,\">=\"&U$5,ДатаОперации,\"<\"&X$5)","v":26050},{"$f":"Расходы[[#This Row],[Январь План]]-Расходы[[#This Row],[Январь Факт]]","v":-26050},null,{"$f":"-SUMIFS(СуммаОпераций,КатегорияОпераций,Расходы!$B18,ДатаОперации,\">=\"&X$5,ДатаОперации,\"<\"&AA$5)","v":4799},{"$f":"Расходы[[#This Row],[Январь План]]-Расходы[[#This Row],[Январь Факт]]","v":-26050},null,{"$f":"-SUMIFS(СуммаОпераций,КатегорияОпераций,Расходы!$B18,ДатаОперации,\">=\"&AA$5,ДатаОперации,\"<\"&AD$5)","v":-800},{"$f":"Расходы[[#This Row],[Январь План]]-Расходы[[#This Row],[Январь Факт]]","v":-26050},null,{"$f":"-SUMIFS(СуммаОпераций,КатегорияОпераций,Расходы!$B18,ДатаОперации,\">=\"&AD$5,ДатаОперации,\"<\"&AG$5)","v":26050},{"$f":"Расходы[[#This Row],[Январь План]]-Расходы[[#This Row],[Январь Факт]]","v":-26050},null,{"$f":"-SUMIFS(СуммаОпераций,КатегорияОпераций,Расходы!$B18,ДатаОперации,\">=\"&AG$5,ДатаОперации,\"<\"&AJ$5)","v":4799},{"$f":"Расходы[[#This Row],[Январь План]]-Расходы[[#This Row],[Январь Факт]]","v":-26050},null,{"$f":"-SUMIFS(СуммаОпераций,КатегорияОпераций,Расходы!$B18,ДатаОперации,\">=\"&AJ$5,ДатаОперации,\"<\"&DATE($B$4,13,1))","v":-800},{"$f":"Расходы[[#This Row],[Январь План]]-Расходы[[#This Row],[Январь Факт]]","v":-26050},0,120196,-120196]
[null,"Медицина",null,{"$f":"-SUMIFS(СуммаОпераций,КатегорияОпераций,Расходы!$B19,ДатаОперации,\">=\"&C$5,ДатаОперации,\"<\"&F$5)","v":6091},{"$f":"Расходы[[#This Row],[Январь План]]-Расходы[[#This Row],[Январь Факт]]","v":-6091},null,{"$f":"-SUMIFS(СуммаОпераций,КатегорияОпераций,Расходы!$B19,ДатаОперации,\">=\"&F$5,ДатаОперации,\"<\"&I$5)","v":2649},{"$f":"Расходы[[#This Row],[Январь План]]-Расходы[[#This Row],[Январь Факт]]","v":-6091},null,{"$f":"-SUMIFS(СуммаОпераций,КатегорияОпераций,Расходы!$B19,ДатаОперации,\">=\"&I$5,ДатаОперации,\"<\"&L$5)","v":10225.650000000001},{"$f":"Расходы[[#This Row],[Январь План]]-Расходы[[#This Row],[Январь Факт]]","v":-6091},null,{"$f":"-SUMIFS(СуммаОпераций,КатегорияОпераций,Расходы!$B19,ДатаОперации,\">=\"&L$5,ДатаОперации,\"<\"&O$5)","v":6091},{"$f":"Расходы[[#This Row],[Январь План]]-Расходы[[#This Row],[Январь Факт]]","v":-6091},null,{"$f":"-SUMIFS(СуммаОпераций,КатегорияОпераций,Расходы!$B19,ДатаОперации,\">=\"&O$5,ДатаОперации,\"<\"&R$5)","v":2649},{"$f":"Расходы[[#This Row],[Январь План]]-Расходы[[#This Row],[Январь Факт]]","v":-6091},null,{"$f":"-SUMIFS(СуммаОпераций,КатегорияОпераций,Расходы!$B19,ДатаОперации,\">=\"&R$5,ДатаОперации,\"<\"&U$5)","v":10225.650000000001},{"$f":"Расходы[[#This Row],[Январь План]]-Расходы[[#This Row],[Январь Факт]]","v":-6091},null,{"$f":"-SUMIFS(СуммаОпераций,КатегорияОпераций,Расходы!$B19,ДатаОперации,\">=\"&U$5,ДатаОперации,\"<\"&X$5)","v":6091},{"$f":"Расходы[[#This Row],[Январь План]]-Расходы[[#This Row],[Январь Факт]]","v":-6091},null,{"$f":"-SUMIFS(СуммаОпераций,КатегорияОпераций,Расходы!$B19,ДатаОперации,\">=\"&X$5,ДатаОперации,\"<\"&AA$5)","v":2649},{"$f":"Расходы[[#This Row],[Январь План]]-Расходы[[#This Row],[Январь Факт]]","v":-6091},null,{"$f":"-SUMIFS(СуммаОпераций,КатегорияОпераций,Расходы!$B19,ДатаОперации,\">=\"&AA$5,ДатаОперации,\"<\"&AD$5)","v":10225.650000000001},{"$f":"Расходы[[#This Row],[Январь План]]-Расходы[[#This Row],[Январь Факт]]","v":-6091},null,{"$f":"-SUMIFS(СуммаОпераций,КатегорияОпераций,Расходы!$B19,ДатаОперации,\">=\"&AD$5,ДатаОперации,\"<\"&AG$5)","v":6091},{"$f":"Расходы[[#This Row],[Январь План]]-Расходы[[#This Row],[Январь Факт]]","v":-6091},null,{"$f":"-SUMIFS(СуммаОпераций,КатегорияОпераций,Расходы!$B19,ДатаОперации,\">=\"&AG$5,ДатаОперации,\"<\"&AJ$5)","v":2649},{"$f":"Расходы[[#This Row],[Январь План]]-Расходы[[#This Row],[Январь Факт]]","v":-6091},null,{"$f":"-SUMIFS(СуммаОпераций,КатегорияОпераций,Расходы!$B19,ДатаОперации,\">=\"&AJ$5,ДатаОперации,\"<\"&DATE($B$4,13,1))","v":10225.650000000001},{"$f":"Расходы[[#This Row],[Январь План]]-Расходы[[#This Row],[Январь Факт]]","v":-6091},0,75862.600000000006,-75862.600000000006]
[null,"Снятие наличных",null,{"$f":"-SUMIFS(СуммаОпераций,КатегорияОпераций,Расходы!$B20,ДатаОперации,\">=\"&C$5,ДатаОперации,\"<\"&F$5)","v":0},{"$f":"Расходы[[#This Row],[Январь План]]-Расходы[[#This Row],[Январь Факт]]","v":0},null,{"$f":"-SUMIFS(СуммаОпераций,КатегорияОпераций,Расходы!$B20,ДатаОперации,\">=\"&F$5,ДатаОперации,\"<\"&I$5)","v":0},{"$f":"Расходы[[#This Row],[Январь План]]-Расходы[[#This Row],[Январь Факт]]","v":0},null,{"$f":"-SUMIFS(СуммаОпераций,КатегорияОпераций,Расходы!$B20,ДатаОперации,\">=\"&I$5,ДатаОперации,\"<\"&L$5)","v":130000},{"$f":"Расходы[[#This Row],[Январь План]]-Расходы[[#This Row],[Январь Факт]]","v":0},null,{"$f":"-SUMIFS(СуммаОпераций,КатегорияОпераций,Расходы!$B20,ДатаОперации,\">=\"&L$5,ДатаОперации,\"<\"&O$5)","v":0},{"$f":"Расходы[[#This Row],[Январь План]]-Расходы[[#This Row],[Январь Факт]]","v":0},null,{"$f":"-SUMIFS(СуммаОпераций,КатегорияОпераций,Расходы!$B20,ДатаОперации,\">=\"&O$5,ДатаОперации,\"<\"&R$5)","v":0},{"$f":"Расходы[[#This Row],[Январь План]]-Расходы[[#This Row],[Январь Факт]]","v":0},null,{"$f":"-SUMIFS(СуммаОпераций,КатегорияОпераций,Расходы!$B20,ДатаОперации,\">=\"&R$5,ДатаОперации,\"<\"&U$5)","v":130000},{"$f":"Расходы[[#This Row],[Январь План]]-Расходы[[#This Row],[Январь Факт]]","v":0},null,{"$f":"-SUMIFS(СуммаОпераций,КатегорияОпераций,Расходы!$B20,ДатаОперации,\">=\"&U$5,ДатаОперации,\"<\"&X$5)","v":0},{"$f":"Расходы[[#This Row],[Январь План]]-Расходы[[#This Row],[Январь Факт]]","v":0},null,{"$f":"-SUMIFS(СуммаОпераций,КатегорияОпераций,Расходы!$B20,ДатаОперации,\">=\"&X$5,ДатаОперации,\"<\"&AA$5)","v":0},{"$f":"Расходы[[#This Row],[Январь План]]-Расходы[[#This Row],[Январь Факт]]","v":0},null,{"$f":"-SUMIFS(СуммаОпераций,КатегорияОпераций,Расходы!$B20,ДатаОперации,\">=\"&AA$5,ДатаОперации,\"<\"&AD$5)","v":130000},{"$f":"Расходы[[#This Row],[Январь План]]-Расходы[[#This Row],[Январь Факт]]","v":0},null,{"$f":"-SUMIFS(СуммаОпераций,КатегорияОпераций,Расходы!$B20,ДатаОперации,\">=\"&AD$5,ДатаОперации,\"<\"&AG$5)","v":0},{"$f":"Расходы[[#This Row],[Январь План]]-Расходы[[#This Row],[Январь Факт]]","v":0},null,{"$f":"-SUMIFS(СуммаОпераций,КатегорияОпераций,Расходы!$B20,ДатаОперации,\">=\"&AG$5,ДатаОперации,\"<\"&AJ$5)","v":0},{"$f":"Расходы[[#This Row],[Январь План]]-Расходы[[#This Row],[Январь Факт]]","v":0},null,{"$f":"-SUMIFS(СуммаОпераций,КатегорияОпераций,Расходы!$B20,ДатаОперации,\">=\"&AJ$5,ДатаОперации,\"<\"&DATE($B$4,13,1))","v":130000},{"$f":"Расходы[[#This Row],[Январь План]]-Расходы[[#This Row],[Январь Факт]]","v":0},0,520000,-520000]
[null,"Поездки",null,{"$f":"-SUMIFS(СуммаОпераций,КатегорияОпераций,Расходы!$B21,ДатаОперации,\">=\"&C$5,ДатаОперации,\"<\"&F$5)","v":0},{"$f":"Расходы[[#This Row],[Январь План]]-Расходы[[#This Row],[Январь Факт]]","v":0},null,{"$f":"-SUMIFS(СуммаОпераций,КатегорияОпераций,Расходы!$B21,ДатаОперации,\">=\"&F$5,ДатаОперации,\"<\"&I$5)","v":26088.799999999999},{"$f":"Расходы[[#This Row],[Январь План]]-Расходы[[#This Row],[Январь Факт]]","v":0},null,{"$f":"-SUMIFS(СуммаОпераций,КатегорияОпераций,Расходы!$B21,ДатаОперации,\">=\"&I$5,ДатаОперации,\"<\"&L$5)","v":-14652},{"$f":"Расходы[[#This Row],[Январь План]]-Расходы[[#This Row],[Январь Факт]]","v":0},null,{"$f":"-SUMIFS(СуммаОпераций,КатегорияОпераций,Расходы!$B21,ДатаОперации,\">=\"&L$5,ДатаОперации,\"<\"&O$5)","v":0},{"$f":"Расходы[[#This Row],[Январь План]]-Расходы[[#This Row],[Январь Факт]]","v":0},null,{"$f":"-SUMIFS(СуммаОпераций,КатегорияОпераций,Расходы!$B21,ДатаОперации,\">=\"&O$5,ДатаОперации,\"<\"&R$5)","v":26088.799999999999},{"$f":"Расходы[[#This Row],[Январь План]]-Расходы[[#This Row],[Январь Факт]]","v":0},null,{"$f":"-SUMIFS(СуммаОпераций,КатегорияОпераций,Расходы!$B21,ДатаОперации,\">=\"&R$5,ДатаОперации,\"<\"&U$5)","v":-14652},{"$f":"Расходы[[#This Row],[Январь План]]-Расходы[[#This Row],[Январь Факт]]","v":0},null,{"$f":"-SUMIFS(СуммаОпераций,КатегорияОпераций,Расходы!$B21,ДатаОперации,\">=\"&U$5,ДатаОперации,\"<\"&X$5)","v":0},{"$f":"Расходы[[#This Row],[Январь План]]-Расходы[[#This Row],[Январь Факт]]","v":0},null,{"$f":"-SUMIFS(СуммаОпераций,КатегорияОпераций,Расходы!$B21,ДатаОперации,\">=\"&X$5,ДатаОперации,\"<\"&AA$5)","v":26088.799999999999},{"$f":"Расходы[[#This Row],[Январь План]]-Расходы[[#This Row],[Январь Факт]]","v":0},null,{"$f":"-SUMIFS(СуммаОпераций,КатегорияОпераций,Расходы!$B21,ДатаОперации,\">=\"&AA$5,ДатаОперации,\"<\"&AD$5)","v":-14652},{"$f":"Расходы[[#This Row],[Январь План]]-Расходы[[#This Row],[Январь Факт]]","v":0},null,{"$f":"-SUMIFS(СуммаОпераций,КатегорияОпераций,Расходы!$B21,ДатаОперации,\">=\"&AD$5,ДатаОперации,\"<\"&AG$5)","v":0},{"$f":"Расходы[[#This Row],[Январь План]]-Расходы[[#This Row],[Январь Факт]]","v":0},null,{"$f":"-SUMIFS(СуммаОпераций,КатегорияОпераций,Расходы!$B21,ДатаОперации,\">=\"&AG$5,ДатаОперации,\"<\"&AJ$5)","v":26088.799999999999},{"$f":"Расходы[[#This Row],[Январь План]]-Расходы[[#This Row],[Январь Факт]]","v":0},null,{"$f":"-SUMIFS(СуммаОпераций,КатегорияОпераций,Расходы!$B21,ДатаОперации,\">=\"&AJ$5,ДатаОперации,\"<\"&DATE($B$4,13,1))","v":-14652},{"$f":"Расходы[[#This Row],[Январь План]]-Расходы[[#This Row],[Январь Факт]]","v":0},0,45747.199999999997,-45747.199999999997]
[null,"Рестораны",null,{"$f":"-SUMIFS(СуммаОпераций,КатегорияОпераций,Расходы!$B22,ДатаОперации,\">=\"&C$5,ДатаОперации,\"<\"&F$5)","v":7265},{"$f":"Расходы[[#This Row],[Январь План]]-Расходы[[#This Row],[Январь Факт]]","v":-7265},null,{"$f":"-SUMIFS(СуммаОпераций,КатегорияОпераций,Расходы!$B22,ДатаОперации,\">=\"&F$5,ДатаОперации,\"<\"&I$5)","v":10792.78},{"$f":"Расходы[[#This Row],[Январь План]]-Расходы[[#This Row],[Январь Факт]]","v":-7265},null,{"$f":"-SUMIFS(СуммаОпераций,КатегорияОпераций,Расходы!$B22,ДатаОперации,\">=\"&I$5,ДатаОперации,\"<\"&L$5)","v":9744},{"$f":"Расходы[[#This Row],[Январь План]]-Расходы[[#This Row],[Январь Факт]]","v":-7265},null,{"$f":"-SUMIFS(СуммаОпераций,КатегорияОпераций,Расходы!$B22,ДатаОперации,\">=\"&L$5,ДатаОперации,\"<\"&O$5)","v":7265},{"$f":"Расходы[[#This Row],[Январь План]]-Расходы[[#This Row],[Январь Факт]]","v":-7265},null,{"$f":"-SUMIFS(СуммаОпераций,КатегорияОпераций,Расходы!$B22,ДатаОперации,\">=\"&O$5,ДатаОперации,\"<\"&R$5)","v":10792.78},{"$f":"Расходы[[#This Row],[Январь План]]-Расходы[[#This Row],[Январь Факт]]","v":-7265},null,{"$f":"-SUMIFS(СуммаОпераций,КатегорияОпераций,Расходы!$B22,ДатаОперации,\">=\"&R$5,ДатаОперации,\"<\"&U$5)","v":9744},{"$f":"Расходы[[#This Row],[Январь План]]-Расходы[[#This Row],[Январь Факт]]","v":-7265},null,{"$f":"-SUMIFS(СуммаОпераций,КатегорияОпераций,Расходы!$B22,ДатаОперации,\">=\"&U$5,ДатаОперации,\"<\"&X$5)","v":7265},{"$f":"Расходы[[#This Row],[Январь План]]-Расходы[[#This Row],[Январь Факт]]","v":-7265},null,{"$f":"-SUMIFS(СуммаОпераций,КатегорияОпераций,Расходы!$B22,ДатаОперации,\">=\"&X$5,ДатаОперации,\"<\"&AA$5)","v":10792.78},{"$f":"Расходы[[#This Row],[Январь План]]-Расходы[[#This Row],[Январь Факт]]","v":-7265},null,{"$f":"-SUMIFS(СуммаОпераций,КатегорияОпераций,Расходы!$B22,ДатаОперации,\">=\"&AA$5,ДатаОперации,\"<\"&AD$5)","v":9744},{"$f":"Расходы[[#This Row],[Январь План]]-Расходы[[#This Row],[Январь Факт]]","v":-7265},null,{"$f":"-SUMIFS(СуммаОпераций,КатегорияОпераций,Расходы!$B22,ДатаОперации,\">=\"&AD$5,ДатаОперации,\"<\"&AG$5)","v":7265},{"$f":"Расходы[[#This Row],[Январь План]]-Расходы[[#This Row],[Январь Факт]]","v":-7265},null,{"$f":"-SUMIFS(СуммаОпераций,КатегорияОпераций,Расходы!$B22,ДатаОперации,\">=\"&AG$5,ДатаОперации,\"<\"&AJ$5)","v":10792.78},{"$f":"Расходы[[#This Row],[Январь План]]-Расходы[[#This Row],[Январь Факт]]","v":-7265},null,{"$f":"-SUMIFS(СуммаОпераций,КатегорияОпераций,Расходы!$B22,ДатаОперации,\">=\"&AJ$5,ДатаОперации,\"<\"&DATE($B$4,13,1))","v":9744},{"$f":"Расходы[[#This Row],[Январь План]]-Расходы[[#This Row],[Январь Факт]]","v":-7265},0,111207.12,-111207.12]
[null,"Одежда и обувь",null,{"$f":"-SUMIFS(СуммаОпераций,КатегорияОпераций,Расходы!$B23,ДатаОперации,\">=\"&C$5,ДатаОперации,\"<\"&F$5)","v":0},{"$f":"Расходы[[#This Row],[Январь План]]-Расходы[[#This Row],[Январь Факт]]","v":0},null,{"$f":"-SUMIFS(СуммаОпераций,КатегорияОпераций,Расходы!$B23,ДатаОперации,\">=\"&F$5,ДатаОперации,\"<\"&I$5)","v":0},{"$f":"Расходы[[#This Row],[Январь План]]-Расходы[[#This Row],[Январь Факт]]","v":0},null,{"$f":"-SUMIFS(СуммаОпераций,КатегорияОпераций,Расходы!$B23,ДатаОперации,\">=\"&I$5,ДатаОперации,\"<\"&L$5)","v":4200},{"$f":"Расходы[[#This Row],[Январь План]]-Расходы[[#This Row],[Январь Факт]]","v":0},null,{"$f":"-SUMIFS(СуммаОпераций,КатегорияОпераций,Расходы!$B23,ДатаОперации,\">=\"&L$5,ДатаОперации,\"<\"&O$5)","v":0},{"$f":"Расходы[[#This Row],[Январь План]]-Расходы[[#This Row],[Январь Факт]]","v":0},null,{"$f":"-SUMIFS(СуммаОпераций,КатегорияОпераций,Расходы!$B23,ДатаОперации,\">=\"&O$5,ДатаОперации,\"<\"&R$5)","v":0},{"$f":"Расходы[[#This Row],[Январь План]]-Расходы[[#This Row],[Январь Факт]]","v":0},null,{"$f":"-SUMIFS(СуммаОпераций,КатегорияОпераций,Расходы!$B23,ДатаОперации,\">=\"&R$5,ДатаОперации,\"<\"&U$5)","v":4200},{"$f":"Расходы[[#This Row],[Январь План]]-Расходы[[#This Row],[Январь Факт]]","v":0},null,{"$f":"-SUMIFS(СуммаОпераций,КатегорияОпераций,Расходы!$B23,ДатаОперации,\">=\"&U$5,ДатаОперации,\"<\"&X$5)","v":0},{"$f":"Расходы[[#This Row],[Январь План]]-Расходы[[#This Row],[Январь Факт]]","v":0},null,{"$f":"-SUMIFS(СуммаОпераций,КатегорияОпераций,Расходы!$B23,ДатаОперации,\">=\"&X$5,ДатаОперации,\"<\"&AA$5)","v":0},{"$f":"Расходы[[#This Row],[Январь План]]-Расходы[[#This Row],[Январь Факт]]","v":0},null,{"$f":"-SUMIFS(СуммаОпераций,КатегорияОпераций,Расходы!$B23,ДатаОперации,\">=\"&AA$5,ДатаОперации,\"<\"&AD$5)","v":4200},{"$f":"Расходы[[#This Row],[Январь План]]-Расходы[[#This Row],[Январь Факт]]","v":0},null,{"$f":"-SUMIFS(СуммаОпераций,КатегорияОпераций,Расходы!$B23,ДатаОперации,\">=\"&AD$5,ДатаОперации,\"<\"&AG$5)","v":0},{"$f":"Расходы[[#This Row],[Январь План]]-Расходы[[#This Row],[Январь Факт]]","v":0},null,{"$f":"-SUMIFS(СуммаОпераций,КатегорияОпераций,Расходы!$B23,ДатаОперации,\">=\"&AG$5,ДатаОперации,\"<\"&AJ$5)","v":0},{"$f":"Расходы[[#This Row],[Январь План]]-Расходы[[#This Row],[Январь Факт]]","v":0},null,{"$f":"-SUMIFS(СуммаОпераций,КатегорияОпераций,Расходы!$B23,ДатаОперации,\">=\"&AJ$5,ДатаОперации,\"<\"&DATE($B$4,13,1))","v":4200},{"$f":"Расходы[[#This Row],[Январь План]]-Расходы[[#This Row],[Январь Факт]]","v":0},0,16800,-16800]
[null,"Товары для дома, ремонта",null,{"$f":"-SUMIFS(СуммаОпераций,КатегорияОпераций,Расходы!$B24,ДатаОперации,\">=\"&C$5,ДатаОперации,\"<\"&F$5)","v":0},{"$f":"Расходы[[#This Row],[Январь План]]-Расходы[[#This Row],[Январь Факт]]","v":0},null,{"$f":"-SUMIFS(СуммаОпераций,КатегорияОпераций,Расходы!$B24,ДатаОперации,\">=\"&F$5,ДатаОперации,\"<\"&I$5)","v":1642},{"$f":"Расходы[[#This Row],[Январь План]]-Расходы[[#This Row],[Январь Факт]]","v":0},null,{"$f":"-SUMIFS(СуммаОпераций,КатегорияОпераций,Расходы!$B24,ДатаОперации,\">=\"&I$5,ДатаОперации,\"<\"&L$5)","v":368},{"$f":"Расходы[[#This Row],[Январь План]]-Расходы[[#This Row],[Январь Факт]]","v":0},null,{"$f":"-SUMIFS(СуммаОпераций,КатегорияОпераций,Расходы!$B24,ДатаОперации,\">=\"&L$5,ДатаОперации,\"<\"&O$5)","v":0},{"$f":"Расходы[[#This Row],[Январь План]]-Расходы[[#This Row],[Январь Факт]]","v":0},null,{"$f":"-SUMIFS(СуммаОпераций,КатегорияОпераций,Расходы!$B24,ДатаОперации,\">=\"&O$5,ДатаОперации,\"<\"&R$5)","v":1642},{"$f":"Расходы[[#This Row],[Январь План]]-Расходы[[#This Row],[Январь Факт]]","v":0},null,{"$f":"-SUMIFS(СуммаОпераций,КатегорияОпераций,Расходы!$B24,ДатаОперации,\">=\"&R$5,ДатаОперации,\"<\"&U$5)","v":368},{"$f":"Расходы[[#This Row],[Январь План]]-Расходы[[#This Row],[Январь Факт]]","v":0},null,{"$f":"-SUMIFS(СуммаОпераций,КатегорияОпераций,Расходы!$B24,ДатаОперации,\">=\"&U$5,ДатаОперации,\"<\"&X$5)","v":0},{"$f":"Расходы[[#This Row],[Январь План]]-Расходы[[#This Row],[Январь Факт]]","v":0},null,{"$f":"-SUMIFS(СуммаОпераций,КатегорияОпераций,Расходы!$B24,ДатаОперации,\">=\"&X$5,ДатаОперации,\"<\"&AA$5)","v":1642},{"$f":"Расходы[[#This Row],[Январь План]]-Расходы[[#This Row],[Январь Факт]]","v":0},null,{"$f":"-SUMIFS(СуммаОпераций,КатегорияОпераций,Расходы!$B24,ДатаОперации,\">=\"&AA$5,ДатаОперации,\"<\"&AD$5)","v":368},{"$f":"Расходы[[#This Row],[Январь План]]-Расходы[[#This Row],[Январь Факт]]","v":0},null,{"$f":"-SUMIFS(СуммаОпераций,КатегорияОпераций,Расходы!$B24,ДатаОперации,\">=\"&AD$5,ДатаОперации,\"<\"&AG$5)","v":0},{"$f":"Расходы[[#This Row],[Январь План]]-Расходы[[#This Row],[Январь Факт]]","v":0},null,{"$f":"-SUMIFS(СуммаОпераций,КатегорияОпераций,Расходы!$B24,ДатаОперации,\">=\"&AG$5,ДатаОперации,\"<\"&AJ$5)","v":1642},{"$f":"Расходы[[#This Row],[Январь План]]-Расходы[[#This Row],[Январь Факт]]","v":0},null,{"$f":"-SUMIFS(СуммаОпераций,КатегорияОпераций,Расходы!$B24,ДатаОперации,\">=\"&AJ$5,ДатаОперации,\"<\"&DATE($B$4,13,1))","v":368},{"$f":"Расходы[[#This Row],[Январь План]]-Расходы[[#This Row],[Январь Факт]]","v":0},0,8040,-8040]
[null,"Развлечения",null,{"$f":"-SUMIFS(СуммаОпераций,КатегорияОпераций,Расходы!$B25,ДатаОперации,\">=\"&C$5,ДатаОперации,\"<\"&F$5)","v":9018},{"$f":"Расходы[[#This Row],[Январь План]]-Расходы[[#This Row],[Январь Факт]]","v":-9018},null,{"$f":"-SUMIFS(СуммаОпераций,КатегорияОпераций,Расходы!$B25,ДатаОперации,\">=\"&F$5,ДатаОперации,\"<\"&I$5)","v":684},{"$f":"Расходы[[#This Row],[Январь План]]-Расходы[[#This Row],[Январь Факт]]","v":-9018},null,{"$f":"-SUMIFS(СуммаОпераций,КатегорияОпераций,Расходы!$B25,ДатаОперации,\">=\"&I$5,ДатаОперации,\"<\"&L$5)","v":1053},{"$f":"Расходы[[#This Row],[Январь План]]-Расходы[[#This Row],[Январь Факт]]","v":-9018},null,{"$f":"-SUMIFS(СуммаОпераций,КатегорияОпераций,Расходы!$B25,ДатаОперации,\">=\"&L$5,ДатаОперации,\"<\"&O$5)","v":9018},{"$f":"Расходы[[#This Row],[Январь План]]-Расходы[[#This Row],[Январь Факт]]","v":-9018},null,{"$f":"-SUMIFS(СуммаОпераций,КатегорияОпераций,Расходы!$B25,ДатаОперации,\">=\"&O$5,ДатаОперации,\"<\"&R$5)","v":684},{"$f":"Расходы[[#This Row],[Январь План]]-Расходы[[#This Row],[Январь Факт]]","v":-9018},null,{"$f":"-SUMIFS(СуммаОпераций,КатегорияОпераций,Расходы!$B25,ДатаОперации,\">=\"&R$5,ДатаОперации,\"<\"&U$5)","v":1053},{"$f":"Расходы[[#This Row],[Январь План]]-Расходы[[#This Row],[Январь Факт]]","v":-9018},null,{"$f":"-SUMIFS(СуммаОпераций,КатегорияОпераций,Расходы!$B25,ДатаОперации,\">=\"&U$5,ДатаОперации,\"<\"&X$5)","v":9018},{"$f":"Расходы[[#This Row],[Январь План]]-Расходы[[#This Row],[Январь Факт]]","v":-9018},null,{"$f":"-SUMIFS(СуммаОпераций,КатегорияОпераций,Расходы!$B25,ДатаОперации,\">=\"&X$5,ДатаОперации,\"<\"&AA$5)","v":684},{"$f":"Расходы[[#This Row],[Январь План]]-Расходы[[#This Row],[Январь Факт]]","v":-9018},null,{"$f":"-SUMIFS(СуммаОпераций,КатегорияОпераций,Расходы!$B25,ДатаОперации,\">=\"&AA$5,ДатаОперации,\"<\"&AD$5)","v":1053},{"$f":"Расходы[[#This Row],[Январь План]]-Расходы[[#This Row],[Январь Факт]]","v":-9018},null,{"$f":"-SUMIFS(СуммаОпераций,КатегорияОпераций,Расходы!$B25,ДатаОперации,\">=\"&AD$5,ДатаОперации,\"<\"&AG$5)","v":9018},{"$f":"Расходы[[#This Row],[Январь План]]-Расходы[[#This Row],[Январь Факт]]","v":-9018},null,{"$f":"-SUMIFS(СуммаОпераций,КатегорияОпераций,Расходы!$B25,ДатаОперации,\">=\"&AG$5,ДатаОперации,\"<\"&AJ$5)","v":684},{"$f":"Расходы[[#This Row],[Январь План]]-Расходы[[#This Row],[Январь Факт]]","v":-9018},null,{"$f":"-SUMIFS(СуммаОпераций,КатегорияОпераций,Расходы!$B25,ДатаОперации,\">=\"&AJ$5,ДатаОперации,\"<\"&DATE($B$4,13,1))","v":1053},{"$f":"Расходы[[#This Row],[Январь План]]-Расходы[[#This Row],[Январь Факт]]","v":-9018},0,43020,-43020]
[null,"Услуги для внешнего вида",null,{"$f":"-SUMIFS(СуммаОпераций,КатегорияОпераций,Расходы!$B26,ДатаОперации,\">=\"&C$5,ДатаОперации,\"<\"&F$5)","v":1100},{"$f":"Расходы[[#This Row],[Январь План]]-Расходы[[#This Row],[Январь Факт]]","v":-1100},null,{"$f":"-SUMIFS(СуммаОпераций,КатегорияОпераций,Расходы!$B26,ДатаОперации,\">=\"&F$5,ДатаОперации,\"<\"&I$5)","v":0},{"$f":"Расходы[[#This Row],[Январь План]]-Расходы[[#This Row],[Январь Факт]]","v":-1100},null,{"$f":"-SUMIFS(СуммаОпераций,КатегорияОпераций,Расходы!$B26,ДатаОперации,\">=\"&I$5,ДатаОперации,\"<\"&L$5)","v":0},{"$f":"Расходы[[#This Row],[Январь План]]-Расходы[[#This Row],[Январь Факт]]","v":-1100},null,{"$f":"-SUMIFS(СуммаОпераций,КатегорияОпераций,Расходы!$B26,ДатаОперации,\">=\"&L$5,ДатаОперации,\"<\"&O$5)","v":1100},{"$f":"Расходы[[#This Row],[Январь План]]-Расходы[[#This Row],[Январь Факт]]","v":-1100},null,{"$f":"-SUMIFS(СуммаОпераций,КатегорияОпераций,Расходы!$B26,ДатаОперации,\">=\"&O$5,ДатаОперации,\"<\"&R$5)","v":0},{"$f":"Расходы[[#This Row],[Январь План]]-Расходы[[#This Row],[Январь Факт]]","v":-1100},null,{"$f":"-SUMIFS(СуммаОпераций,КатегорияОпераций,Расходы!$B26,ДатаОперации,\">=\"&R$5,ДатаОперации,\"<\"&U$5)","v":0},{"$f":"Расходы[[#This Row],[Январь План]]-Расходы[[#This Row],[Январь Факт]]","v":-1100},null,{"$f":"-SUMIFS(СуммаОпераций,КатегорияОпераций,Расходы!$B26,ДатаОперации,\">=\"&U$5,ДатаОперации,\"<\"&X$5)","v":1100},{"$f":"Расходы[[#This Row],[Январь План]]-Расходы[[#This Row],[Январь Факт]]","v":-1100},null,{"$f":"-SUMIFS(СуммаОпераций,КатегорияОпераций,Расходы!$B26,ДатаОперации,\">=\"&X$5,ДатаОперации,\"<\"&AA$5)","v":0},{"$f":"Расходы[[#This Row],[Январь План]]-Расходы[[#This Row],[Январь Факт]]","v":-1100},null,{"$f":"-SUMIFS(СуммаОпераций,КатегорияОпераций,Расходы!$B26,ДатаОперации,\">=\"&AA$5,ДатаОперации,\"<\"&AD$5)","v":0},{"$f":"Расходы[[#This Row],[Январь План]]-Расходы[[#This Row],[Январь Факт]]","v":-1100},null,{"$f":"-SUMIFS(СуммаОпераций,КатегорияОпераций,Расходы!$B26,ДатаОперации,\">=\"&AD$5,ДатаОперации,\"<\"&AG$5)","v":1100},{"$f":"Расходы[[#This Row],[Январь План]]-Расходы[[#This Row],[Январь Факт]]","v":-1100},null,{"$f":"-SUMIFS(СуммаОпераций,КатегорияОпераций,Расходы!$B26,ДатаОперации,\">=\"&AG$5,ДатаОперации,\"<\"&AJ$5)","v":0},{"$f":"Расходы[[#This Row],[Январь План]]-Расходы[[#This Row],[Январь Факт]]","v":-1100},null,{"$f":"-SUMIFS(СуммаОпераций,КатегорияОпераций,Расходы!$B26,ДатаОперации,\">=\"&AJ$5,ДатаОперации,\"<\"&DATE($B$4,13,1))","v":0},{"$f":"Расходы[[#This Row],[Январь План]]-Расходы[[#This Row],[Январь Факт]]","v":-1100},0,4400,-4400]
[null,"Топливо",null,{"$f":"-SUMIFS(СуммаОпераций,КатегорияОпераций,Расходы!$B27,ДатаОперации,\">=\"&C$5,ДатаОперации,\"<\"&F$5)","v":0},{"$f":"Расходы[[#This Row],[Январь План]]-Расходы[[#This Row],[Январь Факт]]","v":0},null,{"$f":"-SUMIFS(СуммаОпераций,КатегорияОпераций,Расходы!$B27,ДатаОперации,\">=\"&F$5,ДатаОперации,\"<\"&I$5)","v":0},{"$f":"Расходы[[#This Row],[Январь План]]-Расходы[[#This Row],[Январь Факт]]","v":0},null,{"$f":"-SUMIFS(СуммаОпераций,КатегорияОпераций,Расходы!$B27,ДатаОперации,\">=\"&I$5,ДатаОперации,\"<\"&L$5)","v":0},{"$f":"Расходы[[#This Row],[Январь План]]-Расходы[[#This Row],[Январь Факт]]","v":0},null,{"$f":"-SUMIFS(СуммаОпераций,КатегорияОпераций,Расходы!$B27,ДатаОперации,\">=\"&L$5,ДатаОперации,\"<\"&O$5)","v":0},{"$f":"Расходы[[#This Row],[Январь План]]-Расходы[[#This Row],[Январь Факт]]","v":0},null,{"$f":"-SUMIFS(СуммаОпераций,КатегорияОпераций,Расходы!$B27,ДатаОперации,\">=\"&O$5,ДатаОперации,\"<\"&R$5)","v":0},{"$f":"Расходы[[#This Row],[Январь План]]-Расходы[[#This Row],[Январь Факт]]","v":0},null,{"$f":"-SUMIFS(СуммаОпераций,КатегорияОпераций,Расходы!$B27,ДатаОперации,\">=\"&R$5,ДатаОперации,\"<\"&U$5)","v":0},{"$f":"Расходы[[#This Row],[Январь План]]-Расходы[[#This Row],[Январь Факт]]","v":0},null,{"$f":"-SUMIFS(СуммаОпераций,КатегорияОпераций,Расходы!$B27,ДатаОперации,\">=\"&U$5,ДатаОперации,\"<\"&X$5)","v":0},{"$f":"Расходы[[#This Row],[Январь План]]-Расходы[[#This Row],[Январь Факт]]","v":0},null,{"$f":"-SUMIFS(СуммаОпераций,КатегорияОпераций,Расходы!$B27,ДатаОперации,\">=\"&X$5,ДатаОперации,\"<\"&AA$5)","v":0},{"$f":"Расходы[[#This Row],[Январь План]]-Расходы[[#This Row],[Январь Факт]]","v":0},null,{"$f":"-SUMIFS(СуммаОпераций,КатегорияОпераций,Расходы!$B27,ДатаОперации,\">=\"&AA$5,ДатаОперации,\"<\"&AD$5)","v":0},{"$f":"Расходы[[#This Row],[Январь План]]-Расходы[[#This Row],[Январь Факт]]","v":0},null,{"$f":"-SUMIFS(СуммаОпераций,КатегорияОпераций,Расходы!$B27,ДатаОперации,\">=\"&AD$5,ДатаОперации,\"<\"&AG$5)","v":0},{"$f":"Расходы[[#This Row],[Январь План]]-Расходы[[#This Row],[Январь Факт]]","v":0},null,{"$f":"-SUMIFS(СуммаОпераций,КатегорияОпераций,Расходы!$B27,ДатаОперации,\">=\"&AG$5,ДатаОперации,\"<\"&AJ$5)","v":0},{"$f":"Расходы[[#This Row],[Январь План]]-Расходы[[#This Row],[Январь Факт]]","v":0},null,{"$f":"-SUMIFS(СуммаОпераций,КатегорияОпераций,Расходы!$B27,ДатаОперации,\">=\"&AJ$5,ДатаОперации,\"<\"&DATE($B$4,13,1))","v":0},{"$f":"Расходы[[#This Row],[Январь План]]-Расходы[[#This Row],[Январь Факт]]","v":0},0,0,0]
[null,"Страхование",2550,{"$f":"-SUMIFS(СуммаОпераций,КатегорияОпераций,Расходы!$B28,ДатаОперации,\">=\"&C$5,ДатаОперации,\"<\"&F$5)","v":0},{"$f":"Расходы[[#This Row],[Январь План]]-Расходы[[#This Row],[Январь Факт]]","v":2550},2550,{"$f":"-SUMIFS(СуммаОпераций,КатегорияОпераций,Расходы!$B28,ДатаОперации,\">=\"&F$5,ДатаОперации,\"<\"&I$5)","v":0},{"$f":"Расходы[[#This Row],[Февраль План]]-Расходы[[#This Row],[Февраль Факт]]","v":2550},2550,{"$f":"-SUMIFS(СуммаОпераций,КатегорияОпераций,Расходы!$B28,ДатаОперации,\">=\"&I$5,ДатаОперации,\"<\"&L$5)","v":0},{"$f":"Расходы[[#This Row],[Март План]]-Расходы[[#This Row],[Март Факт]]","v":2550},2550,{"$f":"-SUMIFS(СуммаОпераций,КатегорияОпераций,Расходы!$B28,ДатаОперации,\">=\"&L$5,ДатаОперации,\"<\"&O$5)","v":0},{"$f":"Расходы[[#This Row],[Апрель План]]-Расходы[[#This Row],[Апрель Факт]]","v":2550},2550,{"$f":"-SUMIFS(СуммаОпераций,КатегорияОпераций,Расходы!$B28,ДатаОперации,\">=\"&O$5,ДатаОперации,\"<\"&R$5)","v":0},{"$f":"Расходы[[#This Row],[Май План]]-Расходы[[#This Row],[Май Факт]]","v":2550},2550,{"$f":"-SUMIFS(СуммаОпераций,КатегорияОпераций,Расходы!$B28,ДатаОперации,\">=\"&R$5,ДатаОперации,\"<\"&U$5)","v":0},{"$f":"Расходы[[#This Row],[Июнь План]]-Расходы[[#This Row],[Июнь Факт]]","v":2550},2550,{"$f":"-SUMIFS(СуммаОпераций,КатегорияОпераций,Расходы!$B28,ДатаОперации,\">=\"&U$5,ДатаОперации,\"<\"&X$5)","v":0},{"$f":"Расходы[[#This Row],[Июль План]]-Расходы[[#This Row],[Июль Факт]]","v":2550},2550,{"$f":"-SUMIFS(СуммаОпераций,КатегорияОпераций,Расходы!$B28,ДатаОперации,\">=\"&X$5,ДатаОперации,\"<\"&AA$5)","v":0},{"$f":"Расходы[[#This Row],[Август План]]-Расходы[[#This Row],[Август Факт]]","v":2550},2550,{"$f":"-SUMIFS(СуммаОпераций,КатегорияОпераций,Расходы!$B28,ДатаОперации,\">=\"&AA$5,ДатаОперации,\"<\"&AD$5)","v":0},{"$f":"Расходы[[#This Row],[Сентябрь План]]-Расходы[[#This Row],[Сентябрь Факт]]","v":2550},2550,{"$f":"-SUMIFS(СуммаОпераций,КатегорияОпераций,Расходы!$B28,ДатаОперации,\">=\"&AD$5,ДатаОперации,\"<\"&AG$5)","v":0},{"$f":"Расходы[[#This Row],[Октябрь План]]-Расходы[[#This Row],[Октябрь Факт]]","v":2550},2550,{"$f":"-SUMIFS(СуммаОпераций,КатегорияОпераций,Расходы!$B28,ДатаОперации,\">=\"&AG$5,ДатаОперации,\"<\"&AJ$5)","v":0},{"$f":"Расходы[[#This Row],[Ноябрь План]]-Расходы[[#This Row],[Ноябрь Факт]]","v":2550},2550,{"$f":"-SUMIFS(СуммаОпераций,КатегорияОпераций,Расходы!$B28,ДатаОперации,\">=\"&AJ$5,ДатаОперации,\"<\"&DATE($B$4,13,1))","v":0},{"$f":"Расходы[[#This Row],[Декабрь План]]-Расходы[[#This Row],[Декабрь Факт]]","v":2550},30600,0,30600]
[null,"Кредитные карты",1000,{"$f":"-SUMIFS(СуммаОпераций,КатегорияОпераций,Расходы!$B29,ДатаОперации,\">=\"&C$5,ДатаОперации,\"<\"&F$5)","v":0},{"$f":"Расходы[[#This Row],[Январь План]]-Расходы[[#This Row],[Январь Факт]]","v":1000},1000,{"$f":"-SUMIFS(СуммаОпераций,КатегорияОпераций,Расходы!$B29,ДатаОперации,\">=\"&F$5,ДатаОперации,\"<\"&I$5)","v":0},{"$f":"Расходы[[#This Row],[Февраль План]]-Расходы[[#This Row],[Февраль Факт]]","v":1000},1000,{"$f":"-SUMIFS(СуммаОпераций,КатегорияОпераций,Расходы!$B29,ДатаОперации,\">=\"&I$5,ДатаОперации,\"<\"&L$5)","v":0},{"$f":"Расходы[[#This Row],[Март План]]-Расходы[[#This Row],[Март Факт]]","v":1000},1000,{"$f":"-SUMIFS(СуммаОпераций,КатегорияОпераций,Расходы!$B29,ДатаОперации,\">=\"&L$5,ДатаОперации,\"<\"&O$5)","v":0},{"$f":"Расходы[[#This Row],[Апрель План]]-Расходы[[#This Row],[Апрель Факт]]","v":1000},1000,{"$f":"-SUMIFS(СуммаОпераций,КатегорияОпераций,Расходы!$B29,ДатаОперации,\">=\"&O$5,ДатаОперации,\"<\"&R$5)","v":0},{"$f":"Расходы[[#This Row],[Май План]]-Расходы[[#This Row],[Май Факт]]","v":1000},1000,{"$f":"-SUMIFS(СуммаОпераций,КатегорияОпераций,Расходы!$B29,ДатаОперации,\">=\"&R$5,ДатаОперации,\"<\"&U$5)","v":0},{"$f":"Расходы[[#This Row],[Июнь План]]-Расходы[[#This Row],[Июнь Факт]]","v":1000},1000,{"$f":"-SUMIFS(СуммаОпераций,КатегорияОпераций,Расходы!$B29,ДатаОперации,\">=\"&U$5,ДатаОперации,\"<\"&X$5)","v":0},{"$f":"Расходы[[#This Row],[Июль План]]-Расходы[[#This Row],[Июль Факт]]","v":1000},1000,{"$f":"-SUMIFS(СуммаОпераций,КатегорияОпераций,Расходы!$B29,ДатаОперации,\">=\"&X$5,ДатаОперации,\"<\"&AA$5)","v":0},{"$f":"Расходы[[#This Row],[Август План]]-Расходы[[#This Row],[Август Факт]]","v":1000},1000,{"$f":"-SUMIFS(СуммаОпераций,КатегорияОпераций,Расходы!$B29,ДатаОперации,\">=\"&AA$5,ДатаОперации,\"<\"&AD$5)","v":0},{"$f":"Расходы[[#This Row],[Сентябрь План]]-Расходы[[#This Row],[Сентябрь Факт]]","v":1000},1000,{"$f":"-SUMIFS(СуммаОпераций,КатегорияОпераций,Расходы!$B29,ДатаОперации,\">=\"&AD$5,ДатаОперации,\"<\"&AG$5)","v":0},{"$f":"Расходы[[#This Row],[Октябрь План]]-Расходы[[#This Row],[Октябрь Факт]]","v":1000},1000,{"$f":"-SUMIFS(СуммаОпераций,КатегорияОпераций,Расходы!$B29,ДатаОперации,\">=\"&AG$5,ДатаОперации,\"<\"&AJ$5)","v":0},{"$f":"Расходы[[#This Row],[Ноябрь План]]-Расходы[[#This Row],[Ноябрь Факт]]","v":1000},1000,{"$f":"-SUMIFS(СуммаОпераций,КатегорияОпераций,Расходы!$B29,ДатаОперации,\">=\"&AJ$5,ДатаОперации,\"<\"&DATE($B$4,13,1))","v":0},{"$f":"Расходы[[#This Row],[Декабрь План]]-Расходы[[#This Row],[Декабрь Факт]]","v":1000},12000,0,12000]
[null,"Выплата тела кредита",0,{"$f":"-SUMIFS(СуммаОпераций,КатегорияОпераций,Расходы!$B30,ДатаОперации,\">=\"&C$5,ДатаОперации,\"<\"&F$5)","v":0},{"$f":"Расходы[[#This Row],[Январь План]]-Расходы[[#This Row],[Январь Факт]]","v":0},0,{"$f":"-SUMIFS(СуммаОпераций,КатегорияОпераций,Расходы!$B30,ДатаОперации,\">=\"&F$5,ДатаОперации,\"<\"&I$5)","v":0},{"$f":"Расходы[[#This Row],[Февраль План]]-Расходы[[#This Row],[Февраль Факт]]","v":0},0,{"$f":"-SUMIFS(СуммаОпераций,КатегорияОпераций,Расходы!$B30,ДатаОперации,\">=\"&I$5,ДатаОперации,\"<\"&L$5)","v":0},{"$f":"Расходы[[#This Row],[Март План]]-Расходы[[#This Row],[Март Факт]]","v":0},0,{"$f":"-SUMIFS(СуммаОпераций,КатегорияОпераций,Расходы!$B30,ДатаОперации,\">=\"&L$5,ДатаОперации,\"<\"&O$5)","v":0},{"$f":"Расходы[[#This Row],[Апрель План]]-Расходы[[#This Row],[Апрель Факт]]","v":0},0,{"$f":"-SUMIFS(СуммаОпераций,КатегорияОпераций,Расходы!$B30,ДатаОперации,\">=\"&O$5,ДатаОперации,\"<\"&R$5)","v":0},{"$f":"Расходы[[#This Row],[Май План]]-Расходы[[#This Row],[Май Факт]]","v":0},0,{"$f":"-SUMIFS(СуммаОпераций,КатегорияОпераций,Расходы!$B30,ДатаОперации,\">=\"&R$5,ДатаОперации,\"<\"&U$5)","v":0},{"$f":"Расходы[[#This Row],[Июнь План]]-Расходы[[#This Row],[Июнь Факт]]","v":0},0,{"$f":"-SUMIFS(СуммаОпераций,КатегорияОпераций,Расходы!$B30,ДатаОперации,\">=\"&U$5,ДатаОперации,\"<\"&X$5)","v":0},{"$f":"Расходы[[#This Row],[Июль План]]-Расходы[[#This Row],[Июль Факт]]","v":0},0,{"$f":"-SUMIFS(СуммаОпераций,КатегорияОпераций,Расходы!$B30,ДатаОперации,\">=\"&X$5,ДатаОперации,\"<\"&AA$5)","v":0},{"$f":"Расходы[[#This Row],[Август План]]-Расходы[[#This Row],[Август Факт]]","v":0},0,{"$f":"-SUMIFS(СуммаОпераций,КатегорияОпераций,Расходы!$B30,ДатаОперации,\">=\"&AA$5,ДатаОперации,\"<\"&AD$5)","v":0},{"$f":"Расходы[[#This Row],[Сентябрь План]]-Расходы[[#This Row],[Сентябрь Факт]]","v":0},0,{"$f":"-SUMIFS(СуммаОпераций,КатегорияОпераций,Расходы!$B30,ДатаОперации,\">=\"&AD$5,ДатаОперации,\"<\"&AG$5)","v":0},{"$f":"Расходы[[#This Row],[Октябрь План]]-Расходы[[#This Row],[Октябрь Факт]]","v":0},0,{"$f":"-SUMIFS(СуммаОпераций,КатегорияОпераций,Расходы!$B30,ДатаОперации,\">=\"&AG$5,ДатаОперации,\"<\"&AJ$5)","v":0},{"$f":"Расходы[[#This Row],[Ноябрь План]]-Расходы[[#This Row],[Ноябрь Факт]]","v":0},0,{"$f":"-SUMIFS(СуммаОпераций,КатегорияОпераций,Расходы!$B30,ДатаОперации,\">=\"&AJ$5,ДатаОперации,\"<\"&DATE($B$4,13,1))","v":0},{"$f":"Расходы[[#This Row],[Декабрь План]]-Расходы[[#This Row],[Декабрь Факт]]","v":0},0,0,0]
[null,"% по кредитам",null,{"$f":"-SUMIFS(СуммаОпераций,КатегорияОпераций,Расходы!$B31,ДатаОперации,\">=\"&C$5,ДатаОперации,\"<\"&F$5)","v":0},{"$f":"Расходы[[#This Row],[Январь План]]-Расходы[[#This Row],[Январь Факт]]","v":0},null,{"$f":"-SUMIFS(СуммаОпераций,КатегорияОпераций,Расходы!$B31,ДатаОперации,\">=\"&F$5,ДатаОперации,\"<\"&I$5)","v":0},{"$f":"Расходы[[#This Row],[Февраль План]]-Расходы[[#This Row],[Февраль Факт]]","v":0},null,{"$f":"-SUMIFS(СуммаОпераций,КатегорияОпераций,Расходы!$B31,ДатаОперации,\">=\"&I$5,ДатаОперации,\"<\"&L$5)","v":0},{"$f":"Расходы[[#This Row],[Март План]]-Расходы[[#This Row],[Март Факт]]","v":0},null,{"$f":"-SUMIFS(СуммаОпераций,КатегорияОпераций,Расходы!$B31,ДатаОперации,\">=\"&L$5,ДатаОперации,\"<\"&O$5)","v":0},{"$f":"Расходы[[#This Row],[Апрель План]]-Расходы[[#This Row],[Апрель Факт]]","v":0},null,{"$f":"-SUMIFS(СуммаОпераций,КатегорияОпераций,Расходы!$B31,ДатаОперации,\">=\"&O$5,ДатаОперации,\"<\"&R$5)","v":0},{"$f":"Расходы[[#This Row],[Май План]]-Расходы[[#This Row],[Май Факт]]","v":0},null,{"$f":"-SUMIFS(СуммаОпераций,КатегорияОпераций,Расходы!$B31,ДатаОперации,\">=\"&R$5,ДатаОперации,\"<\"&U$5)","v":0},{"$f":"Расходы[[#This Row],[Июнь План]]-Расходы[[#This Row],[Июнь Факт]]","v":0},null,{"$f":"-SUMIFS(СуммаОпераций,КатегорияОпераций,Расходы!$B31,ДатаОперации,\">=\"&U$5,ДатаОперации,\"<\"&X$5)","v":0},{"$f":"Расходы[[#This Row],[Июль План]]-Расходы[[#This Row],[Июль Факт]]","v":0},null,{"$f":"-SUMIFS(СуммаОпераций,КатегорияОпераций,Расходы!$B31,ДатаОперации,\">=\"&X$5,ДатаОперации,\"<\"&AA$5)","v":0},{"$f":"Расходы[[#This Row],[Август План]]-Расходы[[#This Row],[Август Факт]]","v":0},null,{"$f":"-SUMIFS(СуммаОпераций,КатегорияОпераций,Расходы!$B31,ДатаОперации,\">=\"&AA$5,ДатаОперации,\"<\"&AD$5)","v":0},{"$f":"Расходы[[#This Row],[Сентябрь План]]-Расходы[[#This Row],[Сентябрь Факт]]","v":0},null,{"$f":"-SUMIFS(СуммаОпераций,КатегорияОпераций,Расходы!$B31,ДатаОперации,\">=\"&AD$5,ДатаОперации,\"<\"&AG$5)","v":0},{"$f":"Расходы[[#This Row],[Октябрь План]]-Расходы[[#This Row],[Октябрь Факт]]","v":0},null,{"$f":"-SUMIFS(СуммаОпераций,КатегорияОпераций,Расходы!$B31,ДатаОперации,\">=\"&AG$5,ДатаОперации,\"<\"&AJ$5)","v":0},{"$f":"Расходы[[#This Row],[Ноябрь План]]-Расходы[[#This Row],[Ноябрь Факт]]","v":0},null,{"$f":"-SUMIFS(СуммаОпераций,КатегорияОпераций,Расходы!$B31,ДатаОперации,\">=\"&AJ$5,ДатаОперации,\"<\"&DATE($B$4,13,1))","v":0},{"$f":"Расходы[[#This Row],[Декабрь План]]-Расходы[[#This Row],[Декабрь Факт]]","v":0},0,0,0]
[null,"Налоги",0,{"$f":"-SUMIFS(СуммаОпераций,КатегорияОпераций,Расходы!$B32,ДатаОперации,\">=\"&C$5,ДатаОперации,\"<\"&F$5)","v":0},{"$f":"Расходы[[#This Row],[Январь План]]-Расходы[[#This Row],[Январь Факт]]","v":0},0,{"$f":"-SUMIFS(СуммаОпераций,КатегорияОпераций,Расходы!$B32,ДатаОперации,\">=\"&F$5,ДатаОперации,\"<\"&I$5)","v":0},{"$f":"Расходы[[#This Row],[Февраль План]]-Расходы[[#This Row],[Февраль Факт]]","v":0},0,{"$f":"-SUMIFS(СуммаОпераций,КатегорияОпераций,Расходы!$B32,ДатаОперации,\">=\"&I$5,ДатаОперации,\"<\"&L$5)","v":0},{"$f":"Расходы[[#This Row],[Март План]]-Расходы[[#This Row],[Март Факт]]","v":0},0,{"$f":"-SUMIFS(СуммаОпераций,КатегорияОпераций,Расходы!$B32,ДатаОперации,\">=\"&L$5,ДатаОперации,\"<\"&O$5)","v":0},{"$f":"Расходы[[#This Row],[Апрель План]]-Расходы[[#This Row],[Апрель Факт]]","v":0},0,{"$f":"-SUMIFS(СуммаОпераций,КатегорияОпераций,Расходы!$B32,ДатаОперации,\">=\"&O$5,ДатаОперации,\"<\"&R$5)","v":0},{"$f":"Расходы[[#This Row],[Май План]]-Расходы[[#This Row],[Май Факт]]","v":0},0,{"$f":"-SUMIFS(СуммаОпераций,КатегорияОпераций,Расходы!$B32,ДатаОперации,\">=\"&R$5,ДатаОперации,\"<\"&U$5)","v":0},{"$f":"Расходы[[#This Row],[Июнь План]]-Расходы[[#This Row],[Июнь Факт]]","v":0},0,{"$f":"-SUMIFS(СуммаОпераций,КатегорияОпераций,Расходы!$B32,ДатаОперации,\">=\"&U$5,ДатаОперации,\"<\"&X$5)","v":0},{"$f":"Расходы[[#This Row],[Июль План]]-Расходы[[#This Row],[Июль Факт]]","v":0},0,{"$f":"-SUMIFS(СуммаОпераций,КатегорияОпераций,Расходы!$B32,ДатаОперации,\">=\"&X$5,ДатаОперации,\"<\"&AA$5)","v":0},{"$f":"Расходы[[#This Row],[Август План]]-Расходы[[#This Row],[Август Факт]]","v":0},0,{"$f":"-SUMIFS(СуммаОпераций,КатегорияОпераций,Расходы!$B32,ДатаОперации,\">=\"&AA$5,ДатаОперации,\"<\"&AD$5)","v":0},{"$f":"Расходы[[#This Row],[Сентябрь План]]-Расходы[[#This Row],[Сентябрь Факт]]","v":0},0,{"$f":"-SUMIFS(СуммаОпераций,КатегорияОпераций,Расходы!$B32,ДатаОперации,\">=\"&AD$5,ДатаОперации,\"<\"&AG$5)","v":0},{"$f":"Расходы[[#This Row],[Октябрь План]]-Расходы[[#This Row],[Октябрь Факт]]","v":0},0,{"$f":"-SUMIFS(СуммаОпераций,КатегорияОпераций,Расходы!$B32,ДатаОперации,\">=\"&AG$5,ДатаОперации,\"<\"&AJ$5)","v":0},{"$f":"Расходы[[#This Row],[Ноябрь План]]-Расходы[[#This Row],[Ноябрь Факт]]","v":0},0,{"$f":"-SUMIFS(СуммаОпераций,КатегорияОпераций,Расходы!$B32,ДатаОперации,\">=\"&AJ$5,ДатаОперации,\"<\"&DATE($B$4,13,1))","v":0},{"$f":"Расходы[[#This Row],[Декабрь План]]-Расходы[[#This Row],[Декабрь Факт]]","v":0},0,0,0]
[null,"Подарки, благотворительность",1500,{"$f":"-SUMIFS(СуммаОпераций,КатегорияОпераций,Расходы!$B33,ДатаОперации,\">=\"&C$5,ДатаОперации,\"<\"&F$5)","v":0},{"$f":"Расходы[[#This Row],[Январь План]]-Расходы[[#This Row],[Январь Факт]]","v":1500},1500,{"$f":"-SUMIFS(СуммаОпераций,КатегорияОпераций,Расходы!$B33,ДатаОперации,\">=\"&F$5,ДатаОперации,\"<\"&I$5)","v":0},{"$f":"Расходы[[#This Row],[Февраль План]]-Расходы[[#This Row],[Февраль Факт]]","v":1500},1500,{"$f":"-SUMIFS(СуммаОпераций,КатегорияОпераций,Расходы!$B33,ДатаОперации,\">=\"&I$5,ДатаОперации,\"<\"&L$5)","v":1690},{"$f":"Расходы[[#This Row],[Март План]]-Расходы[[#This Row],[Март Факт]]","v":-190},1500,{"$f":"-SUMIFS(СуммаОпераций,КатегорияОпераций,Расходы!$B33,ДатаОперации,\">=\"&L$5,ДатаОперации,\"<\"&O$5)","v":0},{"$f":"Расходы[[#This Row],[Апрель План]]-Расходы[[#This Row],[Апрель Факт]]","v":1500},1500,{"$f":"-SUMIFS(СуммаОпераций,КатегорияОпераций,Расходы!$B33,ДатаОперации,\">=\"&O$5,ДатаОперации,\"<\"&R$5)","v":0},{"$f":"Расходы[[#This Row],[Май План]]-Расходы[[#This Row],[Май Факт]]","v":1500},1500,{"$f":"-SUMIFS(СуммаОпераций,КатегорияОпераций,Расходы!$B33,ДатаОперации,\">=\"&R$5,ДатаОперации,\"<\"&U$5)","v":1690},{"$f":"Расходы[[#This Row],[Июнь План]]-Расходы[[#This Row],[Июнь Факт]]","v":-190},1500,{"$f":"-SUMIFS(СуммаОпераций,КатегорияОпераций,Расходы!$B33,ДатаОперации,\">=\"&U$5,ДатаОперации,\"<\"&X$5)","v":0},{"$f":"Расходы[[#This Row],[Июль План]]-Расходы[[#This Row],[Июль Факт]]","v":1500},1500,{"$f":"-SUMIFS(СуммаОпераций,КатегорияОпераций,Расходы!$B33,ДатаОперации,\">=\"&X$5,ДатаОперации,\"<\"&AA$5)","v":0},{"$f":"Расходы[[#This Row],[Август План]]-Расходы[[#This Row],[Август Факт]]","v":1500},1500,{"$f":"-SUMIFS(СуммаОпераций,КатегорияОпераций,Расходы!$B33,ДатаОперации,\">=\"&AA$5,ДатаОперации,\"<\"&AD$5)","v":1690},{"$f":"Расходы[[#This Row],[Сентябрь План]]-Расходы[[#This Row],[Сентябрь Факт]]","v":-190},1500,{"$f":"-SUMIFS(СуммаОпераций,КатегорияОпераций,Расходы!$B33,ДатаОперации,\">=\"&AD$5,ДатаОперации,\"<\"&AG$5)","v":0},{"$f":"Расходы[[#This Row],[Октябрь План]]-Расходы[[#This Row],[Октябрь Факт]]","v":1500},1500,{"$f":"-SUMIFS(СуммаОпераций,КатегорияОпераций,Расходы!$B33,ДатаОперации,\">=\"&AG$5,ДатаОперации,\"<\"&AJ$5)","v":0},{"$f":"Расходы[[#This Row],[Ноябрь План]]-Расходы[[#This Row],[Ноябрь Факт]]","v":1500},1500,{"$f":"-SUMIFS(СуммаОпераций,КатегорияОпераций,Расходы!$B33,ДатаОперации,\">=\"&AJ$5,ДатаОперации,\"<\"&DATE($B$4,13,1))","v":1690},{"$f":"Расходы[[#This Row],[Декабрь План]]-Расходы[[#This Row],[Декабрь Факт]]","v":-190},18000,6760,11240]
[null,"Сбережения",2250,{"$f":"-SUMIFS(СуммаОпераций,КатегорияОпераций,Расходы!$B34,ДатаОперации,\">=\"&C$5,ДатаОперации,\"<\"&F$5)","v":0},{"$f":"Расходы[[#This Row],[Январь План]]-Расходы[[#This Row],[Январь Факт]]","v":2250},2250,{"$f":"-SUMIFS(СуммаОпераций,КатегорияОпераций,Расходы!$B34,ДатаОперации,\">=\"&F$5,ДатаОперации,\"<\"&I$5)","v":0},{"$f":"Расходы[[#This Row],[Февраль План]]-Расходы[[#This Row],[Февраль Факт]]","v":2250},2250,{"$f":"-SUMIFS(СуммаОпераций,КатегорияОпераций,Расходы!$B34,ДатаОперации,\">=\"&I$5,ДатаОперации,\"<\"&L$5)","v":0},{"$f":"Расходы[[#This Row],[Март План]]-Расходы[[#This Row],[Март Факт]]","v":2250},2250,{"$f":"-SUMIFS(СуммаОпераций,КатегорияОпераций,Расходы!$B34,ДатаОперации,\">=\"&L$5,ДатаОперации,\"<\"&O$5)","v":0},{"$f":"Расходы[[#This Row],[Апрель План]]-Расходы[[#This Row],[Апрель Факт]]","v":2250},2250,{"$f":"-SUMIFS(СуммаОпераций,КатегорияОпераций,Расходы!$B34,ДатаОперации,\">=\"&O$5,ДатаОперации,\"<\"&R$5)","v":0},{"$f":"Расходы[[#This Row],[Май План]]-Расходы[[#This Row],[Май Факт]]","v":2250},2250,{"$f":"-SUMIFS(СуммаОпераций,КатегорияОпераций,Расходы!$B34,ДатаОперации,\">=\"&R$5,ДатаОперации,\"<\"&U$5)","v":0},{"$f":"Расходы[[#This Row],[Июнь План]]-Расходы[[#This Row],[Июнь Факт]]","v":2250},2250,{"$f":"-SUMIFS(СуммаОпераций,КатегорияОпераций,Расходы!$B34,ДатаОперации,\">=\"&U$5,ДатаОперации,\"<\"&X$5)","v":0},{"$f":"Расходы[[#This Row],[Июль План]]-Расходы[[#This Row],[Июль Факт]]","v":2250},2250,{"$f":"-SUMIFS(СуммаОпераций,КатегорияОпераций,Расходы!$B34,ДатаОперации,\">=\"&X$5,ДатаОперации,\"<\"&AA$5)","v":0},{"$f":"Расходы[[#This Row],[Август План]]-Расходы[[#This Row],[Август Факт]]","v":2250},2250,{"$f":"-SUMIFS(СуммаОпераций,КатегорияОпераций,Расходы!$B34,ДатаОперации,\">=\"&AA$5,ДатаОперации,\"<\"&AD$5)","v":0},{"$f":"Расходы[[#This Row],[Сентябрь План]]-Расходы[[#This Row],[Сентябрь Факт]]","v":2250},2250,{"$f":"-SUMIFS(СуммаОпераций,КатегорияОпераций,Расходы!$B34,ДатаОперации,\">=\"&AD$5,ДатаОперации,\"<\"&AG$5)","v":0},{"$f":"Расходы[[#This Row],[Октябрь План]]-Расходы[[#This Row],[Октябрь Факт]]","v":2250},2250,{"$f":"-SUMIFS(СуммаОпераций,КатегорияОпераций,Расходы!$B34,ДатаОперации,\">=\"&AG$5,ДатаОперации,\"<\"&AJ$5)","v":0},{"$f":"Расходы[[#This Row],[Ноябрь План]]-Расходы[[#This Row],[Ноябрь Факт]]","v":2250},2250,{"$f":"-SUMIFS(СуммаОпераций,КатегорияОпераций,Расходы!$B34,ДатаОперации,\">=\"&AJ$5,ДатаОперации,\"<\"&DATE($B$4,13,1))","v":0},{"$f":"Расходы[[#This Row],[Декабрь План]]-Расходы[[#This Row],[Декабрь Факт]]","v":2250},27000,0,27000]
[null,"Другое",0,{"$f":"-SUMIFS(СуммаОпераций,КатегорияОпераций,Расходы!$B35,ДатаОперации,\">=\"&C$5,ДатаОперации,\"<\"&F$5)","v":2054.09},{"$f":"Расходы[[#This Row],[Январь План]]-Расходы[[#This Row],[Январь Факт]]","v":-2054.09},0,{"$f":"-SUMIFS(СуммаОпераций,КатегорияОпераций,Расходы!$B35,ДатаОперации,\">=\"&F$5,ДатаОперации,\"<\"&I$5)","v":2805.04},{"$f":"Расходы[[#This Row],[Февраль План]]-Расходы[[#This Row],[Февраль Факт]]","v":-2805.04},0,{"$f":"-SUMIFS(СуммаОпераций,КатегорияОпераций,Расходы!$B35,ДатаОперации,\">=\"&I$5,ДатаОперации,\"<\"&L$5)","v":1778},{"$f":"Расходы[[#This Row],[Март План]]-Расходы[[#This Row],[Март Факт]]","v":-1778},0,{"$f":"-SUMIFS(СуммаОпераций,КатегорияОпераций,Расходы!$B35,ДатаОперации,\">=\"&L$5,ДатаОперации,\"<\"&O$5)","v":2054.09},{"$f":"Расходы[[#This Row],[Апрель План]]-Расходы[[#This Row],[Апрель Факт]]","v":-2054.09},0,{"$f":"-SUMIFS(СуммаОпераций,КатегорияОпераций,Расходы!$B35,ДатаОперации,\">=\"&O$5,ДатаОперации,\"<\"&R$5)","v":2805.04},{"$f":"Расходы[[#This Row],[Май План]]-Расходы[[#This Row],[Май Факт]]","v":-2805.04},0,{"$f":"-SUMIFS(СуммаОпераций,КатегорияОпераций,Расходы!$B35,ДатаОперации,\">=\"&R$5,ДатаОперации,\"<\"&U$5)","v":1778},{"$f":"Расходы[[#This Row],[Июнь План]]-Расходы[[#This Row],[Июнь Факт]]","v":-1778},0,{"$f":"-SUMIFS(СуммаОпераций,КатегорияОпераций,Расходы!$B35,ДатаОперации,\">=\"&U$5,ДатаОперации,\"<\"&X$5)","v":2054.09},{"$f":"Расходы[[#This Row],[Июль План]]-Расходы[[#This Row],[Июль Факт]]","v":-2054.09},0,{"$f":"-SUMIFS(СуммаОпераций,КатегорияОпераций,Расходы!$B35,ДатаОперации,\">=\"&X$5,ДатаОперации,\"<\"&AA$5)","v":2805.04},{"$f":"Расходы[[#This Row],[Август План]]-Расходы[[#This Row],[Август Факт]]","v":-2805.04},0,{"$f":"-SUMIFS(СуммаОпераций,КатегорияОпераций,Расходы!$B35,ДатаОперации,\">=\"&AA$5,ДатаОперации,\"<\"&AD$5)","v":1778},{"$f":"Расходы[[#This Row],[Сентябрь План]]-Расходы[[#This Row],[Сентябрь Факт]]","v":-1778},0,{"$f":"-SUMIFS(СуммаОпераций,КатегорияОпераций,Расходы!$B35,ДатаОперации,\">=\"&AD$5,ДатаОперации,\"<\"&AG$5)","v":2054.09},{"$f":"Расходы[[#This Row],[Октябрь План]]-Расходы[[#This Row],[Октябрь Факт]]","v":-2054.09},0,{"$f":"-SUMIFS(СуммаОпераций,КатегорияОпераций,Расходы!$B35,ДатаОперации,\">=\"&AG$5,ДатаОперации,\"<\"&AJ$5)","v":2805.04},{"$f":"Расходы[[#This Row],[Ноябрь План]]-Расходы[[#This Row],[Ноябрь Факт]]","v":-2805.04},0,{"$f":"-SUMIFS(СуммаОпераций,КатегорияОпераций,Расходы!$B35,ДатаОперации,\">=\"&AJ$5,ДатаОперации,\"<\"&DATE($B$4,13,1))","v":1778},{"$f":"Расходы[[#This Row],[Декабрь План]]-Расходы[[#This Row],[Декабрь Факт]]","v":-1778},0,26548.520000000004,-26548.520000000004]
[null,"Итого",{"$f":"SUBTOTAL(109,Расходы[Январь План])","v":34730},{"$f":"SUBTOTAL(109,Расходы[Январь Факт])","v":64809.440000000002},{"$f":"SUBTOTAL(109,Расходы[Январь Разница])","v":-30079.439999999999},{"$f":"SUBTOTAL(109,Расходы[Февраль План])","v":34730},{"$f":"SUBTOTAL(109,Расходы[Февраль Факт])","v":66968.53},{"$f":"SUBTOTAL(109,Расходы[Февраль Разница])","v":-35106.950000000004},{"$f":"SUBTOTAL(109,Расходы[Март План])","v":34730},{"$f":"SUBTOTAL(109,Расходы[Март Факт])","v":166924.73000000001},{"$f":"SUBTOTAL(109,Расходы[Март Разница])","v":-41580.080000000002},{"$f":"SUBTOTAL(109,Расходы[Апрель План])","v":34730},{"$f":"SUBTOTAL(109,Расходы[Апрель Факт])","v":64809.440000000002},{"$f":"SUBTOTAL(109,Расходы[Апрель Разница])","v":-30079.439999999999},{"$f":"SUBTOTAL(109,Расходы[Май План])","v":34730},{"$f":"SUBTOTAL(109,Расходы[Май Факт])","v":66968.53},{"$f":"SUBTOTAL(109,Расходы[Май Разница])","v":-35106.950000000004},{"$f":"SUBTOTAL(109,Расходы[Июнь План])","v":34730},{"$f":"SUBTOTAL(109,Расходы[Июнь Факт])","v":166924.73000000001},{"$f":"SUBTOTAL(109,Расходы[Июнь Разница])","v":-41580.080000000002},{"$f":"SUBTOTAL(109,Расходы[Июль План])","v":34730},{"$f":"SUBTOTAL(109,Расходы[Июль Факт])","v":64809.440000000002},{"$f":"SUBTOTAL(109,Расходы[Июль Разница])","v":-30079.439999999999},{"$f":"SUBTOTAL(109,Расходы[Август План])","v":34730},{"$f":"SUBTOTAL(109,Расходы[Август Факт])","v":66968.53},{"$f":"SUBTOTAL(109,Расходы[Август Разница])","v":-35106.950000000004},{"$f":"SUBTOTAL(109,Расходы[Сентябрь План])","v":34730},{"$f":"SUBTOTAL(109,Расходы[Сентябрь Факт])","v":166924.73000000001},{"$f":"SUBTOTAL(109,Расходы[Сентябрь Разница])","v":-41580.080000000002},{"$f":"SUBTOTAL(109,Расходы[Октябрь План])","v":34730},{"$f":"SUBTOTAL(109,Расходы[Октябрь Факт])","v":64809.440000000002},{"$f":"SUBTOTAL(109,Расходы[Октябрь Разница])","v":-30079.439999999999},{"$f":"SUBTOTAL(109,Расходы[Ноябрь План])","v":34730},{"$f":"SUBTOTAL(109,Расходы[Ноябрь Факт])","v":66968.53},{"$f":"SUBTOTAL(109,Расходы[Ноябрь Разница])","v":-35106.950000000004},{"$f":"SUBTOTAL(109,Расходы[Декабрь План])","v":34730},{"$f":"SUBTOTAL(109,Расходы[Декабрь Факт])","v":166924.73000000001},{"$f":"SUBTOTAL(109,Расходы[Декабрь Разница])","v":-41580.080000000002},{"$f":"SUBTOTAL(109,AM7:AM35)","v":416760},{"$f":"SUBTOTAL(109,AN7:AN35)","v":1194810.7999999998},{"$f":"AM36-AN36","v":-778050.79999999981}]
[]
[]
[]
[]
[]
[]
[]
[]
[]
[]
[]
[]
[]
[]
[]
[]
[]
[]
[]
[]
[]
[null,"Выберете месяц:"]
[null,"Сентябрь"]

{"sheet":"Баланс","index":4,"n_rows":44,"n_cols":15,"rows_kept":44,"cut":false,"hidden":false,"merged":[]}
[null,{"$f":"Имя","v":"Михаил"}]
[null,{"$f":"BudgetTitle","v":"Личный бюджет"}]
[]
[null,{"$f":"Год","v":2020}]
[null,"Баланс","Декабрь","Январь","Февраль","Март","Апрель","Май","Июнь","Июль","Август","Сентябрь","Октябрь","Ноябрь","Декабрь"]
[null,null,"Факт","Факт","Факт","Факт","Факт","Факт","Факт","Факт","Факт","Факт","Факт","Факт","Факт"]
[null,"Квартира",8000000,8000000,8000000,8000000,8000000,8000000,8000000,8000000,8000000,8000000,8000000,8000000,8000000]
[null,"Автомобиль",1200000,1200000,1200000,1200000,1200000,1200000,1200000,1200000,1200000,1200000,1200000,1200000,1200000]
[null,"Иное имущество",250000,250000,250000,250000,250000,250000,250000,250000,250000,250000,250000,250000,250000]
[null,"Итого основные активы",{"$f":"SUBTOTAL(109,Основные_активы[Факт Декабрь])","v":9450000},{"$f":"SUBTOTAL(109,Основные_активы[Факт Январь])","v":9450000},{"$f":"SUBTOTAL(109,Основные_активы[Факт Февраль])","v":9450000},{"$f":"SUBTOTAL(109,Основные_активы[Факт Март])","v":9450000},{"$f":"SUBTOTAL(109,Основные_активы[Факт Апрель])","v":9450000},{"$f":"SUBTOTAL(109,Основные_активы[Факт Май])","v":9450000},{"$f":"SUBTOTAL(109,Основные_активы[Факт Июнь])","v":9450000},{"$f":"SUBTOTAL(109,Основные_активы[Факт Июль])","v":9450000},{"$f":"SUBTOTAL(109,Основные_активы[Факт Август])","v":9450000},{"$f":"SUBTOTAL(109,Основные_активы[Факт Сентябрь])","v":9450000},{"$f":"SUBTOTAL(109,Основные_активы[Факт Октябрь])","v":9450000},{"$f":"SUBTOTAL(109,Основные_активы[Факт Ноябрь])","v":9450000},{"$f":"SUBTOTAL(109,Основные_активы[Факт Декабрь2])","v":9450000}]
[]
[null,"Остатки на счетах",20000,{"$f":"C12+'Движение денежных средств'!$D$11*0.4","v":29343.039999999997},{"$f":"D12+'Движение денежных средств'!$G$11*0.4","v":39357.504000000001},{"$f":"E12+'Движение денежных средств'!$J$11*0.4","v":9621.1319999999978},{"$f":"F12+'Движение денежных средств'!$M$11*0.4","v":18964.171999999995},{"$f":"G12+'Движение денежных средств'!$P$11*0.4","v":28978.635999999999},{"$f":"H12+'Движение денежных средств'!$S$11*0.3","v":6676.3569999999963},{"$f":"I12+'Движение денежных средств'!$V$11*0.4","v":16019.396999999994},{"$f":"J12+'Движение денежных средств'!$Y$11*0.4","v":26033.860999999997},{"$f":"K12+'Движение денежных средств'!$AB$11*0.2","v":11165.674999999996},{"$f":"L12+'Движение денежных средств'!$AE$11*0.4","v":20508.714999999993},{"$f":"M12+'Движение денежных средств'!$AH$11*0.4","v":30523.178999999996},{"$f":"N12+'Движение денежных средств'!$AK$11*0.4","v":786.80699999999342}]
[null,"Финансовые вложения",100000,{"$f":"C13+'Движение денежных средств'!$D$11*0.4","v":109343.03999999999},{"$f":"D13+'Движение денежных средств'!$G$11*0.4","v":119357.504},{"$f":"E13+'Движение денежных средств'!$J$11*0.5","v":82187.03899999999},{"$f":"F13+'Движение денежных средств'!$M$11*0.4","v":91530.078999999983},{"$f":"G13+'Движение денежных средств'!$P$11*0.4","v":101544.54299999999},{"$f":"H13+'Движение денежных средств'!$S$11*0.6","v":56939.984999999986},{"$f":"I13+'Движение денежных средств'!$V$11*0.4","v":66283.02499999998},{"$f":"J13+'Движение денежных средств'!$Y$11*0.4","v":76297.488999999987},{"$f":"K13+'Движение денежных средств'!$AB$11*0.7","v":24258.837999999982},{"$f":"L13+'Движение денежных средств'!$AE$11*0.4","v":33601.877999999982},{"$f":"M13+'Движение денежных средств'!$AH$11*0.4","v":43616.341999999982},{"$f":"N13+'Движение денежных средств'!$AK$11*0.5","v":6445.8769999999786}]
[null,"Наличные ",20000,{"$f":"C14+'Движение денежных средств'!$D$11*0.1","v":22335.759999999998},{"$f":"D14+'Движение денежных средств'!$G$11*0.1","v":24839.376},{"$f":"E14+'Движение денежных средств'!$J$11*0.1","v":17405.282999999999},{"$f":"F14+'Движение денежных средств'!$M$11*0.1","v":19741.042999999998},{"$f":"G14+'Движение денежных средств'!$P$11*0.1","v":22244.659},{"$f":"H14+'Движение денежных средств'!$S$11*0.1","v":14810.565999999999},{"$f":"I14+'Движение денежных средств'!$V$11*0.1","v":17146.325999999997},{"$f":"J14+'Движение денежных средств'!$Y$11*0.1","v":19649.941999999999},{"$f":"K14+'Движение денежных средств'!$AB$11*0.1","v":12215.848999999998},{"$f":"L14+'Движение денежных средств'!$AE$11*0.1","v":14551.608999999997},{"$f":"M14+'Движение денежных средств'!$AH$11*0.1","v":17055.224999999999},{"$f":"N14+'Движение денежных средств'!$AK$11*0.1","v":9621.1319999999978}]
[null,"Итого оборотные активы",{"$f":"SUBTOTAL(109,Оборотные_активы[Факт Декабрь])","v":140000},{"$f":"SUBTOTAL(109,Оборотные_активы[Факт Январь])","v":161021.84},{"$f":"SUBTOTAL(109,Оборотные_активы[Факт Февраль])","v":183554.38399999999},{"$f":"SUBTOTAL(109,Оборотные_активы[Факт Март])","v":109213.45399999998},{"$f":"SUBTOTAL(109,Оборотные_активы[Факт Апрель])","v":130235.29399999997},{"$f":"SUBTOTAL(109,Оборотные_активы[Факт Май])","v":152767.83799999999},{"$f":"SUBTOTAL(109,Оборотные_активы[Факт Июнь])","v":78426.907999999981},{"$f":"SUBTOTAL(109,Оборотные_активы[Факт Июль])","v":99448.747999999978},{"$f":"SUBTOTAL(109,Оборотные_активы[Факт Август])","v":121981.29199999997},{"$f":"SUBTOTAL(109,Оборотные_активы[Факт Сентябрь])","v":47640.361999999979},{"$f":"SUBTOTAL(109,Оборотные_активы[Факт Октябрь])","v":68662.201999999976},{"$f":"SUBTOTAL(109,Оборотные_активы[Факт Ноябрь])","v":91194.745999999985},{"$f":"SUBTOTAL(109,Оборотные_активы[Факт Декабрь2])","v":16853.81599999997}]
[null,"Итого активы",{"$f":"Оборотные_активы[[#Totals],[Факт Декабрь]]+Основные_активы[[#Totals],[Факт Декабрь]]","v":9590000},{"$f":"Оборотные_активы[[#Totals],[Факт Январь]]+Основные_активы[[#Totals],[Факт Январь]]","v":9611021.8399999999},{"$f":"Оборотные_активы[[#Totals],[Факт Февраль]]+Основные_активы[[#Totals],[Факт Февраль]]","v":9633554.3839999996},{"$f":"Оборотные_активы[[#Totals],[Факт Март]]+Основные_активы[[#Totals],[Факт Март]]","v":9559213.4539999999},{"$f":"Оборотные_активы[[#Totals],[Факт Апрель]]+Основные_активы[[#Totals],[Факт Апрель]]","v":9580235.2939999998},{"$f":"Оборотные_активы[[#Totals],[Факт Май]]+Основные_активы[[#Totals],[Факт Май]]","v":9602767.8379999995},{"$f":"Оборотные_активы[[#Totals],[Факт Июнь]]+Основные_активы[[#Totals],[Факт Июнь]]","v":9528426.9079999998},{"$f":"Оборотные_активы[[#Totals],[Факт Июль]]+Основные_активы[[#Totals],[Факт Июль]]","v":9549448.7479999997},{"$f":"Оборотные_активы[[#Totals],[Факт Август]]+Основные_активы[[#Totals],[Факт Август]]","v":9571981.2919999994},{"$f":"Оборотные_активы[[#Totals],[Факт Сентябрь]]+Основные_активы[[#Totals],[Факт Сентябрь]]","v":9497640.3619999997},{"$f":"Оборотные_активы[[#Totals],[Факт Октябрь]]+Основные_активы[[#Totals],[Факт Октябрь]]","v":9518662.2019999996},{"$f":"Оборотные_активы[[#Totals],[Факт Ноябрь]]+Основные_активы[[#Totals],[Факт Ноябрь]]","v":9541194.7459999993},{"$f":"Оборотные_активы[[#Totals],[Факт Декабрь2]]+Основные_активы[[#Totals],[Факт Декабрь2]]","v":9466853.8159999996}]
[]
[null,"Собственный капитал",{"$f":"C16-C19-C20","v":6290000},{"$f":"D16-D19-D20","v":6313357.5999999996},{"$f":"E16-E19-E20","v":6338393.7599999998},6264052.8300000001,{"$f":"G16-G19-G20","v":6287410.4299999997},6312446.5899999999,6238105.6600000001,6261463.2599999998,6286499.4199999999,6212158.4900000002,6235516.0899999999,6260552.25,6186211.3200000003]
[null,"Краткосрочные кредиты",{"$f":"C25","v":300000},{"$f":"D25","v":297664.24},{"$f":"E25","v":295160.62400000001},295160.62400000001,{"$f":"G25","v":292824.864},290321.24800000002,{"$f":"I25","v":290321.24800000002},287985.48800000001,{"$f":"K25","v":285481.87200000003},285481.87200000003,283146.11200000002,280642.49600000004,280642.49600000004]
[null,"Долгосрочные кредиты",{"$f":"C30","v":3000000},{"$f":"D30","v":3000000},{"$f":"E30","v":3000000},3000000,{"$f":"G30","v":3000000},3000000,3000000,3000000,3000000,3000000,3000000,3000000,3000000]
[null,"Итого пассивы",{"$f":"SUM(C18:C20)","v":9590000},{"$f":"SUM(D18:D20)","v":9611021.8399999999},{"$f":"SUM(E18:E20)","v":9633554.3839999996},9559213.4539999999,9580235.2939999998,9602767.8379999995,9528426.9079999998,9549448.7479999997,9571981.2919999994,9497640.3619999997,9518662.2019999996,9541194.7459999993,9466853.8159999996]
[]
[]
[null,"Кредиты и займы"]
[null,"Остаток по краткосрочным кредитам",300000,{"$f":"C25-'Движение денежных средств'!$D$11*0.1","v":297664.24},{"$f":"D25-'Движение денежных средств'!$G$11*0.1","v":295160.62400000001},{"$f":"E25","v":295160.62400000001},{"$f":"F25-'Движение денежных средств'!$M$11*0.1","v":292824.864},{"$f":"G25-'Движение денежных средств'!$P$11*0.1","v":290321.24800000002},{"$f":"H25","v":290321.24800000002},{"$f":"I25-'Движение денежных средств'!$V$11*0.1","v":287985.48800000001},{"$f":"J25-'Движение денежных средств'!$Y$11*0.1","v":285481.87200000003},285481.87200000003,{"$f":"L25-'Движение денежных средств'!$AE$11*0.1","v":283146.11200000002},{"$f":"M25-'Движение денежных средств'!$AH$11*0.1","v":280642.49600000004},280642.49600000004]
[null,"Ежемесячные выплаты по кредитам",{"$f":"C28","v":5000},{"$f":"D28","v":4961.0706666666665},4919.3437333333341,{"$f":"F28","v":4919.3437333333341},4880.4144000000006,4838.6874666666672,4838.6874666666672,4799.7581333333337,4758.0312000000004,4758.0312000000004,4719.1018666666669,4677.3749333333344,4677.3749333333344]
[null,"Ставка % (в месяц) по краткосрочным кредитам",0.2,0.2,0.2,0.2,0.2,0.2,0.2,0.2,0.2,0.2,0.2,0.2,0.2]
[null,"Расчет процентов по краткосрочным кредитам",{"$f":"C25*C27/12","v":5000},{"$f":"D25*D27/12","v":4961.0706666666665},{"$f":"E25*E27/12","v":4919.3437333333341},{"$f":"F25*F27/12","v":4919.3437333333341},{"$f":"G25*G27/12","v":4880.4144000000006},4838.6874666666672,4838.6874666666672,{"$f":"J25*J27/12","v":4799.7581333333337},4758.0312000000004,{"$f":"L25*L27/12","v":4758.0312000000004},{"$f":"M25*M27/12","v":4719.1018666666669},4677.3749333333344,4677.3749333333344]
[]
[null,"Остаток по долгосрочным кредитам",3000000,{"$f":"C30","v":3000000},{"$f":"D30","v":3000000},3000000,3000000,3000000,3000000,3000000,3000000,3000000,3000000,3000000,3000000]
[null,"Ежемесячные выплаты по кредитам",{"$f":"C33","v":30000},{"$f":"D33","v":30000},30000,{"$f":"F33","v":30000},30000,30000,30000,30000,30000,30000,30000,30000,30000]
[null,"Ставка % (в месяц) по долгосрочным кредитам",0.12,0.12,0.12,0.12,0.12,0.12,0.12,0.12,0.12,0.12,0.12,0.12,0.12]
[null,"Расчет процентов по долгосрочным кредитам",{"$f":"C30*C32/12","v":30000},{"$f":"D30*D32/12","v":30000},30000,30000,{"$f":"G30*G32/12","v":30000},30000,30000,30000,30000,30000,30000,30000,30000]
[]
[]
[null,"Финансовые вложения"]
[null,"Депозит 1",{"$f":"C13","v":100000},{"$f":"D13","v":109343.03999999999},119357.504,82187.03899999999,91530.078999999983,101544.54299999999,56939.984999999986,66283.02499999998,76297.488999999987,24258.837999999982,33601.877999999982,43616.341999999982,6445.8769999999786]
[null,"Ставка, % в месяц",7.0000000000000007E-2,7.0000000000000007E-2,7.0000000000000007E-2,7.0000000000000007E-2,7.0000000000000007E-2,7.0000000000000007E-2,7.0000000000000007E-2,7.0000000000000007E-2,7.0000000000000007E-2,7.0000000000000007E-2,7.0000000000000007E-2,7.0000000000000007E-2,7.0000000000000007E-2]
[null,"Доходы от вложений",{"$f":"C37*C38/12","v":583.33333333333337},{"$f":"D37*D38/12","v":637.83440000000007},696.2521066666668,479.42439416666662,533.92546083333332,592.34316750000005,332.14991249999997,386.65097916666656,445.06868583333329,141.50988833333324,196.01095499999994,254.42866166666659,37.600949166666545]
[]
[]
[null,"Доходность основных активов"]
[null,"Чистый финансовый результат, руб.",null,{"$f":"'Движение денежных средств'!D11","v":23357.599999999991},{"$f":"'Движение денежных средств'!G11","v":25036.160000000003},{"$f":"'Движение денежных средств'!J11","v":-74340.930000000008},{"$f":"'Движение денежных средств'!M11","v":23357.599999999991},{"$f":"'Движение денежных средств'!P11","v":25036.160000000003},{"$f":"'Движение денежных средств'!S11","v":-74340.930000000008},{"$f":"'Движение денежных средств'!V11","v":23357.599999999991},{"$f":"'Движение денежных средств'!Y11","v":25036.160000000003},{"$f":"'Движение денежных средств'!AB11","v":-74340.930000000008},{"$f":"'Движение денежных средств'!AE11","v":23357.599999999991},{"$f":"'Движение денежных средств'!AH11","v":25036.160000000003},{"$f":"'Движение денежных средств'!AK11","v":-74340.930000000008}]
[null,"Доходность основных активов, % годовых",null,{"$f":"D43/Основные_активы[[#Totals],[Факт Январь]]*12","v":2.9660444444444434E-2},{"$f":"E43/Основные_активы[[#Totals],[Факт Январь]]*12","v":3.1791949206349208E-2},{"$f":"F43/Основные_активы[[#Totals],[Факт Январь]]*12","v":-9.4401180952380953E-2},{"$f":"G43/Основные_активы[[#Totals],[Факт Январь]]*12","v":2.9660444444444434E-2},{"$f":"H43/Основные_активы[[#Totals],[Факт Январь]]*12","v":3.1791949206349208E-2},{"$f":"I43/Основные_активы[[#Totals],[Факт Январь]]*12","v":-9.4401180952380953E-2},{"$f":"J43/Основные_активы[[#Totals],[Факт Январь]]*12","v":2.9660444444444434E-2},{"$f":"K43/Основные_активы[[#Totals],[Факт Январь]]*12","v":3.1791949206349208E-2},{"$f":"L43/Основные_активы[[#Totals],[Факт Январь]]*12","v":-9.4401180952380953E-2},{"$f":"M43/Основные_активы[[#Totals],[Факт Январь]]*12","v":2.9660444444444434E-2},{"$f":"N43/Основные_активы[[#Totals],[Факт Январь]]*12","v":3.1791949206349208E-2},{"$f":"O43/Основные_активы[[#Totals],[Факт Январь]]*12","v":-9.4401180952380953E-2}]

{"sheet":"Соответствия статей","index":5,"n_rows":50,"n_cols":6,"rows_kept":50,"cut":false,"hidden":true,"merged":[]}
["Категория Тинькофф","Категория Расходы","Список уникальных статей"]
["Сервис. услуги","Другое","Другое","Банк","Январь","D"]
["Финан. услуги","Переводы","Переводы","Наличные","Февраль","G"]
["Переводы","Переводы","Медицина",null,"Март","J"]
["Разные товары","Другое","Продукты",null,"Апрель","M"]
["Аптеки","Медицина","Снятие наличных",null,"Май","P"]
["Супермаркеты","Продукты","Телефонная связь",null,"Июнь","S"]
["Другое","Другое","Транспорт",null,"Июль","V"]
["Наличные","Снятие наличных","Поездки",null,"Август","Y"]
["Мобильные/иб","Телефонная связь","Рестораны",null,"Сентябрь","AB"]
["Транспорт","Транспорт","Подарки, благотворительность",null,"Октябрь","AE"]
["Авиабилеты","Поездки","Коммунальные услуги",null,"Ноябрь","AH"]
["Ж/д билеты","Поездки","Одежда и обувь",null,"Декабрь","AK"]
["Фастфуд","Рестораны","Товары для дома, ремонта"]
["Сувениры","Подарки, благотворительность","Обучение"]
["Мед. услуги","Медицина","Развлечения"]
["Жкх/иб","Коммунальные услуги","Услуги для внешнего вида"]
["Рестораны","Рестораны","Топливо"]
["Одежда, обувь","Одежда и обувь","Интернет"]
["Дом, ремонт","Товары для дома, ремонта","Жилье"]
["Книги","Обучение","Телевидение"]
["Цветы","Подарки, благотворительность","Ремонт, техническое обслуживание"]
["Кино","Развлечения","Уход за ребенком"]
["Переводы/иб","Переводы","Домашние животные"]
["ДРУГИЕ ОПЕРАЦИИ","Другое","Налоги"]
["Гос. сборы","Другое","% по кредитам"]
["Фото/видео","Другое","Сбережения"]
["Развлечения","Развлечения","Страхование"]
["Красота","Услуги для внешнего вида","Кредитные карты"]
["Музыка","Развлечения","Выплата тела кредита"]
["Топливо","Топливо","Заработная плата"]
["Отели","Поездки","Оплата за преподавание"]
["Интернет","Интернет","Прочие доходы"]
[null,"Жилье","Дивиденды"]
["Обучение","Обучение","Проценты по вкладам"]
[null,"Телевидение"]
[null,"Ремонт, техническое обслуживание"]
[null,"Уход за ребенком"]
["Животные","Домашние животные"]
[null,"Налоги"]
[null,"% по кредитам"]
[null,"Сбережения"]
[null,"Страхование"]
[null,"Кредитные карты"]
[null,"Выплата тела кредита"]
["Заработная плата","Заработная плата"]
["Оплата за преподавание","Оплата за преподавание"]
["Прочие доходы","Прочие доходы"]
["Дивиденды","Дивиденды"]
["Проценты по вкладам","Проценты по вкладам"]

{"sheet":"Отчет по операциям","index":6,"n_rows":15000,"n_cols":16,"rows_kept":4500,"cut":true,"hidden":false,"merged":[],"bounds":{"rows_first":2000,"rows_last":500,"rows_between":2000,"halvings":0}}
["Дата операции","Дата платежа","Номер карты","Статус","Сумма операции","Валюта операции","Сумма платежа","Валюта платежа","Кэшбэк","Категория","MCC","Описание","Бонусы (включая кэшбэк)","Статья расходов/доходов","Банк/наличные","Доход/Расход"]
["2020-03-31T23:08:49","2020-04-02","*7127","OK",-400,"RUB",-400,"RUB",null,"Сервис. услуги",7311,"Y.M*youdo",0,{"$f":"IFERROR(IF(A2=\"\",\"\",VLOOKUP(J2,'Соответствия статей'!$A$2:$B$50,2,0)),\"Другое\")","v":"Другое"},"Банк","Расход"]
["2020-03-31T19:55:21","2020-04-01","*7127","OK",-100,"RUB",-100,"RUB",null,"Сервис. услуги",7361,"PayMaster",1,{"$f":"IFERROR(IF(A3=\"\",\"\",VLOOKUP(J3,'Соответствия статей'!$A$2:$B$50,2,0)),\"Другое\")","v":"Другое"},"Банк","Расход"]
["2020-03-31T17:06:30","2020-04-02","*7127","OK",-206.55,"RUB",-206.55,"RUB",null,"Аптеки",5912,"Аптека 36,6",2,{"$f":"IFERROR(IF(A4=\"\",\"\",VLOOKUP(J4,'Соответствия статей'!$A$2:$B$50,2,0)),\"Другое\")","v":"Медицина"},"Банк","Расход"]
["2020-03-31T16:36:49","2020-04-02","*7127","OK",-559,"RUB",-559,"RUB",null,"Аптеки",5912,"Аптеки Первая Помощь",5,{"$f":"IFERROR(IF(A5=\"\",\"\",VLOOKUP(J5,'Соответствия статей'!$A$2:$B$50,2,0)),\"Другое\")","v":"Медицина"},"Банк","Расход"]
["2020-03-31T16:26:24","2020-04-02","*7127","OK",-215.98,"RUB",-215.98,"RUB",null,"Супермаркеты",5411,"Семишагофф",2,{"$f":"IFERROR(IF(A6=\"\",\"\",VLOOKUP(J6,'Соответствия статей'!$A$2:$B$50,2,0)),\"Другое\")","v":"Продукты"},"Банк","Расход"]
["2020-03-31T13:17:30","2020-03-31","*7127","OK",209,"RUB",209,"RUB",null,"Прочие доходы",null,"Компенсация покупки",0,{"$f":"IFERROR(IF(A7=\"\",\"\",VLOOKUP(J7,'Соответствия статей'!$A$2:$B$50,2,0)),\"Другое\")","v":"Прочие доходы"},"Банк","Доход"]
["2020-03-31T13:17:13","2020-03-31","*7127","OK",200,"RUB",200,"RUB",null,"Прочие доходы",null,"Компенсация покупки",0,{"$f":"IFERROR(IF(A8=\"\",\"\",VLOOKUP(J8,'Соответствия статей'!$A$2:$B$50,2,0)),\"Другое\")","v":"Прочие доходы"},"Банк","Доход"]
["2020-03-31T13:17:00","2020-03-31","*7127","OK",200,"RUB",200,"RUB",null,"Прочие доходы",null,"Компенсация покупки",0,{"$f":"IFERROR(IF(A9=\"\",\"\",VLOOKUP(J9,'Соответствия статей'!$A$2:$B$50,2,0)),\"Другое\")","v":"Прочие доходы"},"Банк","Доход"]
["2020-03-31T13:16:26","2020-03-31","*7127","OK",265,"RUB",265,"RUB",null,"Прочие доходы",null,"Компенсация покупки",0,{"$f":"IFERROR(IF(A10=\"\",\"\",VLOOKUP(J10,'Соответствия статей'!$A$2:$B$50,2,0)),\"Другое\")","v":"Прочие доходы"},"Банк","Доход"]
["2020-03-31T13:16:08","2020-03-31","*7127","OK",250,"RUB",250,"RUB",null,"Прочие доходы",null,"Компенсация покупки",0,{"$f":"IFERROR(IF(A11=\"\",\"\",VLOOKUP(J11,'Соответствия статей'!$A$2:$B$50,2,0)),\"Другое\")","v":"Прочие доходы"},"Банк","Доход"]
["2020-03-31T13:15:48","2020-03-31","*7127","OK",240,"RUB",240,"RUB",null,"Прочие доходы",null,"Компенсация покупки",0,{"$f":"IFERROR(IF(A12=\"\",\"\",VLOOKUP(J12,'Соответствия статей'!$A$2:$B$50,2,0)),\"Другое\")","v":"Прочие доходы"},"Банк","Доход"]
["2020-03-30T22:33:51","2020-03-30",null,"OK",-59,"RUB",-59,"RUB",null,"Другое",null,"Плата за оповещения об операциях",0,{"$f":"IFERROR(IF(A13=\"\",\"\",VLOOKUP(J13,'Соответствия статей'!$A$2:$B$50,2,0)),\"Другое\")","v":"Другое"},"Банк","Расход"]
["2020-03-27T09:09:31","2020-03-30","*7127","OK",-3764,"RUB",-3764,"RUB",null,"Супермаркеты",5411,"Перекресток",37,{"$f":"IFERROR(IF(A14=\"\",\"\",VLOOKUP(J14,'Соответствия статей'!$A$2:$B$50,2,0)),\"Другое\")","v":"Продукты"},"Банк","Расход"]
["2020-03-25T17:54:29","2020-03-27","*8173","OK",-507.75,"RUB",-507.75,"RUB",5,"Супермаркеты",5411,"Перекресток",5,{"$f":"IFERROR(IF(A15=\"\",\"\",VLOOKUP(J15,'Соответствия статей'!$A$2:$B$50,2,0)),\"Другое\")","v":"Продукты"},"Банк","Расход"]
["2020-03-25T17:42:43","2020-03-25","*8173","OK",-130000,"RUB",-130000,"RUB",null,"Наличные",6011,"Банкомат Тинькофф",0,{"$f":"IFERROR(IF(A16=\"\",\"\",VLOOKUP(J16,'Соответствия статей'!$A$2:$B$50,2,0)),\"Другое\")","v":"Снятие наличных"},"Банк","Расход"]
["2020-03-24T21:27:51","2020-03-25","*7127","OK",-100,"RUB",-100,"RUB",null,"Мобильные/иб",null,"Ростелеком Мобильная связь +79932213431",0,{"$f":"IFERROR(IF(A17=\"\",\"\",VLOOKUP(J17,'Соответствия статей'!$A$2:$B$50,2,0)),\"Другое\")","v":"Телефонная связь"},"Банк","Расход"]
["2020-03-24T20:41:12","2020-03-26","*7127","OK",-264.79000000000002,"RUB",-264.79000000000002,"RUB",null,"Супермаркеты",5411,"Дикси",2,{"$f":"IFERROR(IF(A18=\"\",\"\",VLOOKUP(J18,'Соответствия статей'!$A$2:$B$50,2,0)),\"Другое\")","v":"Продукты"},"Банк","Расход"]
["2020-03-24T20:25:04","2020-03-26","*7127","OK",-946,"RUB",-946,"RUB",null,"Аптеки",5912,"Озерки",9,{"$f":"IFERROR(IF(A19=\"\",\"\",VLOOKUP(J19,'Соответствия статей'!$A$2:$B$50,2,0)),\"Другое\")","v":"Медицина"},"Банк","Расход"]
["2020-03-23T23:13:50","2020-03-23",null,"OK",-99,"RUB",-99,"RUB",null,"Другое",null,"Плата за обслуживание",0,{"$f":"IFERROR(IF(A20=\"\",\"\",VLOOKUP(J20,'Соответствия статей'!$A$2:$B$50,2,0)),\"Другое\")","v":"Другое"},"Банк","Расход"]
["2020-03-23T22:49:06","2020-03-23",null,"OK",227,"RUB",227,"RUB",null,"Прочие доходы",null,"Вознаграждение за операции покупок",0,{"$f":"IFERROR(IF(A21=\"\",\"\",VLOOKUP(J21,'Соответствия статей'!$A$2:$B$50,2,0)),\"Другое\")","v":"Прочие доходы"},"Банк","Доход"]
["2020-03-23T22:37:43","2020-03-25","*8173","OK",-101,"RUB",-101,"RUB",5,"Транспорт",4121,"Uber",5,{"$f":"IFERROR(IF(A22=\"\",\"\",VLOOKUP(J22,'Соответствия статей'!$A$2:$B$50,2,0)),\"Другое\")","v":"Транспорт"},"Банк","Расход"]
["2020-03-23T22:07:34","2020-03-25","*7127","OK",-1856.58,"RUB",-1856.58,"RUB",null,"Супермаркеты",5411,"Перекресток",18,{"$f":"IFERROR(IF(A23=\"\",\"\",VLOOKUP(J23,'Соответствия статей'!$A$2:$B$50,2,0)),\"Другое\")","v":"Продукты"},"Банк","Расход"]
["2020-03-23T21:46:03","2020-03-23",null,"OK",239.78,"RUB",239.78,"RUB",null,"Прочие доходы",null,"Проценты на остаток по счету",0,{"$f":"IFERROR(IF(A24=\"\",\"\",VLOOKUP(J24,'Соответствия статей'!$A$2:$B$50,2,0)),\"Другое\")","v":"Прочие доходы"},"Банк","Доход"]
["2020-03-23T19:55:17","2020-03-23","*8173","OK",900,"RUB",900,"RUB",null,"Прочие доходы",null,"Иван Ш.",0,{"$f":"IFERROR(IF(A25=\"\",\"\",VLOOKUP(J25,'Соответствия статей'!$A$2:$B$50,2,0)),\"Другое\")","v":"Прочие доходы"},"Банк","Доход"]
["2020-03-23T14:12:48","2020-03-24","*7127","OK",48751,"RUB",48751,"RUB",null,"Супермаркеты",5411,"Ozon.ru",-487,{"$f":"IFERROR(IF(A26=\"\",\"\",VLOOKUP(J26,'Соответствия статей'!$A$2:$B$50,2,0)),\"Другое\")","v":"Продукты"},"Банк","Расход"]
["2020-03-23T14:02:37","2020-03-24","*7127","OK",-48751,"RUB",-48751,"RUB",null,"Супермаркеты",5411,"Ozon.ru",487,{"$f":"IFERROR(IF(A27=\"\",\"\",VLOOKUP(J27,'Соответствия статей'!$A$2:$B$50,2,0)),\"Другое\")","v":"Продукты"},"Банк","Расход"]
["2020-03-22T14:59:46","2020-03-24","*8173","OK",-100,"RUB",-100,"RUB",5,"Транспорт",4111,"Метро Санкт-Петербург",5,{"$f":"IFERROR(IF(A28=\"\",\"\",VLOOKUP(J28,'Соответствия статей'!$A$2:$B$50,2,0)),\"Другое\")","v":"Транспорт"},"Банк","Расход"]
["2020-03-22T04:43:15","2020-03-23","*7127","OK",300,"RUB",300,"RUB",null,"Авиабилеты",4511,"Авиакомпания UTair",-3,{"$f":"IFERROR(IF(A29=\"\",\"\",VLOOKUP(J29,'Соответствия статей'!$A$2:$B$50,2,0)),\"Другое\")","v":"Поездки"},"Банк","Расход"]
["2020-03-22T04:43:14","2020-03-23","*7127","OK",300,"RUB",300,"RUB",null,"Авиабилеты",4511,"Авиакомпания UTair",-3,{"$f":"IFERROR(IF(A30=\"\",\"\",VLOOKUP(J30,'Соответствия статей'!$A$2:$B$50,2,0)),\"Другое\")","v":"Поездки"},"Банк","Расход"]
["2020-03-22T04:43:13","2020-03-23","*7127","OK",300,"RUB",300,"RUB",null,"Авиабилеты",4511,"Авиакомпания UTair",-3,{"$f":"IFERROR(IF(A31=\"\",\"\",VLOOKUP(J31,'Соответствия статей'!$A$2:$B$50,2,0)),\"Другое\")","v":"Поездки"},"Банк","Расход"]
["2020-03-22T04:40:15","2020-03-23","*7127","OK",299,"RUB",299,"RUB",null,"Авиабилеты",4511,"Авиакомпания UTair",-2,{"$f":"IFERROR(IF(A32=\"\",\"\",VLOOKUP(J32,'Соответствия статей'!$A$2:$B$50,2,0)),\"Другое\")","v":"Поездки"},"Банк","Расход"]
["2020-03-22T04:40:14","2020-03-23","*7127","OK",199,"RUB",199,"RUB",null,"Авиабилеты",4511,"Авиакомпания UTair",-1,{"$f":"IFERROR(IF(A33=\"\",\"\",VLOOKUP(J33,'Соответствия статей'!$A$2:$B$50,2,0)),\"Другое\")","v":"Поездки"},"Банк","Расход"]
["2020-03-22T04:40:13","2020-03-23","*7127","OK",199,"RUB",199,"RUB",null,"Авиабилеты",4511,"Авиакомпания UTair",-1,{"$f":"IFERROR(IF(A34=\"\",\"\",VLOOKUP(J34,'Соответствия статей'!$A$2:$B$50,2,0)),\"Другое\")","v":"Поездки"},"Банк","Расход"]
["2020-03-21T15:43:23","2020-03-23","*7127","OK",-15.2,"RUB",-15.2,"RUB",null,"Аптеки",5912,"Apteka 193",0,{"$f":"IFERROR(IF(A35=\"\",\"\",VLOOKUP(J35,'Соответствия статей'!$A$2:$B$50,2,0)),\"Другое\")","v":"Медицина"},"Банк","Расход"]
["2020-03-21T15:41:31","2020-03-23","*7127","OK",-247,"RUB",-247,"RUB",null,"Аптеки",5912,"Apteka 193",2,{"$f":"IFERROR(IF(A36=\"\",\"\",VLOOKUP(J36,'Соответствия статей'!$A$2:$B$50,2,0)),\"Другое\")","v":"Медицина"},"Банк","Расход"]
["2020-03-19T17:12:02","2020-03-20","*7127","OK",6193.4,"RUB",6193.4,"RUB",null,"Ж/д билеты",4112,"РЖД",-61,{"$f":"IFERROR(IF(A37=\"\",\"\",VLOOKUP(J37,'Соответствия статей'!$A$2:$B$50,2,0)),\"Другое\")","v":"Поездки"},"Банк","Расход"]
["2020-03-19T17:12:02","2020-03-20","*7127","OK",4332.8999999999996,"RUB",4332.8999999999996,"RUB",null,"Ж/д билеты",4112,"РЖД",-43,{"$f":"IFERROR(IF(A38=\"\",\"\",VLOOKUP(J38,'Соответствия статей'!$A$2:$B$50,2,0)),\"Другое\")","v":"Поездки"},"Банк","Расход"]
["2020-03-19T17:12:02","2020-03-20","*7127","OK",2528.6999999999998,"RUB",2528.6999999999998,"RUB",null,"Ж/д билеты",4112,"РЖД",-25,{"$f":"IFERROR(IF(A39=\"\",\"\",VLOOKUP(J39,'Соответствия статей'!$A$2:$B$50,2,0)),\"Другое\")","v":"Поездки"},"Банк","Расход"]
["2020-03-19T14:36:45","2020-03-21","*7127","OK",-1325,"RUB",-1325,"RUB",null,"Аптеки",5912,"Озерки",13,{"$f":"IFERROR(IF(A40=\"\",\"\",VLOOKUP(J40,'Соответствия статей'!$A$2:$B$50,2,0)),\"Другое\")","v":"Медицина"},"Банк","Расход"]
["2020-03-19T13:50:17","2020-03-21","*7127","OK",-240,"RUB",-240,"RUB",null,"Фастфуд",5814,"Рестораны ТАРЕЛКА",2,{"$f":"IFERROR(IF(A41=\"\",\"\",VLOOKUP(J41,'Соответствия статей'!$A$2:$B$50,2,0)),\"Другое\")","v":"Рестораны"},"Банк","Расход"]
["2020-03-19T09:34:34","2020-03-21","*7127","OK",-200,"RUB",-200,"RUB",null,"Транспорт",4111,"Метро Санкт-Петербург",2,{"$f":"IFERROR(IF(A42=\"\",\"\",VLOOKUP(J42,'Соответствия статей'!$A$2:$B$50,2,0)),\"Другое\")","v":"Транспорт"},"Банк","Расход"]
["2020-03-18T19:17:35","2020-03-20","*8173","OK",-59.6,"RUB",-59.6,"RUB",0,"Аптеки",5912,"Аптека 36,6",0,{"$f":"IFERROR(IF(A43=\"\",\"\",VLOOKUP(J43,'Соответствия статей'!$A$2:$B$50,2,0)),\"Другое\")","v":"Медицина"},"Банк","Расход"]
["2020-03-18T16:03:33","2020-03-18","*7127","OK",-230,"RUB",-230,"RUB",null,"Сувениры",5947,"IP Zajtseva A N",2,{"$f":"IFERROR(IF(A44=\"\",\"\",VLOOKUP(J44,'Соответствия статей'!$A$2:$B$50,2,0)),\"Другое\")","v":"Подарки, благотворительность"},"Банк","Расход"]
["2020-03-18T10:40:20","2020-03-19","*7127","OK",-1600,"RUB",-1600,"RUB",null,"Мед. услуги",8099,"A-Mediya LLC",16,{"$f":"IFERROR(IF(A45=\"\",\"\",VLOOKUP(J45,'Соответствия статей'!$A$2:$B$50,2,0)),\"Другое\")","v":"Медицина"},"Банк","Расход"]
["2020-03-17T20:00:54","2020-03-19","*7127","OK",-256,"RUB",-256,"RUB",null,"Аптеки",5912,"Озерки",2,{"$f":"IFERROR(IF(A46=\"\",\"\",VLOOKUP(J46,'Соответствия статей'!$A$2:$B$50,2,0)),\"Другое\")","v":"Медицина"},"Банк","Расход"]
["2020-03-17T13:20:43","2020-03-19","*7127","OK",-799.98,"RUB",-799.98,"RUB",null,"Супермаркеты",5411,"Пятерочка",7,{"$f":"IFERROR(IF(A47=\"\",\"\",VLOOKUP(J47,'Соответствия статей'!$A$2:$B$50,2,0)),\"Другое\")","v":"Продукты"},"Банк","Расход"]
["2020-03-17T12:31:35","2020-03-19","*7127","OK",-250,"RUB",-250,"RUB",null,"Фастфуд",5814,"Рестораны ТАРЕЛКА",2,{"$f":"IFERROR(IF(A48=\"\",\"\",VLOOKUP(J48,'Соответствия статей'!$A$2:$B$50,2,0)),\"Другое\")","v":"Рестораны"},"Банк","Расход"]
["2020-03-17T10:25:14","2020-03-19","*7357","OK",-39,"RUB",-39,"RUB",0,"Фастфуд",5814,"Babushkiny Pirogi",0,{"$f":"IFERROR(IF(A49=\"\",\"\",VLOOKUP(J49,'Соответствия статей'!$A$2:$B$50,2,0)),\"Другое\")","v":"Рестораны"},"Банк","Расход"]
["2020-03-17T09:33:36","2020-03-19","*7357","OK",-200,"RUB",-200,"RUB",10,"Транспорт",4111,"Метро Санкт-Петербург",10,{"$f":"IFERROR(IF(A50=\"\",\"\",VLOOKUP(J50,'Соответствия статей'!$A$2:$B$50,2,0)),\"Другое\")","v":"Транспорт"},"Банк","Расход"]
["2020-03-17","2020-03-17","*7127","OK",800,"RUB",800,"RUB",null,"Финан. услуги",6536,"Сбербанк",0,{"$f":"IFERROR(IF(A51=\"\",\"\",VLOOKUP(J51,'Соответствия статей'!$A$2:$B$50,2,0)),\"Другое\")","v":"Переводы"},"Банк","Расход"]
["2020-03-16T13:58:31","2020-03-18","*7127","OK",-238,"RUB",-238,"RUB",null,"Аптеки",5912,"Apt1208 Neptun",2,{"$f":"IFERROR(IF(A52=\"\",\"\",VLOOKUP(J52,'Соответствия статей'!$A$2:$B$50,2,0)),\"Другое\")","v":"Медицина"},"Банк","Расход"]
["2020-03-16T13:38:29","2020-03-18","*8173","OK",-25,"RUB",-25,"RUB",0,"Супермаркеты",5499,"Petro-Servis",0,{"$f":"IFERROR(IF(A53=\"\",\"\",VLOOKUP(J53,'Соответствия статей'!$A$2:$B$50,2,0)),\"Другое\")","v":"Продукты"},"Банк","Расход"]
["2020-03-16T13:14:12","2020-03-18","*8173","OK",-200,"RUB",-200,"RUB",2,"Фастфуд",5814,"Stolovaya",2,{"$f":"IFERROR(IF(A54=\"\",\"\",VLOOKUP(J54,'Соответствия статей'!$A$2:$B$50,2,0)),\"Другое\")","v":"Рестораны"},"Банк","Расход"]
["2020-03-16T13:05:33","2020-03-18","*7127","OK",-265,"RUB",-265,"RUB",null,"Фастфуд",5814,"Рестораны ТАРЕЛКА",2,{"$f":"IFERROR(IF(A55=\"\",\"\",VLOOKUP(J55,'Соответствия статей'!$A$2:$B$50,2,0)),\"Другое\")","v":"Рестораны"},"Банк","Расход"]
["2020-03-16T09:08:52","2020-03-17","*7127","OK",-4025,"RUB",-4025,"RUB",null,"Супермаркеты",5411,"Перекресток",40,{"$f":"IFERROR(IF(A56=\"\",\"\",VLOOKUP(J56,'Соответствия статей'!$A$2:$B$50,2,0)),\"Другое\")","v":"Продукты"},"Банк","Расход"]
["2020-03-15T18:32:54","2020-03-16","*7127","OK",-758.34,"RUB",-758.34,"RUB",null,"Жкх/иб",4900,"Петроэлектросбыт",0,{"$f":"IFERROR(IF(A57=\"\",\"\",VLOOKUP(J57,'Соответствия статей'!$A$2:$B$50,2,0)),\"Другое\")","v":"Коммунальные услуги"},"Банк","Расход"]
["2020-03-15T16:53:42","2020-03-17","*7127","OK",-1354,"RUB",-1354,"RUB",null,"Аптеки",5912,"Озерки",13,{"$f":"IFERROR(IF(A58=\"\",\"\",VLOOKUP(J58,'Соответствия статей'!$A$2:$B$50,2,0)),\"Другое\")","v":"Медицина"},"Банк","Расход"]
["2020-03-13T21:01:13","2020-03-16","*7127","OK",-252.95,"RUB",-252.95,"RUB",null,"Супермаркеты",5411,"Семишагофф",2,{"$f":"IFERROR(IF(A59=\"\",\"\",VLOOKUP(J59,'Соответствия статей'!$A$2:$B$50,2,0)),\"Другое\")","v":"Продукты"},"Банк","Расход"]
["2020-03-13T16:56:00","2020-03-14","*7127","OK",-25,"RUB",-25,"RUB",null,"Фастфуд",5814,"OOO As-Vend",0,{"$f":"IFERROR(IF(A60=\"\",\"\",VLOOKUP(J60,'Соответствия статей'!$A$2:$B$50,2,0)),\"Другое\")","v":"Рестораны"},"Банк","Расход"]
["2020-03-13T14:21:03","2020-03-16","*7357","OK",-110,"RUB",-110,"RUB",1,"Разные товары",5311,"Fixprice",1,{"$f":"IFERROR(IF(A61=\"\",\"\",VLOOKUP(J61,'Соответствия статей'!$A$2:$B$50,2,0)),\"Другое\")","v":"Другое"},"Банк","Расход"]
["2020-03-13T13:17:30","2020-03-16","*7127","OK",-25,"RUB",-25,"RUB",null,"Супермаркеты",5499,"Petro-Servis",0,{"$f":"IFERROR(IF(A62=\"\",\"\",VLOOKUP(J62,'Соответствия статей'!$A$2:$B$50,2,0)),\"Другое\")","v":"Продукты"},"Банк","Расход"]
["2020-03-13T12:55:29","2020-03-16","*7127","OK",-200,"RUB",-200,"RUB",null,"Фастфуд",5814,"Stolovaya",2,{"$f":"IFERROR(IF(A63=\"\",\"\",VLOOKUP(J63,'Соответствия статей'!$A$2:$B$50,2,0)),\"Другое\")","v":"Рестораны"},"Банк","Расход"]
["2020-03-12T22:23:11","2020-03-14","*8173","OK",-200,"RUB",-200,"RUB",10,"Транспорт",4111,"Метро Санкт-Петербург",10,{"$f":"IFERROR(IF(A64=\"\",\"\",VLOOKUP(J64,'Соответствия статей'!$A$2:$B$50,2,0)),\"Другое\")","v":"Транспорт"},"Банк","Расход"]
["2020-03-12T21:23:38","2020-03-14","*8173","OK",-55,"RUB",-55,"RUB",2,"Транспорт",4111,"Метро Санкт-Петербург",2,{"$f":"IFERROR(IF(A65=\"\",\"\",VLOOKUP(J65,'Соответствия статей'!$A$2:$B$50,2,0)),\"Другое\")","v":"Транспорт"},"Банк","Расход"]
["2020-03-12T19:34:24","2020-03-14","*7357","OK",-51.9,"RUB",-51.9,"RUB",0,"Супермаркеты",5411,"Перекресток",0,{"$f":"IFERROR(IF(A66=\"\",\"\",VLOOKUP(J66,'Соответствия статей'!$A$2:$B$50,2,0)),\"Другое\")","v":"Продукты"},"Банк","Расход"]
["2020-03-12T13:47:03","2020-03-14","*7127","OK",-25,"RUB",-25,"RUB",null,"Супермаркеты",5499,"Petro-Servis",0,{"$f":"IFERROR(IF(A67=\"\",\"\",VLOOKUP(J67,'Соответствия статей'!$A$2:$B$50,2,0)),\"Другое\")","v":"Продукты"},"Банк","Расход"]
["2020-03-12T13:15:18","2020-03-14","*7127","OK",-200,"RUB",-200,"RUB",null,"Фастфуд",5814,"Stolovaya",2,{"$f":"IFERROR(IF(A68=\"\",\"\",VLOOKUP(J68,'Соответствия статей'!$A$2:$B$50,2,0)),\"Другое\")","v":"Рестораны"},"Банк","Расход"]
["2020-03-12T10:02:28","2020-03-12","*8173","OK",2300,"RUB",2300,"RUB",null,"Прочие доходы",null,"Иван Ш.",0,{"$f":"IFERROR(IF(A69=\"\",\"\",VLOOKUP(J69,'Соответствия статей'!$A$2:$B$50,2,0)),\"Другое\")","v":"Прочие доходы"},"Банк","Доход"]
["2020-03-12T09:21:25","2020-03-14","*7357","OK",-200,"RUB",-200,"RUB",10,"Транспорт",4111,"Метро Санкт-Петербург",10,{"$f":"IFERROR(IF(A70=\"\",\"\",VLOOKUP(J70,'Соответствия статей'!$A$2:$B$50,2,0)),\"Другое\")","v":"Транспорт"},"Банк","Расход"]
["2020-03-12T02:55:30","2020-03-13","*8173","OK",-101,"RUB",-101,"RUB",5,"Транспорт",4121,"Uber",5,{"$f":"IFERROR(IF(A71=\"\",\"\",VLOOKUP(J71,'Соответствия статей'!$A$2:$B$50,2,0)),\"Другое\")","v":"Транспорт"},"Банк","Расход"]
["2020-03-11T23:05:00","2020-03-13","*7127","OK",-55,"RUB",-55,"RUB",null,"Транспорт",4111,"Метро Санкт-Петербург",0,{"$f":"IFERROR(IF(A72=\"\",\"\",VLOOKUP(J72,'Соответствия статей'!$A$2:$B$50,2,0)),\"Другое\")","v":"Транспорт"},"Банк","Расход"]
["2020-03-11T22:29:23","2020-03-13","*7357","OK",-540,"RUB",-540,"RUB",5,"Фастфуд",5814,"IP Mokhov V. A.",5,{"$f":"IFERROR(IF(A73=\"\",\"\",VLOOKUP(J73,'Соответствия статей'!$A$2:$B$50,2,0)),\"Другое\")","v":"Рестораны"},"Банк","Расход"]
["2020-03-11T18:46:35","2020-03-13","*7127","OK",-209,"RUB",-209,"RUB",null,"Фастфуд",5814,"Теремок",2,{"$f":"IFERROR(IF(A74=\"\",\"\",VLOOKUP(J74,'Соответствия статей'!$A$2:$B$50,2,0)),\"Другое\")","v":"Рестораны"},"Банк","Расход"]
["2020-03-11T12:28:32","2020-03-13","*7127","OK",-25,"RUB",-25,"RUB",null,"Супермаркеты",5499,"Petro-Servis",0,{"$f":"IFERROR(IF(A75=\"\",\"\",VLOOKUP(J75,'Соответствия статей'!$A$2:$B$50,2,0)),\"Другое\")","v":"Продукты"},"Банк","Расход"]
["2020-03-11T10:44:38","2020-03-12","*7127","OK",-3464,"RUB",-3464,"RUB",null,"Рестораны",5812,"Достаевский",34,{"$f":"IFERROR(IF(A76=\"\",\"\",VLOOKUP(J76,'Соответствия статей'!$A$2:$B$50,2,0)),\"Другое\")","v":"Рестораны"},"Банк","Расход"]
["2020-03-10T22:16:42","2020-03-12","*7127","OK",-1973.49,"RUB",-1973.49,"RUB",null,"Супермаркеты",5411,"Перекресток",19,{"$f":"IFERROR(IF(A77=\"\",\"\",VLOOKUP(J77,'Соответствия статей'!$A$2:$B$50,2,0)),\"Другое\")","v":"Продукты"},"Банк","Расход"]
["2020-03-10T22:02:07","2020-03-11","*7127","OK",-4200,"RUB",-4200,"RUB",null,"Одежда, обувь",5621,"IP Sharapova E.N.",42,{"$f":"IFERROR(IF(A78=\"\",\"\",VLOOKUP(J78,'Соответствия статей'!$A$2:$B$50,2,0)),\"Другое\")","v":"Одежда и обувь"},"Банк","Расход"]
["2020-03-10T20:14:28","2020-03-12","*7357","OK",-200,"RUB",-200,"RUB",10,"Транспорт",4111,"Метро Санкт-Петербург",10,{"$f":"IFERROR(IF(A79=\"\",\"\",VLOOKUP(J79,'Соответствия статей'!$A$2:$B$50,2,0)),\"Другое\")","v":"Транспорт"},"Банк","Расход"]
["2020-03-10T13:46:49","2020-03-11","*7127","OK",-25,"RUB",-25,"RUB",null,"Фастфуд",5814,"Petro-Servis",0,{"$f":"IFERROR(IF(A80=\"\",\"\",VLOOKUP(J80,'Соответствия статей'!$A$2:$B$50,2,0)),\"Другое\")","v":"Рестораны"},"Банк","Расход"]
["2020-03-10T12:04:46","2020-03-12","*7357","OK",-253,"RUB",-253,"RUB",2,"Фастфуд",5814,"Рестораны ТАРЕЛКА",2,{"$f":"IFERROR(IF(A81=\"\",\"\",VLOOKUP(J81,'Соответствия статей'!$A$2:$B$50,2,0)),\"Другое\")","v":"Рестораны"},"Банк","Расход"]
["2020-03-10T00:57:09","2020-03-10","*7127","OK",-510,"RUB",-510,"RUB",null,"Сервис. услуги",7311,"ВКонтакте",0,{"$f":"IFERROR(IF(A82=\"\",\"\",VLOOKUP(J82,'Соответствия статей'!$A$2:$B$50,2,0)),\"Другое\")","v":"Другое"},"Банк","Расход"]
["2020-03-09T19:47:14","2020-03-11","*7357","OK",-64.900000000000006,"RUB",-64.900000000000006,"RUB",0,"Супермаркеты",5411,"Перекресток",0,{"$f":"IFERROR(IF(A83=\"\",\"\",VLOOKUP(J83,'Соответствия статей'!$A$2:$B$50,2,0)),\"Другое\")","v":"Продукты"},"Банк","Расход"]
["2020-03-09T19:41:41","2020-03-11","*7357","OK",-69,"RUB",-69,"RUB",0,"Дом, ремонт",5211,"СТАРТ",0,{"$f":"IFERROR(IF(A84=\"\",\"\",VLOOKUP(J84,'Соответствия статей'!$A$2:$B$50,2,0)),\"Другое\")","v":"Товары для дома, ремонта"},"Банк","Расход"]
["2020-03-09T19:39:55","2020-03-11","*7127","OK",-259,"RUB",-259,"RUB",null,"Книги",5942,"Буквоед",2,{"$f":"IFERROR(IF(A85=\"\",\"\",VLOOKUP(J85,'Соответствия статей'!$A$2:$B$50,2,0)),\"Другое\")","v":"Обучение"},"Банк","Расход"]
["2020-03-09T19:23:51","2020-03-11","*8173","OK",-97,"RUB",-97,"RUB",4,"Транспорт",4121,"Uber",4,{"$f":"IFERROR(IF(A86=\"\",\"\",VLOOKUP(J86,'Соответствия статей'!$A$2:$B$50,2,0)),\"Другое\")","v":"Транспорт"},"Банк","Расход"]
["2020-03-09T17:43:18","2020-03-11","*7127","OK",-422,"RUB",-422,"RUB",null,"Фастфуд",5814,"Додо Пицца",4,{"$f":"IFERROR(IF(A87=\"\",\"\",VLOOKUP(J87,'Соответствия статей'!$A$2:$B$50,2,0)),\"Другое\")","v":"Рестораны"},"Банк","Расход"]
["2020-03-08T19:12:11","2020-03-09","*7127","OK",-1100,"RUB",-1100,"RUB",null,"Цветы",5992,"Salon Tsvety",11,{"$f":"IFERROR(IF(A88=\"\",\"\",VLOOKUP(J88,'Соответствия статей'!$A$2:$B$50,2,0)),\"Другое\")","v":"Подарки, благотворительность"},"Банк","Расход"]
["2020-03-08T18:31:04","2020-03-10","*7127","OK",-622,"RUB",-622,"RUB",null,"Фастфуд",5814,"McDonald's",6,{"$f":"IFERROR(IF(A89=\"\",\"\",VLOOKUP(J89,'Соответствия статей'!$A$2:$B$50,2,0)),\"Другое\")","v":"Рестораны"},"Банк","Расход"]
["2020-03-08T16:27:47","2020-03-10","*8173","OK",-1053,"RUB",-1053,"RUB",52,"Кино",7832,"Синема Парк",52,{"$f":"IFERROR(IF(A90=\"\",\"\",VLOOKUP(J90,'Соответствия статей'!$A$2:$B$50,2,0)),\"Другое\")","v":"Развлечения"},"Банк","Расход"]
["2020-03-08T15:20:30","2020-03-10","*8173","OK",-144,"RUB",-144,"RUB",7,"Транспорт",4121,"Uber",7,{"$f":"IFERROR(IF(A91=\"\",\"\",VLOOKUP(J91,'Соответствия статей'!$A$2:$B$50,2,0)),\"Другое\")","v":"Транспорт"},"Банк","Расход"]
["2020-03-08T14:55:48","2020-03-10","*8173","OK",-113,"RUB",-113,"RUB",1,"Супермаркеты",5411,"Latte",1,{"$f":"IFERROR(IF(A92=\"\",\"\",VLOOKUP(J92,'Соответствия статей'!$A$2:$B$50,2,0)),\"Другое\")","v":"Продукты"},"Банк","Расход"]
["2020-03-08T14:02:12","2020-03-10","*8173","OK",-203.97,"RUB",-203.97,"RUB",2,"Супермаркеты",5411,"Верный",2,{"$f":"IFERROR(IF(A93=\"\",\"\",VLOOKUP(J93,'Соответствия статей'!$A$2:$B$50,2,0)),\"Другое\")","v":"Продукты"},"Банк","Расход"]
["2020-03-07T23:19:39","2020-03-09","*7127","OK",-2540,"RUB",-2540,"RUB",null,"Супермаркеты",5411,"Перекресток",25,{"$f":"IFERROR(IF(A94=\"\",\"\",VLOOKUP(J94,'Соответствия статей'!$A$2:$B$50,2,0)),\"Другое\")","v":"Продукты"},"Банк","Расход"]
["2020-03-07T19:54:28","2020-03-09","*7357","OK",-196,"RUB",-196,"RUB",1,"Фастфуд",5814,"Додо Пицца",1,{"$f":"IFERROR(IF(A95=\"\",\"\",VLOOKUP(J95,'Соответствия статей'!$A$2:$B$50,2,0)),\"Другое\")","v":"Рестораны"},"Банк","Расход"]
["2020-03-07T18:16:00","2020-03-09","*8173","OK",-299,"RUB",-299,"RUB",2,"Дом, ремонт",5211,"СТАРТ",2,{"$f":"IFERROR(IF(A96=\"\",\"\",VLOOKUP(J96,'Соответствия статей'!$A$2:$B$50,2,0)),\"Другое\")","v":"Товары для дома, ремонта"},"Банк","Расход"]
["2020-03-07T13:17:45","2020-03-09","*8173","OK",-613,"RUB",-613,"RUB",6,"Аптеки",5912,"Озерки",6,{"$f":"IFERROR(IF(A97=\"\",\"\",VLOOKUP(J97,'Соответствия статей'!$A$2:$B$50,2,0)),\"Другое\")","v":"Медицина"},"Банк","Расход"]
["2020-03-07T12:47:07","2020-03-09","*8173","OK",-107.99,"RUB",-107.99,"RUB",1,"Супермаркеты",5411,"Семишагофф",1,{"$f":"IFERROR(IF(A98=\"\",\"\",VLOOKUP(J98,'Соответствия статей'!$A$2:$B$50,2,0)),\"Другое\")","v":"Продукты"},"Банк","Расход"]
["2020-03-07T06:13:44","2020-03-07","*8173","OK",500,"RUB",500,"RUB",null,"Прочие доходы",null,"Иван Ш.",0,{"$f":"IFERROR(IF(A99=\"\",\"\",VLOOKUP(J99,'Соответствия статей'!$A$2:$B$50,2,0)),\"Другое\")","v":"Прочие доходы"},"Банк","Доход"]
["2020-03-06T22:52:50","2020-03-09","*8173","OK",-100,"RUB",-100,"RUB",5,"Транспорт",4111,"Метро Санкт-Петербург",5,{"$f":"IFERROR(IF(A100=\"\",\"\",VLOOKUP(J100,'Соответствия статей'!$A$2:$B$50,2,0)),\"Другое\")","v":"Транспорт"},"Банк","Расход"]
["2020-03-06T21:22:07","2020-03-09","*7127","OK",-214,"RUB",-214,"RUB",null,"Фастфуд",5814,"McDonald's",2,{"$f":"IFERROR(IF(A101=\"\",\"\",VLOOKUP(J101,'Соответствия статей'!$A$2:$B$50,2,0)),\"Другое\")","v":"Рестораны"},"Банк","Расход"]
["2020-03-06T18:58:38","2020-03-09","*7357","OK",-500,"RUB",-500,"RUB",5,"Фастфуд",5814,"Poddon",5,{"$f":"IFERROR(IF(A102=\"\",\"\",VLOOKUP(J102,'Соответствия статей'!$A$2:$B$50,2,0)),\"Другое\")","v":"Рестораны"},"Банк","Расход"]
["2020-03-06T16:23:13","2020-03-09","*7127","OK",-25,"RUB",-25,"RUB",null,"Супермаркеты",5499,"Petro-Servis",0,{"$f":"IFERROR(IF(A103=\"\",\"\",VLOOKUP(J103,'Соответствия статей'!$A$2:$B$50,2,0)),\"Другое\")","v":"Продукты"},"Банк","Расход"]
["2020-03-06T12:32:49","2020-03-07","*7127","OK",-25,"RUB",-25,"RUB",null,"Фастфуд",5814,"Petro-Servis",0,{"$f":"IFERROR(IF(A104=\"\",\"\",VLOOKUP(J104,'Соответствия статей'!$A$2:$B$50,2,0)),\"Другое\")","v":"Рестораны"},"Банк","Расход"]
["2020-03-06T12:12:54","2020-03-09","*7127","OK",-200,"RUB",-200,"RUB",null,"Фастфуд",5814,"Stolovaya",2,{"$f":"IFERROR(IF(A105=\"\",\"\",VLOOKUP(J105,'Соответствия статей'!$A$2:$B$50,2,0)),\"Другое\")","v":"Рестораны"},"Банк","Расход"]
["2020-03-06T09:13:05","2020-03-09","*7357","OK",-100,"RUB",-100,"RUB",5,"Транспорт",4111,"Метро Санкт-Петербург",5,{"$f":"IFERROR(IF(A106=\"\",\"\",VLOOKUP(J106,'Соответствия статей'!$A$2:$B$50,2,0)),\"Другое\")","v":"Транспорт"},"Банк","Расход"]
["2020-03-06T08:16:17","2020-03-07","*7127","OK",-360,"RUB",-360,"RUB",null,"Цветы",5992,"Tsvety-3",3,{"$f":"IFERROR(IF(A107=\"\",\"\",VLOOKUP(J107,'Соответствия статей'!$A$2:$B$50,2,0)),\"Другое\")","v":"Подарки, благотворительность"},"Банк","Расход"]
["2020-03-05T21:07:19","2020-03-09","*7357","OK",-420.33,"RUB",-420.33,"RUB",4,"Супермаркеты",5411,"Перекресток",4,{"$f":"IFERROR(IF(A108=\"\",\"\",VLOOKUP(J108,'Соответствия статей'!$A$2:$B$50,2,0)),\"Другое\")","v":"Продукты"},"Банк","Расход"]
["2020-03-05T19:56:38","2020-03-05","*7127","OK",35,"RUB",35,"RUB",null,"Прочие доходы",null,"Компенсация покупки",0,{"$f":"IFERROR(IF(A109=\"\",\"\",VLOOKUP(J109,'Соответствия статей'!$A$2:$B$50,2,0)),\"Другое\")","v":"Прочие доходы"},"Банк","Доход"]
["2020-03-05T19:56:28","2020-03-05","*7127","OK",200,"RUB",200,"RUB",null,"Прочие доходы",null,"Компенсация покупки",0,{"$f":"IFERROR(IF(A110=\"\",\"\",VLOOKUP(J110,'Соответствия статей'!$A$2:$B$50,2,0)),\"Другое\")","v":"Прочие доходы"},"Банк","Доход"]
["2020-03-05T19:55:54","2020-03-05","*7127","OK",200,"RUB",200,"RUB",null,"Прочие доходы",null,"Компенсация покупки",0,{"$f":"IFERROR(IF(A111=\"\",\"\",VLOOKUP(J111,'Соответствия статей'!$A$2:$B$50,2,0)),\"Другое\")","v":"Прочие доходы"},"Банк","Доход"]
["2020-03-05T19:32:12","2020-03-05","*7127","OK",-10,"RUB",-10,"RUB",null,"Мобильные/иб",null,"Ростелеком Мобильная связь +79932213431",0,{"$f":"IFERROR(IF(A112=\"\",\"\",VLOOKUP(J112,'Соответствия статей'!$A$2:$B$50,2,0)),\"Другое\")","v":"Телефонная связь"},"Банк","Расход"]
["2020-03-05T13:04:49","2020-03-09","*7357","OK",-270,"RUB",-270,"RUB",2,"Фастфуд",5814,"Рестораны ТАРЕЛКА",2,{"$f":"IFERROR(IF(A113=\"\",\"\",VLOOKUP(J113,'Соответствия статей'!$A$2:$B$50,2,0)),\"Другое\")","v":"Рестораны"},"Банк","Расход"]
["2020-03-04T20:56:15","2020-03-07","*7357","OK",-107.99,"RUB",-107.99,"RUB",1,"Супермаркеты",5411,"Семишагофф",1,{"$f":"IFERROR(IF(A114=\"\",\"\",VLOOKUP(J114,'Соответствия статей'!$A$2:$B$50,2,0)),\"Другое\")","v":"Продукты"},"Банк","Расход"]
["2020-03-04T20:42:42","2020-03-07","*7357","OK",-525,"RUB",-525,"RUB",5,"Аптеки",5912,"Озерки",5,{"$f":"IFERROR(IF(A115=\"\",\"\",VLOOKUP(J115,'Соответствия статей'!$A$2:$B$50,2,0)),\"Другое\")","v":"Медицина"},"Банк","Расход"]
["2020-03-04T20:24:22","2020-03-07","*7357","OK",-122.3,"RUB",-122.3,"RUB",1,"Аптеки",5912,"Аптека 36,6",1,{"$f":"IFERROR(IF(A116=\"\",\"\",VLOOKUP(J116,'Соответствия статей'!$A$2:$B$50,2,0)),\"Другое\")","v":"Медицина"},"Банк","Расход"]
["2020-03-04T20:20:58","2020-03-07","*7357","OK",-601.64,"RUB",-601.64,"RUB",6,"Супермаркеты",5411,"Дикси",6,{"$f":"IFERROR(IF(A117=\"\",\"\",VLOOKUP(J117,'Соответствия статей'!$A$2:$B$50,2,0)),\"Другое\")","v":"Продукты"},"Банк","Расход"]
["2020-03-04T17:07:58","2020-03-05","*8173","OK",-75,"RUB",-75,"RUB",0,"Фастфуд",5814,"OOO As-Vend",0,{"$f":"IFERROR(IF(A118=\"\",\"\",VLOOKUP(J118,'Соответствия статей'!$A$2:$B$50,2,0)),\"Другое\")","v":"Рестораны"},"Банк","Расход"]
["2020-03-04T14:37:05","2020-03-07","*7127","OK",-270,"RUB",-270,"RUB",null,"Фастфуд",5814,"Рестораны ТАРЕЛКА",2,{"$f":"IFERROR(IF(A119=\"\",\"\",VLOOKUP(J119,'Соответствия статей'!$A$2:$B$50,2,0)),\"Другое\")","v":"Рестораны"},"Банк","Расход"]
["2020-03-04T13:08:12","2020-03-05","*8173","OK",-75,"RUB",-75,"RUB",0,"Фастфуд",5814,"OOO As-Vend",0,{"$f":"IFERROR(IF(A120=\"\",\"\",VLOOKUP(J120,'Соответствия статей'!$A$2:$B$50,2,0)),\"Другое\")","v":"Рестораны"},"Банк","Расход"]
["2020-03-03T19:03:03","2020-03-06","*8173","OK",-509.96,"RUB",-509.96,"RUB",5,"Супермаркеты",5411,"Перекресток",5,{"$f":"IFERROR(IF(A121=\"\",\"\",VLOOKUP(J121,'Соответствия статей'!$A$2:$B$50,2,0)),\"Другое\")","v":"Продукты"},"Банк","Расход"]
["2020-03-03T18:54:50","2020-03-05","*7127","OK",-200,"RUB",-200,"RUB",null,"Транспорт",4111,"Метро Санкт-Петербург",2,{"$f":"IFERROR(IF(A122=\"\",\"\",VLOOKUP(J122,'Соответствия статей'!$A$2:$B$50,2,0)),\"Другое\")","v":"Транспорт"},"Банк","Расход"]
["2020-03-03T14:51:00","2020-03-06","*7127","OK",-265,"RUB",-265,"RUB",null,"Фастфуд",5814,"Рестораны ТАРЕЛКА",2,{"$f":"IFERROR(IF(A123=\"\",\"\",VLOOKUP(J123,'Соответствия статей'!$A$2:$B$50,2,0)),\"Другое\")","v":"Рестораны"},"Банк","Расход"]
["2020-03-03T13:40:32","2020-03-06","*8173","OK",-25,"RUB",-25,"RUB",0,"Супермаркеты",5499,"Petro-Servis",0,{"$f":"IFERROR(IF(A124=\"\",\"\",VLOOKUP(J124,'Соответствия статей'!$A$2:$B$50,2,0)),\"Другое\")","v":"Продукты"},"Банк","Расход"]
["2020-03-03T13:17:27","2020-03-06","*8173","OK",-200,"RUB",-200,"RUB",2,"Фастфуд",5814,"Stolovaya",2,{"$f":"IFERROR(IF(A125=\"\",\"\",VLOOKUP(J125,'Соответствия статей'!$A$2:$B$50,2,0)),\"Другое\")","v":"Рестораны"},"Банк","Расход"]
["2020-03-03T08:40:29","2020-03-06","*7127","OK",-1600,"RUB",-1600,"RUB",null,"Мед. услуги",8099,"Spb Gbuz Tspsir",16,{"$f":"IFERROR(IF(A126=\"\",\"\",VLOOKUP(J126,'Соответствия статей'!$A$2:$B$50,2,0)),\"Другое\")","v":"Медицина"},"Банк","Расход"]
["2020-03-03T02:06:47","2020-03-03","*7127","OK",-500,"RUB",-500,"RUB",null,"Сервис. услуги",7311,"ВКонтакте",0,{"$f":"IFERROR(IF(A127=\"\",\"\",VLOOKUP(J127,'Соответствия статей'!$A$2:$B$50,2,0)),\"Другое\")","v":"Другое"},"Банк","Расход"]
["2020-03-02T20:28:58","2020-03-05","*7357","OK",-102.17,"RUB",-102.17,"RUB",1,"Супермаркеты",5411,"Дикси",1,{"$f":"IFERROR(IF(A128=\"\",\"\",VLOOKUP(J128,'Соответствия статей'!$A$2:$B$50,2,0)),\"Другое\")","v":"Продукты"},"Банк","Расход"]
["2020-03-02T20:28:42","2020-03-05","*7357","OK",-279.87,"RUB",-279.87,"RUB",2,"Супермаркеты",5411,"Дикси",2,{"$f":"IFERROR(IF(A129=\"\",\"\",VLOOKUP(J129,'Соответствия статей'!$A$2:$B$50,2,0)),\"Другое\")","v":"Продукты"},"Банк","Расход"]
["2020-03-02T18:06:50","2020-03-03","*7127","OK",-35,"RUB",-35,"RUB",null,"Фастфуд",5814,"OOO As-Vend",0,{"$f":"IFERROR(IF(A130=\"\",\"\",VLOOKUP(J130,'Соответствия статей'!$A$2:$B$50,2,0)),\"Другое\")","v":"Рестораны"},"Банк","Расход"]
["2020-03-02T13:57:25","2020-03-05","*7127","OK",-25,"RUB",-25,"RUB",null,"Супермаркеты",5499,"Petro-Servis",0,{"$f":"IFERROR(IF(A131=\"\",\"\",VLOOKUP(J131,'Соответствия статей'!$A$2:$B$50,2,0)),\"Другое\")","v":"Продукты"},"Банк","Расход"]
["2020-03-02T13:36:44","2020-03-05","*7127","OK",-200,"RUB",-200,"RUB",null,"Фастфуд",5814,"Stolovaya",2,{"$f":"IFERROR(IF(A132=\"\",\"\",VLOOKUP(J132,'Соответствия статей'!$A$2:$B$50,2,0)),\"Другое\")","v":"Рестораны"},"Банк","Расход"]
["2020-03-02T12:43:25","2020-03-05","*7357","OK",-265,"RUB",-265,"RUB",2,"Фастфуд",5814,"Рестораны ТАРЕЛКА",2,{"$f":"IFERROR(IF(A133=\"\",\"\",VLOOKUP(J133,'Соответствия статей'!$A$2:$B$50,2,0)),\"Другое\")","v":"Рестораны"},"Банк","Расход"]
["2020-03-01T17:03:55","2020-03-04","*7127","OK",-559,"RUB",-559,"RUB",null,"Аптеки",5912,"Аптека 36,6",5,{"$f":"IFERROR(IF(A134=\"\",\"\",VLOOKUP(J134,'Соответствия статей'!$A$2:$B$50,2,0)),\"Другое\")","v":"Медицина"},"Банк","Расход"]
["2020-03-01T15:52:32","2020-03-04","*7127","OK",-31,"RUB",-31,"RUB",null,"Книги",5192,"Первая полоса",0,{"$f":"IFERROR(IF(A135=\"\",\"\",VLOOKUP(J135,'Соответствия статей'!$A$2:$B$50,2,0)),\"Другое\")","v":"Обучение"},"Банк","Расход"]
["2020-03-01T15:48:52","2020-03-05","*7127","OK",-807.5,"RUB",-807.5,"RUB",null,"Супермаркеты",5411,"Перекресток",8,{"$f":"IFERROR(IF(A136=\"\",\"\",VLOOKUP(J136,'Соответствия статей'!$A$2:$B$50,2,0)),\"Другое\")","v":"Продукты"},"Банк","Расход"]
["2020-03-01T14:36:27","2020-03-01","*7127","OK",-360,"RUB",-360,"RUB",null,"Мобильные/иб",null,"Ростелеком Мобильная связь +79932213431",0,{"$f":"IFERROR(IF(A137=\"\",\"\",VLOOKUP(J137,'Соответствия статей'!$A$2:$B$50,2,0)),\"Другое\")","v":"Телефонная связь"},"Банк","Расход"]
["2020-03-01T12:44:09","2020-03-01","*7127","OK",25,"RUB",25,"RUB",null,"Прочие доходы",null,"Компенсация покупки",0,{"$f":"IFERROR(IF(A138=\"\",\"\",VLOOKUP(J138,'Соответствия статей'!$A$2:$B$50,2,0)),\"Другое\")","v":"Прочие доходы"},"Банк","Доход"]
["2020-03-01T12:43:58","2020-03-01","*7127","OK",25,"RUB",25,"RUB",null,"Прочие доходы",null,"Компенсация покупки",0,{"$f":"IFERROR(IF(A139=\"\",\"\",VLOOKUP(J139,'Соответствия статей'!$A$2:$B$50,2,0)),\"Другое\")","v":"Прочие доходы"},"Банк","Доход"]
["2020-03-01T12:43:46","2020-03-01","*7127","OK",25,"RUB",25,"RUB",null,"Прочие доходы",null,"Компенсация покупки",0,{"$f":"IFERROR(IF(A140=\"\",\"\",VLOOKUP(J140,'Соответствия статей'!$A$2:$B$50,2,0)),\"Другое\")","v":"Прочие доходы"},"Банк","Доход"]
["2020-03-01T12:43:23","2020-03-01","*7127","OK",25,"RUB",25,"RUB",null,"Прочие доходы",null,"Компенсация покупки",0,{"$f":"IFERROR(IF(A141=\"\",\"\",VLOOKUP(J141,'Соответствия статей'!$A$2:$B$50,2,0)),\"Другое\")","v":"Прочие доходы"},"Банк","Доход"]
["2020-03-01T12:42:59","2020-03-01","*7127","OK",200,"RUB",200,"RUB",null,"Прочие доходы",null,"Компенсация покупки",0,{"$f":"IFERROR(IF(A142=\"\",\"\",VLOOKUP(J142,'Соответствия статей'!$A$2:$B$50,2,0)),\"Другое\")","v":"Прочие доходы"},"Банк","Доход"]
["2020-03-01T12:42:14","2020-03-01","*7127","OK",314,"RUB",314,"RUB",null,"Прочие доходы",null,"Компенсация покупки",0,{"$f":"IFERROR(IF(A143=\"\",\"\",VLOOKUP(J143,'Соответствия статей'!$A$2:$B$50,2,0)),\"Другое\")","v":"Прочие доходы"},"Банк","Доход"]
["2020-03-01T12:41:09","2020-03-01","*7127","OK",1004.02,"RUB",1004.02,"RUB",null,"Прочие доходы",null,"Компенсация покупки",0,{"$f":"IFERROR(IF(A144=\"\",\"\",VLOOKUP(J144,'Соответствия статей'!$A$2:$B$50,2,0)),\"Другое\")","v":"Прочие доходы"},"Банк","Доход"]
["2020-02-29T22:54:57","2020-02-29",null,"OK",-59,"RUB",-59,"RUB",null,"Другое",null,"Плата за оповещения об операциях",0,{"$f":"IFERROR(IF(A145=\"\",\"\",VLOOKUP(J145,'Соответствия статей'!$A$2:$B$50,2,0)),\"Другое\")","v":"Другое"},"Банк","Расход"]
["2020-02-29T19:07:37","2020-03-03","*7127","OK",-449.69,"RUB",-449.69,"RUB",null,"Супермаркеты",5411,"Верный",4,{"$f":"IFERROR(IF(A146=\"\",\"\",VLOOKUP(J146,'Соответствия статей'!$A$2:$B$50,2,0)),\"Другое\")","v":"Продукты"},"Банк","Расход"]
["2020-02-29T10:51:46","2020-03-03","*7127","OK",-333.01,"RUB",-333.01,"RUB",null,"Супермаркеты",5411,"Магнит",3,{"$f":"IFERROR(IF(A147=\"\",\"\",VLOOKUP(J147,'Соответствия статей'!$A$2:$B$50,2,0)),\"Другое\")","v":"Продукты"},"Банк","Расход"]
["2020-02-28T13:21:34","2020-03-02","*7127","OK",-25,"RUB",-25,"RUB",null,"Супермаркеты",5499,"Petro-Servis",0,{"$f":"IFERROR(IF(A148=\"\",\"\",VLOOKUP(J148,'Соответствия статей'!$A$2:$B$50,2,0)),\"Другое\")","v":"Продукты"},"Банк","Расход"]
["2020-02-28T13:00:04","2020-03-02","*7127","OK",-200,"RUB",-200,"RUB",null,"Фастфуд",5814,"Stolovaya",2,{"$f":"IFERROR(IF(A149=\"\",\"\",VLOOKUP(J149,'Соответствия статей'!$A$2:$B$50,2,0)),\"Другое\")","v":"Рестораны"},"Банк","Расход"]
["2020-02-27T19:18:40","2020-02-29","*7127","OK",-249.89,"RUB",-249.89,"RUB",null,"Фастфуд",5814,"Burger King",2,{"$f":"IFERROR(IF(A150=\"\",\"\",VLOOKUP(J150,'Соответствия статей'!$A$2:$B$50,2,0)),\"Другое\")","v":"Рестораны"},"Банк","Расход"]
["2020-02-27T19:10:52","2020-02-29","*7127","OK",-275.95999999999998,"RUB",-275.95999999999998,"RUB",null,"Супермаркеты",5411,"О'КЕЙ",2,{"$f":"IFERROR(IF(A151=\"\",\"\",VLOOKUP(J151,'Соответствия статей'!$A$2:$B$50,2,0)),\"Другое\")","v":"Продукты"},"Банк","Расход"]
["2020-02-27T13:34:23","2020-02-29","*7127","OK",-25,"RUB",-25,"RUB",null,"Супермаркеты",5499,"Petro-Servis",0,{"$f":"IFERROR(IF(A152=\"\",\"\",VLOOKUP(J152,'Соответствия статей'!$A$2:$B$50,2,0)),\"Другое\")","v":"Продукты"},"Банк","Расход"]
["2020-02-27T13:13:19","2020-02-29","*7127","OK",-200,"RUB",-200,"RUB",null,"Фастфуд",5814,"Stolovaya",2,{"$f":"IFERROR(IF(A153=\"\",\"\",VLOOKUP(J153,'Соответствия статей'!$A$2:$B$50,2,0)),\"Другое\")","v":"Рестораны"},"Банк","Расход"]
["2020-02-26T22:04:29","2020-02-27","*7127","OK",-250,"RUB",-250,"RUB",null,"Мобильные/иб",null,"TELE2 +79967762825",0,{"$f":"IFERROR(IF(A154=\"\",\"\",VLOOKUP(J154,'Соответствия статей'!$A$2:$B$50,2,0)),\"Другое\")","v":"Телефонная связь"},"Банк","Расход"]
["2020-02-26T13:48:50","2020-02-29","*7127","OK",-25,"RUB",-25,"RUB",null,"Супермаркеты",5499,"Petro-Servis",0,{"$f":"IFERROR(IF(A155=\"\",\"\",VLOOKUP(J155,'Соответствия статей'!$A$2:$B$50,2,0)),\"Другое\")","v":"Продукты"},"Банк","Расход"]
["2020-02-26T13:19:22","2020-02-28","*7127","OK",-200,"RUB",-200,"RUB",null,"Фастфуд",5814,"Stolovaya",2,{"$f":"IFERROR(IF(A156=\"\",\"\",VLOOKUP(J156,'Соответствия статей'!$A$2:$B$50,2,0)),\"Другое\")","v":"Рестораны"},"Банк","Расход"]
["2020-02-25T19:06:11","2020-02-28","*7127","OK",-649,"RUB",-649,"RUB",null,"Супермаркеты",5411,"Перекресток",6,{"$f":"IFERROR(IF(A157=\"\",\"\",VLOOKUP(J157,'Соответствия статей'!$A$2:$B$50,2,0)),\"Другое\")","v":"Продукты"},"Банк","Расход"]
["2020-02-25T13:46:10","2020-02-25","*8173","OK",625,"RUB",625,"RUB",null,"Прочие доходы",null,"Иван Ш.",0,{"$f":"IFERROR(IF(A158=\"\",\"\",VLOOKUP(J158,'Соответствия статей'!$A$2:$B$50,2,0)),\"Другое\")","v":"Прочие доходы"},"Банк","Доход"]
["2020-02-25T13:36:10","2020-02-26","*7127","OK",-25,"RUB",-25,"RUB",null,"Фастфуд",5814,"Petro-Servis",0,{"$f":"IFERROR(IF(A159=\"\",\"\",VLOOKUP(J159,'Соответствия статей'!$A$2:$B$50,2,0)),\"Другое\")","v":"Рестораны"},"Банк","Расход"]
["2020-02-25T13:15:02","2020-02-27","*7127","OK",-205,"RUB",-205,"RUB",null,"Фастфуд",5814,"Stolovaya",2,{"$f":"IFERROR(IF(A160=\"\",\"\",VLOOKUP(J160,'Соответствия статей'!$A$2:$B$50,2,0)),\"Другое\")","v":"Рестораны"},"Банк","Расход"]
["2020-02-25T01:22:01","2020-02-25","*7127","OK",-625,"RUB",-625,"RUB",null,"Сервис. услуги",7311,"ВКонтакте",0,{"$f":"IFERROR(IF(A161=\"\",\"\",VLOOKUP(J161,'Соответствия статей'!$A$2:$B$50,2,0)),\"Другое\")","v":"Другое"},"Банк","Расход"]
["2020-02-24T13:23:55","2020-02-27","*7127","OK",-29.99,"RUB",-29.99,"RUB",null,"Супермаркеты",5411,"Семишагофф",0,{"$f":"IFERROR(IF(A162=\"\",\"\",VLOOKUP(J162,'Соответствия статей'!$A$2:$B$50,2,0)),\"Другое\")","v":"Продукты"},"Банк","Расход"]
["2020-02-24T12:48:38","2020-02-26","*7127","OK",-487,"RUB",-487,"RUB",null,"Аптеки",5912,"Озерки",4,{"$f":"IFERROR(IF(A163=\"\",\"\",VLOOKUP(J163,'Соответствия статей'!$A$2:$B$50,2,0)),\"Другое\")","v":"Медицина"},"Банк","Расход"]
["2020-02-24T12:27:09","2020-02-27","*7127","OK",-666.46,"RUB",-666.46,"RUB",null,"Супермаркеты",5411,"Перекресток",6,{"$f":"IFERROR(IF(A164=\"\",\"\",VLOOKUP(J164,'Соответствия статей'!$A$2:$B$50,2,0)),\"Другое\")","v":"Продукты"},"Банк","Расход"]
["2020-02-23T22:41:53","2020-02-23",null,"OK",-99,"RUB",-99,"RUB",null,"Другое",null,"Плата за обслуживание",0,{"$f":"IFERROR(IF(A165=\"\",\"\",VLOOKUP(J165,'Соответствия статей'!$A$2:$B$50,2,0)),\"Другое\")","v":"Другое"},"Банк","Расход"]
["2020-02-23T22:22:41","2020-02-23",null,"OK",67,"RUB",67,"RUB",null,"Прочие доходы",null,"Вознаграждение за операции покупок",0,{"$f":"IFERROR(IF(A166=\"\",\"\",VLOOKUP(J166,'Соответствия статей'!$A$2:$B$50,2,0)),\"Другое\")","v":"Прочие доходы"},"Банк","Доход"]
["2020-02-23T21:34:10","2020-02-23",null,"OK",2.69,"RUB",2.69,"RUB",null,"Прочие доходы",null,"Проценты на остаток по счету",0,{"$f":"IFERROR(IF(A167=\"\",\"\",VLOOKUP(J167,'Соответствия статей'!$A$2:$B$50,2,0)),\"Другое\")","v":"Прочие доходы"},"Банк","Доход"]
["2020-02-23T21:05:47","2020-02-24","*8173","OK",400,"RUB",400,"RUB",null,"Прочие доходы",null,"Иван Ш.",0,{"$f":"IFERROR(IF(A168=\"\",\"\",VLOOKUP(J168,'Соответствия статей'!$A$2:$B$50,2,0)),\"Другое\")","v":"Прочие доходы"},"Банк","Доход"]
["2020-02-23T20:10:28","2020-02-26","*7127","OK",-524.61,"RUB",-524.61,"RUB",null,"Супермаркеты",5411,"Перекресток",5,{"$f":"IFERROR(IF(A169=\"\",\"\",VLOOKUP(J169,'Соответствия статей'!$A$2:$B$50,2,0)),\"Другое\")","v":"Продукты"},"Банк","Расход"]
["2020-02-22T21:00:53","2020-02-24","*8173","OK",-136,"RUB",-136,"RUB",6,"Транспорт",4121,"Uber",6,{"$f":"IFERROR(IF(A170=\"\",\"\",VLOOKUP(J170,'Соответствия статей'!$A$2:$B$50,2,0)),\"Другое\")","v":"Транспорт"},"Банк","Расход"]
["2020-02-22T18:31:50","2020-02-25","*7127","OK",-579.96,"RUB",-579.96,"RUB",null,"Супермаркеты",5411,"Пятерочка",5,{"$f":"IFERROR(IF(A171=\"\",\"\",VLOOKUP(J171,'Соответствия статей'!$A$2:$B$50,2,0)),\"Другое\")","v":"Продукты"},"Банк","Расход"]
["2020-02-22T18:19:47","2020-02-25","*7127","OK",-75,"RUB",-75,"RUB",null,"Аптеки",5912,"OOO Parus",0,{"$f":"IFERROR(IF(A172=\"\",\"\",VLOOKUP(J172,'Соответствия статей'!$A$2:$B$50,2,0)),\"Другое\")","v":"Медицина"},"Банк","Расход"]
["2020-02-22T16:45:55","2020-02-22","*8173","OK",4400,"RUB",4400,"RUB",null,"Прочие доходы",null,"Иван Ш.",0,{"$f":"IFERROR(IF(A173=\"\",\"\",VLOOKUP(J173,'Соответствия статей'!$A$2:$B$50,2,0)),\"Другое\")","v":"Прочие доходы"},"Банк","Доход"]
["2020-02-22T00:21:04","2020-02-25","*7127","OK",-488.46,"RUB",-488.46,"RUB",null,"Супермаркеты",5411,"Перекресток",4,{"$f":"IFERROR(IF(A174=\"\",\"\",VLOOKUP(J174,'Соответствия статей'!$A$2:$B$50,2,0)),\"Другое\")","v":"Продукты"},"Банк","Расход"]
["2020-02-21T21:42:49","2020-02-24","*7127","OK",-120,"RUB",-120,"RUB",null,"Аптеки",5912,"Аптеки Первая Помощь",1,{"$f":"IFERROR(IF(A175=\"\",\"\",VLOOKUP(J175,'Соответствия статей'!$A$2:$B$50,2,0)),\"Другое\")","v":"Медицина"},"Банк","Расход"]
["2020-02-21T21:35:40","2020-02-25","*8173","OK",-684,"RUB",-684,"RUB",34,"Кино",7832,"Синема Парк",34,{"$f":"IFERROR(IF(A176=\"\",\"\",VLOOKUP(J176,'Соответствия статей'!$A$2:$B$50,2,0)),\"Другое\")","v":"Развлечения"},"Банк","Расход"]
["2020-02-21T20:32:19","2020-02-25","*7357","OK",-249.89,"RUB",-249.89,"RUB",2,"Фастфуд",5814,"Burger King",2,{"$f":"IFERROR(IF(A177=\"\",\"\",VLOOKUP(J177,'Соответствия статей'!$A$2:$B$50,2,0)),\"Другое\")","v":"Рестораны"},"Банк","Расход"]
["2020-02-21T19:36:55","2020-02-25","*7357","OK",-100,"RUB",-100,"RUB",5,"Транспорт",4111,"Метро Санкт-Петербург",5,{"$f":"IFERROR(IF(A178=\"\",\"\",VLOOKUP(J178,'Соответствия статей'!$A$2:$B$50,2,0)),\"Другое\")","v":"Транспорт"},"Банк","Расход"]
["2020-02-21T18:56:56","2020-02-25","*7127","OK",-279.98,"RUB",-279.98,"RUB",null,"Фастфуд",5814,"Burger King",2,{"$f":"IFERROR(IF(A179=\"\",\"\",VLOOKUP(J179,'Соответствия статей'!$A$2:$B$50,2,0)),\"Другое\")","v":"Рестораны"},"Банк","Расход"]
["2020-02-21T13:36:06","2020-02-24","*7127","OK",-25,"RUB",-25,"RUB",null,"Супермаркеты",5499,"Petro-Servis",0,{"$f":"IFERROR(IF(A180=\"\",\"\",VLOOKUP(J180,'Соответствия статей'!$A$2:$B$50,2,0)),\"Другое\")","v":"Продукты"},"Банк","Расход"]
["2020-02-21T13:13:50","2020-02-24","*7127","OK",-200,"RUB",-200,"RUB",null,"Фастфуд",5814,"Stolovaya",2,{"$f":"IFERROR(IF(A181=\"\",\"\",VLOOKUP(J181,'Соответствия статей'!$A$2:$B$50,2,0)),\"Другое\")","v":"Рестораны"},"Банк","Расход"]
["2020-02-21T00:45:46","2020-02-21","*7127","OK",-500,"RUB",-500,"RUB",null,"Сервис. услуги",7311,"ВКонтакте",0,{"$f":"IFERROR(IF(A182=\"\",\"\",VLOOKUP(J182,'Соответствия статей'!$A$2:$B$50,2,0)),\"Другое\")","v":"Другое"},"Банк","Расход"]
["2020-02-20T20:04:12","2020-02-22","*7357","OK",-100,"RUB",-100,"RUB",5,"Транспорт",4111,"Метро Санкт-Петербург",5,{"$f":"IFERROR(IF(A183=\"\",\"\",VLOOKUP(J183,'Соответствия статей'!$A$2:$B$50,2,0)),\"Другое\")","v":"Транспорт"},"Банк","Расход"]
["2020-02-20T19:25:53","2020-02-24","*7127","OK",-832.61,"RUB",-832.61,"RUB",null,"Супермаркеты",5411,"Перекресток",8,{"$f":"IFERROR(IF(A184=\"\",\"\",VLOOKUP(J184,'Соответствия статей'!$A$2:$B$50,2,0)),\"Другое\")","v":"Продукты"},"Банк","Расход"]
["2020-02-20T14:44:59","2020-02-25","*7357","OK",-198,"RUB",-198,"RUB",1,"Разные товары",5311,"Fixprice",1,{"$f":"IFERROR(IF(A185=\"\",\"\",VLOOKUP(J185,'Соответствия статей'!$A$2:$B$50,2,0)),\"Другое\")","v":"Другое"},"Банк","Расход"]
["2020-02-20T13:43:49","2020-02-22","*7127","OK",-25,"RUB",-25,"RUB",null,"Супермаркеты",5499,"Petro-Servis",0,{"$f":"IFERROR(IF(A186=\"\",\"\",VLOOKUP(J186,'Соответствия статей'!$A$2:$B$50,2,0)),\"Другое\")","v":"Продукты"},"Банк","Расход"]
["2020-02-20T13:37:39","2020-02-22","*7357","OK",-230,"RUB",-230,"RUB",2,"Фастфуд",5814,"Рестораны ТАРЕЛКА",2,{"$f":"IFERROR(IF(A187=\"\",\"\",VLOOKUP(J187,'Соответствия статей'!$A$2:$B$50,2,0)),\"Другое\")","v":"Рестораны"},"Банк","Расход"]
["2020-02-20T07:50:00","2020-02-21","*7127","OK",-25,"RUB",-25,"RUB",null,"Фастфуд",5814,"OOO As-Vend",0,{"$f":"IFERROR(IF(A188=\"\",\"\",VLOOKUP(J188,'Соответствия статей'!$A$2:$B$50,2,0)),\"Другое\")","v":"Рестораны"},"Банк","Расход"]
["2020-02-19T19:08:36","2020-02-22","*7127","OK",-694.56,"RUB",-694.56,"RUB",null,"Супермаркеты",5411,"Перекресток",6,{"$f":"IFERROR(IF(A189=\"\",\"\",VLOOKUP(J189,'Соответствия статей'!$A$2:$B$50,2,0)),\"Другое\")","v":"Продукты"},"Банк","Расход"]
["2020-02-19T13:19:48","2020-02-22","*7127","OK",-25,"RUB",-25,"RUB",null,"Супермаркеты",5499,"Petro-Servis",0,{"$f":"IFERROR(IF(A190=\"\",\"\",VLOOKUP(J190,'Соответствия статей'!$A$2:$B$50,2,0)),\"Другое\")","v":"Продукты"},"Банк","Расход"]
["2020-02-19T12:32:22","2020-02-22","*7357","OK",-273,"RUB",-273,"RUB",2,"Фастфуд",5814,"Рестораны ТАРЕЛКА",2,{"$f":"IFERROR(IF(A191=\"\",\"\",VLOOKUP(J191,'Соответствия статей'!$A$2:$B$50,2,0)),\"Другое\")","v":"Рестораны"},"Банк","Расход"]
["2020-02-19T10:50:05","2020-02-20","*7127","OK",251,"RUB",251,"RUB",null,"Финан. услуги",6513,"Rosreestr.Net",-2,{"$f":"IFERROR(IF(A192=\"\",\"\",VLOOKUP(J192,'Соответствия статей'!$A$2:$B$50,2,0)),\"Другое\")","v":"Переводы"},"Банк","Расход"]
["2020-02-19T02:56:12","2020-02-19","*8173","OK",-50,"RUB",-50,"RUB",null,"Мобильные/иб",null,"TELE2 - автоплатеж +79533443146",0,{"$f":"IFERROR(IF(A193=\"\",\"\",VLOOKUP(J193,'Соответствия статей'!$A$2:$B$50,2,0)),\"Другое\")","v":"Телефонная связь"},"Банк","Расход"]
["2020-02-18T21:55:23","2020-02-19","*7127","OK",-695.28,"RUB",-695.28,"RUB",null,"Жкх/иб",4900,"Петроэлектросбыт",0,{"$f":"IFERROR(IF(A194=\"\",\"\",VLOOKUP(J194,'Соответствия статей'!$A$2:$B$50,2,0)),\"Другое\")","v":"Коммунальные услуги"},"Банк","Расход"]
["2020-02-18T19:06:31","2020-02-21","*7127","OK",-319.32,"RUB",-319.32,"RUB",null,"Супермаркеты",5411,"Перекресток",3,{"$f":"IFERROR(IF(A195=\"\",\"\",VLOOKUP(J195,'Соответствия статей'!$A$2:$B$50,2,0)),\"Другое\")","v":"Продукты"},"Банк","Расход"]
["2020-02-18T13:35:25","2020-02-20","*7127","OK",-25,"RUB",-25,"RUB",null,"Супермаркеты",5499,"Petro-Servis",0,{"$f":"IFERROR(IF(A196=\"\",\"\",VLOOKUP(J196,'Соответствия статей'!$A$2:$B$50,2,0)),\"Другое\")","v":"Продукты"},"Банк","Расход"]
["2020-02-18T13:14:18","2020-02-21","*7127","OK",-200,"RUB",-200,"RUB",null,"Фастфуд",5814,"Stolovaya",2,{"$f":"IFERROR(IF(A197=\"\",\"\",VLOOKUP(J197,'Соответствия статей'!$A$2:$B$50,2,0)),\"Другое\")","v":"Рестораны"},"Банк","Расход"]
["2020-02-18T13:03:03","2020-02-21","*7357","OK",-253,"RUB",-253,"RUB",2,"Фастфуд",5814,"Рестораны ТАРЕЛКА",2,{"$f":"IFERROR(IF(A198=\"\",\"\",VLOOKUP(J198,'Соответствия статей'!$A$2:$B$50,2,0)),\"Другое\")","v":"Рестораны"},"Банк","Расход"]
["2020-02-18T11:01:21","2020-02-18","*8173","OK",510,"RUB",510,"RUB",null,"Прочие доходы",null,"Иван Ш.",0,{"$f":"IFERROR(IF(A199=\"\",\"\",VLOOKUP(J199,'Соответствия статей'!$A$2:$B$50,2,0)),\"Другое\")","v":"Прочие доходы"},"Банк","Доход"]
["2020-02-18T10:59:53","2020-02-19","*7127","OK",-25,"RUB",-25,"RUB",null,"Фастфуд",5814,"OOO As-Vend",0,{"$f":"IFERROR(IF(A200=\"\",\"\",VLOOKUP(J200,'Соответствия статей'!$A$2:$B$50,2,0)),\"Другое\")","v":"Рестораны"},"Банк","Расход"]
["2020-02-18T02:55:41","2020-02-18","*7127","OK",-510,"RUB",-510,"RUB",null,"Сервис. услуги",7311,"ВКонтакте",0,{"$f":"IFERROR(IF(A201=\"\",\"\",VLOOKUP(J201,'Соответствия статей'!$A$2:$B$50,2,0)),\"Другое\")","v":"Другое"},"Банк","Расход"]
["2020-02-17T22:16:38","2020-02-18","*7127","OK",-13686.8,"RUB",-13686.8,"RUB",null,"Ж/д билеты",4112,"РЖД",136,{"$f":"IFERROR(IF(A202=\"\",\"\",VLOOKUP(J202,'Соответствия статей'!$A$2:$B$50,2,0)),\"Другое\")","v":"Поездки"},"Банк","Расход"]
["2020-02-17T19:36:27","2020-02-19","*7127","OK",-12402,"RUB",-12402,"RUB",null,"Авиабилеты",4511,"Авиакомпания UTair",124,{"$f":"IFERROR(IF(A203=\"\",\"\",VLOOKUP(J203,'Соответствия статей'!$A$2:$B$50,2,0)),\"Другое\")","v":"Поездки"},"Банк","Расход"]
["2020-02-17T19:31:07","2020-02-20","*7127","OK",-154.99,"RUB",-154.99,"RUB",null,"Супермаркеты",5411,"Дикси",1,{"$f":"IFERROR(IF(A204=\"\",\"\",VLOOKUP(J204,'Соответствия статей'!$A$2:$B$50,2,0)),\"Другое\")","v":"Продукты"},"Банк","Расход"]
["2020-02-17T19:18:32","2020-02-20","*7127","OK",-367,"RUB",-367,"RUB",null,"Аптеки",5912,"Apteka 78-385",3,{"$f":"IFERROR(IF(A205=\"\",\"\",VLOOKUP(J205,'Соответствия статей'!$A$2:$B$50,2,0)),\"Другое\")","v":"Медицина"},"Банк","Расход"]
["2020-02-17T13:31:49","2020-02-20","*7127","OK",-25,"RUB",-25,"RUB",null,"Супермаркеты",5499,"Petro-Servis",0,{"$f":"IFERROR(IF(A206=\"\",\"\",VLOOKUP(J206,'Соответствия статей'!$A$2:$B$50,2,0)),\"Другое\")","v":"Продукты"},"Банк","Расход"]
["2020-02-17T13:04:14","2020-02-19","*7127","OK",-200,"RUB",-200,"RUB",null,"Фастфуд",5814,"Stolovaya",2,{"$f":"IFERROR(IF(A207=\"\",\"\",VLOOKUP(J207,'Соответствия статей'!$A$2:$B$50,2,0)),\"Другое\")","v":"Рестораны"},"Банк","Расход"]
["2020-02-17T12:46:09","2020-02-20","*7357","OK",-278,"RUB",-278,"RUB",2,"Фастфуд",5814,"Рестораны ТАРЕЛКА",2,{"$f":"IFERROR(IF(A208=\"\",\"\",VLOOKUP(J208,'Соответствия статей'!$A$2:$B$50,2,0)),\"Другое\")","v":"Рестораны"},"Банк","Расход"]
["2020-02-17T10:06:40","2020-02-17","*7127","OK",-370,"RUB",-370,"RUB",null,"Мобильные/иб",null,"Мой телефон +79533443146",0,{"$f":"IFERROR(IF(A209=\"\",\"\",VLOOKUP(J209,'Соответствия статей'!$A$2:$B$50,2,0)),\"Другое\")","v":"Телефонная связь"},"Банк","Расход"]
["2020-02-16T18:18:11","2020-02-19","*7127","OK",-341,"RUB",-341,"RUB",null,"Книги",5942,"Буквоед",3,{"$f":"IFERROR(IF(A210=\"\",\"\",VLOOKUP(J210,'Соответствия статей'!$A$2:$B$50,2,0)),\"Другое\")","v":"Обучение"},"Банк","Расход"]
["2020-02-16T17:52:49","2020-02-19","*7127","OK",-1745.49,"RUB",-1745.49,"RUB",null,"Супермаркеты",5411,"Перекресток",17,{"$f":"IFERROR(IF(A211=\"\",\"\",VLOOKUP(J211,'Соответствия статей'!$A$2:$B$50,2,0)),\"Другое\")","v":"Продукты"},"Банк","Расход"]
["2020-02-15T17:39:46","2020-02-18","*7127","OK",-128.97,"RUB",-128.97,"RUB",null,"Супермаркеты",5411,"Пятерочка",1,{"$f":"IFERROR(IF(A212=\"\",\"\",VLOOKUP(J212,'Соответствия статей'!$A$2:$B$50,2,0)),\"Другое\")","v":"Продукты"},"Банк","Расход"]
["2020-02-15T17:33:17","2020-02-18","*7127","OK",-905,"RUB",-905,"RUB",null,"Аптеки",5912,"Озерки",9,{"$f":"IFERROR(IF(A213=\"\",\"\",VLOOKUP(J213,'Соответствия статей'!$A$2:$B$50,2,0)),\"Другое\")","v":"Медицина"},"Банк","Расход"]
["2020-02-15T03:38:42","2020-02-18","*8173","OK",-182,"RUB",-182,"RUB",9,"Транспорт",4121,"Uber",9,{"$f":"IFERROR(IF(A214=\"\",\"\",VLOOKUP(J214,'Соответствия статей'!$A$2:$B$50,2,0)),\"Другое\")","v":"Транспорт"},"Банк","Расход"]
["2020-02-15T00:57:15","2020-02-18","*8173","OK",-197,"RUB",-197,"RUB",9,"Транспорт",4121,"Uber",9,{"$f":"IFERROR(IF(A215=\"\",\"\",VLOOKUP(J215,'Соответствия статей'!$A$2:$B$50,2,0)),\"Другое\")","v":"Транспорт"},"Банк","Расход"]
["2020-02-15T00:16:20","2020-02-17","*7127","OK",-3100,"RUB",-3100,"RUB",null,"Рестораны",5812,"Restoran Larisuvanuhoc",31,{"$f":"IFERROR(IF(A216=\"\",\"\",VLOOKUP(J216,'Соответствия статей'!$A$2:$B$50,2,0)),\"Другое\")","v":"Рестораны"},"Банк","Расход"]
["2020-02-14T20:32:51","2020-02-18","*7357","OK",-140,"RUB",-140,"RUB",1,"Аптеки",5912,"Озерки",1,{"$f":"IFERROR(IF(A217=\"\",\"\",VLOOKUP(J217,'Соответствия статей'!$A$2:$B$50,2,0)),\"Другое\")","v":"Медицина"},"Банк","Расход"]
["2020-02-14T20:17:17","2020-02-17","*7357","OK",-202.83,"RUB",-202.83,"RUB",2,"Супермаркеты",5411,"Перекресток",2,{"$f":"IFERROR(IF(A218=\"\",\"\",VLOOKUP(J218,'Соответствия статей'!$A$2:$B$50,2,0)),\"Другое\")","v":"Продукты"},"Банк","Расход"]
["2020-02-14T20:04:36","2020-02-17","*7357","OK",-98,"RUB",-98,"RUB",0,"Книги",5942,"Буквоед",0,{"$f":"IFERROR(IF(A219=\"\",\"\",VLOOKUP(J219,'Соответствия статей'!$A$2:$B$50,2,0)),\"Другое\")","v":"Обучение"},"Банк","Расход"]
["2020-02-14T19:32:28","2020-02-14","*8173","OK",510,"RUB",510,"RUB",null,"Прочие доходы",null,"Иван Ш.",0,{"$f":"IFERROR(IF(A220=\"\",\"\",VLOOKUP(J220,'Соответствия статей'!$A$2:$B$50,2,0)),\"Другое\")","v":"Прочие доходы"},"Банк","Доход"]
["2020-02-14T18:44:44","2020-02-17","*7127","OK",-510,"RUB",-510,"RUB",null,"ДРУГИЕ ОПЕРАЦИИ",5816,"ВКонтакте",5,{"$f":"IFERROR(IF(A221=\"\",\"\",VLOOKUP(J221,'Соответствия статей'!$A$2:$B$50,2,0)),\"Другое\")","v":"Другое"},"Банк","Расход"]
["2020-02-14T14:08:07","2020-02-17","*7357","OK",-248,"RUB",-248,"RUB",2,"Фастфуд",5814,"Tarelka",2,{"$f":"IFERROR(IF(A222=\"\",\"\",VLOOKUP(J222,'Соответствия статей'!$A$2:$B$50,2,0)),\"Другое\")","v":"Рестораны"},"Банк","Расход"]
["2020-02-14T13:19:39","2020-02-15","*7127","OK",-25,"RUB",-25,"RUB",null,"Фастфуд",5814,"Petro-Servis",0,{"$f":"IFERROR(IF(A223=\"\",\"\",VLOOKUP(J223,'Соответствия статей'!$A$2:$B$50,2,0)),\"Другое\")","v":"Рестораны"},"Банк","Расход"]
["2020-02-14T12:58:00","2020-02-17","*7127","OK",-200,"RUB",-200,"RUB",null,"Фастфуд",5814,"Stolovaya",2,{"$f":"IFERROR(IF(A224=\"\",\"\",VLOOKUP(J224,'Соответствия статей'!$A$2:$B$50,2,0)),\"Другое\")","v":"Рестораны"},"Банк","Расход"]
["2020-02-13T19:30:48","2020-02-17","*7127","OK",-1237.75,"RUB",-1237.75,"RUB",null,"Супермаркеты",5411,"Перекресток",12,{"$f":"IFERROR(IF(A225=\"\",\"\",VLOOKUP(J225,'Соответствия статей'!$A$2:$B$50,2,0)),\"Другое\")","v":"Продукты"},"Банк","Расход"]
["2020-02-13T13:38:56","2020-02-14","*7127","OK",-25,"RUB",-25,"RUB",null,"Фастфуд",5814,"Petro-Servis",0,{"$f":"IFERROR(IF(A226=\"\",\"\",VLOOKUP(J226,'Соответствия статей'!$A$2:$B$50,2,0)),\"Другое\")","v":"Рестораны"},"Банк","Расход"]
["2020-02-13T13:15:48","2020-02-17","*7127","OK",-200,"RUB",-200,"RUB",null,"Фастфуд",5814,"Stolovaya",2,{"$f":"IFERROR(IF(A227=\"\",\"\",VLOOKUP(J227,'Соответствия статей'!$A$2:$B$50,2,0)),\"Другое\")","v":"Рестораны"},"Банк","Расход"]
["2020-02-13T02:30:33","2020-02-15","*8173","OK",-337,"RUB",-337,"RUB",16,"Транспорт",4121,"Uber",16,{"$f":"IFERROR(IF(A228=\"\",\"\",VLOOKUP(J228,'Соответствия статей'!$A$2:$B$50,2,0)),\"Другое\")","v":"Транспорт"},"Банк","Расход"]
["2020-02-12T13:49:03","2020-02-15","*7127","OK",-25,"RUB",-25,"RUB",null,"Супермаркеты",5499,"Petro-Servis",0,{"$f":"IFERROR(IF(A229=\"\",\"\",VLOOKUP(J229,'Соответствия статей'!$A$2:$B$50,2,0)),\"Другое\")","v":"Продукты"},"Банк","Расход"]
["2020-02-12T13:21:39","2020-02-14","*7127","OK",-200,"RUB",-200,"RUB",null,"Фастфуд",5814,"Stolovaya",2,{"$f":"IFERROR(IF(A230=\"\",\"\",VLOOKUP(J230,'Соответствия статей'!$A$2:$B$50,2,0)),\"Другое\")","v":"Рестораны"},"Банк","Расход"]
["2020-02-11T19:45:11","2020-02-15","*7127","OK",-605.78,"RUB",-605.78,"RUB",null,"Супермаркеты",5411,"Перекресток",6,{"$f":"IFERROR(IF(A231=\"\",\"\",VLOOKUP(J231,'Соответствия статей'!$A$2:$B$50,2,0)),\"Другое\")","v":"Продукты"},"Банк","Расход"]
["2020-02-11T19:05:29","2020-02-14","*7127","OK",-460,"RUB",-460,"RUB",null,"Дом, ремонт",5200,"Etm1416001",4,{"$f":"IFERROR(IF(A232=\"\",\"\",VLOOKUP(J232,'Соответствия статей'!$A$2:$B$50,2,0)),\"Другое\")","v":"Товары для дома, ремонта"},"Банк","Расход"]
["2020-02-11T17:06:43","2020-02-12","*7127","OK",-75,"RUB",-75,"RUB",null,"Фастфуд",5814,"OOO As-Vend",0,{"$f":"IFERROR(IF(A233=\"\",\"\",VLOOKUP(J233,'Соответствия статей'!$A$2:$B$50,2,0)),\"Другое\")","v":"Рестораны"},"Банк","Расход"]
["2020-02-11T14:57:39","2020-02-12","*7127","OK",-25,"RUB",-25,"RUB",null,"Фастфуд",5814,"OOO As-Vend",0,{"$f":"IFERROR(IF(A234=\"\",\"\",VLOOKUP(J234,'Соответствия статей'!$A$2:$B$50,2,0)),\"Другое\")","v":"Рестораны"},"Банк","Расход"]
["2020-02-11T12:36:15","2020-02-14","*7127","OK",-314,"RUB",-314,"RUB",null,"Фастфуд",5814,"Додо Пицца",3,{"$f":"IFERROR(IF(A235=\"\",\"\",VLOOKUP(J235,'Соответствия статей'!$A$2:$B$50,2,0)),\"Другое\")","v":"Рестораны"},"Банк","Расход"]
["2020-02-11T12:27:42","2020-02-12","*7127","OK",-258.04000000000002,"RUB",-258.04000000000002,"RUB",null,"Гос. сборы",9402,"Почта России",2,{"$f":"IFERROR(IF(A236=\"\",\"\",VLOOKUP(J236,'Соответствия статей'!$A$2:$B$50,2,0)),\"Другое\")","v":"Другое"},"Банк","Расход"]
["2020-02-11T11:32:09","2020-02-12","*7127","OK",-16,"RUB",-16,"RUB",null,"Гос. сборы",9402,"Почта России",0,{"$f":"IFERROR(IF(A237=\"\",\"\",VLOOKUP(J237,'Соответствия статей'!$A$2:$B$50,2,0)),\"Другое\")","v":"Другое"},"Банк","Расход"]
["2020-02-11T11:23:31","2020-02-12","*7127","OK",-10,"RUB",-10,"RUB",null,"Фото/видео",7395,"Foto Na Dokumenti",0,{"$f":"IFERROR(IF(A238=\"\",\"\",VLOOKUP(J238,'Соответствия статей'!$A$2:$B$50,2,0)),\"Другое\")","v":"Другое"},"Банк","Расход"]
["2020-02-11T11:02:05","2020-02-12","*7127","OK",-20,"RUB",-20,"RUB",null,"Фото/видео",7395,"Foto Na Dokumenti",0,{"$f":"IFERROR(IF(A239=\"\",\"\",VLOOKUP(J239,'Соответствия статей'!$A$2:$B$50,2,0)),\"Другое\")","v":"Другое"},"Банк","Расход"]
["2020-02-10T13:42:55","2020-02-13","*7127","OK",-25,"RUB",-25,"RUB",null,"Супермаркеты",5499,"Petro-Servis",0,{"$f":"IFERROR(IF(A240=\"\",\"\",VLOOKUP(J240,'Соответствия статей'!$A$2:$B$50,2,0)),\"Другое\")","v":"Продукты"},"Банк","Расход"]
["2020-02-10T13:07:20","2020-02-13","*7127","OK",-205,"RUB",-205,"RUB",null,"Фастфуд",5814,"Stolovaya",2,{"$f":"IFERROR(IF(A241=\"\",\"\",VLOOKUP(J241,'Соответствия статей'!$A$2:$B$50,2,0)),\"Другое\")","v":"Рестораны"},"Банк","Расход"]
["2020-02-10T01:12:58","2020-02-13","*7127","OK",-350,"RUB",-350,"RUB",null,"Финан. услуги",6513,"Rosreestr.Net",3,{"$f":"IFERROR(IF(A242=\"\",\"\",VLOOKUP(J242,'Соответствия статей'!$A$2:$B$50,2,0)),\"Другое\")","v":"Переводы"},"Банк","Расход"]
["2020-02-09T22:19:52","2020-02-12","*7127","OK",-350,"RUB",-350,"RUB",null,"Финан. услуги",6513,"Rosreestr.Net",3,{"$f":"IFERROR(IF(A243=\"\",\"\",VLOOKUP(J243,'Соответствия статей'!$A$2:$B$50,2,0)),\"Другое\")","v":"Переводы"},"Банк","Расход"]
["2020-02-09T22:12:10","2020-02-12","*7127","OK",-350,"RUB",-350,"RUB",null,"Финан. услуги",6513,"Rosreestr.Net",3,{"$f":"IFERROR(IF(A244=\"\",\"\",VLOOKUP(J244,'Соответствия статей'!$A$2:$B$50,2,0)),\"Другое\")","v":"Переводы"},"Банк","Расход"]
["2020-02-08T19:11:18","2020-02-11","*7127","OK",-329,"RUB",-329,"RUB",null,"Аптеки",5912,"Apt2896 Antares",3,{"$f":"IFERROR(IF(A245=\"\",\"\",VLOOKUP(J245,'Соответствия статей'!$A$2:$B$50,2,0)),\"Другое\")","v":"Медицина"},"Банк","Расход"]
["2020-02-08T18:53:08","2020-02-11","*7127","OK",-368.19,"RUB",-368.19,"RUB",null,"Супермаркеты",5411,"Перекресток",3,{"$f":"IFERROR(IF(A246=\"\",\"\",VLOOKUP(J246,'Соответствия статей'!$A$2:$B$50,2,0)),\"Другое\")","v":"Продукты"},"Банк","Расход"]
["2020-02-08T15:33:17","2020-02-12","*7127","OK",-33.99,"RUB",-33.99,"RUB",null,"Супермаркеты",5411,"Верный",0,{"$f":"IFERROR(IF(A247=\"\",\"\",VLOOKUP(J247,'Соответствия статей'!$A$2:$B$50,2,0)),\"Другое\")","v":"Продукты"},"Банк","Расход"]
["2020-02-07T19:22:01","2020-02-10","*7127","OK",-1336.98,"RUB",-1336.98,"RUB",null,"Супермаркеты",5411,"Перекресток",13,{"$f":"IFERROR(IF(A248=\"\",\"\",VLOOKUP(J248,'Соответствия статей'!$A$2:$B$50,2,0)),\"Другое\")","v":"Продукты"},"Банк","Расход"]
["2020-02-07T13:36:35","2020-02-08","*7127","OK",-25,"RUB",-25,"RUB",null,"Фастфуд",5814,"Petro-Servis",0,{"$f":"IFERROR(IF(A249=\"\",\"\",VLOOKUP(J249,'Соответствия статей'!$A$2:$B$50,2,0)),\"Другое\")","v":"Рестораны"},"Банк","Расход"]
["2020-02-07T13:07:21","2020-02-10","*7127","OK",-200,"RUB",-200,"RUB",null,"Фастфуд",5814,"Stolovaya",2,{"$f":"IFERROR(IF(A250=\"\",\"\",VLOOKUP(J250,'Соответствия статей'!$A$2:$B$50,2,0)),\"Другое\")","v":"Рестораны"},"Банк","Расход"]
["2020-02-07T08:03:42","2020-02-08","*7127","OK",-25,"RUB",-25,"RUB",null,"Фастфуд",5814,"OOO As-Vend",0,{"$f":"IFERROR(IF(A251=\"\",\"\",VLOOKUP(J251,'Соответствия статей'!$A$2:$B$50,2,0)),\"Другое\")","v":"Рестораны"},"Банк","Расход"]
["2020-02-06T23:56:03","2020-02-08","*7127","OK",-680.01,"RUB",-680.01,"RUB",null,"Супермаркеты",5411,"Перекресток",6,{"$f":"IFERROR(IF(A252=\"\",\"\",VLOOKUP(J252,'Соответствия статей'!$A$2:$B$50,2,0)),\"Другое\")","v":"Продукты"},"Банк","Расход"]
["2020-02-06T19:21:25","2020-02-08","*7127","OK",-32,"RUB",-32,"RUB",null,"Книги",5192,"Первая полоса",0,{"$f":"IFERROR(IF(A253=\"\",\"\",VLOOKUP(J253,'Соответствия статей'!$A$2:$B$50,2,0)),\"Другое\")","v":"Обучение"},"Банк","Расход"]
["2020-02-06T13:08:10","2020-02-08","*7127","OK",-200,"RUB",-200,"RUB",null,"Фастфуд",5814,"Stolovaya",2,{"$f":"IFERROR(IF(A254=\"\",\"\",VLOOKUP(J254,'Соответствия статей'!$A$2:$B$50,2,0)),\"Другое\")","v":"Рестораны"},"Банк","Расход"]
["2020-02-05T21:03:41","2020-02-07","*7127","OK",-196,"RUB",-196,"RUB",null,"Аптеки",5912,"Аптеки Первая Помощь",1,{"$f":"IFERROR(IF(A255=\"\",\"\",VLOOKUP(J255,'Соответствия статей'!$A$2:$B$50,2,0)),\"Другое\")","v":"Медицина"},"Банк","Расход"]
["2020-02-05T20:50:19","2020-02-07","*7127","OK",-30,"RUB",-30,"RUB",null,"Аптеки",5912,"Озерки",0,{"$f":"IFERROR(IF(A256=\"\",\"\",VLOOKUP(J256,'Соответствия статей'!$A$2:$B$50,2,0)),\"Другое\")","v":"Медицина"},"Банк","Расход"]
["2020-02-05T18:49:51","2020-02-06","*7127","OK",-35,"RUB",-35,"RUB",null,"Фастфуд",5814,"OOO As-Vend",0,{"$f":"IFERROR(IF(A257=\"\",\"\",VLOOKUP(J257,'Соответствия статей'!$A$2:$B$50,2,0)),\"Другое\")","v":"Рестораны"},"Банк","Расход"]
["2020-02-05T13:17:13","2020-02-06","*7127","OK",-200,"RUB",-200,"RUB",null,"Фастфуд",5814,"Stolovaya",2,{"$f":"IFERROR(IF(A258=\"\",\"\",VLOOKUP(J258,'Соответствия статей'!$A$2:$B$50,2,0)),\"Другое\")","v":"Рестораны"},"Банк","Расход"]
["2020-02-05T08:42:18","2020-02-06","*7127","OK",-25,"RUB",-25,"RUB",null,"Фастфуд",5814,"OOO As-Vend",0,{"$f":"IFERROR(IF(A259=\"\",\"\",VLOOKUP(J259,'Соответствия статей'!$A$2:$B$50,2,0)),\"Другое\")","v":"Рестораны"},"Банк","Расход"]
["2020-02-04T21:13:24","2020-02-06","*7127","OK",-222,"RUB",-222,"RUB",null,"Фастфуд",5814,"Ямм-Пицца",2,{"$f":"IFERROR(IF(A260=\"\",\"\",VLOOKUP(J260,'Соответствия статей'!$A$2:$B$50,2,0)),\"Другое\")","v":"Рестораны"},"Банк","Расход"]
["2020-02-04T19:59:53","2020-02-06","*7127","OK",-396,"RUB",-396,"RUB",null,"Фастфуд",5814,"Ямм-Пицца",3,{"$f":"IFERROR(IF(A261=\"\",\"\",VLOOKUP(J261,'Соответствия статей'!$A$2:$B$50,2,0)),\"Другое\")","v":"Рестораны"},"Банк","Расход"]
["2020-02-04T19:34:05","2020-02-06","*7127","OK",-150,"RUB",-150,"RUB",null,"Рестораны",5813,"OOO Arij",1,{"$f":"IFERROR(IF(A262=\"\",\"\",VLOOKUP(J262,'Соответствия статей'!$A$2:$B$50,2,0)),\"Другое\")","v":"Рестораны"},"Банк","Расход"]
["2020-02-04T13:12:41","2020-02-06","*7127","OK",-200,"RUB",-200,"RUB",null,"Фастфуд",5814,"Stolovaya",2,{"$f":"IFERROR(IF(A263=\"\",\"\",VLOOKUP(J263,'Соответствия статей'!$A$2:$B$50,2,0)),\"Другое\")","v":"Рестораны"},"Банк","Расход"]
["2020-02-03T20:27:08","2020-02-04","*7127","OK",-20.23,"RUB",-20.23,"RUB",null,"Жкх/иб",4900,"Петроэлектросбыт",0,{"$f":"IFERROR(IF(A264=\"\",\"\",VLOOKUP(J264,'Соответствия статей'!$A$2:$B$50,2,0)),\"Другое\")","v":"Коммунальные услуги"},"Банк","Расход"]
["2020-02-03T19:45:11","2020-02-05","*7127","OK",-972.27,"RUB",-972.27,"RUB",null,"Супермаркеты",5411,"Перекресток",9,{"$f":"IFERROR(IF(A265=\"\",\"\",VLOOKUP(J265,'Соответствия статей'!$A$2:$B$50,2,0)),\"Другое\")","v":"Продукты"},"Банк","Расход"]
["2020-02-03T13:02:25","2020-02-05","*7127","OK",-200,"RUB",-200,"RUB",null,"Фастфуд",5814,"Stolovaya",2,{"$f":"IFERROR(IF(A266=\"\",\"\",VLOOKUP(J266,'Соответствия статей'!$A$2:$B$50,2,0)),\"Другое\")","v":"Рестораны"},"Банк","Расход"]
["2020-02-03T00:29:45","2020-02-03","*7127","OK",-7,"RUB",-7,"RUB",null,"Мобильные/иб",null,"Ростелеком Мобильная связь +79932213431",0,{"$f":"IFERROR(IF(A267=\"\",\"\",VLOOKUP(J267,'Соответствия статей'!$A$2:$B$50,2,0)),\"Другое\")","v":"Телефонная связь"},"Банк","Расход"]
["2020-02-02T16:06:02","2020-02-04","*7127","OK",-326.52,"RUB",-326.52,"RUB",null,"Супермаркеты",5411,"Семишагофф",3,{"$f":"IFERROR(IF(A268=\"\",\"\",VLOOKUP(J268,'Соответствия статей'!$A$2:$B$50,2,0)),\"Другое\")","v":"Продукты"},"Банк","Расход"]
["2020-02-02T13:08:33","2020-02-04","*7127","OK",-1182,"RUB",-1182,"RUB",null,"Дом, ремонт",5211,"СТАРТ",11,{"$f":"IFERROR(IF(A269=\"\",\"\",VLOOKUP(J269,'Соответствия статей'!$A$2:$B$50,2,0)),\"Другое\")","v":"Товары для дома, ремонта"},"Банк","Расход"]
["2020-02-02T12:40:51","2020-02-02","*7127","OK",-550,"RUB",-550,"RUB",null,"Мобильные/иб",null,"Ростелеком Мобильная связь +79932213431",0,{"$f":"IFERROR(IF(A270=\"\",\"\",VLOOKUP(J270,'Соответствия статей'!$A$2:$B$50,2,0)),\"Другое\")","v":"Телефонная связь"},"Банк","Расход"]
["2020-02-02T12:31:42","2020-02-02","*8173","OK",-4000,"RUB",-4000,"RUB",null,"Переводы/иб",null,"Олег Н.",0,{"$f":"IFERROR(IF(A271=\"\",\"\",VLOOKUP(J271,'Соответствия статей'!$A$2:$B$50,2,0)),\"Другое\")","v":"Переводы"},"Банк","Расход"]
["2020-02-01T15:54:26","2020-02-01","*8173","OK",490,"RUB",490,"RUB",null,"Прочие доходы",null,"Дмитрий И.",0,{"$f":"IFERROR(IF(A272=\"\",\"\",VLOOKUP(J272,'Соответствия статей'!$A$2:$B$50,2,0)),\"Другое\")","v":"Прочие доходы"},"Банк","Доход"]
["2020-02-01T14:26:50","2020-02-03","*8173","OK",-100,"RUB",-100,"RUB",5,"Транспорт",4111,"Метро Санкт-Петербург",5,{"$f":"IFERROR(IF(A273=\"\",\"\",VLOOKUP(J273,'Соответствия статей'!$A$2:$B$50,2,0)),\"Другое\")","v":"Транспорт"},"Банк","Расход"]
["2020-02-01T14:16:18","2020-02-03","*7127","OK",-1004.02,"RUB",-1004.02,"RUB",null,"Фастфуд",5814,"Evrazia",10,{"$f":"IFERROR(IF(A274=\"\",\"\",VLOOKUP(J274,'Соответствия статей'!$A$2:$B$50,2,0)),\"Другое\")","v":"Рестораны"},"Банк","Расход"]
["2020-02-01T11:35:28","2020-02-03","*8173","OK",-55,"RUB",-55,"RUB",2,"Транспорт",4111,"Метро Санкт-Петербург",2,{"$f":"IFERROR(IF(A275=\"\",\"\",VLOOKUP(J275,'Соответствия статей'!$A$2:$B$50,2,0)),\"Другое\")","v":"Транспорт"},"Банк","Расход"]
["2020-01-31T22:57:02","2020-02-03","*7127","OK",-1762.57,"RUB",-1762.57,"RUB",null,"Супермаркеты",5411,"Перекресток",17,{"$f":"IFERROR(IF(A276=\"\",\"\",VLOOKUP(J276,'Соответствия статей'!$A$2:$B$50,2,0)),\"Другое\")","v":"Продукты"},"Банк","Расход"]
["2020-01-31T21:47:18","2020-02-03","*8173","OK",-60,"RUB",-60,"RUB",3,"Транспорт",4111,"Метро Санкт-Петербург",3,{"$f":"IFERROR(IF(A277=\"\",\"\",VLOOKUP(J277,'Соответствия статей'!$A$2:$B$50,2,0)),\"Другое\")","v":"Транспорт"},"Банк","Расход"]
["2020-01-31T21:41:51","2020-02-01","*7127","OK",-1049,"RUB",-1049,"RUB",null,"Разные товары",5945,"IP Kurilov",10,{"$f":"IFERROR(IF(A278=\"\",\"\",VLOOKUP(J278,'Соответствия статей'!$A$2:$B$50,2,0)),\"Другое\")","v":"Другое"},"Банк","Расход"]
["2020-01-31T13:39:27","2020-02-01","*7127","OK",-35,"RUB",-35,"RUB",null,"Фастфуд",5814,"Petro-Servis",0,{"$f":"IFERROR(IF(A279=\"\",\"\",VLOOKUP(J279,'Соответствия статей'!$A$2:$B$50,2,0)),\"Другое\")","v":"Рестораны"},"Банк","Расход"]
["2020-01-31T13:07:33","2020-02-03","*7127","OK",-200,"RUB",-200,"RUB",null,"Фастфуд",5814,"Stolovaya",2,{"$f":"IFERROR(IF(A280=\"\",\"\",VLOOKUP(J280,'Соответствия статей'!$A$2:$B$50,2,0)),\"Другое\")","v":"Рестораны"},"Банк","Расход"]
["2020-01-31T12:13:56","2020-01-31","*7127","OK",25,"RUB",25,"RUB",null,"Прочие доходы",null,"Компенсация покупки",0,{"$f":"IFERROR(IF(A281=\"\",\"\",VLOOKUP(J281,'Соответствия статей'!$A$2:$B$50,2,0)),\"Другое\")","v":"Прочие доходы"},"Банк","Доход"]
["2020-01-31T12:13:46","2020-01-31","*7127","OK",190,"RUB",190,"RUB",null,"Прочие доходы",null,"Компенсация покупки",0,{"$f":"IFERROR(IF(A282=\"\",\"\",VLOOKUP(J282,'Соответствия статей'!$A$2:$B$50,2,0)),\"Другое\")","v":"Прочие доходы"},"Банк","Доход"]
["2020-01-31T12:12:40","2020-01-31","*7127","OK",234.89,"RUB",234.89,"RUB",null,"Прочие доходы",null,"Компенсация покупки",0,{"$f":"IFERROR(IF(A283=\"\",\"\",VLOOKUP(J283,'Соответствия статей'!$A$2:$B$50,2,0)),\"Другое\")","v":"Прочие доходы"},"Банк","Доход"]
["2020-01-31T12:12:04","2020-01-31","*7127","OK",208,"RUB",208,"RUB",null,"Прочие доходы",null,"Компенсация покупки",0,{"$f":"IFERROR(IF(A284=\"\",\"\",VLOOKUP(J284,'Соответствия статей'!$A$2:$B$50,2,0)),\"Другое\")","v":"Прочие доходы"},"Банк","Доход"]
["2020-01-31T12:10:54","2020-01-31","*7127","OK",1235,"RUB",1235,"RUB",null,"Прочие доходы",null,"Компенсация покупки",0,{"$f":"IFERROR(IF(A285=\"\",\"\",VLOOKUP(J285,'Соответствия статей'!$A$2:$B$50,2,0)),\"Другое\")","v":"Прочие доходы"},"Банк","Доход"]
["2020-01-30T23:08:10","2020-01-30",null,"OK",-59,"RUB",-59,"RUB",null,"Другое",null,"Плата за оповещения об операциях",0,{"$f":"IFERROR(IF(A286=\"\",\"\",VLOOKUP(J286,'Соответствия статей'!$A$2:$B$50,2,0)),\"Другое\")","v":"Другое"},"Банк","Расход"]
["2020-01-30T19:00:07","2020-02-03","*7127","OK",-166.74,"RUB",-166.74,"RUB",null,"Супермаркеты",5441,"Pyshnye Bulki",1,{"$f":"IFERROR(IF(A287=\"\",\"\",VLOOKUP(J287,'Соответствия статей'!$A$2:$B$50,2,0)),\"Другое\")","v":"Продукты"},"Банк","Расход"]
["2020-01-30T13:16:16","2020-02-01","*7127","OK",-205,"RUB",-205,"RUB",null,"Фастфуд",5814,"Stolovaya",2,{"$f":"IFERROR(IF(A288=\"\",\"\",VLOOKUP(J288,'Соответствия статей'!$A$2:$B$50,2,0)),\"Другое\")","v":"Рестораны"},"Банк","Расход"]
["2020-01-30T10:26:26","2020-01-31","*7127","OK",-25,"RUB",-25,"RUB",null,"Фастфуд",5814,"OOO As-Vend",0,{"$f":"IFERROR(IF(A289=\"\",\"\",VLOOKUP(J289,'Соответствия статей'!$A$2:$B$50,2,0)),\"Другое\")","v":"Рестораны"},"Банк","Расход"]
["2020-01-29T19:00:44","2020-01-31","*7127","OK",-76.02,"RUB",-76.02,"RUB",null,"Супермаркеты",5441,"Pyshnye Bulki",0,{"$f":"IFERROR(IF(A290=\"\",\"\",VLOOKUP(J290,'Соответствия статей'!$A$2:$B$50,2,0)),\"Другое\")","v":"Продукты"},"Банк","Расход"]
["2020-01-29T17:18:46","2020-01-29","*8173","OK",-26000,"RUB",-26000,"RUB",null,"Переводы/иб",null,"Олег Н.",0,{"$f":"IFERROR(IF(A291=\"\",\"\",VLOOKUP(J291,'Соответствия статей'!$A$2:$B$50,2,0)),\"Другое\")","v":"Переводы"},"Банк","Расход"]
["2020-01-29T13:12:11","2020-01-31","*7127","OK",-200,"RUB",-200,"RUB",null,"Фастфуд",5814,"Stolovaya",2,{"$f":"IFERROR(IF(A292=\"\",\"\",VLOOKUP(J292,'Соответствия статей'!$A$2:$B$50,2,0)),\"Другое\")","v":"Рестораны"},"Банк","Расход"]
["2020-01-29T07:51:07","2020-01-30","*7127","OK",-45,"RUB",-45,"RUB",null,"Фастфуд",5814,"OOO As-Vend",0,{"$f":"IFERROR(IF(A293=\"\",\"\",VLOOKUP(J293,'Соответствия статей'!$A$2:$B$50,2,0)),\"Другое\")","v":"Рестораны"},"Банк","Расход"]
["2020-01-28T17:12:50","2020-01-29","*7127","OK",-75,"RUB",-75,"RUB",null,"Фастфуд",5814,"OOO As-Vend",0,{"$f":"IFERROR(IF(A294=\"\",\"\",VLOOKUP(J294,'Соответствия статей'!$A$2:$B$50,2,0)),\"Другое\")","v":"Рестораны"},"Банк","Расход"]
["2020-01-28T13:27:08","2020-01-29","*7127","OK",-35,"RUB",-35,"RUB",null,"Фастфуд",5814,"Petro-Servis",0,{"$f":"IFERROR(IF(A295=\"\",\"\",VLOOKUP(J295,'Соответствия статей'!$A$2:$B$50,2,0)),\"Другое\")","v":"Рестораны"},"Банк","Расход"]
["2020-01-28T13:00:41","2020-01-30","*7127","OK",-200,"RUB",-200,"RUB",null,"Фастфуд",5814,"Stolovaya",2,{"$f":"IFERROR(IF(A296=\"\",\"\",VLOOKUP(J296,'Соответствия статей'!$A$2:$B$50,2,0)),\"Другое\")","v":"Рестораны"},"Банк","Расход"]
["2020-01-28T09:05:10","2020-01-29","*7127","OK",-25,"RUB",-25,"RUB",null,"Фастфуд",5814,"OOO As-Vend",0,{"$f":"IFERROR(IF(A297=\"\",\"\",VLOOKUP(J297,'Соответствия статей'!$A$2:$B$50,2,0)),\"Другое\")","v":"Рестораны"},"Банк","Расход"]
["2020-01-28T00:03:25","2020-01-29","*7127","OK",-84,"RUB",-84,"RUB",null,"Транспорт",4121,"Uber",0,{"$f":"IFERROR(IF(A298=\"\",\"\",VLOOKUP(J298,'Соответствия статей'!$A$2:$B$50,2,0)),\"Другое\")","v":"Транспорт"},"Банк","Расход"]
["2020-01-27T18:49:50","2020-01-29","*7127","OK",-140.1,"RUB",-140.1,"RUB",null,"Супермаркеты",5441,"Pyshnye Bulki",1,{"$f":"IFERROR(IF(A299=\"\",\"\",VLOOKUP(J299,'Соответствия статей'!$A$2:$B$50,2,0)),\"Другое\")","v":"Продукты"},"Банк","Расход"]
["2020-01-27T14:04:28","2020-01-27","*8173","OK",570,"RUB",570,"RUB",null,"Прочие доходы",null,"Федор Ф.",0,{"$f":"IFERROR(IF(A300=\"\",\"\",VLOOKUP(J300,'Соответствия статей'!$A$2:$B$50,2,0)),\"Другое\")","v":"Прочие доходы"},"Банк","Доход"]
["2020-01-27T13:15:36","2020-01-29","*7127","OK",-200,"RUB",-200,"RUB",null,"Фастфуд",5814,"Stolovaya",2,{"$f":"IFERROR(IF(A301=\"\",\"\",VLOOKUP(J301,'Соответствия статей'!$A$2:$B$50,2,0)),\"Другое\")","v":"Рестораны"},"Банк","Расход"]
["2020-01-27T09:52:28","2020-01-27","*8173","OK",190,"RUB",190,"RUB",null,"Прочие доходы",null,"Анна Ш.",0,{"$f":"IFERROR(IF(A302=\"\",\"\",VLOOKUP(J302,'Соответствия статей'!$A$2:$B$50,2,0)),\"Другое\")","v":"Прочие доходы"},"Банк","Доход"]
["2020-01-26T22:56:19","2020-01-30","*7127","OK",-275.43,"RUB",-275.43,"RUB",null,"Супермаркеты",5411,"Перекресток",2,{"$f":"IFERROR(IF(A303=\"\",\"\",VLOOKUP(J303,'Соответствия статей'!$A$2:$B$50,2,0)),\"Другое\")","v":"Продукты"},"Банк","Расход"]
["2020-01-25T15:10:38","2020-01-28","*7127","OK",-1363.73,"RUB",-1363.73,"RUB",null,"Супермаркеты",5411,"Перекресток",13,{"$f":"IFERROR(IF(A304=\"\",\"\",VLOOKUP(J304,'Соответствия статей'!$A$2:$B$50,2,0)),\"Другое\")","v":"Продукты"},"Банк","Расход"]
["2020-01-25T14:39:38","2020-01-28","*7127","OK",-691,"RUB",-691,"RUB",null,"Аптеки",5912,"Озерки",6,{"$f":"IFERROR(IF(A305=\"\",\"\",VLOOKUP(J305,'Соответствия статей'!$A$2:$B$50,2,0)),\"Другое\")","v":"Медицина"},"Банк","Расход"]
["2020-01-25T14:19:41","2020-01-27","*7127","OK",-5400,"RUB",-5400,"RUB",null,"Мед. услуги",8099,"A-Mediya LLC",54,{"$f":"IFERROR(IF(A306=\"\",\"\",VLOOKUP(J306,'Соответствия статей'!$A$2:$B$50,2,0)),\"Другое\")","v":"Медицина"},"Банк","Расход"]
["2020-01-24T18:43:57","2020-01-27","*7127","OK",-104,"RUB",-104,"RUB",null,"Транспорт",4121,"Uber",1,{"$f":"IFERROR(IF(A307=\"\",\"\",VLOOKUP(J307,'Соответствия статей'!$A$2:$B$50,2,0)),\"Другое\")","v":"Транспорт"},"Банк","Расход"]
["2020-01-24T13:21:42","2020-01-27","*7357","OK",-251,"RUB",-251,"RUB",2,"Фастфуд",5814,"Tarelka",2,{"$f":"IFERROR(IF(A308=\"\",\"\",VLOOKUP(J308,'Соответствия статей'!$A$2:$B$50,2,0)),\"Другое\")","v":"Рестораны"},"Банк","Расход"]
["2020-01-24T12:54:25","2020-01-25","*7127","OK",-35,"RUB",-35,"RUB",null,"Фастфуд",5814,"Petro-Servis",0,{"$f":"IFERROR(IF(A309=\"\",\"\",VLOOKUP(J309,'Соответствия статей'!$A$2:$B$50,2,0)),\"Другое\")","v":"Рестораны"},"Банк","Расход"]
["2020-01-24T12:37:39","2020-01-27","*7127","OK",-226,"RUB",-226,"RUB",null,"Фастфуд",5814,"Stolovaya",2,{"$f":"IFERROR(IF(A310=\"\",\"\",VLOOKUP(J310,'Соответствия статей'!$A$2:$B$50,2,0)),\"Другое\")","v":"Рестораны"},"Банк","Расход"]
["2020-01-24T10:10:51","2020-01-24","*7127","OK",-2850,"RUB",-2850,"RUB",null,"Развлечения",7999,"ilocked.ru/",28,{"$f":"IFERROR(IF(A311=\"\",\"\",VLOOKUP(J311,'Соответствия статей'!$A$2:$B$50,2,0)),\"Другое\")","v":"Развлечения"},"Банк","Расход"]
["2020-01-23T23:03:13","2020-01-23",null,"OK",-99,"RUB",-99,"RUB",null,"Другое",null,"Плата за обслуживание",0,{"$f":"IFERROR(IF(A312=\"\",\"\",VLOOKUP(J312,'Соответствия статей'!$A$2:$B$50,2,0)),\"Другое\")","v":"Другое"},"Банк","Расход"]
["2020-01-23T22:41:14","2020-01-23",null,"OK",270,"RUB",270,"RUB",null,"Прочие доходы",null,"Вознаграждение за операции покупок",0,{"$f":"IFERROR(IF(A313=\"\",\"\",VLOOKUP(J313,'Соответствия статей'!$A$2:$B$50,2,0)),\"Другое\")","v":"Прочие доходы"},"Банк","Доход"]
["2020-01-23T22:32:42","2020-01-24","*7127","OK",-110,"RUB",-110,"RUB",null,"Транспорт",4121,"Uber",1,{"$f":"IFERROR(IF(A314=\"\",\"\",VLOOKUP(J314,'Соответствия статей'!$A$2:$B$50,2,0)),\"Другое\")","v":"Транспорт"},"Банк","Расход"]
["2020-01-23T21:41:27","2020-01-23",null,"OK",4.1500000000000004,"RUB",4.1500000000000004,"RUB",null,"Прочие доходы",null,"Проценты на остаток по счету",0,{"$f":"IFERROR(IF(A315=\"\",\"\",VLOOKUP(J315,'Соответствия статей'!$A$2:$B$50,2,0)),\"Другое\")","v":"Прочие доходы"},"Банк","Доход"]
["2020-01-23T13:32:52","2020-01-24","*7127","OK",-25,"RUB",-25,"RUB",null,"Фастфуд",5814,"OOO As-Vend",0,{"$f":"IFERROR(IF(A316=\"\",\"\",VLOOKUP(J316,'Соответствия статей'!$A$2:$B$50,2,0)),\"Другое\")","v":"Рестораны"},"Банк","Расход"]
["2020-01-23T13:11:40","2020-01-25","*7127","OK",-200,"RUB",-200,"RUB",null,"Фастфуд",5814,"Stolovaya",2,{"$f":"IFERROR(IF(A317=\"\",\"\",VLOOKUP(J317,'Соответствия статей'!$A$2:$B$50,2,0)),\"Другое\")","v":"Рестораны"},"Банк","Расход"]
["2020-01-23T10:28:59","2020-01-24","*7127","OK",-25,"RUB",-25,"RUB",null,"Фастфуд",5814,"OOO As-Vend",0,{"$f":"IFERROR(IF(A318=\"\",\"\",VLOOKUP(J318,'Соответствия статей'!$A$2:$B$50,2,0)),\"Другое\")","v":"Рестораны"},"Банк","Расход"]
["2020-01-22T20:31:01","2020-01-24","*7357","OK",-301.74,"RUB",-301.74,"RUB",3,"Супермаркеты",5411,"Перекресток",3,{"$f":"IFERROR(IF(A319=\"\",\"\",VLOOKUP(J319,'Соответствия статей'!$A$2:$B$50,2,0)),\"Другое\")","v":"Продукты"},"Банк","Расход"]
["2020-01-22T13:41:11","2020-01-23","*7127","OK",-35,"RUB",-35,"RUB",null,"Фастфуд",5814,"Petro-Servis",0,{"$f":"IFERROR(IF(A320=\"\",\"\",VLOOKUP(J320,'Соответствия статей'!$A$2:$B$50,2,0)),\"Другое\")","v":"Рестораны"},"Банк","Расход"]
["2020-01-22T13:12:17","2020-01-24","*7127","OK",-200,"RUB",-200,"RUB",null,"Фастфуд",5814,"Stolovaya",2,{"$f":"IFERROR(IF(A321=\"\",\"\",VLOOKUP(J321,'Соответствия статей'!$A$2:$B$50,2,0)),\"Другое\")","v":"Рестораны"},"Банк","Расход"]
["2020-01-22T11:29:46","2020-01-23","*7127","OK",-25,"RUB",-25,"RUB",null,"Фастфуд",5814,"OOO As-Vend",0,{"$f":"IFERROR(IF(A322=\"\",\"\",VLOOKUP(J322,'Соответствия статей'!$A$2:$B$50,2,0)),\"Другое\")","v":"Рестораны"},"Банк","Расход"]
["2020-01-22T01:08:34","2020-01-23","*7127","OK",-340,"RUB",-340,"RUB",null,"Транспорт",4121,"Uber",3,{"$f":"IFERROR(IF(A323=\"\",\"\",VLOOKUP(J323,'Соответствия статей'!$A$2:$B$50,2,0)),\"Другое\")","v":"Транспорт"},"Банк","Расход"]
["2020-01-21T13:38:45","2020-01-22","*7127","OK",-35,"RUB",-35,"RUB",null,"Фастфуд",5814,"Petro-Servis",0,{"$f":"IFERROR(IF(A324=\"\",\"\",VLOOKUP(J324,'Соответствия статей'!$A$2:$B$50,2,0)),\"Другое\")","v":"Рестораны"},"Банк","Расход"]
["2020-01-21T13:15:46","2020-01-23","*7127","OK",-200,"RUB",-200,"RUB",null,"Фастфуд",5814,"Stolovaya",2,{"$f":"IFERROR(IF(A325=\"\",\"\",VLOOKUP(J325,'Соответствия статей'!$A$2:$B$50,2,0)),\"Другое\")","v":"Рестораны"},"Банк","Расход"]
["2020-01-21T11:20:05","2020-01-22","*7127","OK",-25,"RUB",-25,"RUB",null,"Фастфуд",5814,"OOO As-Vend",0,{"$f":"IFERROR(IF(A326=\"\",\"\",VLOOKUP(J326,'Соответствия статей'!$A$2:$B$50,2,0)),\"Другое\")","v":"Рестораны"},"Банк","Расход"]
["2020-01-21T10:52:47","2020-01-23","*7357","OK",-194,"RUB",-194,"RUB",1,"Фастфуд",5814,"Додо Пицца",1,{"$f":"IFERROR(IF(A327=\"\",\"\",VLOOKUP(J327,'Соответствия статей'!$A$2:$B$50,2,0)),\"Другое\")","v":"Рестораны"},"Банк","Расход"]
["2020-01-20T20:46:38","2020-01-22","*7127","OK",-191,"RUB",-191,"RUB",null,"Супермаркеты",5441,"Pyshnye Bulki",1,{"$f":"IFERROR(IF(A328=\"\",\"\",VLOOKUP(J328,'Соответствия статей'!$A$2:$B$50,2,0)),\"Другое\")","v":"Продукты"},"Банк","Расход"]
["2020-01-20T19:48:01","2020-01-22","*7357","OK",-178,"RUB",-178,"RUB",1,"Фастфуд",5814,"KFC",1,{"$f":"IFERROR(IF(A329=\"\",\"\",VLOOKUP(J329,'Соответствия статей'!$A$2:$B$50,2,0)),\"Другое\")","v":"Рестораны"},"Банк","Расход"]
["2020-01-20T13:34:47","2020-01-21","*7127","OK",-35,"RUB",-35,"RUB",null,"Фастфуд",5814,"Petro-Servis",0,{"$f":"IFERROR(IF(A330=\"\",\"\",VLOOKUP(J330,'Соответствия статей'!$A$2:$B$50,2,0)),\"Другое\")","v":"Рестораны"},"Банк","Расход"]
["2020-01-20T13:11:44","2020-01-22","*7127","OK",-200,"RUB",-200,"RUB",null,"Фастфуд",5814,"Stolovaya",2,{"$f":"IFERROR(IF(A331=\"\",\"\",VLOOKUP(J331,'Соответствия статей'!$A$2:$B$50,2,0)),\"Другое\")","v":"Рестораны"},"Банк","Расход"]
["2020-01-20T09:43:05","2020-01-21","*7127","OK",-25,"RUB",-25,"RUB",null,"Фастфуд",5814,"OOO As-Vend",0,{"$f":"IFERROR(IF(A332=\"\",\"\",VLOOKUP(J332,'Соответствия статей'!$A$2:$B$50,2,0)),\"Другое\")","v":"Рестораны"},"Банк","Расход"]
["2020-01-20T02:52:15","2020-01-20","*8173","FAILED",-50,"RUB",-50,"RUB",null,"Мобильные/иб",null,"TELE2 - автоплатеж",0,{"$f":"IFERROR(IF(A333=\"\",\"\",VLOOKUP(J333,'Соответствия статей'!$A$2:$B$50,2,0)),\"Другое\")","v":"Телефонная связь"},"Банк","Расход"]
["2020-01-19T22:11:29","2020-01-21","*7127","OK",-1701.39,"RUB",-1701.39,"RUB",null,"Супермаркеты",5411,"Перекресток",17,{"$f":"IFERROR(IF(A334=\"\",\"\",VLOOKUP(J334,'Соответствия статей'!$A$2:$B$50,2,0)),\"Другое\")","v":"Продукты"},"Банк","Расход"]
["2020-01-19T21:08:27","2020-01-21","*7127","OK",-400,"RUB",-400,"RUB",null,"Рестораны",5812,"Kebab 24k",4,{"$f":"IFERROR(IF(A335=\"\",\"\",VLOOKUP(J335,'Соответствия статей'!$A$2:$B$50,2,0)),\"Другое\")","v":"Рестораны"},"Банк","Расход"]
["2020-01-19T19:30:39","2020-01-20","*7127","OK",-168,"RUB",-168,"RUB",null,"Транспорт",4121,"Uber",1,{"$f":"IFERROR(IF(A336=\"\",\"\",VLOOKUP(J336,'Соответствия статей'!$A$2:$B$50,2,0)),\"Другое\")","v":"Транспорт"},"Банк","Расход"]
["2020-01-19T18:07:43","2020-01-21","*7127","OK",-100,"RUB",-100,"RUB",null,"Кино",7832,"Синема Парк",1,{"$f":"IFERROR(IF(A337=\"\",\"\",VLOOKUP(J337,'Соответствия статей'!$A$2:$B$50,2,0)),\"Другое\")","v":"Развлечения"},"Банк","Расход"]
["2020-01-19T17:53:37","2020-01-19","*7127","OK",-1220,"RUB",-1220,"RUB",null,"Кино",7832,"Билеты в кино",12,{"$f":"IFERROR(IF(A338=\"\",\"\",VLOOKUP(J338,'Соответствия статей'!$A$2:$B$50,2,0)),\"Другое\")","v":"Развлечения"},"Банк","Расход"]
["2020-01-19T11:21:51","2020-01-19","*7127","OK",-370,"RUB",-370,"RUB",null,"Мобильные/иб",null,"Мой телефон +79533443146",0,{"$f":"IFERROR(IF(A339=\"\",\"\",VLOOKUP(J339,'Соответствия статей'!$A$2:$B$50,2,0)),\"Другое\")","v":"Телефонная связь"},"Банк","Расход"]
["2020-01-18T10:59:33","2020-01-21","*7127","OK",-152.69999999999999,"RUB",-152.69999999999999,"RUB",null,"Супермаркеты",5411,"Магнит",1,{"$f":"IFERROR(IF(A340=\"\",\"\",VLOOKUP(J340,'Соответствия статей'!$A$2:$B$50,2,0)),\"Другое\")","v":"Продукты"},"Банк","Расход"]
["2020-01-17T19:14:51","2020-01-20","*7127","OK",-762.6,"RUB",-762.6,"RUB",null,"Супермаркеты",5411,"Магнит",7,{"$f":"IFERROR(IF(A341=\"\",\"\",VLOOKUP(J341,'Соответствия статей'!$A$2:$B$50,2,0)),\"Другое\")","v":"Продукты"},"Банк","Расход"]
["2020-01-17T13:14:04","2020-01-18","*7127","OK",-200,"RUB",-200,"RUB",null,"Фастфуд",5814,"Stolovaya",2,{"$f":"IFERROR(IF(A342=\"\",\"\",VLOOKUP(J342,'Соответствия статей'!$A$2:$B$50,2,0)),\"Другое\")","v":"Рестораны"},"Банк","Расход"]
["2020-01-17T10:19:45","2020-01-18","*7127","OK",-15,"RUB",-15,"RUB",null,"Фастфуд",5814,"OOO As-Vend",0,{"$f":"IFERROR(IF(A343=\"\",\"\",VLOOKUP(J343,'Соответствия статей'!$A$2:$B$50,2,0)),\"Другое\")","v":"Рестораны"},"Банк","Расход"]
["2020-01-17T10:17:53","2020-01-18","*7127","OK",-25,"RUB",-25,"RUB",null,"Фастфуд",5814,"OOO As-Vend",0,{"$f":"IFERROR(IF(A344=\"\",\"\",VLOOKUP(J344,'Соответствия статей'!$A$2:$B$50,2,0)),\"Другое\")","v":"Рестораны"},"Банк","Расход"]
["2020-01-16T19:33:30","2020-01-18","*7127","OK",-40,"RUB",-40,"RUB",null,"Супермаркеты",5441,"Pyshnye Bulki",0,{"$f":"IFERROR(IF(A345=\"\",\"\",VLOOKUP(J345,'Соответствия статей'!$A$2:$B$50,2,0)),\"Другое\")","v":"Продукты"},"Банк","Расход"]
["2020-01-16T14:00:55","2020-01-18","*7357","OK",-203,"RUB",-203,"RUB",2,"Фастфуд",5814,"Tarelka",2,{"$f":"IFERROR(IF(A346=\"\",\"\",VLOOKUP(J346,'Соответствия статей'!$A$2:$B$50,2,0)),\"Другое\")","v":"Рестораны"},"Банк","Расход"]
["2020-01-16T13:38:54","2020-01-17","*7127","OK",-35,"RUB",-35,"RUB",null,"Фастфуд",5814,"Petro-Servis",0,{"$f":"IFERROR(IF(A347=\"\",\"\",VLOOKUP(J347,'Соответствия статей'!$A$2:$B$50,2,0)),\"Другое\")","v":"Рестораны"},"Банк","Расход"]
["2020-01-16T13:11:52","2020-01-17","*7127","OK",-200,"RUB",-200,"RUB",null,"Фастфуд",5814,"Stolovaya",2,{"$f":"IFERROR(IF(A348=\"\",\"\",VLOOKUP(J348,'Соответствия статей'!$A$2:$B$50,2,0)),\"Другое\")","v":"Рестораны"},"Банк","Расход"]
["2020-01-16T07:44:57","2020-01-17","*7127","OK",-75,"RUB",-75,"RUB",null,"Фастфуд",5814,"OOO As-Vend",0,{"$f":"IFERROR(IF(A349=\"\",\"\",VLOOKUP(J349,'Соответствия статей'!$A$2:$B$50,2,0)),\"Другое\")","v":"Рестораны"},"Банк","Расход"]
["2020-01-16","2020-01-17","*7127","OK",54980,"RUB",54980,"RUB",null,"Дом, ремонт",5722,"Мвидео",-549,{"$f":"IFERROR(IF(A350=\"\",\"\",VLOOKUP(J350,'Соответствия статей'!$A$2:$B$50,2,0)),\"Другое\")","v":"Товары для дома, ремонта"},"Банк","Расход"]
["2020-01-15T21:19:30","2020-01-16","*7127","OK",-1100,"RUB",-1100,"RUB",null,"Красота",7230,"IP Layter",11,{"$f":"IFERROR(IF(A351=\"\",\"\",VLOOKUP(J351,'Соответствия статей'!$A$2:$B$50,2,0)),\"Другое\")","v":"Услуги для внешнего вида"},"Банк","Расход"]
["2020-01-15T20:03:36","2020-01-17","*7127","OK",-288.8,"RUB",-288.8,"RUB",null,"Супермаркеты",5411,"Перекресток",2,{"$f":"IFERROR(IF(A352=\"\",\"\",VLOOKUP(J352,'Соответствия статей'!$A$2:$B$50,2,0)),\"Другое\")","v":"Продукты"},"Банк","Расход"]
["2020-01-15T17:10:24","2020-01-16","*7127","OK",-20,"RUB",-20,"RUB",null,"Фастфуд",5814,"OOO As-Vend",0,{"$f":"IFERROR(IF(A353=\"\",\"\",VLOOKUP(J353,'Соответствия статей'!$A$2:$B$50,2,0)),\"Другое\")","v":"Рестораны"},"Банк","Расход"]
["2020-01-15T13:42:57","2020-01-16","*7127","OK",-25,"RUB",-25,"RUB",null,"Фастфуд",5814,"OOO As-Vend",0,{"$f":"IFERROR(IF(A354=\"\",\"\",VLOOKUP(J354,'Соответствия статей'!$A$2:$B$50,2,0)),\"Другое\")","v":"Рестораны"},"Банк","Расход"]
["2020-01-15T13:12:50","2020-01-17","*7127","OK",-205,"RUB",-205,"RUB",null,"Фастфуд",5814,"Stolovaya",2,{"$f":"IFERROR(IF(A355=\"\",\"\",VLOOKUP(J355,'Соответствия статей'!$A$2:$B$50,2,0)),\"Другое\")","v":"Рестораны"},"Банк","Расход"]
["2020-01-15T13:07:49","2020-01-17","*7357","OK",-218,"RUB",-218,"RUB",2,"Фастфуд",5814,"Tarelka",2,{"$f":"IFERROR(IF(A356=\"\",\"\",VLOOKUP(J356,'Соответствия статей'!$A$2:$B$50,2,0)),\"Другое\")","v":"Рестораны"},"Банк","Расход"]
["2020-01-15T08:55:46","2020-01-17","*7357","OK",-55,"RUB",-55,"RUB",2,"Транспорт",4111,"Метро Санкт-Петербург",2,{"$f":"IFERROR(IF(A357=\"\",\"\",VLOOKUP(J357,'Соответствия статей'!$A$2:$B$50,2,0)),\"Другое\")","v":"Транспорт"},"Банк","Расход"]
["2020-01-15T07:46:45","2020-01-16","*7127","OK",-25,"RUB",-25,"RUB",null,"Фастфуд",5814,"OOO As-Vend",0,{"$f":"IFERROR(IF(A358=\"\",\"\",VLOOKUP(J358,'Соответствия статей'!$A$2:$B$50,2,0)),\"Другое\")","v":"Рестораны"},"Банк","Расход"]
["2020-01-15T00:11:13","2020-01-16","*7127","OK",-520.86,"RUB",-520.86,"RUB",null,"Жкх/иб",4900,"Петроэлектросбыт",0,{"$f":"IFERROR(IF(A359=\"\",\"\",VLOOKUP(J359,'Соответствия статей'!$A$2:$B$50,2,0)),\"Другое\")","v":"Коммунальные услуги"},"Банк","Расход"]
["2020-01-14T23:44:46","2020-01-16","*7127","OK",-54980,"RUB",-54980,"RUB",null,"Дом, ремонт",5722,"Мвидео",549,{"$f":"IFERROR(IF(A360=\"\",\"\",VLOOKUP(J360,'Соответствия статей'!$A$2:$B$50,2,0)),\"Другое\")","v":"Товары для дома, ремонта"},"Банк","Расход"]
["2020-01-14T13:34:53","2020-01-15","*7127","OK",-35,"RUB",-35,"RUB",null,"Фастфуд",5814,"Petro-Servis",0,{"$f":"IFERROR(IF(A361=\"\",\"\",VLOOKUP(J361,'Соответствия статей'!$A$2:$B$50,2,0)),\"Другое\")","v":"Рестораны"},"Банк","Расход"]
["2020-01-14T13:12:18","2020-01-15","*7127","OK",-200,"RUB",-200,"RUB",null,"Фастфуд",5814,"Stolovaya",2,{"$f":"IFERROR(IF(A362=\"\",\"\",VLOOKUP(J362,'Соответствия статей'!$A$2:$B$50,2,0)),\"Другое\")","v":"Рестораны"},"Банк","Расход"]
["2020-01-13T20:48:36","2020-01-15","*7357","OK",-411.4,"RUB",-411.4,"RUB",4,"Супермаркеты",5411,"Перекресток",4,{"$f":"IFERROR(IF(A363=\"\",\"\",VLOOKUP(J363,'Соответствия статей'!$A$2:$B$50,2,0)),\"Другое\")","v":"Продукты"},"Банк","Расход"]
["2020-01-13T19:19:14","2020-01-15","*7357","OK",-55,"RUB",-55,"RUB",0,"Фастфуд",5814,"Tarelka",0,{"$f":"IFERROR(IF(A364=\"\",\"\",VLOOKUP(J364,'Соответствия статей'!$A$2:$B$50,2,0)),\"Другое\")","v":"Рестораны"},"Банк","Расход"]
["2020-01-13T19:17:06","2020-01-15","*7127","OK",-1371.86,"RUB",-1371.86,"RUB",null,"Супермаркеты",5411,"Магнит",13,{"$f":"IFERROR(IF(A365=\"\",\"\",VLOOKUP(J365,'Соответствия статей'!$A$2:$B$50,2,0)),\"Другое\")","v":"Продукты"},"Банк","Расход"]
["2020-01-13T13:25:29","2020-01-14","*7127","OK",-35,"RUB",-35,"RUB",null,"Фастфуд",5814,"Petro-Servis",0,{"$f":"IFERROR(IF(A366=\"\",\"\",VLOOKUP(J366,'Соответствия статей'!$A$2:$B$50,2,0)),\"Другое\")","v":"Рестораны"},"Банк","Расход"]
["2020-01-13T13:04:48","2020-01-15","*7127","OK",-260,"RUB",-260,"RUB",null,"Фастфуд",5814,"Stolovaya",2,{"$f":"IFERROR(IF(A367=\"\",\"\",VLOOKUP(J367,'Соответствия статей'!$A$2:$B$50,2,0)),\"Другое\")","v":"Рестораны"},"Банк","Расход"]
["2020-01-13T12:24:44","2020-01-15","*7357","OK",-230,"RUB",-230,"RUB",2,"Фастфуд",5814,"Tarelka",2,{"$f":"IFERROR(IF(A368=\"\",\"\",VLOOKUP(J368,'Соответствия статей'!$A$2:$B$50,2,0)),\"Другое\")","v":"Рестораны"},"Банк","Расход"]
["2020-01-12T17:19:45","2020-01-14","*8173","OK",-150,"RUB",-150,"RUB",7,"Транспорт",4111,"Метро Санкт-Петербург",7,{"$f":"IFERROR(IF(A369=\"\",\"\",VLOOKUP(J369,'Соответствия статей'!$A$2:$B$50,2,0)),\"Другое\")","v":"Транспорт"},"Банк","Расход"]
["2020-01-12T17:17:26","2020-01-14","*8173","OK",-150,"RUB",-150,"RUB",7,"Транспорт",4111,"Метро Санкт-Петербург",7,{"$f":"IFERROR(IF(A370=\"\",\"\",VLOOKUP(J370,'Соответствия статей'!$A$2:$B$50,2,0)),\"Другое\")","v":"Транспорт"},"Банк","Расход"]
["2020-01-11T12:59:38","2020-01-13","*7127","OK",-745.61,"RUB",-745.61,"RUB",null,"Супермаркеты",5411,"Магнит",7,{"$f":"IFERROR(IF(A371=\"\",\"\",VLOOKUP(J371,'Соответствия статей'!$A$2:$B$50,2,0)),\"Другое\")","v":"Продукты"},"Банк","Расход"]
["2020-01-10T07:22:43","2020-01-10","*8173","OK",240,"RUB",240,"RUB",null,"Прочие доходы",null,"Бонус по акции",0,{"$f":"IFERROR(IF(A372=\"\",\"\",VLOOKUP(J372,'Соответствия статей'!$A$2:$B$50,2,0)),\"Другое\")","v":"Прочие доходы"},"Банк","Доход"]
["2020-01-09T22:05:08","2020-01-11","*8173","OK",-157,"RUB",-157,"RUB",7,"Транспорт",4121,"Яндекс Такси",7,{"$f":"IFERROR(IF(A373=\"\",\"\",VLOOKUP(J373,'Соответствия статей'!$A$2:$B$50,2,0)),\"Другое\")","v":"Транспорт"},"Банк","Расход"]
["2020-01-09T19:21:03","2020-01-11","*8173","OK",-239,"RUB",-239,"RUB",11,"Транспорт",4121,"Яндекс Такси",11,{"$f":"IFERROR(IF(A374=\"\",\"\",VLOOKUP(J374,'Соответствия статей'!$A$2:$B$50,2,0)),\"Другое\")","v":"Транспорт"},"Банк","Расход"]
["2020-01-09T19:15:41","2020-01-11","*8173","OK",-648,"RUB",-648,"RUB",32,"Кино",7832,"Синема Парк",32,{"$f":"IFERROR(IF(A375=\"\",\"\",VLOOKUP(J375,'Соответствия статей'!$A$2:$B$50,2,0)),\"Другое\")","v":"Развлечения"},"Банк","Расход"]
["2020-01-09T18:15:52","2020-01-10","*7127","OK",-410,"RUB",-410,"RUB",null,"Рестораны",5812,"OOO Mir Vkusa",4,{"$f":"IFERROR(IF(A376=\"\",\"\",VLOOKUP(J376,'Соответствия статей'!$A$2:$B$50,2,0)),\"Другое\")","v":"Рестораны"},"Банк","Расход"]
["2020-01-09T02:16:20","2020-01-10","*8173","OK",-235,"RUB",-235,"RUB",11,"Транспорт",4121,"Яндекс Такси",11,{"$f":"IFERROR(IF(A377=\"\",\"\",VLOOKUP(J377,'Соответствия статей'!$A$2:$B$50,2,0)),\"Другое\")","v":"Транспорт"},"Банк","Расход"]
["2020-01-08T20:28:04","2020-01-10","*7127","OK",-2600,"RUB",-2600,"RUB",null,"Развлечения",7999,"Elyaty Club",26,{"$f":"IFERROR(IF(A378=\"\",\"\",VLOOKUP(J378,'Соответствия статей'!$A$2:$B$50,2,0)),\"Другое\")","v":"Развлечения"},"Банк","Расход"]
["2020-01-08T15:59:20","2020-01-10","*7127","OK",-171.8,"RUB",-171.8,"RUB",null,"Супермаркеты",5411,"Магнит",1,{"$f":"IFERROR(IF(A379=\"\",\"\",VLOOKUP(J379,'Соответствия статей'!$A$2:$B$50,2,0)),\"Другое\")","v":"Продукты"},"Банк","Расход"]
["2020-01-08T15:49:41","2020-01-10","*7127","OK",-293,"RUB",-293,"RUB",null,"Разные товары",5331,"Magazin Rider",2,{"$f":"IFERROR(IF(A380=\"\",\"\",VLOOKUP(J380,'Соответствия статей'!$A$2:$B$50,2,0)),\"Другое\")","v":"Другое"},"Банк","Расход"]
["2020-01-08T15:39:13","2020-01-10","*7127","OK",-55,"RUB",-55,"RUB",null,"Разные товары",5943,"IP Turova D.Yu. Rider",0,{"$f":"IFERROR(IF(A381=\"\",\"\",VLOOKUP(J381,'Соответствия статей'!$A$2:$B$50,2,0)),\"Другое\")","v":"Другое"},"Банк","Расход"]
["2020-01-08T15:28:40","2020-01-10","*7127","OK",-339,"RUB",-339,"RUB",null,"Разные товары",5331,"Magazin Rider",3,{"$f":"IFERROR(IF(A382=\"\",\"\",VLOOKUP(J382,'Соответствия статей'!$A$2:$B$50,2,0)),\"Другое\")","v":"Другое"},"Банк","Расход"]
["2020-01-07T01:39:53","2020-01-07","*7127","OK",-160.09,"RUB",-160.09,"RUB",null,"Разные товары",5399,"Aliexpress.com",1,{"$f":"IFERROR(IF(A383=\"\",\"\",VLOOKUP(J383,'Соответствия статей'!$A$2:$B$50,2,0)),\"Другое\")","v":"Другое"},"Банк","Расход"]
["2020-01-06T20:42:20","2020-01-08","*7127","OK",-1235,"RUB",-1235,"RUB",null,"Фастфуд",5814,"Додо Пицца",12,{"$f":"IFERROR(IF(A384=\"\",\"\",VLOOKUP(J384,'Соответствия статей'!$A$2:$B$50,2,0)),\"Другое\")","v":"Рестораны"},"Банк","Расход"]
["2020-01-05T16:36:55","2020-01-07","*8173","OK",-235,"RUB",-235,"RUB",11,"Транспорт",4121,"Яндекс Такси",11,{"$f":"IFERROR(IF(A385=\"\",\"\",VLOOKUP(J385,'Соответствия статей'!$A$2:$B$50,2,0)),\"Другое\")","v":"Транспорт"},"Банк","Расход"]
["2020-01-03T22:18:59","2020-01-06","*8173","OK",-178,"RUB",-178,"RUB",8,"Транспорт",4121,"Яндекс Такси",8,{"$f":"IFERROR(IF(A386=\"\",\"\",VLOOKUP(J386,'Соответствия статей'!$A$2:$B$50,2,0)),\"Другое\")","v":"Транспорт"},"Банк","Расход"]
["2020-01-03T22:16:49","2020-01-04","*8173","OK",-50,"RUB",-50,"RUB",null,"Переводы/иб",null,"Елена Н.",0,{"$f":"IFERROR(IF(A387=\"\",\"\",VLOOKUP(J387,'Соответствия статей'!$A$2:$B$50,2,0)),\"Другое\")","v":"Переводы"},"Банк","Расход"]
["2020-01-03T17:52:32","2020-01-03","*8173","OK",-1600,"RUB",-1600,"RUB",80,"Кино",7832,"Билеты в кино",80,{"$f":"IFERROR(IF(A388=\"\",\"\",VLOOKUP(J388,'Соответствия статей'!$A$2:$B$50,2,0)),\"Другое\")","v":"Развлечения"},"Банк","Расход"]
["2020-01-03T00:35:00","2020-01-04","*8173","OK",-102,"RUB",-102,"RUB",5,"Транспорт",4121,"Яндекс Такси",5,{"$f":"IFERROR(IF(A389=\"\",\"\",VLOOKUP(J389,'Соответствия статей'!$A$2:$B$50,2,0)),\"Другое\")","v":"Транспорт"},"Банк","Расход"]
["2020-01-03T00:35:00",null,null,null,55000,null,null,null,null,"Заработная плата",null,"Заработная плата",null,{"$f":"IFERROR(IF(A390=\"\",\"\",VLOOKUP(J390,'Соответствия статей'!$A$2:$B$50,2,0)),\"Другое\")","v":"Заработная плата"},"Банк","Доход"]
["2020-01-03T00:35:00",null,null,null,15000,null,null,null,null,"Оплата за преподавание",null,"Оплата за преподавание",null,{"$f":"IFERROR(IF(A391=\"\",\"\",VLOOKUP(J391,'Соответствия статей'!$A$2:$B$50,2,0)),\"Другое\")","v":"Оплата за преподавание"},"Банк","Доход"]
["2020-01-03T00:35:00",null,null,null,5000,null,null,null,null,"Прочие доходы",null,"Прочие доходы",null,{"$f":"IFERROR(IF(A392=\"\",\"\",VLOOKUP(J392,'Соответствия статей'!$A$2:$B$50,2,0)),\"Другое\")","v":"Прочие доходы"},"Банк","Доход"]
["2020-01-03T00:35:00",null,null,null,5000,null,null,null,null,"Дивиденды",null,"Дивиденды",null,{"$f":"IFERROR(IF(A393=\"\",\"\",VLOOKUP(J393,'Соответствия статей'!$A$2:$B$50,2,0)),\"Другое\")","v":"Дивиденды"},"Банк","Доход"]
["2020-01-03T00:35:00",null,null,null,5000,null,null,null,null,"Проценты по вкладам",null,"Проценты по вкладам",null,{"$f":"IFERROR(IF(A394=\"\",\"\",VLOOKUP(J394,'Соответствия статей'!$A$2:$B$50,2,0)),\"Другое\")","v":"Проценты по вкладам"},"Банк","Доход"]
["2020-02-03T00:35:00",null,null,null,55000,null,null,null,null,"Заработная плата",null,"Заработная плата",null,{"$f":"IFERROR(IF(A395=\"\",\"\",VLOOKUP(J395,'Соответствия статей'!$A$2:$B$50,2,0)),\"Другое\")","v":"Заработная плата"},"Банк","Доход"]
["2020-02-03T00:35:00",null,null,null,15000,null,null,null,null,"Оплата за преподавание",null,"Оплата за преподавание",null,{"$f":"IFERROR(IF(A396=\"\",\"\",VLOOKUP(J396,'Соответствия статей'!$A$2:$B$50,2,0)),\"Другое\")","v":"Оплата за преподавание"},"Банк","Доход"]
["2020-02-03T00:35:00",null,null,null,5000,null,null,null,null,"Прочие доходы",null,"Прочие доходы",null,{"$f":"IFERROR(IF(A397=\"\",\"\",VLOOKUP(J397,'Соответствия статей'!$A$2:$B$50,2,0)),\"Другое\")","v":"Прочие доходы"},"Банк","Доход"]
["2020-02-03T00:35:00",null,null,null,5000,null,null,null,null,"Дивиденды",null,"Дивиденды",null,{"$f":"IFERROR(IF(A398=\"\",\"\",VLOOKUP(J398,'Соответствия статей'!$A$2:$B$50,2,0)),\"Другое\")","v":"Дивиденды"},"Банк","Доход"]
["2020-02-03T00:35:00",null,null,null,5000,null,null,null,null,"Проценты по вкладам",null,"Проценты по вкладам",null,{"$f":"IFERROR(IF(A399=\"\",\"\",VLOOKUP(J399,'Соответствия статей'!$A$2:$B$50,2,0)),\"Другое\")","v":"Проценты по вкладам"},"Банк","Доход"]
["2020-03-03T00:35:00",null,null,null,55000,null,null,null,null,"Заработная плата",null,"Заработная плата",null,{"$f":"IFERROR(IF(A400=\"\",\"\",VLOOKUP(J400,'Соответствия статей'!$A$2:$B$50,2,0)),\"Другое\")","v":"Заработная плата"},"Банк","Доход"]
["2020-03-03T00:35:00",null,null,null,15000,null,null,null,null,"Оплата за преподавание",null,"Оплата за преподавание",null,{"$f":"IFERROR(IF(A401=\"\",\"\",VLOOKUP(J401,'Соответствия статей'!$A$2:$B$50,2,0)),\"Другое\")","v":"Оплата за преподавание"},"Банк","Доход"]
["2020-03-03T00:35:00",null,null,null,5000,null,null,null,null,"Прочие доходы",null,"Прочие доходы",null,{"$f":"IFERROR(IF(A402=\"\",\"\",VLOOKUP(J402,'Соответствия статей'!$A$2:$B$50,2,0)),\"Другое\")","v":"Прочие доходы"},"Банк","Доход"]
["2020-03-03T00:35:00",null,null,null,5000,null,null,null,null,"Дивиденды",null,"Дивиденды",null,{"$f":"IFERROR(IF(A403=\"\",\"\",VLOOKUP(J403,'Соответствия статей'!$A$2:$B$50,2,0)),\"Другое\")","v":"Дивиденды"},"Банк","Доход"]
["2020-03-03T00:35:00",null,null,null,5000,null,null,null,null,"Проценты по вкладам",null,"Проценты по вкладам",null,{"$f":"IFERROR(IF(A404=\"\",\"\",VLOOKUP(J404,'Соответствия статей'!$A$2:$B$50,2,0)),\"Другое\")","v":"Проценты по вкладам"},"Банк","Доход"]
["2020-06-30T23:08:49","2020-04-02","*7127","OK",-400,"RUB",-400,"RUB",null,"Сервис. услуги",7311,"Y.M*youdo",0,{"$f":"IFERROR(IF(A405=\"\",\"\",VLOOKUP(J405,'Соответствия статей'!$A$2:$B$50,2,0)),\"Другое\")","v":"Другое"},"Банк","Расход"]
["2020-06-30T19:55:21","2020-04-01","*7127","OK",-100,"RUB",-100,"RUB",null,"Сервис. услуги",7361,"PayMaster",1,{"$f":"IFERROR(IF(A406=\"\",\"\",VLOOKUP(J406,'Соответствия статей'!$A$2:$B$50,2,0)),\"Другое\")","v":"Другое"},"Банк","Расход"]
["2020-06-30T17:06:30","2020-04-02","*7127","OK",-206.55,"RUB",-206.55,"RUB",null,"Аптеки",5912,"Аптека 36,6",2,{"$f":"IFERROR(IF(A407=\"\",\"\",VLOOKUP(J407,'Соответствия статей'!$A$2:$B$50,2,0)),\"Другое\")","v":"Медицина"},"Банк","Расход"]
["2020-06-30T16:36:49","2020-04-02","*7127","OK",-559,"RUB",-559,"RUB",null,"Аптеки",5912,"Аптеки Первая Помощь",5,{"$f":"IFERROR(IF(A408=\"\",\"\",VLOOKUP(J408,'Соответствия статей'!$A$2:$B$50,2,0)),\"Другое\")","v":"Медицина"},"Банк","Расход"]
["2020-06-30T16:26:24","2020-04-02","*7127","OK",-215.98,"RUB",-215.98,"RUB",null,"Супермаркеты",5411,"Семишагофф",2,{"$f":"IFERROR(IF(A409=\"\",\"\",VLOOKUP(J409,'Соответствия статей'!$A$2:$B$50,2,0)),\"Другое\")","v":"Продукты"},"Банк","Расход"]
["2020-06-30T13:17:30","2020-03-31","*7127","OK",209,"RUB",209,"RUB",null,"Прочие доходы",null,"Компенсация покупки",0,{"$f":"IFERROR(IF(A410=\"\",\"\",VLOOKUP(J410,'Соответствия статей'!$A$2:$B$50,2,0)),\"Другое\")","v":"Прочие доходы"},"Банк","Доход"]
["2020-06-30T13:17:13","2020-03-31","*7127","OK",200,"RUB",200,"RUB",null,"Прочие доходы",null,"Компенсация покупки",0,{"$f":"IFERROR(IF(A411=\"\",\"\",VLOOKUP(J411,'Соответствия статей'!$A$2:$B$50,2,0)),\"Другое\")","v":"Прочие доходы"},"Банк","Доход"]
["2020-06-30T13:17:00","2020-03-31","*7127","OK",200,"RUB",200,"RUB",null,"Прочие доходы",null,"Компенсация покупки",0,{"$f":"IFERROR(IF(A412=\"\",\"\",VLOOKUP(J412,'Соответствия статей'!$A$2:$B$50,2,0)),\"Другое\")","v":"Прочие доходы"},"Банк","Доход"]
["2020-06-30T13:16:26","2020-03-31","*7127","OK",265,"RUB",265,"RUB",null,"Прочие доходы",null,"Компенсация покупки",0,{"$f":"IFERROR(IF(A413=\"\",\"\",VLOOKUP(J413,'Соответствия статей'!$A$2:$B$50,2,0)),\"Другое\")","v":"Прочие доходы"},"Банк","Доход"]
["2020-06-30T13:16:08","2020-03-31","*7127","OK",250,"RUB",250,"RUB",null,"Прочие доходы",null,"Компенсация покупки",0,{"$f":"IFERROR(IF(A414=\"\",\"\",VLOOKUP(J414,'Соответствия статей'!$A$2:$B$50,2,0)),\"Другое\")","v":"Прочие доходы"},"Банк","Доход"]
["2020-06-30T13:15:48","2020-03-31","*7127","OK",240,"RUB",240,"RUB",null,"Прочие доходы",null,"Компенсация покупки",0,{"$f":"IFERROR(IF(A415=\"\",\"\",VLOOKUP(J415,'Соответствия статей'!$A$2:$B$50,2,0)),\"Другое\")","v":"Прочие доходы"},"Банк","Доход"]
["2020-06-30T22:33:51","2020-03-30",null,"OK",-59,"RUB",-59,"RUB",null,"Другое",null,"Плата за оповещения об операциях",0,{"$f":"IFERROR(IF(A416=\"\",\"\",VLOOKUP(J416,'Соответствия статей'!$A$2:$B$50,2,0)),\"Другое\")","v":"Другое"},"Банк","Расход"]
["2020-06-27T09:09:31","2020-03-30","*7127","OK",-3764,"RUB",-3764,"RUB",null,"Супермаркеты",5411,"Перекресток",37,{"$f":"IFERROR(IF(A417=\"\",\"\",VLOOKUP(J417,'Соответствия статей'!$A$2:$B$50,2,0)),\"Другое\")","v":"Продукты"},"Банк","Расход"]
["2020-06-25T17:54:29","2020-03-27","*8173","OK",-507.75,"RUB",-507.75,"RUB",5,"Супермаркеты",5411,"Перекресток",5,{"$f":"IFERROR(IF(A418=\"\",\"\",VLOOKUP(J418,'Соответствия статей'!$A$2:$B$50,2,0)),\"Другое\")","v":"Продукты"},"Банк","Расход"]
["2020-06-25T17:42:43","2020-03-25","*8173","OK",-130000,"RUB",-130000,"RUB",null,"Наличные",6011,"Банкомат Тинькофф",0,{"$f":"IFERROR(IF(A419=\"\",\"\",VLOOKUP(J419,'Соответствия статей'!$A$2:$B$50,2,0)),\"Другое\")","v":"Снятие наличных"},"Банк","Расход"]
["2020-06-24T21:27:51","2020-03-25","*7127","OK",-100,"RUB",-100,"RUB",null,"Мобильные/иб",null,"Ростелеком Мобильная связь +79932213431",0,{"$f":"IFERROR(IF(A420=\"\",\"\",VLOOKUP(J420,'Соответствия статей'!$A$2:$B$50,2,0)),\"Другое\")","v":"Телефонная связь"},"Банк","Расход"]
["2020-06-24T20:41:12","2020-03-26","*7127","OK",-264.79000000000002,"RUB",-264.79000000000002,"RUB",null,"Супермаркеты",5411,"Дикси",2,{"$f":"IFERROR(IF(A421=\"\",\"\",VLOOKUP(J421,'Соответствия статей'!$A$2:$B$50,2,0)),\"Другое\")","v":"Продукты"},"Банк","Расход"]
["2020-06-24T20:25:04","2020-03-26","*7127","OK",-946,"RUB",-946,"RUB",null,"Аптеки",5912,"Озерки",9,{"$f":"IFERROR(IF(A422=\"\",\"\",VLOOKUP(J422,'Соответствия статей'!$A$2:$B$50,2,0)),\"Другое\")","v":"Медицина"},"Банк","Расход"]
["2020-06-23T23:13:50","2020-03-23",null,"OK",-99,"RUB",-99,"RUB",null,"Другое",null,"Плата за обслуживание",0,{"$f":"IFERROR(IF(A423=\"\",\"\",VLOOKUP(J423,'Соответствия статей'!$A$2:$B$50,2,0)),\"Другое\")","v":"Другое"},"Банк","Расход"]
["2020-06-23T22:49:06","2020-03-23",null,"OK",227,"RUB",227,"RUB",null,"Прочие доходы",null,"Вознаграждение за операции покупок",0,{"$f":"IFERROR(IF(A424=\"\",\"\",VLOOKUP(J424,'Соответствия статей'!$A$2:$B$50,2,0)),\"Другое\")","v":"Прочие доходы"},"Банк","Доход"]
["2020-06-23T22:37:43","2020-03-25","*8173","OK",-101,"RUB",-101,"RUB",5,"Транспорт",4121,"Uber",5,{"$f":"IFERROR(IF(A425=\"\",\"\",VLOOKUP(J425,'Соответствия статей'!$A$2:$B$50,2,0)),\"Другое\")","v":"Транспорт"},"Банк","Расход"]
["2020-06-23T22:07:34","2020-03-25","*7127","OK",-1856.58,"RUB",-1856.58,"RUB",null,"Супермаркеты",5411,"Перекресток",18,{"$f":"IFERROR(IF(A426=\"\",\"\",VLOOKUP(J426,'Соответствия статей'!$A$2:$B$50,2,0)),\"Другое\")","v":"Продукты"},"Банк","Расход"]
["2020-06-23T21:46:03","2020-03-23",null,"OK",239.78,"RUB",239.78,"RUB",null,"Прочие доходы",null,"Проценты на остаток по счету",0,{"$f":"IFERROR(IF(A427=\"\",\"\",VLOOKUP(J427,'Соответствия статей'!$A$2:$B$50,2,0)),\"Другое\")","v":"Прочие доходы"},"Банк","Доход"]
["2020-06-23T19:55:17","2020-03-23","*8173","OK",900,"RUB",900,"RUB",null,"Прочие доходы",null,"Иван Ш.",0,{"$f":"IFERROR(IF(A428=\"\",\"\",VLOOKUP(J428,'Соответствия статей'!$A$2:$B$50,2,0)),\"Другое\")","v":"Прочие доходы"},"Банк","Доход"]
["2020-06-23T14:12:48","2020-03-24","*7127","OK",48751,"RUB",48751,"RUB",null,"Супермаркеты",5411,"Ozon.ru",-487,{"$f":"IFERROR(IF(A429=\"\",\"\",VLOOKUP(J429,'Соответствия статей'!$A$2:$B$50,2,0)),\"Другое\")","v":"Продукты"},"Банк","Расход"]
["2020-06-23T14:02:37","2020-03-24","*7127","OK",-48751,"RUB",-48751,"RUB",null,"Супермаркеты",5411,"Ozon.ru",487,{"$f":"IFERROR(IF(A430=\"\",\"\",VLOOKUP(J430,'Соответствия статей'!$A$2:$B$50,2,0)),\"Другое\")","v":"Продукты"},"Банк","Расход"]
["2020-06-22T14:59:46","2020-03-24","*8173","OK",-100,"RUB",-100,"RUB",5,"Транспорт",4111,"Метро Санкт-Петербург",5,{"$f":"IFERROR(IF(A431=\"\",\"\",VLOOKUP(J431,'Соответствия статей'!$A$2:$B$50,2,0)),\"Другое\")","v":"Транспорт"},"Банк","Расход"]
["2020-06-22T04:43:15","2020-03-23","*7127","OK",300,"RUB",300,"RUB",null,"Авиабилеты",4511,"Авиакомпания UTair",-3,{"$f":"IFERROR(IF(A432=\"\",\"\",VLOOKUP(J432,'Соответствия статей'!$A$2:$B$50,2,0)),\"Другое\")","v":"Поездки"},"Банк","Расход"]
["2020-06-22T04:43:14","2020-03-23","*7127","OK",300,"RUB",300,"RUB",null,"Авиабилеты",4511,"Авиакомпания UTair",-3,{"$f":"IFERROR(IF(A433=\"\",\"\",VLOOKUP(J433,'Соответствия статей'!$A$2:$B$50,2,0)),\"Другое\")","v":"Поездки"},"Банк","Расход"]
["2020-06-22T04:43:13","2020-03-23","*7127","OK",300,"RUB",300,"RUB",null,"Авиабилеты",4511,"Авиакомпания UTair",-3,{"$f":"IFERROR(IF(A434=\"\",\"\",VLOOKUP(J434,'Соответствия статей'!$A$2:$B$50,2,0)),\"Другое\")","v":"Поездки"},"Банк","Расход"]
["2020-06-22T04:40:15","2020-03-23","*7127","OK",299,"RUB",299,"RUB",null,"Авиабилеты",4511,"Авиакомпания UTair",-2,{"$f":"IFERROR(IF(A435=\"\",\"\",VLOOKUP(J435,'Соответствия статей'!$A$2:$B$50,2,0)),\"Другое\")","v":"Поездки"},"Банк","Расход"]
["2020-06-22T04:40:14","2020-03-23","*7127","OK",199,"RUB",199,"RUB",null,"Авиабилеты",4511,"Авиакомпания UTair",-1,{"$f":"IFERROR(IF(A436=\"\",\"\",VLOOKUP(J436,'Соответствия статей'!$A$2:$B$50,2,0)),\"Другое\")","v":"Поездки"},"Банк","Расход"]
["2020-06-22T04:40:13","2020-03-23","*7127","OK",199,"RUB",199,"RUB",null,"Авиабилеты",4511,"Авиакомпания UTair",-1,{"$f":"IFERROR(IF(A437=\"\",\"\",VLOOKUP(J437,'Соответствия статей'!$A$2:$B$50,2,0)),\"Другое\")","v":"Поездки"},"Банк","Расход"]
["2020-06-21T15:43:23","2020-03-23","*7127","OK",-15.2,"RUB",-15.2,"RUB",null,"Аптеки",5912,"Apteka 193",0,{"$f":"IFERROR(IF(A438=\"\",\"\",VLOOKUP(J438,'Соответствия статей'!$A$2:$B$50,2,0)),\"Другое\")","v":"Медицина"},"Банк","Расход"]
["2020-06-21T15:41:31","2020-03-23","*7127","OK",-247,"RUB",-247,"RUB",null,"Аптеки",5912,"Apteka 193",2,{"$f":"IFERROR(IF(A439=\"\",\"\",VLOOKUP(J439,'Соответствия статей'!$A$2:$B$50,2,0)),\"Другое\")","v":"Медицина"},"Банк","Расход"]
["2020-06-19T17:12:02","2020-03-20","*7127","OK",6193.4,"RUB",6193.4,"RUB",null,"Ж/д билеты",4112,"РЖД",-61,{"$f":"IFERROR(IF(A440=\"\",\"\",VLOOKUP(J440,'Соответствия статей'!$A$2:$B$50,2,0)),\"Другое\")","v":"Поездки"},"Банк","Расход"]
["2020-06-19T17:12:02","2020-03-20","*7127","OK",4332.8999999999996,"RUB",4332.8999999999996,"RUB",null,"Ж/д билеты",4112,"РЖД",-43,{"$f":"IFERROR(IF(A441=\"\",\"\",VLOOKUP(J441,'Соответствия статей'!$A$2:$B$50,2,0)),\"Другое\")","v":"Поездки"},"Банк","Расход"]
["2020-06-19T17:12:02","2020-03-20","*7127","OK",2528.6999999999998,"RUB",2528.6999999999998,"RUB",null,"Ж/д билеты",4112,"РЖД",-25,{"$f":"IFERROR(IF(A442=\"\",\"\",VLOOKUP(J442,'Соответствия статей'!$A$2:$B$50,2,0)),\"Другое\")","v":"Поездки"},"Банк","Расход"]
["2020-06-19T14:36:45","2020-03-21","*7127","OK",-1325,"RUB",-1325,"RUB",null,"Аптеки",5912,"Озерки",13,{"$f":"IFERROR(IF(A443=\"\",\"\",VLOOKUP(J443,'Соответствия статей'!$A$2:$B$50,2,0)),\"Другое\")","v":"Медицина"},"Банк","Расход"]
["2020-06-19T13:50:17","2020-03-21","*7127","OK",-240,"RUB",-240,"RUB",null,"Фастфуд",5814,"Рестораны ТАРЕЛКА",2,{"$f":"IFERROR(IF(A444=\"\",\"\",VLOOKUP(J444,'Соответствия статей'!$A$2:$B$50,2,0)),\"Другое\")","v":"Рестораны"},"Банк","Расход"]
["2020-06-19T09:34:34","2020-03-21","*7127","OK",-200,"RUB",-200,"RUB",null,"Транспорт",4111,"Метро Санкт-Петербург",2,{"$f":"IFERROR(IF(A445=\"\",\"\",VLOOKUP(J445,'Соответствия статей'!$A$2:$B$50,2,0)),\"Другое\")","v":"Транспорт"},"Банк","Расход"]
["2020-06-18T19:17:35","2020-03-20","*8173","OK",-59.6,"RUB",-59.6,"RUB",0,"Аптеки",5912,"Аптека 36,6",0,{"$f":"IFERROR(IF(A446=\"\",\"\",VLOOKUP(J446,'Соответствия статей'!$A$2:$B$50,2,0)),\"Другое\")","v":"Медицина"},"Банк","Расход"]
["2020-06-18T16:03:33","2020-03-18","*7127","OK",-230,"RUB",-230,"RUB",null,"Сувениры",5947,"IP Zajtseva A N",2,{"$f":"IFERROR(IF(A447=\"\",\"\",VLOOKUP(J447,'Соответствия статей'!$A$2:$B$50,2,0)),\"Другое\")","v":"Подарки, благотворительность"},"Банк","Расход"]
["2020-06-18T10:40:20","2020-03-19","*7127","OK",-1600,"RUB",-1600,"RUB",null,"Мед. услуги",8099,"A-Mediya LLC",16,{"$f":"IFERROR(IF(A448=\"\",\"\",VLOOKUP(J448,'Соответствия статей'!$A$2:$B$50,2,0)),\"Другое\")","v":"Медицина"},"Банк","Расход"]
["2020-06-17T20:00:54","2020-03-19","*7127","OK",-256,"RUB",-256,"RUB",null,"Аптеки",5912,"Озерки",2,{"$f":"IFERROR(IF(A449=\"\",\"\",VLOOKUP(J449,'Соответствия статей'!$A$2:$B$50,2,0)),\"Другое\")","v":"Медицина"},"Банк","Расход"]
["2020-06-17T13:20:43","2020-03-19","*7127","OK",-799.98,"RUB",-799.98,"RUB",null,"Супермаркеты",5411,"Пятерочка",7,{"$f":"IFERROR(IF(A450=\"\",\"\",VLOOKUP(J450,'Соответствия статей'!$A$2:$B$50,2,0)),\"Другое\")","v":"Продукты"},"Банк","Расход"]
["2020-06-17T12:31:35","2020-03-19","*7127","OK",-250,"RUB",-250,"RUB",null,"Фастфуд",5814,"Рестораны ТАРЕЛКА",2,{"$f":"IFERROR(IF(A451=\"\",\"\",VLOOKUP(J451,'Соответствия статей'!$A$2:$B$50,2,0)),\"Другое\")","v":"Рестораны"},"Банк","Расход"]
["2020-06-17T10:25:14","2020-03-19","*7357","OK",-39,"RUB",-39,"RUB",0,"Фастфуд",5814,"Babushkiny Pirogi",0,{"$f":"IFERROR(IF(A452=\"\",\"\",VLOOKUP(J452,'Соответствия статей'!$A$2:$B$50,2,0)),\"Другое\")","v":"Рестораны"},"Банк","Расход"]
["2020-06-17T09:33:36","2020-03-19","*7357","OK",-200,"RUB",-200,"RUB",10,"Транспорт",4111,"Метро Санкт-Петербург",10,{"$f":"IFERROR(IF(A453=\"\",\"\",VLOOKUP(J453,'Соответствия статей'!$A$2:$B$50,2,0)),\"Другое\")","v":"Транспорт"},"Банк","Расход"]
["2020-06-17","2020-03-17","*7127","OK",800,"RUB",800,"RUB",null,"Финан. услуги",6536,"Сбербанк",0,{"$f":"IFERROR(IF(A454=\"\",\"\",VLOOKUP(J454,'Соответствия статей'!$A$2:$B$50,2,0)),\"Другое\")","v":"Переводы"},"Банк","Расход"]
["2020-06-16T13:58:31","2020-03-18","*7127","OK",-238,"RUB",-238,"RUB",null,"Аптеки",5912,"Apt1208 Neptun",2,{"$f":"IFERROR(IF(A455=\"\",\"\",VLOOKUP(J455,'Соответствия статей'!$A$2:$B$50,2,0)),\"Другое\")","v":"Медицина"},"Банк","Расход"]
["2020-06-16T13:38:29","2020-03-18","*8173","OK",-25,"RUB",-25,"RUB",0,"Супермаркеты",5499,"Petro-Servis",0,{"$f":"IFERROR(IF(A456=\"\",\"\",VLOOKUP(J456,'Соответствия статей'!$A$2:$B$50,2,0)),\"Другое\")","v":"Продукты"},"Банк","Расход"]
["2020-06-16T13:14:12","2020-03-18","*8173","OK",-200,"RUB",-200,"RUB",2,"Фастфуд",5814,"Stolovaya",2,{"$f":"IFERROR(IF(A457=\"\",\"\",VLOOKUP(J457,'Соответствия статей'!$A$2:$B$50,2,0)),\"Другое\")","v":"Рестораны"},"Банк","Расход"]
["2020-06-16T13:05:33","2020-03-18","*7127","OK",-265,"RUB",-265,"RUB",null,"Фастфуд",5814,"Рестораны ТАРЕЛКА",2,{"$f":"IFERROR(IF(A458=\"\",\"\",VLOOKUP(J458,'Соответствия статей'!$A$2:$B$50,2,0)),\"Другое\")","v":"Рестораны"},"Банк","Расход"]
["2020-06-16T09:08:52","2020-03-17","*7127","OK",-4025,"RUB",-4025,"RUB",null,"Супермаркеты",5411,"Перекресток",40,{"$f":"IFERROR(IF(A459=\"\",\"\",VLOOKUP(J459,'Соответствия статей'!$A$2:$B$50,2,0)),\"Другое\")","v":"Продукты"},"Банк","Расход"]
["2020-06-15T18:32:54","2020-03-16","*7127","OK",-758.34,"RUB",-758.34,"RUB",null,"Жкх/иб",4900,"Петроэлектросбыт",0,{"$f":"IFERROR(IF(A460=\"\",\"\",VLOOKUP(J460,'Соответствия статей'!$A$2:$B$50,2,0)),\"Другое\")","v":"Коммунальные услуги"},"Банк","Расход"]
["2020-06-15T16:53:42","2020-03-17","*7127","OK",-1354,"RUB",-1354,"RUB",null,"Аптеки",5912,"Озерки",13,{"$f":"IFERROR(IF(A461=\"\",\"\",VLOOKUP(J461,'Соответствия статей'!$A$2:$B$50,2,0)),\"Другое\")","v":"Медицина"},"Банк","Расход"]
["2020-06-13T21:01:13","2020-03-16","*7127","OK",-252.95,"RUB",-252.95,"RUB",null,"Супермаркеты",5411,"Семишагофф",2,{"$f":"IFERROR(IF(A462=\"\",\"\",VLOOKUP(J462,'Соответствия статей'!$A$2:$B$50,2,0)),\"Другое\")","v":"Продукты"},"Банк","Расход"]
["2020-06-13T16:56:00","2020-03-14","*7127","OK",-25,"RUB",-25,"RUB",null,"Фастфуд",5814,"OOO As-Vend",0,{"$f":"IFERROR(IF(A463=\"\",\"\",VLOOKUP(J463,'Соответствия статей'!$A$2:$B$50,2,0)),\"Другое\")","v":"Рестораны"},"Банк","Расход"]
["2020-06-13T14:21:03","2020-03-16","*7357","OK",-110,"RUB",-110,"RUB",1,"Разные товары",5311,"Fixprice",1,{"$f":"IFERROR(IF(A464=\"\",\"\",VLOOKUP(J464,'Соответствия статей'!$A$2:$B$50,2,0)),\"Другое\")","v":"Другое"},"Банк","Расход"]
["2020-06-13T13:17:30","2020-03-16","*7127","OK",-25,"RUB",-25,"RUB",null,"Супермаркеты",5499,"Petro-Servis",0,{"$f":"IFERROR(IF(A465=\"\",\"\",VLOOKUP(J465,'Соответствия статей'!$A$2:$B$50,2,0)),\"Другое\")","v":"Продукты"},"Банк","Расход"]
["2020-06-13T12:55:29","2020-03-16","*7127","OK",-200,"RUB",-200,"RUB",null,"Фастфуд",5814,"Stolovaya",2,{"$f":"IFERROR(IF(A466=\"\",\"\",VLOOKUP(J466,'Соответствия статей'!$A$2:$B$50,2,0)),\"Другое\")","v":"Рестораны"},"Банк","Расход"]
["2020-06-12T22:23:11","2020-03-14","*8173","OK",-200,"RUB",-200,"RUB",10,"Транспорт",4111,"Метро Санкт-Петербург",10,{"$f":"IFERROR(IF(A467=\"\",\"\",VLOOKUP(J467,'Соответствия статей'!$A$2:$B$50,2,0)),\"Другое\")","v":"Транспорт"},"Банк","Расход"]
["2020-06-12T21:23:38","2020-03-14","*8173","OK",-55,"RUB",-55,"RUB",2,"Транспорт",4111,"Метро Санкт-Петербург",2,{"$f":"IFERROR(IF(A468=\"\",\"\",VLOOKUP(J468,'Соответствия статей'!$A$2:$B$50,2,0)),\"Другое\")","v":"Транспорт"},"Банк","Расход"]
["2020-06-12T19:34:24","2020-03-14","*7357","OK",-51.9,"RUB",-51.9,"RUB",0,"Супермаркеты",5411,"Перекресток",0,{"$f":"IFERROR(IF(A469=\"\",\"\",VLOOKUP(J469,'Соответствия статей'!$A$2:$B$50,2,0)),\"Другое\")","v":"Продукты"},"Банк","Расход"]
["2020-06-12T13:47:03","2020-03-14","*7127","OK",-25,"RUB",-25,"RUB",null,"Супермаркеты",5499,"Petro-Servis",0,{"$f":"IFERROR(IF(A470=\"\",\"\",VLOOKUP(J470,'Соответствия статей'!$A$2:$B$50,2,0)),\"Другое\")","v":"Продукты"},"Банк","Расход"]
["2020-06-12T13:15:18","2020-03-14","*7127","OK",-200,"RUB",-200,"RUB",null,"Фастфуд",5814,"Stolovaya",2,{"$f":"IFERROR(IF(A471=\"\",\"\",VLOOKUP(J471,'Соответствия статей'!$A$2:$B$50,2,0)),\"Другое\")","v":"Рестораны"},"Банк","Расход"]
["2020-06-12T10:02:28","2020-03-12","*8173","OK",2300,"RUB",2300,"RUB",null,"Прочие доходы",null,"Иван Ш.",0,{"$f":"IFERROR(IF(A472=\"\",\"\",VLOOKUP(J472,'Соответствия статей'!$A$2:$B$50,2,0)),\"Другое\")","v":"Прочие доходы"},"Банк","Доход"]
["2020-06-12T09:21:25","2020-03-14","*7357","OK",-200,"RUB",-200,"RUB",10,"Транспорт",4111,"Метро Санкт-Петербург",10,{"$f":"IFERROR(IF(A473=\"\",\"\",VLOOKUP(J473,'Соответствия статей'!$A$2:$B$50,2,0)),\"Другое\")","v":"Транспорт"},"Банк","Расход"]
["2020-06-12T02:55:30","2020-03-13","*8173","OK",-101,"RUB",-101,"RUB",5,"Транспорт",4121,"Uber",5,{"$f":"IFERROR(IF(A474=\"\",\"\",VLOOKUP(J474,'Соответствия статей'!$A$2:$B$50,2,0)),\"Другое\")","v":"Транспорт"},"Банк","Расход"]
["2020-06-11T23:05:00","2020-03-13","*7127","OK",-55,"RUB",-55,"RUB",null,"Транспорт",4111,"Метро Санкт-Петербург",0,{"$f":"IFERROR(IF(A475=\"\",\"\",VLOOKUP(J475,'Соответствия статей'!$A$2:$B$50,2,0)),\"Другое\")","v":"Транспорт"},"Банк","Расход"]
["2020-06-11T22:29:23","2020-03-13","*7357","OK",-540,"RUB",-540,"RUB",5,"Фастфуд",5814,"IP Mokhov V. A.",5,{"$f":"IFERROR(IF(A476=\"\",\"\",VLOOKUP(J476,'Соответствия статей'!$A$2:$B$50,2,0)),\"Другое\")","v":"Рестораны"},"Банк","Расход"]
["2020-06-11T18:46:35","2020-03-13","*7127","OK",-209,"RUB",-209,"RUB",null,"Фастфуд",5814,"Теремок",2,{"$f":"IFERROR(IF(A477=\"\",\"\",VLOOKUP(J477,'Соответствия статей'!$A$2:$B$50,2,0)),\"Другое\")","v":"Рестораны"},"Банк","Расход"]
["2020-06-11T12:28:32","2020-03-13","*7127","OK",-25,"RUB",-25,"RUB",null,"Супермаркеты",5499,"Petro-Servis",0,{"$f":"IFERROR(IF(A478=\"\",\"\",VLOOKUP(J478,'Соответствия статей'!$A$2:$B$50,2,0)),\"Другое\")","v":"Продукты"},"Банк","Расход"]
["2020-06-11T10:44:38","2020-03-12","*7127","OK",-3464,"RUB",-3464,"RUB",null,"Рестораны",5812,"Достаевский",34,{"$f":"IFERROR(IF(A479=\"\",\"\",VLOOKUP(J479,'Соответствия статей'!$A$2:$B$50,2,0)),\"Другое\")","v":"Рестораны"},"Банк","Расход"]
["2020-06-10T22:16:42","2020-03-12","*7127","OK",-1973.49,"RUB",-1973.49,"RUB",null,"Супермаркеты",5411,"Перекресток",19,{"$f":"IFERROR(IF(A480=\"\",\"\",VLOOKUP(J480,'Соответствия статей'!$A$2:$B$50,2,0)),\"Другое\")","v":"Продукты"},"Банк","Расход"]
["2020-06-10T22:02:07","2020-03-11","*7127","OK",-4200,"RUB",-4200,"RUB",null,"Одежда, обувь",5621,"IP Sharapova E.N.",42,{"$f":"IFERROR(IF(A481=\"\",\"\",VLOOKUP(J481,'Соответствия статей'!$A$2:$B$50,2,0)),\"Другое\")","v":"Одежда и обувь"},"Банк","Расход"]
["2020-06-10T20:14:28","2020-03-12","*7357","OK",-200,"RUB",-200,"RUB",10,"Транспорт",4111,"Метро Санкт-Петербург",10,{"$f":"IFERROR(IF(A482=\"\",\"\",VLOOKUP(J482,'Соответствия статей'!$A$2:$B$50,2,0)),\"Другое\")","v":"Транспорт"},"Банк","Расход"]
["2020-06-10T13:46:49","2020-03-11","*7127","OK",-25,"RUB",-25,"RUB",null,"Фастфуд",5814,"Petro-Servis",0,{"$f":"IFERROR(IF(A483=\"\",\"\",VLOOKUP(J483,'Соответствия статей'!$A$2:$B$50,2,0)),\"Другое\")","v":"Рестораны"},"Банк","Расход"]
["2020-06-10T12:04:46","2020-03-12","*7357","OK",-253,"RUB",-253,"RUB",2,"Фастфуд",5814,"Рестораны ТАРЕЛКА",2,{"$f":"IFERROR(IF(A484=\"\",\"\",VLOOKUP(J484,'Соответствия статей'!$A$2:$B$50,2,0)),\"Другое\")","v":"Рестораны"},"Банк","Расход"]
["2020-06-10T00:57:09","2020-03-10","*7127","OK",-510,"RUB",-510,"RUB",null,"Сервис. услуги",7311,"ВКонтакте",0,{"$f":"IFERROR(IF(A485=\"\",\"\",VLOOKUP(J485,'Соответствия статей'!$A$2:$B$50,2,0)),\"Другое\")","v":"Другое"},"Банк","Расход"]
["2020-06-09T19:47:14","2020-03-11","*7357","OK",-64.900000000000006,"RUB",-64.900000000000006,"RUB",0,"Супермаркеты",5411,"Перекресток",0,{"$f":"IFERROR(IF(A486=\"\",\"\",VLOOKUP(J486,'Соответствия статей'!$A$2:$B$50,2,0)),\"Другое\")","v":"Продукты"},"Банк","Расход"]
["2020-06-09T19:41:41","2020-03-11","*7357","OK",-69,"RUB",-69,"RUB",0,"Дом, ремонт",5211,"СТАРТ",0,{"$f":"IFERROR(IF(A487=\"\",\"\",VLOOKUP(J487,'Соответствия статей'!$A$2:$B$50,2,0)),\"Другое\")","v":"Товары для дома, ремонта"},"Банк","Расход"]
["2020-06-09T19:39:55","2020-03-11","*7127","OK",-259,"RUB",-259,"RUB",null,"Книги",5942,"Буквоед",2,{"$f":"IFERROR(IF(A488=\"\",\"\",VLOOKUP(J488,'Соответствия статей'!$A$2:$B$50,2,0)),\"Другое\")","v":"Обучение"},"Банк","Расход"]
["2020-06-09T19:23:51","2020-03-11","*8173","OK",-97,"RUB",-97,"RUB",4,"Транспорт",4121,"Uber",4,{"$f":"IFERROR(IF(A489=\"\",\"\",VLOOKUP(J489,'Соответствия статей'!$A$2:$B$50,2,0)),\"Другое\")","v":"Транспорт"},"Банк","Расход"]
["2020-06-09T17:43:18","2020-03-11","*7127","OK",-422,"RUB",-422,"RUB",null,"Фастфуд",5814,"Додо Пицца",4,{"$f":"IFERROR(IF(A490=\"\",\"\",VLOOKUP(J490,'Соответствия статей'!$A$2:$B$50,2,0)),\"Другое\")","v":"Рестораны"},"Банк","Расход"]
["2020-06-08T19:12:11","2020-03-09","*7127","OK",-1100,"RUB",-1100,"RUB",null,"Цветы",5992,"Salon Tsvety",11,{"$f":"IFERROR(IF(A491=\"\",\"\",VLOOKUP(J491,'Соответствия статей'!$A$2:$B$50,2,0)),\"Другое\")","v":"Подарки, благотворительность"},"Банк","Расход"]
["2020-06-08T18:31:04","2020-03-10","*7127","OK",-622,"RUB",-622,"RUB",null,"Фастфуд",5814,"McDonald's",6,{"$f":"IFERROR(IF(A492=\"\",\"\",VLOOKUP(J492,'Соответствия статей'!$A$2:$B$50,2,0)),\"Другое\")","v":"Рестораны"},"Банк","Расход"]
["2020-06-08T16:27:47","2020-03-10","*8173","OK",-1053,"RUB",-1053,"RUB",52,"Кино",7832,"Синема Парк",52,{"$f":"IFERROR(IF(A493=\"\",\"\",VLOOKUP(J493,'Соответствия статей'!$A$2:$B$50,2,0)),\"Другое\")","v":"Развлечения"},"Банк","Расход"]
["2020-06-08T15:20:30","2020-03-10","*8173","OK",-144,"RUB",-144,"RUB",7,"Транспорт",4121,"Uber",7,{"$f":"IFERROR(IF(A494=\"\",\"\",VLOOKUP(J494,'Соответствия статей'!$A$2:$B$50,2,0)),\"Другое\")","v":"Транспорт"},"Банк","Расход"]
["2020-06-08T14:55:48","2020-03-10","*8173","OK",-113,"RUB",-113,"RUB",1,"Супермаркеты",5411,"Latte",1,{"$f":"IFERROR(IF(A495=\"\",\"\",VLOOKUP(J495,'Соответствия статей'!$A$2:$B$50,2,0)),\"Другое\")","v":"Продукты"},"Банк","Расход"]
["2020-06-08T14:02:12","2020-03-10","*8173","OK",-203.97,"RUB",-203.97,"RUB",2,"Супермаркеты",5411,"Верный",2,{"$f":"IFERROR(IF(A496=\"\",\"\",VLOOKUP(J496,'Соответствия статей'!$A$2:$B$50,2,0)),\"Другое\")","v":"Продукты"},"Банк","Расход"]
["2020-06-07T23:19:39","2020-03-09","*7127","OK",-2540,"RUB",-2540,"RUB",null,"Супермаркеты",5411,"Перекресток",25,{"$f":"IFERROR(IF(A497=\"\",\"\",VLOOKUP(J497,'Соответствия статей'!$A$2:$B$50,2,0)),\"Другое\")","v":"Продукты"},"Банк","Расход"]
["2020-06-07T19:54:28","2020-03-09","*7357","OK",-196,"RUB",-196,"RUB",1,"Фастфуд",5814,"Додо Пицца",1,{"$f":"IFERROR(IF(A498=\"\",\"\",VLOOKUP(J498,'Соответствия статей'!$A$2:$B$50,2,0)),\"Другое\")","v":"Рестораны"},"Банк","Расход"]
["2020-06-07T18:16:00","2020-03-09","*8173","OK",-299,"RUB",-299,"RUB",2,"Дом, ремонт",5211,"СТАРТ",2,{"$f":"IFERROR(IF(A499=\"\",\"\",VLOOKUP(J499,'Соответствия статей'!$A$2:$B$50,2,0)),\"Другое\")","v":"Товары для дома, ремонта"},"Банк","Расход"]
["2020-06-07T13:17:45","2020-03-09","*8173","OK",-613,"RUB",-613,"RUB",6,"Аптеки",5912,"Озерки",6,{"$f":"IFERROR(IF(A500=\"\",\"\",VLOOKUP(J500,'Соответствия статей'!$A$2:$B$50,2,0)),\"Другое\")","v":"Медицина"},"Банк","Расход"]
["2020-06-07T12:47:07","2020-03-09","*8173","OK",-107.99,"RUB",-107.99,"RUB",1,"Супермаркеты",5411,"Семишагофф",1,{"$f":"IFERROR(IF(A501=\"\",\"\",VLOOKUP(J501,'Соответствия статей'!$A$2:$B$50,2,0)),\"Другое\")","v":"Продукты"},"Банк","Расход"]
["2020-06-07T06:13:44","2020-03-07","*8173","OK",500,"RUB",500,"RUB",null,"Прочие доходы",null,"Иван Ш.",0,{"$f":"IFERROR(IF(A502=\"\",\"\",VLOOKUP(J502,'Соответствия статей'!$A$2:$B$50,2,0)),\"Другое\")","v":"Прочие доходы"},"Банк","Доход"]
["2020-06-06T22:52:50","2020-03-09","*8173","OK",-100,"RUB",-100,"RUB",5,"Транспорт",4111,"Метро Санкт-Петербург",5,{"$f":"IFERROR(IF(A503=\"\",\"\",VLOOKUP(J503,'Соответствия статей'!$A$2:$B$50,2,0)),\"Другое\")","v":"Транспорт"},"Банк","Расход"]
["2020-06-06T21:22:07","2020-03-09","*7127","OK",-214,"RUB",-214,"RUB",null,"Фастфуд",5814,"McDonald's",2,{"$f":"IFERROR(IF(A504=\"\",\"\",VLOOKUP(J504,'Соответствия статей'!$A$2:$B$50,2,0)),\"Другое\")","v":"Рестораны"},"Банк","Расход"]
["2020-06-06T18:58:38","2020-03-09","*7357","OK",-500,"RUB",-500,"RUB",5,"Фастфуд",5814,"Poddon",5,{"$f":"IFERROR(IF(A505=\"\",\"\",VLOOKUP(J505,'Соответствия статей'!$A$2:$B$50,2,0)),\"Другое\")","v":"Рестораны"},"Банк","Расход"]
["2020-06-06T16:23:13","2020-03-09","*7127","OK",-25,"RUB",-25,"RUB",null,"Супермаркеты",5499,"Petro-Servis",0,{"$f":"IFERROR(IF(A506=\"\",\"\",VLOOKUP(J506,'Соответствия статей'!$A$2:$B$50,2,0)),\"Другое\")","v":"Продукты"},"Банк","Расход"]
["2020-06-06T12:32:49","2020-03-07","*7127","OK",-25,"RUB",-25,"RUB",null,"Фастфуд",5814,"Petro-Servis",0,{"$f":"IFERROR(IF(A507=\"\",\"\",VLOOKUP(J507,'Соответствия статей'!$A$2:$B$50,2,0)),\"Другое\")","v":"Рестораны"},"Банк","Расход"]
["2020-06-06T12:12:54","2020-03-09","*7127","OK",-200,"RUB",-200,"RUB",null,"Фастфуд",5814,"Stolovaya",2,{"$f":"IFERROR(IF(A508=\"\",\"\",VLOOKUP(J508,'Соответствия статей'!$A$2:$B$50,2,0)),\"Другое\")","v":"Рестораны"},"Банк","Расход"]
["2020-06-06T09:13:05","2020-03-09","*7357","OK",-100,"RUB",-100,"RUB",5,"Транспорт",4111,"Метро Санкт-Петербург",5,{"$f":"IFERROR(IF(A509=\"\",\"\",VLOOKUP(J509,'Соответствия статей'!$A$2:$B$50,2,0)),\"Другое\")","v":"Транспорт"},"Банк","Расход"]
["2020-06-06T08:16:17","2020-03-07","*7127","OK",-360,"RUB",-360,"RUB",null,"Цветы",5992,"Tsvety-3",3,{"$f":"IFERROR(IF(A510=\"\",\"\",VLOOKUP(J510,'Соответствия статей'!$A$2:$B$50,2,0)),\"Другое\")","v":"Подарки, благотворительность"},"Банк","Расход"]
["2020-06-05T21:07:19","2020-03-09","*7357","OK",-420.33,"RUB",-420.33,"RUB",4,"Супермаркеты",5411,"Перекресток",4,{"$f":"IFERROR(IF(A511=\"\",\"\",VLOOKUP(J511,'Соответствия статей'!$A$2:$B$50,2,0)),\"Другое\")","v":"Продукты"},"Банк","Расход"]
["2020-06-05T19:56:38","2020-03-05","*7127","OK",35,"RUB",35,"RUB",null,"Прочие доходы",null,"Компенсация покупки",0,{"$f":"IFERROR(IF(A512=\"\",\"\",VLOOKUP(J512,'Соответствия статей'!$A$2:$B$50,2,0)),\"Другое\")","v":"Прочие доходы"},"Банк","Доход"]
["2020-06-05T19:56:28","2020-03-05","*7127","OK",200,"RUB",200,"RUB",null,"Прочие доходы",null,"Компенсация покупки",0,{"$f":"IFERROR(IF(A513=\"\",\"\",VLOOKUP(J513,'Соответствия статей'!$A$2:$B$50,2,0)),\"Другое\")","v":"Прочие доходы"},"Банк","Доход"]
["2020-06-05T19:55:54","2020-03-05","*7127","OK",200,"RUB",200,"RUB",null,"Прочие доходы",null,"Компенсация покупки",0,{"$f":"IFERROR(IF(A514=\"\",\"\",VLOOKUP(J514,'Соответствия статей'!$A$2:$B$50,2,0)),\"Другое\")","v":"Прочие доходы"},"Банк","Доход"]
["2020-06-05T19:32:12","2020-03-05","*7127","OK",-10,"RUB",-10,"RUB",null,"Мобильные/иб",null,"Ростелеком Мобильная связь +79932213431",0,{"$f":"IFERROR(IF(A515=\"\",\"\",VLOOKUP(J515,'Соответствия статей'!$A$2:$B$50,2,0)),\"Другое\")","v":"Телефонная связь"},"Банк","Расход"]
["2020-06-05T13:04:49","2020-03-09","*7357","OK",-270,"RUB",-270,"RUB",2,"Фастфуд",5814,"Рестораны ТАРЕЛКА",2,{"$f":"IFERROR(IF(A516=\"\",\"\",VLOOKUP(J516,'Соответствия статей'!$A$2:$B$50,2,0)),\"Другое\")","v":"Рестораны"},"Банк","Расход"]
["2020-06-04T20:56:15","2020-03-07","*7357","OK",-107.99,"RUB",-107.99,"RUB",1,"Супермаркеты",5411,"Семишагофф",1,{"$f":"IFERROR(IF(A517=\"\",\"\",VLOOKUP(J517,'Соответствия статей'!$A$2:$B$50,2,0)),\"Другое\")","v":"Продукты"},"Банк","Расход"]
["2020-06-04T20:42:42","2020-03-07","*7357","OK",-525,"RUB",-525,"RUB",5,"Аптеки",5912,"Озерки",5,{"$f":"IFERROR(IF(A518=\"\",\"\",VLOOKUP(J518,'Соответствия статей'!$A$2:$B$50,2,0)),\"Другое\")","v":"Медицина"},"Банк","Расход"]
["2020-06-04T20:24:22","2020-03-07","*7357","OK",-122.3,"RUB",-122.3,"RUB",1,"Аптеки",5912,"Аптека 36,6",1,{"$f":"IFERROR(IF(A519=\"\",\"\",VLOOKUP(J519,'Соответствия статей'!$A$2:$B$50,2,0)),\"Другое\")","v":"Медицина"},"Банк","Расход"]
["2020-06-04T20:20:58","2020-03-07","*7357","OK",-601.64,"RUB",-601.64,"RUB",6,"Супермаркеты",5411,"Дикси",6,{"$f":"IFERROR(IF(A520=\"\",\"\",VLOOKUP(J520,'Соответствия статей'!$A$2:$B$50,2,0)),\"Другое\")","v":"Продукты"},"Банк","Расход"]
["2020-06-04T17:07:58","2020-03-05","*8173","OK",-75,"RUB",-75,"RUB",0,"Фастфуд",5814,"OOO As-Vend",0,{"$f":"IFERROR(IF(A521=\"\",\"\",VLOOKUP(J521,'Соответствия статей'!$A$2:$B$50,2,0)),\"Другое\")","v":"Рестораны"},"Банк","Расход"]
["2020-06-04T14:37:05","2020-03-07","*7127","OK",-270,"RUB",-270,"RUB",null,"Фастфуд",5814,"Рестораны ТАРЕЛКА",2,{"$f":"IFERROR(IF(A522=\"\",\"\",VLOOKUP(J522,'Соответствия статей'!$A$2:$B$50,2,0)),\"Другое\")","v":"Рестораны"},"Банк","Расход"]
["2020-06-04T13:08:12","2020-03-05","*8173","OK",-75,"RUB",-75,"RUB",0,"Фастфуд",5814,"OOO As-Vend",0,{"$f":"IFERROR(IF(A523=\"\",\"\",VLOOKUP(J523,'Соответствия статей'!$A$2:$B$50,2,0)),\"Другое\")","v":"Рестораны"},"Банк","Расход"]
["2020-06-03T19:03:03","2020-03-06","*8173","OK",-509.96,"RUB",-509.96,"RUB",5,"Супермаркеты",5411,"Перекресток",5,{"$f":"IFERROR(IF(A524=\"\",\"\",VLOOKUP(J524,'Соответствия статей'!$A$2:$B$50,2,0)),\"Другое\")","v":"Продукты"},"Банк","Расход"]
["2020-06-03T18:54:50","2020-03-05","*7127","OK",-200,"RUB",-200,"RUB",null,"Транспорт",4111,"Метро Санкт-Петербург",2,{"$f":"IFERROR(IF(A525=\"\",\"\",VLOOKUP(J525,'Соответствия статей'!$A$2:$B$50,2,0)),\"Другое\")","v":"Транспорт"},"Банк","Расход"]
["2020-06-03T14:51:00","2020-03-06","*7127","OK",-265,"RUB",-265,"RUB",null,"Фастфуд",5814,"Рестораны ТАРЕЛКА",2,{"$f":"IFERROR(IF(A526=\"\",\"\",VLOOKUP(J526,'Соответствия статей'!$A$2:$B$50,2,0)),\"Другое\")","v":"Рестораны"},"Банк","Расход"]
["2020-06-03T13:40:32","2020-03-06","*8173","OK",-25,"RUB",-25,"RUB",0,"Супермаркеты",5499,"Petro-Servis",0,{"$f":"IFERROR(IF(A527=\"\",\"\",VLOOKUP(J527,'Соответствия статей'!$A$2:$B$50,2,0)),\"Другое\")","v":"Продукты"},"Банк","Расход"]
["2020-06-03T13:17:27","2020-03-06","*8173","OK",-200,"RUB",-200,"RUB",2,"Фастфуд",5814,"Stolovaya",2,{"$f":"IFERROR(IF(A528=\"\",\"\",VLOOKUP(J528,'Соответствия статей'!$A$2:$B$50,2,0)),\"Другое\")","v":"Рестораны"},"Банк","Расход"]
["2020-06-03T08:40:29","2020-03-06","*7127","OK",-1600,"RUB",-1600,"RUB",null,"Мед. услуги",8099,"Spb Gbuz Tspsir",16,{"$f":"IFERROR(IF(A529=\"\",\"\",VLOOKUP(J529,'Соответствия статей'!$A$2:$B$50,2,0)),\"Другое\")","v":"Медицина"},"Банк","Расход"]
["2020-06-03T02:06:47","2020-03-03","*7127","OK",-500,"RUB",-500,"RUB",null,"Сервис. услуги",7311,"ВКонтакте",0,{"$f":"IFERROR(IF(A530=\"\",\"\",VLOOKUP(J530,'Соответствия статей'!$A$2:$B$50,2,0)),\"Другое\")","v":"Другое"},"Банк","Расход"]
["2020-06-02T20:28:58","2020-03-05","*7357","OK",-102.17,"RUB",-102.17,"RUB",1,"Супермаркеты",5411,"Дикси",1,{"$f":"IFERROR(IF(A531=\"\",\"\",VLOOKUP(J531,'Соответствия статей'!$A$2:$B$50,2,0)),\"Другое\")","v":"Продукты"},"Банк","Расход"]
["2020-06-02T20:28:42","2020-03-05","*7357","OK",-279.87,"RUB",-279.87,"RUB",2,"Супермаркеты",5411,"Дикси",2,{"$f":"IFERROR(IF(A532=\"\",\"\",VLOOKUP(J532,'Соответствия статей'!$A$2:$B$50,2,0)),\"Другое\")","v":"Продукты"},"Банк","Расход"]
["2020-06-02T18:06:50","2020-03-03","*7127","OK",-35,"RUB",-35,"RUB",null,"Фастфуд",5814,"OOO As-Vend",0,{"$f":"IFERROR(IF(A533=\"\",\"\",VLOOKUP(J533,'Соответствия статей'!$A$2:$B$50,2,0)),\"Другое\")","v":"Рестораны"},"Банк","Расход"]
["2020-06-02T13:57:25","2020-03-05","*7127","OK",-25,"RUB",-25,"RUB",null,"Супермаркеты",5499,"Petro-Servis",0,{"$f":"IFERROR(IF(A534=\"\",\"\",VLOOKUP(J534,'Соответствия статей'!$A$2:$B$50,2,0)),\"Другое\")","v":"Продукты"},"Банк","Расход"]
["2020-06-02T13:36:44","2020-03-05","*7127","OK",-200,"RUB",-200,"RUB",null,"Фастфуд",5814,"Stolovaya",2,{"$f":"IFERROR(IF(A535=\"\",\"\",VLOOKUP(J535,'Соответствия статей'!$A$2:$B$50,2,0)),\"Другое\")","v":"Рестораны"},"Банк","Расход"]
["2020-06-02T12:43:25","2020-03-05","*7357","OK",-265,"RUB",-265,"RUB",2,"Фастфуд",5814,"Рестораны ТАРЕЛКА",2,{"$f":"IFERROR(IF(A536=\"\",\"\",VLOOKUP(J536,'Соответствия статей'!$A$2:$B$50,2,0)),\"Другое\")","v":"Рестораны"},"Банк","Расход"]
["2020-06-01T17:03:55","2020-03-04","*7127","OK",-559,"RUB",-559,"RUB",null,"Аптеки",5912,"Аптека 36,6",5,{"$f":"IFERROR(IF(A537=\"\",\"\",VLOOKUP(J537,'Соответствия статей'!$A$2:$B$50,2,0)),\"Другое\")","v":"Медицина"},"Банк","Расход"]
["2020-06-01T15:52:32","2020-03-04","*7127","OK",-31,"RUB",-31,"RUB",null,"Книги",5192,"Первая полоса",0,{"$f":"IFERROR(IF(A538=\"\",\"\",VLOOKUP(J538,'Соответствия статей'!$A$2:$B$50,2,0)),\"Другое\")","v":"Обучение"},"Банк","Расход"]
["2020-06-01T15:48:52","2020-03-05","*7127","OK",-807.5,"RUB",-807.5,"RUB",null,"Супермаркеты",5411,"Перекресток",8,{"$f":"IFERROR(IF(A539=\"\",\"\",VLOOKUP(J539,'Соответствия статей'!$A$2:$B$50,2,0)),\"Другое\")","v":"Продукты"},"Банк","Расход"]
["2020-06-01T14:36:27","2020-03-01","*7127","OK",-360,"RUB",-360,"RUB",null,"Мобильные/иб",null,"Ростелеком Мобильная связь +79932213431",0,{"$f":"IFERROR(IF(A540=\"\",\"\",VLOOKUP(J540,'Соответствия статей'!$A$2:$B$50,2,0)),\"Другое\")","v":"Телефонная связь"},"Банк","Расход"]
["2020-06-01T12:44:09","2020-03-01","*7127","OK",25,"RUB",25,"RUB",null,"Прочие доходы",null,"Компенсация покупки",0,{"$f":"IFERROR(IF(A541=\"\",\"\",VLOOKUP(J541,'Соответствия статей'!$A$2:$B$50,2,0)),\"Другое\")","v":"Прочие доходы"},"Банк","Доход"]
["2020-06-01T12:43:58","2020-03-01","*7127","OK",25,"RUB",25,"RUB",null,"Прочие доходы",null,"Компенсация покупки",0,{"$f":"IFERROR(IF(A542=\"\",\"\",VLOOKUP(J542,'Соответствия статей'!$A$2:$B$50,2,0)),\"Другое\")","v":"Прочие доходы"},"Банк","Доход"]
["2020-06-01T12:43:46","2020-03-01","*7127","OK",25,"RUB",25,"RUB",null,"Прочие доходы",null,"Компенсация покупки",0,{"$f":"IFERROR(IF(A543=\"\",\"\",VLOOKUP(J543,'Соответствия статей'!$A$2:$B$50,2,0)),\"Другое\")","v":"Прочие доходы"},"Банк","Доход"]
["2020-06-01T12:43:23","2020-03-01","*7127","OK",25,"RUB",25,"RUB",null,"Прочие доходы",null,"Компенсация покупки",0,{"$f":"IFERROR(IF(A544=\"\",\"\",VLOOKUP(J544,'Соответствия статей'!$A$2:$B$50,2,0)),\"Другое\")","v":"Прочие доходы"},"Банк","Доход"]
["2020-06-01T12:42:59","2020-03-01","*7127","OK",200,"RUB",200,"RUB",null,"Прочие доходы",null,"Компенсация покупки",0,{"$f":"IFERROR(IF(A545=\"\",\"\",VLOOKUP(J545,'Соответствия статей'!$A$2:$B$50,2,0)),\"Другое\")","v":"Прочие доходы"},"Банк","Доход"]
["2020-06-01T12:42:14","2020-03-01","*7127","OK",314,"RUB",314,"RUB",null,"Прочие доходы",null,"Компенсация покупки",0,{"$f":"IFERROR(IF(A546=\"\",\"\",VLOOKUP(J546,'Соответствия статей'!$A$2:$B$50,2,0)),\"Другое\")","v":"Прочие доходы"},"Банк","Доход"]
["2020-06-01T12:41:09","2020-03-01","*7127","OK",1004.02,"RUB",1004.02,"RUB",null,"Прочие доходы",null,"Компенсация покупки",0,{"$f":"IFERROR(IF(A547=\"\",\"\",VLOOKUP(J547,'Соответствия статей'!$A$2:$B$50,2,0)),\"Другое\")","v":"Прочие доходы"},"Банк","Доход"]
["2020-05-29T22:54:57","2020-02-29",null,"OK",-59,"RUB",-59,"RUB",null,"Другое",null,"Плата за оповещения об операциях",0,{"$f":"IFERROR(IF(A548=\"\",\"\",VLOOKUP(J548,'Соответствия статей'!$A$2:$B$50,2,0)),\"Другое\")","v":"Другое"},"Банк","Расход"]
["2020-05-29T19:07:37","2020-03-03","*7127","OK",-449.69,"RUB",-449.69,"RUB",null,"Супермаркеты",5411,"Верный",4,{"$f":"IFERROR(IF(A549=\"\",\"\",VLOOKUP(J549,'Соответствия статей'!$A$2:$B$50,2,0)),\"Другое\")","v":"Продукты"},"Банк","Расход"]
["2020-05-29T10:51:46","2020-03-03","*7127","OK",-333.01,"RUB",-333.01,"RUB",null,"Супермаркеты",5411,"Магнит",3,{"$f":"IFERROR(IF(A550=\"\",\"\",VLOOKUP(J550,'Соответствия статей'!$A$2:$B$50,2,0)),\"Другое\")","v":"Продукты"},"Банк","Расход"]
["2020-05-28T13:21:34","2020-03-02","*7127","OK",-25,"RUB",-25,"RUB",null,"Супермаркеты",5499,"Petro-Servis",0,{"$f":"IFERROR(IF(A551=\"\",\"\",VLOOKUP(J551,'Соответствия статей'!$A$2:$B$50,2,0)),\"Другое\")","v":"Продукты"},"Банк","Расход"]
["2020-05-28T13:00:04","2020-03-02","*7127","OK",-200,"RUB",-200,"RUB",null,"Фастфуд",5814,"Stolovaya",2,{"$f":"IFERROR(IF(A552=\"\",\"\",VLOOKUP(J552,'Соответствия статей'!$A$2:$B$50,2,0)),\"Другое\")","v":"Рестораны"},"Банк","Расход"]
["2020-05-27T19:18:40","2020-02-29","*7127","OK",-249.89,"RUB",-249.89,"RUB",null,"Фастфуд",5814,"Burger King",2,{"$f":"IFERROR(IF(A553=\"\",\"\",VLOOKUP(J553,'Соответствия статей'!$A$2:$B$50,2,0)),\"Другое\")","v":"Рестораны"},"Банк","Расход"]
["2020-05-27T19:10:52","2020-02-29","*7127","OK",-275.95999999999998,"RUB",-275.95999999999998,"RUB",null,"Супермаркеты",5411,"О'КЕЙ",2,{"$f":"IFERROR(IF(A554=\"\",\"\",VLOOKUP(J554,'Соответствия статей'!$A$2:$B$50,2,0)),\"Другое\")","v":"Продукты"},"Банк","Расход"]
["2020-05-27T13:34:23","2020-02-29","*7127","OK",-25,"RUB",-25,"RUB",null,"Супермаркеты",5499,"Petro-Servis",0,{"$f":"IFERROR(IF(A555=\"\",\"\",VLOOKUP(J555,'Соответствия статей'!$A$2:$B$50,2,0)),\"Другое\")","v":"Продукты"},"Банк","Расход"]
["2020-05-27T13:13:19","2020-02-29","*7127","OK",-200,"RUB",-200,"RUB",null,"Фастфуд",5814,"Stolovaya",2,{"$f":"IFERROR(IF(A556=\"\",\"\",VLOOKUP(J556,'Соответствия статей'!$A$2:$B$50,2,0)),\"Другое\")","v":"Рестораны"},"Банк","Расход"]
["2020-05-26T22:04:29","2020-02-27","*7127","OK",-250,"RUB",-250,"RUB",null,"Мобильные/иб",null,"TELE2 +79967762825",0,{"$f":"IFERROR(IF(A557=\"\",\"\",VLOOKUP(J557,'Соответствия статей'!$A$2:$B$50,2,0)),\"Другое\")","v":"Телефонная связь"},"Банк","Расход"]
["2020-05-26T13:48:50","2020-02-29","*7127","OK",-25,"RUB",-25,"RUB",null,"Супермаркеты",5499,"Petro-Servis",0,{"$f":"IFERROR(IF(A558=\"\",\"\",VLOOKUP(J558,'Соответствия статей'!$A$2:$B$50,2,0)),\"Другое\")","v":"Продукты"},"Банк","Расход"]
["2020-05-26T13:19:22","2020-02-28","*7127","OK",-200,"RUB",-200,"RUB",null,"Фастфуд",5814,"Stolovaya",2,{"$f":"IFERROR(IF(A559=\"\",\"\",VLOOKUP(J559,'Соответствия статей'!$A$2:$B$50,2,0)),\"Другое\")","v":"Рестораны"},"Банк","Расход"]
["2020-05-25T19:06:11","2020-02-28","*7127","OK",-649,"RUB",-649,"RUB",null,"Супермаркеты",5411,"Перекресток",6,{"$f":"IFERROR(IF(A560=\"\",\"\",VLOOKUP(J560,'Соответствия статей'!$A$2:$B$50,2,0)),\"Другое\")","v":"Продукты"},"Банк","Расход"]
["2020-05-25T13:46:10","2020-02-25","*8173","OK",625,"RUB",625,"RUB",null,"Прочие доходы",null,"Иван Ш.",0,{"$f":"IFERROR(IF(A561=\"\",\"\",VLOOKUP(J561,'Соответствия статей'!$A$2:$B$50,2,0)),\"Другое\")","v":"Прочие доходы"},"Банк","Доход"]
["2020-05-25T13:36:10","2020-02-26","*7127","OK",-25,"RUB",-25,"RUB",null,"Фастфуд",5814,"Petro-Servis",0,{"$f":"IFERROR(IF(A562=\"\",\"\",VLOOKUP(J562,'Соответствия статей'!$A$2:$B$50,2,0)),\"Другое\")","v":"Рестораны"},"Банк","Расход"]
["2020-05-25T13:15:02","2020-02-27","*7127","OK",-205,"RUB",-205,"RUB",null,"Фастфуд",5814,"Stolovaya",2,{"$f":"IFERROR(IF(A563=\"\",\"\",VLOOKUP(J563,'Соответствия статей'!$A$2:$B$50,2,0)),\"Другое\")","v":"Рестораны"},"Банк","Расход"]
["2020-05-25T01:22:01","2020-02-25","*7127","OK",-625,"RUB",-625,"RUB",null,"Сервис. услуги",7311,"ВКонтакте",0,{"$f":"IFERROR(IF(A564=\"\",\"\",VLOOKUP(J564,'Соответствия статей'!$A$2:$B$50,2,0)),\"Другое\")","v":"Другое"},"Банк","Расход"]
["2020-05-24T13:23:55","2020-02-27","*7127","OK",-29.99,"RUB",-29.99,"RUB",null,"Супермаркеты",5411,"Семишагофф",0,{"$f":"IFERROR(IF(A565=\"\",\"\",VLOOKUP(J565,'Соответствия статей'!$A$2:$B$50,2,0)),\"Другое\")","v":"Продукты"},"Банк","Расход"]
["2020-05-24T12:48:38","2020-02-26","*7127","OK",-487,"RUB",-487,"RUB",null,"Аптеки",5912,"Озерки",4,{"$f":"IFERROR(IF(A566=\"\",\"\",VLOOKUP(J566,'Соответствия статей'!$A$2:$B$50,2,0)),\"Другое\")","v":"Медицина"},"Банк","Расход"]
["2020-05-24T12:27:09","2020-02-27","*7127","OK",-666.46,"RUB",-666.46,"RUB",null,"Супермаркеты",5411,"Перекресток",6,{"$f":"IFERROR(IF(A567=\"\",\"\",VLOOKUP(J567,'Соответствия статей'!$A$2:$B$50,2,0)),\"Другое\")","v":"Продукты"},"Банк","Расход"]
["2020-05-23T22:41:53","2020-02-23",null,"OK",-99,"RUB",-99,"RUB",null,"Другое",null,"Плата за обслуживание",0,{"$f":"IFERROR(IF(A568=\"\",\"\",VLOOKUP(J568,'Соответствия статей'!$A$2:$B$50,2,0)),\"Другое\")","v":"Другое"},"Банк","Расход"]
["2020-05-23T22:22:41","2020-02-23",null,"OK",67,"RUB",67,"RUB",null,"Прочие доходы",null,"Вознаграждение за операции покупок",0,{"$f":"IFERROR(IF(A569=\"\",\"\",VLOOKUP(J569,'Соответствия статей'!$A$2:$B$50,2,0)),\"Другое\")","v":"Прочие доходы"},"Банк","Доход"]
["2020-05-23T21:34:10","2020-02-23",null,"OK",2.69,"RUB",2.69,"RUB",null,"Прочие доходы",null,"Проценты на остаток по счету",0,{"$f":"IFERROR(IF(A570=\"\",\"\",VLOOKUP(J570,'Соответствия статей'!$A$2:$B$50,2,0)),\"Другое\")","v":"Прочие доходы"},"Банк","Доход"]
["2020-05-23T21:05:47","2020-02-24","*8173","OK",400,"RUB",400,"RUB",null,"Прочие доходы",null,"Иван Ш.",0,{"$f":"IFERROR(IF(A571=\"\",\"\",VLOOKUP(J571,'Соответствия статей'!$A$2:$B$50,2,0)),\"Другое\")","v":"Прочие доходы"},"Банк","Доход"]
["2020-05-23T20:10:28","2020-02-26","*7127","OK",-524.61,"RUB",-524.61,"RUB",null,"Супермаркеты",5411,"Перекресток",5,{"$f":"IFERROR(IF(A572=\"\",\"\",VLOOKUP(J572,'Соответствия статей'!$A$2:$B$50,2,0)),\"Другое\")","v":"Продукты"},"Банк","Расход"]
["2020-05-22T21:00:53","2020-02-24","*8173","OK",-136,"RUB",-136,"RUB",6,"Транспорт",4121,"Uber",6,{"$f":"IFERROR(IF(A573=\"\",\"\",VLOOKUP(J573,'Соответствия статей'!$A$2:$B$50,2,0)),\"Другое\")","v":"Транспорт"},"Банк","Расход"]
["2020-05-22T18:31:50","2020-02-25","*7127","OK",-579.96,"RUB",-579.96,"RUB",null,"Супермаркеты",5411,"Пятерочка",5,{"$f":"IFERROR(IF(A574=\"\",\"\",VLOOKUP(J574,'Соответствия статей'!$A$2:$B$50,2,0)),\"Другое\")","v":"Продукты"},"Банк","Расход"]
["2020-05-22T18:19:47","2020-02-25","*7127","OK",-75,"RUB",-75,"RUB",null,"Аптеки",5912,"OOO Parus",0,{"$f":"IFERROR(IF(A575=\"\",\"\",VLOOKUP(J575,'Соответствия статей'!$A$2:$B$50,2,0)),\"Другое\")","v":"Медицина"},"Банк","Расход"]
["2020-05-22T16:45:55","2020-02-22","*8173","OK",4400,"RUB",4400,"RUB",null,"Прочие доходы",null,"Иван Ш.",0,{"$f":"IFERROR(IF(A576=\"\",\"\",VLOOKUP(J576,'Соответствия статей'!$A$2:$B$50,2,0)),\"Другое\")","v":"Прочие доходы"},"Банк","Доход"]
["2020-05-22T00:21:04","2020-02-25","*7127","OK",-488.46,"RUB",-488.46,"RUB",null,"Супермаркеты",5411,"Перекресток",4,{"$f":"IFERROR(IF(A577=\"\",\"\",VLOOKUP(J577,'Соответствия статей'!$A$2:$B$50,2,0)),\"Другое\")","v":"Продукты"},"Банк","Расход"]
["2020-05-21T21:42:49","2020-02-24","*7127","OK",-120,"RUB",-120,"RUB",null,"Аптеки",5912,"Аптеки Первая Помощь",1,{"$f":"IFERROR(IF(A578=\"\",\"\",VLOOKUP(J578,'Соответствия статей'!$A$2:$B$50,2,0)),\"Другое\")","v":"Медицина"},"Банк","Расход"]
["2020-05-21T21:35:40","2020-02-25","*8173","OK",-684,"RUB",-684,"RUB",34,"Кино",7832,"Синема Парк",34,{"$f":"IFERROR(IF(A579=\"\",\"\",VLOOKUP(J579,'Соответствия статей'!$A$2:$B$50,2,0)),\"Другое\")","v":"Развлечения"},"Банк","Расход"]
["2020-05-21T20:32:19","2020-02-25","*7357","OK",-249.89,"RUB",-249.89,"RUB",2,"Фастфуд",5814,"Burger King",2,{"$f":"IFERROR(IF(A580=\"\",\"\",VLOOKUP(J580,'Соответствия статей'!$A$2:$B$50,2,0)),\"Другое\")","v":"Рестораны"},"Банк","Расход"]
["2020-05-21T19:36:55","2020-02-25","*7357","OK",-100,"RUB",-100,"RUB",5,"Транспорт",4111,"Метро Санкт-Петербург",5,{"$f":"IFERROR(IF(A581=\"\",\"\",VLOOKUP(J581,'Соответствия статей'!$A$2:$B$50,2,0)),\"Другое\")","v":"Транспорт"},"Банк","Расход"]
["2020-05-21T18:56:56","2020-02-25","*7127","OK",-279.98,"RUB",-279.98,"RUB",null,"Фастфуд",5814,"Burger King",2,{"$f":"IFERROR(IF(A582=\"\",\"\",VLOOKUP(J582,'Соответствия статей'!$A$2:$B$50,2,0)),\"Другое\")","v":"Рестораны"},"Банк","Расход"]
["2020-05-21T13:36:06","2020-02-24","*7127","OK",-25,"RUB",-25,"RUB",null,"Супермаркеты",5499,"Petro-Servis",0,{"$f":"IFERROR(IF(A583=\"\",\"\",VLOOKUP(J583,'Соответствия статей'!$A$2:$B$50,2,0)),\"Другое\")","v":"Продукты"},"Банк","Расход"]
["2020-05-21T13:13:50","2020-02-24","*7127","OK",-200,"RUB",-200,"RUB",null,"Фастфуд",5814,"Stolovaya",2,{"$f":"IFERROR(IF(A584=\"\",\"\",VLOOKUP(J584,'Соответствия статей'!$A$2:$B$50,2,0)),\"Другое\")","v":"Рестораны"},"Банк","Расход"]
["2020-05-21T00:45:46","2020-02-21","*7127","OK",-500,"RUB",-500,"RUB",null,"Сервис. услуги",7311,"ВКонтакте",0,{"$f":"IFERROR(IF(A585=\"\",\"\",VLOOKUP(J585,'Соответствия статей'!$A$2:$B$50,2,0)),\"Другое\")","v":"Другое"},"Банк","Расход"]
["2020-05-20T20:04:12","2020-02-22","*7357","OK",-100,"RUB",-100,"RUB",5,"Транспорт",4111,"Метро Санкт-Петербург",5,{"$f":"IFERROR(IF(A586=\"\",\"\",VLOOKUP(J586,'Соответствия статей'!$A$2:$B$50,2,0)),\"Другое\")","v":"Транспорт"},"Банк","Расход"]
["2020-05-20T19:25:53","2020-02-24","*7127","OK",-832.61,"RUB",-832.61,"RUB",null,"Супермаркеты",5411,"Перекресток",8,{"$f":"IFERROR(IF(A587=\"\",\"\",VLOOKUP(J587,'Соответствия статей'!$A$2:$B$50,2,0)),\"Другое\")","v":"Продукты"},"Банк","Расход"]
["2020-05-20T14:44:59","2020-02-25","*7357","OK",-198,"RUB",-198,"RUB",1,"Разные товары",5311,"Fixprice",1,{"$f":"IFERROR(IF(A588=\"\",\"\",VLOOKUP(J588,'Соответствия статей'!$A$2:$B$50,2,0)),\"Другое\")","v":"Другое"},"Банк","Расход"]
["2020-05-20T13:43:49","2020-02-22","*7127","OK",-25,"RUB",-25,"RUB",null,"Супермаркеты",5499,"Petro-Servis",0,{"$f":"IFERROR(IF(A589=\"\",\"\",VLOOKUP(J589,'Соответствия статей'!$A$2:$B$50,2,0)),\"Другое\")","v":"Продукты"},"Банк","Расход"]
["2020-05-20T13:37:39","2020-02-22","*7357","OK",-230,"RUB",-230,"RUB",2,"Фастфуд",5814,"Рестораны ТАРЕЛКА",2,{"$f":"IFERROR(IF(A590=\"\",\"\",VLOOKUP(J590,'Соответствия статей'!$A$2:$B$50,2,0)),\"Другое\")","v":"Рестораны"},"Банк","Расход"]
["2020-05-20T07:50:00","2020-02-21","*7127","OK",-25,"RUB",-25,"RUB",null,"Фастфуд",5814,"OOO As-Vend",0,{"$f":"IFERROR(IF(A591=\"\",\"\",VLOOKUP(J591,'Соответствия статей'!$A$2:$B$50,2,0)),\"Другое\")","v":"Рестораны"},"Банк","Расход"]
["2020-05-19T19:08:36","2020-02-22","*7127","OK",-694.56,"RUB",-694.56,"RUB",null,"Супермаркеты",5411,"Перекресток",6,{"$f":"IFERROR(IF(A592=\"\",\"\",VLOOKUP(J592,'Соответствия статей'!$A$2:$B$50,2,0)),\"Другое\")","v":"Продукты"},"Банк","Расход"]
["2020-05-19T13:19:48","2020-02-22","*7127","OK",-25,"RUB",-25,"RUB",null,"Супермаркеты",5499,"Petro-Servis",0,{"$f":"IFERROR(IF(A593=\"\",\"\",VLOOKUP(J593,'Соответствия статей'!$A$2:$B$50,2,0)),\"Другое\")","v":"Продукты"},"Банк","Расход"]
["2020-05-19T12:32:22","2020-02-22","*7357","OK",-273,"RUB",-273,"RUB",2,"Фастфуд",5814,"Рестораны ТАРЕЛКА",2,{"$f":"IFERROR(IF(A594=\"\",\"\",VLOOKUP(J594,'Соответствия статей'!$A$2:$B$50,2,0)),\"Другое\")","v":"Рестораны"},"Банк","Расход"]
["2020-05-19T10:50:05","2020-02-20","*7127","OK",251,"RUB",251,"RUB",null,"Финан. услуги",6513,"Rosreestr.Net",-2,{"$f":"IFERROR(IF(A595=\"\",\"\",VLOOKUP(J595,'Соответствия статей'!$A$2:$B$50,2,0)),\"Другое\")","v":"Переводы"},"Банк","Расход"]
["2020-05-19T02:56:12","2020-02-19","*8173","OK",-50,"RUB",-50,"RUB",null,"Мобильные/иб",null,"TELE2 - автоплатеж +79533443146",0,{"$f":"IFERROR(IF(A596=\"\",\"\",VLOOKUP(J596,'Соответствия статей'!$A$2:$B$50,2,0)),\"Другое\")","v":"Телефонная связь"},"Банк","Расход"]
["2020-05-18T21:55:23","2020-02-19","*7127","OK",-695.28,"RUB",-695.28,"RUB",null,"Жкх/иб",4900,"Петроэлектросбыт",0,{"$f":"IFERROR(IF(A597=\"\",\"\",VLOOKUP(J597,'Соответствия статей'!$A$2:$B$50,2,0)),\"Другое\")","v":"Коммунальные услуги"},"Банк","Расход"]
["2020-05-18T19:06:31","2020-02-21","*7127","OK",-319.32,"RUB",-319.32,"RUB",null,"Супермаркеты",5411,"Перекресток",3,{"$f":"IFERROR(IF(A598=\"\",\"\",VLOOKUP(J598,'Соответствия статей'!$A$2:$B$50,2,0)),\"Другое\")","v":"Продукты"},"Банк","Расход"]
["2020-05-18T13:35:25","2020-02-20","*7127","OK",-25,"RUB",-25,"RUB",null,"Супермаркеты",5499,"Petro-Servis",0,{"$f":"IFERROR(IF(A599=\"\",\"\",VLOOKUP(J599,'Соответствия статей'!$A$2:$B$50,2,0)),\"Другое\")","v":"Продукты"},"Банк","Расход"]
["2020-05-18T13:14:18","2020-02-21","*7127","OK",-200,"RUB",-200,"RUB",null,"Фастфуд",5814,"Stolovaya",2,{"$f":"IFERROR(IF(A600=\"\",\"\",VLOOKUP(J600,'Соответствия статей'!$A$2:$B$50,2,0)),\"Другое\")","v":"Рестораны"},"Банк","Расход"]
["2020-05-18T13:03:03","2020-02-21","*7357","OK",-253,"RUB",-253,"RUB",2,"Фастфуд",5814,"Рестораны ТАРЕЛКА",2,{"$f":"IFERROR(IF(A601=\"\",\"\",VLOOKUP(J601,'Соответствия статей'!$A$2:$B$50,2,0)),\"Другое\")","v":"Рестораны"},"Банк","Расход"]
["2020-05-18T11:01:21","2020-02-18","*8173","OK",510,"RUB",510,"RUB",null,"Прочие доходы",null,"Иван Ш.",0,{"$f":"IFERROR(IF(A602=\"\",\"\",VLOOKUP(J602,'Соответствия статей'!$A$2:$B$50,2,0)),\"Другое\")","v":"Прочие доходы"},"Банк","Доход"]
["2020-05-18T10:59:53","2020-02-19","*7127","OK",-25,"RUB",-25,"RUB",null,"Фастфуд",5814,"OOO As-Vend",0,{"$f":"IFERROR(IF(A603=\"\",\"\",VLOOKUP(J603,'Соответствия статей'!$A$2:$B$50,2,0)),\"Другое\")","v":"Рестораны"},"Банк","Расход"]
["2020-05-18T02:55:41","2020-02-18","*7127","OK",-510,"RUB",-510,"RUB",null,"Сервис. услуги",7311,"ВКонтакте",0,{"$f":"IFERROR(IF(A604=\"\",\"\",VLOOKUP(J604,'Соответствия статей'!$A$2:$B$50,2,0)),\"Другое\")","v":"Другое"},"Банк","Расход"]
["2020-05-17T22:16:38","2020-02-18","*7127","OK",-13686.8,"RUB",-13686.8,"RUB",null,"Ж/д билеты",4112,"РЖД",136,{"$f":"IFERROR(IF(A605=\"\",\"\",VLOOKUP(J605,'Соответствия статей'!$A$2:$B$50,2,0)),\"Другое\")","v":"Поездки"},"Банк","Расход"]
["2020-05-17T19:36:27","2020-02-19","*7127","OK",-12402,"RUB",-12402,"RUB",null,"Авиабилеты",4511,"Авиакомпания UTair",124,{"$f":"IFERROR(IF(A606=\"\",\"\",VLOOKUP(J606,'Соответствия статей'!$A$2:$B$50,2,0)),\"Другое\")","v":"Поездки"},"Банк","Расход"]
["2020-05-17T19:31:07","2020-02-20","*7127","OK",-154.99,"RUB",-154.99,"RUB",null,"Супермаркеты",5411,"Дикси",1,{"$f":"IFERROR(IF(A607=\"\",\"\",VLOOKUP(J607,'Соответствия статей'!$A$2:$B$50,2,0)),\"Другое\")","v":"Продукты"},"Банк","Расход"]
["2020-05-17T19:18:32","2020-02-20","*7127","OK",-367,"RUB",-367,"RUB",null,"Аптеки",5912,"Apteka 78-385",3,{"$f":"IFERROR(IF(A608=\"\",\"\",VLOOKUP(J608,'Соответствия статей'!$A$2:$B$50,2,0)),\"Другое\")","v":"Медицина"},"Банк","Расход"]
["2020-05-17T13:31:49","2020-02-20","*7127","OK",-25,"RUB",-25,"RUB",null,"Супермаркеты",5499,"Petro-Servis",0,{"$f":"IFERROR(IF(A609=\"\",\"\",VLOOKUP(J609,'Соответствия статей'!$A$2:$B$50,2,0)),\"Другое\")","v":"Продукты"},"Банк","Расход"]
["2020-05-17T13:04:14","2020-02-19","*7127","OK",-200,"RUB",-200,"RUB",null,"Фастфуд",5814,"Stolovaya",2,{"$f":"IFERROR(IF(A610=\"\",\"\",VLOOKUP(J610,'Соответствия статей'!$A$2:$B$50,2,0)),\"Другое\")","v":"Рестораны"},"Банк","Расход"]
["2020-05-17T12:46:09","2020-02-20","*7357","OK",-278,"RUB",-278,"RUB",2,"Фастфуд",5814,"Рестораны ТАРЕЛКА",2,{"$f":"IFERROR(IF(A611=\"\",\"\",VLOOKUP(J611,'Соответствия статей'!$A$2:$B$50,2,0)),\"Другое\")","v":"Рестораны"},"Банк","Расход"]
["2020-05-17T10:06:40","2020-02-17","*7127","OK",-370,"RUB",-370,"RUB",null,"Мобильные/иб",null,"Мой телефон +79533443146",0,{"$f":"IFERROR(IF(A612=\"\",\"\",VLOOKUP(J612,'Соответствия статей'!$A$2:$B$50,2,0)),\"Другое\")","v":"Телефонная связь"},"Банк","Расход"]
["2020-05-16T18:18:11","2020-02-19","*7127","OK",-341,"RUB",-341,"RUB",null,"Книги",5942,"Буквоед",3,{"$f":"IFERROR(IF(A613=\"\",\"\",VLOOKUP(J613,'Соответствия статей'!$A$2:$B$50,2,0)),\"Другое\")","v":"Обучение"},"Банк","Расход"]
["2020-05-16T17:52:49","2020-02-19","*7127","OK",-1745.49,"RUB",-1745.49,"RUB",null,"Супермаркеты",5411,"Перекресток",17,{"$f":"IFERROR(IF(A614=\"\",\"\",VLOOKUP(J614,'Соответствия статей'!$A$2:$B$50,2,0)),\"Другое\")","v":"Продукты"},"Банк","Расход"]
["2020-05-15T17:39:46","2020-02-18","*7127","OK",-128.97,"RUB",-128.97,"RUB",null,"Супермаркеты",5411,"Пятерочка",1,{"$f":"IFERROR(IF(A615=\"\",\"\",VLOOKUP(J615,'Соответствия статей'!$A$2:$B$50,2,0)),\"Другое\")","v":"Продукты"},"Банк","Расход"]
["2020-05-15T17:33:17","2020-02-18","*7127","OK",-905,"RUB",-905,"RUB",null,"Аптеки",5912,"Озерки",9,{"$f":"IFERROR(IF(A616=\"\",\"\",VLOOKUP(J616,'Соответствия статей'!$A$2:$B$50,2,0)),\"Другое\")","v":"Медицина"},"Банк","Расход"]
["2020-05-15T03:38:42","2020-02-18","*8173","OK",-182,"RUB",-182,"RUB",9,"Транспорт",4121,"Uber",9,{"$f":"IFERROR(IF(A617=\"\",\"\",VLOOKUP(J617,'Соответствия статей'!$A$2:$B$50,2,0)),\"Другое\")","v":"Транспорт"},"Банк","Расход"]
["2020-05-15T00:57:15","2020-02-18","*8173","OK",-197,"RUB",-197,"RUB",9,"Транспорт",4121,"Uber",9,{"$f":"IFERROR(IF(A618=\"\",\"\",VLOOKUP(J618,'Соответствия статей'!$A$2:$B$50,2,0)),\"Другое\")","v":"Транспорт"},"Банк","Расход"]
["2020-05-15T00:16:20","2020-02-17","*7127","OK",-3100,"RUB",-3100,"RUB",null,"Рестораны",5812,"Restoran Larisuvanuhoc",31,{"$f":"IFERROR(IF(A619=\"\",\"\",VLOOKUP(J619,'Соответствия статей'!$A$2:$B$50,2,0)),\"Другое\")","v":"Рестораны"},"Банк","Расход"]
["2020-05-14T20:32:51","2020-02-18","*7357","OK",-140,"RUB",-140,"RUB",1,"Аптеки",5912,"Озерки",1,{"$f":"IFERROR(IF(A620=\"\",\"\",VLOOKUP(J620,'Соответствия статей'!$A$2:$B$50,2,0)),\"Другое\")","v":"Медицина"},"Банк","Расход"]
["2020-05-14T20:17:17","2020-02-17","*7357","OK",-202.83,"RUB",-202.83,"RUB",2,"Супермаркеты",5411,"Перекресток",2,{"$f":"IFERROR(IF(A621=\"\",\"\",VLOOKUP(J621,'Соответствия статей'!$A$2:$B$50,2,0)),\"Другое\")","v":"Продукты"},"Банк","Расход"]
["2020-05-14T20:04:36","2020-02-17","*7357","OK",-98,"RUB",-98,"RUB",0,"Книги",5942,"Буквоед",0,{"$f":"IFERROR(IF(A622=\"\",\"\",VLOOKUP(J622,'Соответствия статей'!$A$2:$B$50,2,0)),\"Другое\")","v":"Обучение"},"Банк","Расход"]
["2020-05-14T19:32:28","2020-02-14","*8173","OK",510,"RUB",510,"RUB",null,"Прочие доходы",null,"Иван Ш.",0,{"$f":"IFERROR(IF(A623=\"\",\"\",VLOOKUP(J623,'Соответствия статей'!$A$2:$B$50,2,0)),\"Другое\")","v":"Прочие доходы"},"Банк","Доход"]
["2020-05-14T18:44:44","2020-02-17","*7127","OK",-510,"RUB",-510,"RUB",null,"ДРУГИЕ ОПЕРАЦИИ",5816,"ВКонтакте",5,{"$f":"IFERROR(IF(A624=\"\",\"\",VLOOKUP(J624,'Соответствия статей'!$A$2:$B$50,2,0)),\"Другое\")","v":"Другое"},"Банк","Расход"]
["2020-05-14T14:08:07","2020-02-17","*7357","OK",-248,"RUB",-248,"RUB",2,"Фастфуд",5814,"Tarelka",2,{"$f":"IFERROR(IF(A625=\"\",\"\",VLOOKUP(J625,'Соответствия статей'!$A$2:$B$50,2,0)),\"Другое\")","v":"Рестораны"},"Банк","Расход"]
["2020-05-14T13:19:39","2020-02-15","*7127","OK",-25,"RUB",-25,"RUB",null,"Фастфуд",5814,"Petro-Servis",0,{"$f":"IFERROR(IF(A626=\"\",\"\",VLOOKUP(J626,'Соответствия статей'!$A$2:$B$50,2,0)),\"Другое\")","v":"Рестораны"},"Банк","Расход"]
["2020-05-14T12:58:00","2020-02-17","*7127","OK",-200,"RUB",-200,"RUB",null,"Фастфуд",5814,"Stolovaya",2,{"$f":"IFERROR(IF(A627=\"\",\"\",VLOOKUP(J627,'Соответствия статей'!$A$2:$B$50,2,0)),\"Другое\")","v":"Рестораны"},"Банк","Расход"]
["2020-05-13T19:30:48","2020-02-17","*7127","OK",-1237.75,"RUB",-1237.75,"RUB",null,"Супермаркеты",5411,"Перекресток",12,{"$f":"IFERROR(IF(A628=\"\",\"\",VLOOKUP(J628,'Соответствия статей'!$A$2:$B$50,2,0)),\"Другое\")","v":"Продукты"},"Банк","Расход"]
["2020-05-13T13:38:56","2020-02-14","*7127","OK",-25,"RUB",-25,"RUB",null,"Фастфуд",5814,"Petro-Servis",0,{"$f":"IFERROR(IF(A629=\"\",\"\",VLOOKUP(J629,'Соответствия статей'!$A$2:$B$50,2,0)),\"Другое\")","v":"Рестораны"},"Банк","Расход"]
["2020-05-13T13:15:48","2020-02-17","*7127","OK",-200,"RUB",-200,"RUB",null,"Фастфуд",5814,"Stolovaya",2,{"$f":"IFERROR(IF(A630=\"\",\"\",VLOOKUP(J630,'Соответствия статей'!$A$2:$B$50,2,0)),\"Другое\")","v":"Рестораны"},"Банк","Расход"]
["2020-05-13T02:30:33","2020-02-15","*8173","OK",-337,"RUB",-337,"RUB",16,"Транспорт",4121,"Uber",16,{"$f":"IFERROR(IF(A631=\"\",\"\",VLOOKUP(J631,'Соответствия статей'!$A$2:$B$50,2,0)),\"Другое\")","v":"Транспорт"},"Банк","Расход"]
["2020-05-12T13:49:03","2020-02-15","*7127","OK",-25,"RUB",-25,"RUB",null,"Супермаркеты",5499,"Petro-Servis",0,{"$f":"IFERROR(IF(A632=\"\",\"\",VLOOKUP(J632,'Соответствия статей'!$A$2:$B$50,2,0)),\"Другое\")","v":"Продукты"},"Банк","Расход"]
["2020-05-12T13:21:39","2020-02-14","*7127","OK",-200,"RUB",-200,"RUB",null,"Фастфуд",5814,"Stolovaya",2,{"$f":"IFERROR(IF(A633=\"\",\"\",VLOOKUP(J633,'Соответствия статей'!$A$2:$B$50,2,0)),\"Другое\")","v":"Рестораны"},"Банк","Расход"]
["2020-05-11T19:45:11","2020-02-15","*7127","OK",-605.78,"RUB",-605.78,"RUB",null,"Супермаркеты",5411,"Перекресток",6,{"$f":"IFERROR(IF(A634=\"\",\"\",VLOOKUP(J634,'Соответствия статей'!$A$2:$B$50,2,0)),\"Другое\")","v":"Продукты"},"Банк","Расход"]
["2020-05-11T19:05:29","2020-02-14","*7127","OK",-460,"RUB",-460,"RUB",null,"Дом, ремонт",5200,"Etm1416001",4,{"$f":"IFERROR(IF(A635=\"\",\"\",VLOOKUP(J635,'Соответствия статей'!$A$2:$B$50,2,0)),\"Другое\")","v":"Товары для дома, ремонта"},"Банк","Расход"]
["2020-05-11T17:06:43","2020-02-12","*7127","OK",-75,"RUB",-75,"RUB",null,"Фастфуд",5814,"OOO As-Vend",0,{"$f":"IFERROR(IF(A636=\"\",\"\",VLOOKUP(J636,'Соответствия статей'!$A$2:$B$50,2,0)),\"Другое\")","v":"Рестораны"},"Банк","Расход"]
["2020-05-11T14:57:39","2020-02-12","*7127","OK",-25,"RUB",-25,"RUB",null,"Фастфуд",5814,"OOO As-Vend",0,{"$f":"IFERROR(IF(A637=\"\",\"\",VLOOKUP(J637,'Соответствия статей'!$A$2:$B$50,2,0)),\"Другое\")","v":"Рестораны"},"Банк","Расход"]
["2020-05-11T12:36:15","2020-02-14","*7127","OK",-314,"RUB",-314,"RUB",null,"Фастфуд",5814,"Додо Пицца",3,{"$f":"IFERROR(IF(A638=\"\",\"\",VLOOKUP(J638,'Соответствия статей'!$A$2:$B$50,2,0)),\"Другое\")","v":"Рестораны"},"Банк","Расход"]
["2020-05-11T12:27:42","2020-02-12","*7127","OK",-258.04000000000002,"RUB",-258.04000000000002,"RUB",null,"Гос. сборы",9402,"Почта России",2,{"$f":"IFERROR(IF(A639=\"\",\"\",VLOOKUP(J639,'Соответствия статей'!$A$2:$B$50,2,0)),\"Другое\")","v":"Другое"},"Банк","Расход"]
["2020-05-11T11:32:09","2020-02-12","*7127","OK",-16,"RUB",-16,"RUB",null,"Гос. сборы",9402,"Почта России",0,{"$f":"IFERROR(IF(A640=\"\",\"\",VLOOKUP(J640,'Соответствия статей'!$A$2:$B$50,2,0)),\"Другое\")","v":"Другое"},"Банк","Расход"]
["2020-05-11T11:23:31","2020-02-12","*7127","OK",-10,"RUB",-10,"RUB",null,"Фото/видео",7395,"Foto Na Dokumenti",0,{"$f":"IFERROR(IF(A641=\"\",\"\",VLOOKUP(J641,'Соответствия статей'!$A$2:$B$50,2,0)),\"Другое\")","v":"Другое"},"Банк","Расход"]
["2020-05-11T11:02:05","2020-02-12","*7127","OK",-20,"RUB",-20,"RUB",null,"Фото/видео",7395,"Foto Na Dokumenti",0,{"$f":"IFERROR(IF(A642=\"\",\"\",VLOOKUP(J642,'Соответствия статей'!$A$2:$B$50,2,0)),\"Другое\")","v":"Другое"},"Банк","Расход"]
["2020-05-10T13:42:55","2020-02-13","*7127","OK",-25,"RUB",-25,"RUB",null,"Супермаркеты",5499,"Petro-Servis",0,{"$f":"IFERROR(IF(A643=\"\",\"\",VLOOKUP(J643,'Соответствия статей'!$A$2:$B$50,2,0)),\"Другое\")","v":"Продукты"},"Банк","Расход"]
["2020-05-10T13:07:20","2020-02-13","*7127","OK",-205,"RUB",-205,"RUB",null,"Фастфуд",5814,"Stolovaya",2,{"$f":"IFERROR(IF(A644=\"\",\"\",VLOOKUP(J644,'Соответствия статей'!$A$2:$B$50,2,0)),\"Другое\")","v":"Рестораны"},"Банк","Расход"]
["2020-05-10T01:12:58","2020-02-13","*7127","OK",-350,"RUB",-350,"RUB",null,"Финан. услуги",6513,"Rosreestr.Net",3,{"$f":"IFERROR(IF(A645=\"\",\"\",VLOOKUP(J645,'Соответствия статей'!$A$2:$B$50,2,0)),\"Другое\")","v":"Переводы"},"Банк","Расход"]
["2020-05-09T22:19:52","2020-02-12","*7127","OK",-350,"RUB",-350,"RUB",null,"Финан. услуги",6513,"Rosreestr.Net",3,{"$f":"IFERROR(IF(A646=\"\",\"\",VLOOKUP(J646,'Соответствия статей'!$A$2:$B$50,2,0)),\"Другое\")","v":"Переводы"},"Банк","Расход"]
["2020-05-09T22:12:10","2020-02-12","*7127","OK",-350,"RUB",-350,"RUB",null,"Финан. услуги",6513,"Rosreestr.Net",3,{"$f":"IFERROR(IF(A647=\"\",\"\",VLOOKUP(J647,'Соответствия статей'!$A$2:$B$50,2,0)),\"Другое\")","v":"Переводы"},"Банк","Расход"]
["2020-05-08T19:11:18","2020-02-11","*7127","OK",-329,"RUB",-329,"RUB",null,"Аптеки",5912,"Apt2896 Antares",3,{"$f":"IFERROR(IF(A648=\"\",\"\",VLOOKUP(J648,'Соответствия статей'!$A$2:$B$50,2,0)),\"Другое\")","v":"Медицина"},"Банк","Расход"]
["2020-05-08T18:53:08","2020-02-11","*7127","OK",-368.19,"RUB",-368.19,"RUB",null,"Супермаркеты",5411,"Перекресток",3,{"$f":"IFERROR(IF(A649=\"\",\"\",VLOOKUP(J649,'Соответствия статей'!$A$2:$B$50,2,0)),\"Другое\")","v":"Продукты"},"Банк","Расход"]
["2020-05-08T15:33:17","2020-02-12","*7127","OK",-33.99,"RUB",-33.99,"RUB",null,"Супермаркеты",5411,"Верный",0,{"$f":"IFERROR(IF(A650=\"\",\"\",VLOOKUP(J650,'Соответствия статей'!$A$2:$B$50,2,0)),\"Другое\")","v":"Продукты"},"Банк","Расход"]
["2020-05-07T19:22:01","2020-02-10","*7127","OK",-1336.98,"RUB",-1336.98,"RUB",null,"Супермаркеты",5411,"Перекресток",13,{"$f":"IFERROR(IF(A651=\"\",\"\",VLOOKUP(J651,'Соответствия статей'!$A$2:$B$50,2,0)),\"Другое\")","v":"Продукты"},"Банк","Расход"]
["2020-05-07T13:36:35","2020-02-08","*7127","OK",-25,"RUB",-25,"RUB",null,"Фастфуд",5814,"Petro-Servis",0,{"$f":"IFERROR(IF(A652=\"\",\"\",VLOOKUP(J652,'Соответствия статей'!$A$2:$B$50,2,0)),\"Другое\")","v":"Рестораны"},"Банк","Расход"]
["2020-05-07T13:07:21","2020-02-10","*7127","OK",-200,"RUB",-200,"RUB",null,"Фастфуд",5814,"Stolovaya",2,{"$f":"IFERROR(IF(A653=\"\",\"\",VLOOKUP(J653,'Соответствия статей'!$A$2:$B$50,2,0)),\"Другое\")","v":"Рестораны"},"Банк","Расход"]
["2020-05-07T08:03:42","2020-02-08","*7127","OK",-25,"RUB",-25,"RUB",null,"Фастфуд",5814,"OOO As-Vend",0,{"$f":"IFERROR(IF(A654=\"\",\"\",VLOOKUP(J654,'Соответствия статей'!$A$2:$B$50,2,0)),\"Другое\")","v":"Рестораны"},"Банк","Расход"]
["2020-05-06T23:56:03","2020-02-08","*7127","OK",-680.01,"RUB",-680.01,"RUB",null,"Супермаркеты",5411,"Перекресток",6,{"$f":"IFERROR(IF(A655=\"\",\"\",VLOOKUP(J655,'Соответствия статей'!$A$2:$B$50,2,0)),\"Другое\")","v":"Продукты"},"Банк","Расход"]
["2020-05-06T19:21:25","2020-02-08","*7127","OK",-32,"RUB",-32,"RUB",null,"Книги",5192,"Первая полоса",0,{"$f":"IFERROR(IF(A656=\"\",\"\",VLOOKUP(J656,'Соответствия статей'!$A$2:$B$50,2,0)),\"Другое\")","v":"Обучение"},"Банк","Расход"]
["2020-05-06T13:08:10","2020-02-08","*7127","OK",-200,"RUB",-200,"RUB",null,"Фастфуд",5814,"Stolovaya",2,{"$f":"IFERROR(IF(A657=\"\",\"\",VLOOKUP(J657,'Соответствия статей'!$A$2:$B$50,2,0)),\"Другое\")","v":"Рестораны"},"Банк","Расход"]
["2020-05-05T21:03:41","2020-02-07","*7127","OK",-196,"RUB",-196,"RUB",null,"Аптеки",5912,"Аптеки Первая Помощь",1,{"$f":"IFERROR(IF(A658=\"\",\"\",VLOOKUP(J658,'Соответствия статей'!$A$2:$B$50,2,0)),\"Другое\")","v":"Медицина"},"Банк","Расход"]
["2020-05-05T20:50:19","2020-02-07","*7127","OK",-30,"RUB",-30,"RUB",null,"Аптеки",5912,"Озерки",0,{"$f":"IFERROR(IF(A659=\"\",\"\",VLOOKUP(J659,'Соответствия статей'!$A$2:$B$50,2,0)),\"Другое\")","v":"Медицина"},"Банк","Расход"]
["2020-05-05T18:49:51","2020-02-06","*7127","OK",-35,"RUB",-35,"RUB",null,"Фастфуд",5814,"OOO As-Vend",0,{"$f":"IFERROR(IF(A660=\"\",\"\",VLOOKUP(J660,'Соответствия статей'!$A$2:$B$50,2,0)),\"Другое\")","v":"Рестораны"},"Банк","Расход"]
["2020-05-05T13:17:13","2020-02-06","*7127","OK",-200,"RUB",-200,"RUB",null,"Фастфуд",5814,"Stolovaya",2,{"$f":"IFERROR(IF(A661=\"\",\"\",VLOOKUP(J661,'Соответствия статей'!$A$2:$B$50,2,0)),\"Другое\")","v":"Рестораны"},"Банк","Расход"]
["2020-05-05T08:42:18","2020-02-06","*7127","OK",-25,"RUB",-25,"RUB",null,"Фастфуд",5814,"OOO As-Vend",0,{"$f":"IFERROR(IF(A662=\"\",\"\",VLOOKUP(J662,'Соответствия статей'!$A$2:$B$50,2,0)),\"Другое\")","v":"Рестораны"},"Банк","Расход"]
["2020-05-04T21:13:24","2020-02-06","*7127","OK",-222,"RUB",-222,"RUB",null,"Фастфуд",5814,"Ямм-Пицца",2,{"$f":"IFERROR(IF(A663=\"\",\"\",VLOOKUP(J663,'Соответствия статей'!$A$2:$B$50,2,0)),\"Другое\")","v":"Рестораны"},"Банк","Расход"]
["2020-05-04T19:59:53","2020-02-06","*7127","OK",-396,"RUB",-396,"RUB",null,"Фастфуд",5814,"Ямм-Пицца",3,{"$f":"IFERROR(IF(A664=\"\",\"\",VLOOKUP(J664,'Соответствия статей'!$A$2:$B$50,2,0)),\"Другое\")","v":"Рестораны"},"Банк","Расход"]
["2020-05-04T19:34:05","2020-02-06","*7127","OK",-150,"RUB",-150,"RUB",null,"Рестораны",5813,"OOO Arij",1,{"$f":"IFERROR(IF(A665=\"\",\"\",VLOOKUP(J665,'Соответствия статей'!$A$2:$B$50,2,0)),\"Другое\")","v":"Рестораны"},"Банк","Расход"]
["2020-05-04T13:12:41","2020-02-06","*7127","OK",-200,"RUB",-200,"RUB",null,"Фастфуд",5814,"Stolovaya",2,{"$f":"IFERROR(IF(A666=\"\",\"\",VLOOKUP(J666,'Соответствия статей'!$A$2:$B$50,2,0)),\"Другое\")","v":"Рестораны"},"Банк","Расход"]
["2020-05-03T20:27:08","2020-02-04","*7127","OK",-20.23,"RUB",-20.23,"RUB",null,"Жкх/иб",4900,"Петроэлектросбыт",0,{"$f":"IFERROR(IF(A667=\"\",\"\",VLOOKUP(J667,'Соответствия статей'!$A$2:$B$50,2,0)),\"Другое\")","v":"Коммунальные услуги"},"Банк","Расход"]
["2020-05-03T19:45:11","2020-02-05","*7127","OK",-972.27,"RUB",-972.27,"RUB",null,"Супермаркеты",5411,"Перекресток",9,{"$f":"IFERROR(IF(A668=\"\",\"\",VLOOKUP(J668,'Соответствия статей'!$A$2:$B$50,2,0)),\"Другое\")","v":"Продукты"},"Банк","Расход"]
["2020-05-03T13:02:25","2020-02-05","*7127","OK",-200,"RUB",-200,"RUB",null,"Фастфуд",5814,"Stolovaya",2,{"$f":"IFERROR(IF(A669=\"\",\"\",VLOOKUP(J669,'Соответствия статей'!$A$2:$B$50,2,0)),\"Другое\")","v":"Рестораны"},"Банк","Расход"]
["2020-05-03T00:29:45","2020-02-03","*7127","OK",-7,"RUB",-7,"RUB",null,"Мобильные/иб",null,"Ростелеком Мобильная связь +79932213431",0,{"$f":"IFERROR(IF(A670=\"\",\"\",VLOOKUP(J670,'Соответствия статей'!$A$2:$B$50,2,0)),\"Другое\")","v":"Телефонная связь"},"Банк","Расход"]
["2020-05-02T16:06:02","2020-02-04","*7127","OK",-326.52,"RUB",-326.52,"RUB",null,"Супермаркеты",5411,"Семишагофф",3,{"$f":"IFERROR(IF(A671=\"\",\"\",VLOOKUP(J671,'Соответствия статей'!$A$2:$B$50,2,0)),\"Другое\")","v":"Продукты"},"Банк","Расход"]
["2020-05-02T13:08:33","2020-02-04","*7127","OK",-1182,"RUB",-1182,"RUB",null,"Дом, ремонт",5211,"СТАРТ",11,{"$f":"IFERROR(IF(A672=\"\",\"\",VLOOKUP(J672,'Соответствия статей'!$A$2:$B$50,2,0)),\"Другое\")","v":"Товары для дома, ремонта"},"Банк","Расход"]
["2020-05-02T12:40:51","2020-02-02","*7127","OK",-550,"RUB",-550,"RUB",null,"Мобильные/иб",null,"Ростелеком Мобильная связь +79932213431",0,{"$f":"IFERROR(IF(A673=\"\",\"\",VLOOKUP(J673,'Соответствия статей'!$A$2:$B$50,2,0)),\"Другое\")","v":"Телефонная связь"},"Банк","Расход"]
["2020-05-02T12:31:42","2020-02-02","*8173","OK",-4000,"RUB",-4000,"RUB",null,"Переводы/иб",null,"Олег Н.",0,{"$f":"IFERROR(IF(A674=\"\",\"\",VLOOKUP(J674,'Соответствия статей'!$A$2:$B$50,2,0)),\"Другое\")","v":"Переводы"},"Банк","Расход"]
["2020-05-01T15:54:26","2020-02-01","*8173","OK",490,"RUB",490,"RUB",null,"Прочие доходы",null,"Дмитрий И.",0,{"$f":"IFERROR(IF(A675=\"\",\"\",VLOOKUP(J675,'Соответствия статей'!$A$2:$B$50,2,0)),\"Другое\")","v":"Прочие доходы"},"Банк","Доход"]
["2020-05-01T14:26:50","2020-02-03","*8173","OK",-100,"RUB",-100,"RUB",5,"Транспорт",4111,"Метро Санкт-Петербург",5,{"$f":"IFERROR(IF(A676=\"\",\"\",VLOOKUP(J676,'Соответствия статей'!$A$2:$B$50,2,0)),\"Другое\")","v":"Транспорт"},"Банк","Расход"]
["2020-05-01T14:16:18","2020-02-03","*7127","OK",-1004.02,"RUB",-1004.02,"RUB",null,"Фастфуд",5814,"Evrazia",10,{"$f":"IFERROR(IF(A677=\"\",\"\",VLOOKUP(J677,'Соответствия статей'!$A$2:$B$50,2,0)),\"Другое\")","v":"Рестораны"},"Банк","Расход"]
["2020-05-01T11:35:28","2020-02-03","*8173","OK",-55,"RUB",-55,"RUB",2,"Транспорт",4111,"Метро Санкт-Петербург",2,{"$f":"IFERROR(IF(A678=\"\",\"\",VLOOKUP(J678,'Соответствия статей'!$A$2:$B$50,2,0)),\"Другое\")","v":"Транспорт"},"Банк","Расход"]
["2020-04-30T22:57:02","2020-02-03","*7127","OK",-1762.57,"RUB",-1762.57,"RUB",null,"Супермаркеты",5411,"Перекресток",17,{"$f":"IFERROR(IF(A679=\"\",\"\",VLOOKUP(J679,'Соответствия статей'!$A$2:$B$50,2,0)),\"Другое\")","v":"Продукты"},"Банк","Расход"]
["2020-04-30T21:47:18","2020-02-03","*8173","OK",-60,"RUB",-60,"RUB",3,"Транспорт",4111,"Метро Санкт-Петербург",3,{"$f":"IFERROR(IF(A680=\"\",\"\",VLOOKUP(J680,'Соответствия статей'!$A$2:$B$50,2,0)),\"Другое\")","v":"Транспорт"},"Банк","Расход"]
["2020-04-30T21:41:51","2020-02-01","*7127","OK",-1049,"RUB",-1049,"RUB",null,"Разные товары",5945,"IP Kurilov",10,{"$f":"IFERROR(IF(A681=\"\",\"\",VLOOKUP(J681,'Соответствия статей'!$A$2:$B$50,2,0)),\"Другое\")","v":"Другое"},"Банк","Расход"]
["2020-04-30T13:39:27","2020-02-01","*7127","OK",-35,"RUB",-35,"RUB",null,"Фастфуд",5814,"Petro-Servis",0,{"$f":"IFERROR(IF(A682=\"\",\"\",VLOOKUP(J682,'Соответствия статей'!$A$2:$B$50,2,0)),\"Другое\")","v":"Рестораны"},"Банк","Расход"]
["2020-04-30T13:07:33","2020-02-03","*7127","OK",-200,"RUB",-200,"RUB",null,"Фастфуд",5814,"Stolovaya",2,{"$f":"IFERROR(IF(A683=\"\",\"\",VLOOKUP(J683,'Соответствия статей'!$A$2:$B$50,2,0)),\"Другое\")","v":"Рестораны"},"Банк","Расход"]
["2020-04-30T12:13:56","2020-01-31","*7127","OK",25,"RUB",25,"RUB",null,"Прочие доходы",null,"Компенсация покупки",0,{"$f":"IFERROR(IF(A684=\"\",\"\",VLOOKUP(J684,'Соответствия статей'!$A$2:$B$50,2,0)),\"Другое\")","v":"Прочие доходы"},"Банк","Доход"]
["2020-04-30T12:13:46","2020-01-31","*7127","OK",190,"RUB",190,"RUB",null,"Прочие доходы",null,"Компенсация покупки",0,{"$f":"IFERROR(IF(A685=\"\",\"\",VLOOKUP(J685,'Соответствия статей'!$A$2:$B$50,2,0)),\"Другое\")","v":"Прочие доходы"},"Банк","Доход"]
["2020-04-30T12:12:40","2020-01-31","*7127","OK",234.89,"RUB",234.89,"RUB",null,"Прочие доходы",null,"Компенсация покупки",0,{"$f":"IFERROR(IF(A686=\"\",\"\",VLOOKUP(J686,'Соответствия статей'!$A$2:$B$50,2,0)),\"Другое\")","v":"Прочие доходы"},"Банк","Доход"]
["2020-04-30T12:12:04","2020-01-31","*7127","OK",208,"RUB",208,"RUB",null,"Прочие доходы",null,"Компенсация покупки",0,{"$f":"IFERROR(IF(A687=\"\",\"\",VLOOKUP(J687,'Соответствия статей'!$A$2:$B$50,2,0)),\"Другое\")","v":"Прочие доходы"},"Банк","Доход"]
["2020-04-30T12:10:54","2020-01-31","*7127","OK",1235,"RUB",1235,"RUB",null,"Прочие доходы",null,"Компенсация покупки",0,{"$f":"IFERROR(IF(A688=\"\",\"\",VLOOKUP(J688,'Соответствия статей'!$A$2:$B$50,2,0)),\"Другое\")","v":"Прочие доходы"},"Банк","Доход"]
["2020-04-30T23:08:10","2020-01-30",null,"OK",-59,"RUB",-59,"RUB",null,"Другое",null,"Плата за оповещения об операциях",0,{"$f":"IFERROR(IF(A689=\"\",\"\",VLOOKUP(J689,'Соответствия статей'!$A$2:$B$50,2,0)),\"Другое\")","v":"Другое"},"Банк","Расход"]
["2020-04-30T19:00:07","2020-02-03","*7127","OK",-166.74,"RUB",-166.74,"RUB",null,"Супермаркеты",5441,"Pyshnye Bulki",1,{"$f":"IFERROR(IF(A690=\"\",\"\",VLOOKUP(J690,'Соответствия статей'!$A$2:$B$50,2,0)),\"Другое\")","v":"Продукты"},"Банк","Расход"]
["2020-04-30T13:16:16","2020-02-01","*7127","OK",-205,"RUB",-205,"RUB",null,"Фастфуд",5814,"Stolovaya",2,{"$f":"IFERROR(IF(A691=\"\",\"\",VLOOKUP(J691,'Соответствия статей'!$A$2:$B$50,2,0)),\"Другое\")","v":"Рестораны"},"Банк","Расход"]
["2020-04-30T10:26:26","2020-01-31","*7127","OK",-25,"RUB",-25,"RUB",null,"Фастфуд",5814,"OOO As-Vend",0,{"$f":"IFERROR(IF(A692=\"\",\"\",VLOOKUP(J692,'Соответствия статей'!$A$2:$B$50,2,0)),\"Другое\")","v":"Рестораны"},"Банк","Расход"]
["2020-04-29T19:00:44","2020-01-31","*7127","OK",-76.02,"RUB",-76.02,"RUB",null,"Супермаркеты",5441,"Pyshnye Bulki",0,{"$f":"IFERROR(IF(A693=\"\",\"\",VLOOKUP(J693,'Соответствия статей'!$A$2:$B$50,2,0)),\"Другое\")","v":"Продукты"},"Банк","Расход"]
["2020-04-29T17:18:46","2020-01-29","*8173","OK",-26000,"RUB",-26000,"RUB",null,"Переводы/иб",null,"Олег Н.",0,{"$f":"IFERROR(IF(A694=\"\",\"\",VLOOKUP(J694,'Соответствия статей'!$A$2:$B$50,2,0)),\"Другое\")","v":"Переводы"},"Банк","Расход"]
["2020-04-29T13:12:11","2020-01-31","*7127","OK",-200,"RUB",-200,"RUB",null,"Фастфуд",5814,"Stolovaya",2,{"$f":"IFERROR(IF(A695=\"\",\"\",VLOOKUP(J695,'Соответствия статей'!$A$2:$B$50,2,0)),\"Другое\")","v":"Рестораны"},"Банк","Расход"]
["2020-04-29T07:51:07","2020-01-30","*7127","OK",-45,"RUB",-45,"RUB",null,"Фастфуд",5814,"OOO As-Vend",0,{"$f":"IFERROR(IF(A696=\"\",\"\",VLOOKUP(J696,'Соответствия статей'!$A$2:$B$50,2,0)),\"Другое\")","v":"Рестораны"},"Банк","Расход"]
["2020-04-28T17:12:50","2020-01-29","*7127","OK",-75,"RUB",-75,"RUB",null,"Фастфуд",5814,"OOO As-Vend",0,{"$f":"IFERROR(IF(A697=\"\",\"\",VLOOKUP(J697,'Соответствия статей'!$A$2:$B$50,2,0)),\"Другое\")","v":"Рестораны"},"Банк","Расход"]
["2020-04-28T13:27:08","2020-01-29","*7127","OK",-35,"RUB",-35,"RUB",null,"Фастфуд",5814,"Petro-Servis",0,{"$f":"IFERROR(IF(A698=\"\",\"\",VLOOKUP(J698,'Соответствия статей'!$A$2:$B$50,2,0)),\"Другое\")","v":"Рестораны"},"Банк","Расход"]
["2020-04-28T13:00:41","2020-01-30","*7127","OK",-200,"RUB",-200,"RUB",null,"Фастфуд",5814,"Stolovaya",2,{"$f":"IFERROR(IF(A699=\"\",\"\",VLOOKUP(J699,'Соответствия статей'!$A$2:$B$50,2,0)),\"Другое\")","v":"Рестораны"},"Банк","Расход"]
["2020-04-28T09:05:10","2020-01-29","*7127","OK",-25,"RUB",-25,"RUB",null,"Фастфуд",5814,"OOO As-Vend",0,{"$f":"IFERROR(IF(A700=\"\",\"\",VLOOKUP(J700,'Соответствия статей'!$A$2:$B$50,2,0)),\"Другое\")","v":"Рестораны"},"Банк","Расход"]
["2020-04-28T00:03:25","2020-01-29","*7127","OK",-84,"RUB",-84,"RUB",null,"Транспорт",4121,"Uber",0,{"$f":"IFERROR(IF(A701=\"\",\"\",VLOOKUP(J701,'Соответствия статей'!$A$2:$B$50,2,0)),\"Другое\")","v":"Транспорт"},"Банк","Расход"]
["2020-04-27T18:49:50","2020-01-29","*7127","OK",-140.1,"RUB",-140.1,"RUB",null,"Супермаркеты",5441,"Pyshnye Bulki",1,{"$f":"IFERROR(IF(A702=\"\",\"\",VLOOKUP(J702,'Соответствия статей'!$A$2:$B$50,2,0)),\"Другое\")","v":"Продукты"},"Банк","Расход"]
["2020-04-27T14:04:28","2020-01-27","*8173","OK",570,"RUB",570,"RUB",null,"Прочие доходы",null,"Федор Ф.",0,{"$f":"IFERROR(IF(A703=\"\",\"\",VLOOKUP(J703,'Соответствия статей'!$A$2:$B$50,2,0)),\"Другое\")","v":"Прочие доходы"},"Банк","Доход"]
["2020-04-27T13:15:36","2020-01-29","*7127","OK",-200,"RUB",-200,"RUB",null,"Фастфуд",5814,"Stolovaya",2,{"$f":"IFERROR(IF(A704=\"\",\"\",VLOOKUP(J704,'Соответствия статей'!$A$2:$B$50,2,0)),\"Другое\")","v":"Рестораны"},"Банк","Расход"]
["2020-04-27T09:52:28","2020-01-27","*8173","OK",190,"RUB",190,"RUB",null,"Прочие доходы",null,"Анна Ш.",0,{"$f":"IFERROR(IF(A705=\"\",\"\",VLOOKUP(J705,'Соответствия статей'!$A$2:$B$50,2,0)),\"Другое\")","v":"Прочие доходы"},"Банк","Доход"]
["2020-04-26T22:56:19","2020-01-30","*7127","OK",-275.43,"RUB",-275.43,"RUB",null,"Супермаркеты",5411,"Перекресток",2,{"$f":"IFERROR(IF(A706=\"\",\"\",VLOOKUP(J706,'Соответствия статей'!$A$2:$B$50,2,0)),\"Другое\")","v":"Продукты"},"Банк","Расход"]
["2020-04-25T15:10:38","2020-01-28","*7127","OK",-1363.73,"RUB",-1363.73,"RUB",null,"Супермаркеты",5411,"Перекресток",13,{"$f":"IFERROR(IF(A707=\"\",\"\",VLOOKUP(J707,'Соответствия статей'!$A$2:$B$50,2,0)),\"Другое\")","v":"Продукты"},"Банк","Расход"]
["2020-04-25T14:39:38","2020-01-28","*7127","OK",-691,"RUB",-691,"RUB",null,"Аптеки",5912,"Озерки",6,{"$f":"IFERROR(IF(A708=\"\",\"\",VLOOKUP(J708,'Соответствия статей'!$A$2:$B$50,2,0)),\"Другое\")","v":"Медицина"},"Банк","Расход"]
["2020-04-25T14:19:41","2020-01-27","*7127","OK",-5400,"RUB",-5400,"RUB",null,"Мед. услуги",8099,"A-Mediya LLC",54,{"$f":"IFERROR(IF(A709=\"\",\"\",VLOOKUP(J709,'Соответствия статей'!$A$2:$B$50,2,0)),\"Другое\")","v":"Медицина"},"Банк","Расход"]
["2020-04-24T18:43:57","2020-01-27","*7127","OK",-104,"RUB",-104,"RUB",null,"Транспорт",4121,"Uber",1,{"$f":"IFERROR(IF(A710=\"\",\"\",VLOOKUP(J710,'Соответствия статей'!$A$2:$B$50,2,0)),\"Другое\")","v":"Транспорт"},"Банк","Расход"]
["2020-04-24T13:21:42","2020-01-27","*7357","OK",-251,"RUB",-251,"RUB",2,"Фастфуд",5814,"Tarelka",2,{"$f":"IFERROR(IF(A711=\"\",\"\",VLOOKUP(J711,'Соответствия статей'!$A$2:$B$50,2,0)),\"Другое\")","v":"Рестораны"},"Банк","Расход"]
["2020-04-24T12:54:25","2020-01-25","*7127","OK",-35,"RUB",-35,"RUB",null,"Фастфуд",5814,"Petro-Servis",0,{"$f":"IFERROR(IF(A712=\"\",\"\",VLOOKUP(J712,'Соответствия статей'!$A$2:$B$50,2,0)),\"Другое\")","v":"Рестораны"},"Банк","Расход"]
["2020-04-24T12:37:39","2020-01-27","*7127","OK",-226,"RUB",-226,"RUB",null,"Фастфуд",5814,"Stolovaya",2,{"$f":"IFERROR(IF(A713=\"\",\"\",VLOOKUP(J713,'Соответствия статей'!$A$2:$B$50,2,0)),\"Другое\")","v":"Рестораны"},"Банк","Расход"]
["2020-04-24T10:10:51","2020-01-24","*7127","OK",-2850,"RUB",-2850,"RUB",null,"Развлечения",7999,"ilocked.ru/",28,{"$f":"IFERROR(IF(A714=\"\",\"\",VLOOKUP(J714,'Соответствия статей'!$A$2:$B$50,2,0)),\"Другое\")","v":"Развлечения"},"Банк","Расход"]
["2020-04-23T23:03:13","2020-01-23",null,"OK",-99,"RUB",-99,"RUB",null,"Другое",null,"Плата за обслуживание",0,{"$f":"IFERROR(IF(A715=\"\",\"\",VLOOKUP(J715,'Соответствия статей'!$A$2:$B$50,2,0)),\"Другое\")","v":"Другое"},"Банк","Расход"]
["2020-04-23T22:41:14","2020-01-23",null,"OK",270,"RUB",270,"RUB",null,"Прочие доходы",null,"Вознаграждение за операции покупок",0,{"$f":"IFERROR(IF(A716=\"\",\"\",VLOOKUP(J716,'Соответствия статей'!$A$2:$B$50,2,0)),\"Другое\")","v":"Прочие доходы"},"Банк","Доход"]
["2020-04-23T22:32:42","2020-01-24","*7127","OK",-110,"RUB",-110,"RUB",null,"Транспорт",4121,"Uber",1,{"$f":"IFERROR(IF(A717=\"\",\"\",VLOOKUP(J717,'Соответствия статей'!$A$2:$B$50,2,0)),\"Другое\")","v":"Транспорт"},"Банк","Расход"]
["2020-04-23T21:41:27","2020-01-23",null,"OK",4.1500000000000004,"RUB",4.1500000000000004,"RUB",null,"Прочие доходы",null,"Проценты на остаток по счету",0,{"$f":"IFERROR(IF(A718=\"\",\"\",VLOOKUP(J718,'Соответствия статей'!$A$2:$B$50,2,0)),\"Другое\")","v":"Прочие доходы"},"Банк","Доход"]
["2020-04-23T13:32:52","2020-01-24","*7127","OK",-25,"RUB",-25,"RUB",null,"Фастфуд",5814,"OOO As-Vend",0,{"$f":"IFERROR(IF(A719=\"\",\"\",VLOOKUP(J719,'Соответствия статей'!$A$2:$B$50,2,0)),\"Другое\")","v":"Рестораны"},"Банк","Расход"]
["2020-04-23T13:11:40","2020-01-25","*7127","OK",-200,"RUB",-200,"RUB",null,"Фастфуд",5814,"Stolovaya",2,{"$f":"IFERROR(IF(A720=\"\",\"\",VLOOKUP(J720,'Соответствия статей'!$A$2:$B$50,2,0)),\"Другое\")","v":"Рестораны"},"Банк","Расход"]
["2020-04-23T10:28:59","2020-01-24","*7127","OK",-25,"RUB",-25,"RUB",null,"Фастфуд",5814,"OOO As-Vend",0,{"$f":"IFERROR(IF(A721=\"\",\"\",VLOOKUP(J721,'Соответствия статей'!$A$2:$B$50,2,0)),\"Другое\")","v":"Рестораны"},"Банк","Расход"]
["2020-04-22T20:31:01","2020-01-24","*7357","OK",-301.74,"RUB",-301.74,"RUB",3,"Супермаркеты",5411,"Перекресток",3,{"$f":"IFERROR(IF(A722=\"\",\"\",VLOOKUP(J722,'Соответствия статей'!$A$2:$B$50,2,0)),\"Другое\")","v":"Продукты"},"Банк","Расход"]
["2020-04-22T13:41:11","2020-01-23","*7127","OK",-35,"RUB",-35,"RUB",null,"Фастфуд",5814,"Petro-Servis",0,{"$f":"IFERROR(IF(A723=\"\",\"\",VLOOKUP(J723,'Соответствия статей'!$A$2:$B$50,2,0)),\"Другое\")","v":"Рестораны"},"Банк","Расход"]
["2020-04-22T13:12:17","2020-01-24","*7127","OK",-200,"RUB",-200,"RUB",null,"Фастфуд",5814,"Stolovaya",2,{"$f":"IFERROR(IF(A724=\"\",\"\",VLOOKUP(J724,'Соответствия статей'!$A$2:$B$50,2,0)),\"Другое\")","v":"Рестораны"},"Банк","Расход"]
["2020-04-22T11:29:46","2020-01-23","*7127","OK",-25,"RUB",-25,"RUB",null,"Фастфуд",5814,"OOO As-Vend",0,{"$f":"IFERROR(IF(A725=\"\",\"\",VLOOKUP(J725,'Соответствия статей'!$A$2:$B$50,2,0)),\"Другое\")","v":"Рестораны"},"Банк","Расход"]
["2020-04-22T01:08:34","2020-01-23","*7127","OK",-340,"RUB",-340,"RUB",null,"Транспорт",4121,"Uber",3,{"$f":"IFERROR(IF(A726=\"\",\"\",VLOOKUP(J726,'Соответствия статей'!$A$2:$B$50,2,0)),\"Другое\")","v":"Транспорт"},"Банк","Расход"]
["2020-04-21T13:38:45","2020-01-22","*7127","OK",-35,"RUB",-35,"RUB",null,"Фастфуд",5814,"Petro-Servis",0,{"$f":"IFERROR(IF(A727=\"\",\"\",VLOOKUP(J727,'Соответствия статей'!$A$2:$B$50,2,0)),\"Другое\")","v":"Рестораны"},"Банк","Расход"]
["2020-04-21T13:15:46","2020-01-23","*7127","OK",-200,"RUB",-200,"RUB",null,"Фастфуд",5814,"Stolovaya",2,{"$f":"IFERROR(IF(A728=\"\",\"\",VLOOKUP(J728,'Соответствия статей'!$A$2:$B$50,2,0)),\"Другое\")","v":"Рестораны"},"Банк","Расход"]
["2020-04-21T11:20:05","2020-01-22","*7127","OK",-25,"RUB",-25,"RUB",null,"Фастфуд",5814,"OOO As-Vend",0,{"$f":"IFERROR(IF(A729=\"\",\"\",VLOOKUP(J729,'Соответствия статей'!$A$2:$B$50,2,0)),\"Другое\")","v":"Рестораны"},"Банк","Расход"]
["2020-04-21T10:52:47","2020-01-23","*7357","OK",-194,"RUB",-194,"RUB",1,"Фастфуд",5814,"Додо Пицца",1,{"$f":"IFERROR(IF(A730=\"\",\"\",VLOOKUP(J730,'Соответствия статей'!$A$2:$B$50,2,0)),\"Другое\")","v":"Рестораны"},"Банк","Расход"]
["2020-04-20T20:46:38","2020-01-22","*7127","OK",-191,"RUB",-191,"RUB",null,"Супермаркеты",5441,"Pyshnye Bulki",1,{"$f":"IFERROR(IF(A731=\"\",\"\",VLOOKUP(J731,'Соответствия статей'!$A$2:$B$50,2,0)),\"Другое\")","v":"Продукты"},"Банк","Расход"]
["2020-04-20T19:48:01","2020-01-22","*7357","OK",-178,"RUB",-178,"RUB",1,"Фастфуд",5814,"KFC",1,{"$f":"IFERROR(IF(A732=\"\",\"\",VLOOKUP(J732,'Соответствия статей'!$A$2:$B$50,2,0)),\"Другое\")","v":"Рестораны"},"Банк","Расход"]
["2020-04-20T13:34:47","2020-01-21","*7127","OK",-35,"RUB",-35,"RUB",null,"Фастфуд",5814,"Petro-Servis",0,{"$f":"IFERROR(IF(A733=\"\",\"\",VLOOKUP(J733,'Соответствия статей'!$A$2:$B$50,2,0)),\"Другое\")","v":"Рестораны"},"Банк","Расход"]
["2020-04-20T13:11:44","2020-01-22","*7127","OK",-200,"RUB",-200,"RUB",null,"Фастфуд",5814,"Stolovaya",2,{"$f":"IFERROR(IF(A734=\"\",\"\",VLOOKUP(J734,'Соответствия статей'!$A$2:$B$50,2,0)),\"Другое\")","v":"Рестораны"},"Банк","Расход"]
["2020-04-20T09:43:05","2020-01-21","*7127","OK",-25,"RUB",-25,"RUB",null,"Фастфуд",5814,"OOO As-Vend",0,{"$f":"IFERROR(IF(A735=\"\",\"\",VLOOKUP(J735,'Соответствия статей'!$A$2:$B$50,2,0)),\"Другое\")","v":"Рестораны"},"Банк","Расход"]
["2020-04-20T02:52:15","2020-01-20","*8173","FAILED",-50,"RUB",-50,"RUB",null,"Мобильные/иб",null,"TELE2 - автоплатеж",0,{"$f":"IFERROR(IF(A736=\"\",\"\",VLOOKUP(J736,'Соответствия статей'!$A$2:$B$50,2,0)),\"Другое\")","v":"Телефонная связь"},"Банк","Расход"]
["2020-04-19T22:11:29","2020-01-21","*7127","OK",-1701.39,"RUB",-1701.39,"RUB",null,"Супермаркеты",5411,"Перекресток",17,{"$f":"IFERROR(IF(A737=\"\",\"\",VLOOKUP(J737,'Соответствия статей'!$A$2:$B$50,2,0)),\"Другое\")","v":"Продукты"},"Банк","Расход"]
["2020-04-19T21:08:27","2020-01-21","*7127","OK",-400,"RUB",-400,"RUB",null,"Рестораны",5812,"Kebab 24k",4,{"$f":"IFERROR(IF(A738=\"\",\"\",VLOOKUP(J738,'Соответствия статей'!$A$2:$B$50,2,0)),\"Другое\")","v":"Рестораны"},"Банк","Расход"]
["2020-04-19T19:30:39","2020-01-20","*7127","OK",-168,"RUB",-168,"RUB",null,"Транспорт",4121,"Uber",1,{"$f":"IFERROR(IF(A739=\"\",\"\",VLOOKUP(J739,'Соответствия статей'!$A$2:$B$50,2,0)),\"Другое\")","v":"Транспорт"},"Банк","Расход"]
["2020-04-19T18:07:43","2020-01-21","*7127","OK",-100,"RUB",-100,"RUB",null,"Кино",7832,"Синема Парк",1,{"$f":"IFERROR(IF(A740=\"\",\"\",VLOOKUP(J740,'Соответствия статей'!$A$2:$B$50,2,0)),\"Другое\")","v":"Развлечения"},"Банк","Расход"]
["2020-04-19T17:53:37","2020-01-19","*7127","OK",-1220,"RUB",-1220,"RUB",null,"Кино",7832,"Билеты в кино",12,{"$f":"IFERROR(IF(A741=\"\",\"\",VLOOKUP(J741,'Соответствия статей'!$A$2:$B$50,2,0)),\"Другое\")","v":"Развлечения"},"Банк","Расход"]
["2020-04-19T11:21:51","2020-01-19","*7127","OK",-370,"RUB",-370,"RUB",null,"Мобильные/иб",null,"Мой телефон +79533443146",0,{"$f":"IFERROR(IF(A742=\"\",\"\",VLOOKUP(J742,'Соответствия статей'!$A$2:$B$50,2,0)),\"Другое\")","v":"Телефонная связь"},"Банк","Расход"]
["2020-04-18T10:59:33","2020-01-21","*7127","OK",-152.69999999999999,"RUB",-152.69999999999999,"RUB",null,"Супермаркеты",5411,"Магнит",1,{"$f":"IFERROR(IF(A743=\"\",\"\",VLOOKUP(J743,'Соответствия статей'!$A$2:$B$50,2,0)),\"Другое\")","v":"Продукты"},"Банк","Расход"]
["2020-04-17T19:14:51","2020-01-20","*7127","OK",-762.6,"RUB",-762.6,"RUB",null,"Супермаркеты",5411,"Магнит",7,{"$f":"IFERROR(IF(A744=\"\",\"\",VLOOKUP(J744,'Соответствия статей'!$A$2:$B$50,2,0)),\"Другое\")","v":"Продукты"},"Банк","Расход"]
["2020-04-17T13:14:04","2020-01-18","*7127","OK",-200,"RUB",-200,"RUB",null,"Фастфуд",5814,"Stolovaya",2,{"$f":"IFERROR(IF(A745=\"\",\"\",VLOOKUP(J745,'Соответствия статей'!$A$2:$B$50,2,0)),\"Другое\")","v":"Рестораны"},"Банк","Расход"]
["2020-04-17T10:19:45","2020-01-18","*7127","OK",-15,"RUB",-15,"RUB",null,"Фастфуд",5814,"OOO As-Vend",0,{"$f":"IFERROR(IF(A746=\"\",\"\",VLOOKUP(J746,'Соответствия статей'!$A$2:$B$50,2,0)),\"Другое\")","v":"Рестораны"},"Банк","Расход"]
["2020-04-17T10:17:53","2020-01-18","*7127","OK",-25,"RUB",-25,"RUB",null,"Фастфуд",5814,"OOO As-Vend",0,{"$f":"IFERROR(IF(A747=\"\",\"\",VLOOKUP(J747,'Соответствия статей'!$A$2:$B$50,2,0)),\"Другое\")","v":"Рестораны"},"Банк","Расход"]
["2020-04-16T19:33:30","2020-01-18","*7127","OK",-40,"RUB",-40,"RUB",null,"Супермаркеты",5441,"Pyshnye Bulki",0,{"$f":"IFERROR(IF(A748=\"\",\"\",VLOOKUP(J748,'Соответствия статей'!$A$2:$B$50,2,0)),\"Другое\")","v":"Продукты"},"Банк","Расход"]
["2020-04-16T14:00:55","2020-01-18","*7357","OK",-203,"RUB",-203,"RUB",2,"Фастфуд",5814,"Tarelka",2,{"$f":"IFERROR(IF(A749=\"\",\"\",VLOOKUP(J749,'Соответствия статей'!$A$2:$B$50,2,0)),\"Другое\")","v":"Рестораны"},"Банк","Расход"]
["2020-04-16T13:38:54","2020-01-17","*7127","OK",-35,"RUB",-35,"RUB",null,"Фастфуд",5814,"Petro-Servis",0,{"$f":"IFERROR(IF(A750=\"\",\"\",VLOOKUP(J750,'Соответствия статей'!$A$2:$B$50,2,0)),\"Другое\")","v":"Рестораны"},"Банк","Расход"]
["2020-04-16T13:11:52","2020-01-17","*7127","OK",-200,"RUB",-200,"RUB",null,"Фастфуд",5814,"Stolovaya",2,{"$f":"IFERROR(IF(A751=\"\",\"\",VLOOKUP(J751,'Соответствия статей'!$A$2:$B$50,2,0)),\"Другое\")","v":"Рестораны"},"Банк","Расход"]
["2020-04-16T07:44:57","2020-01-17","*7127","OK",-75,"RUB",-75,"RUB",null,"Фастфуд",5814,"OOO As-Vend",0,{"$f":"IFERROR(IF(A752=\"\",\"\",VLOOKUP(J752,'Соответствия статей'!$A$2:$B$50,2,0)),\"Другое\")","v":"Рестораны"},"Банк","Расход"]
["2020-04-16","2020-01-17","*7127","OK",54980,"RUB",54980,"RUB",null,"Дом, ремонт",5722,"Мвидео",-549,{"$f":"IFERROR(IF(A753=\"\",\"\",VLOOKUP(J753,'Соответствия статей'!$A$2:$B$50,2,0)),\"Другое\")","v":"Товары для дома, ремонта"},"Банк","Расход"]
["2020-04-15T21:19:30","2020-01-16","*7127","OK",-1100,"RUB",-1100,"RUB",null,"Красота",7230,"IP Layter",11,{"$f":"IFERROR(IF(A754=\"\",\"\",VLOOKUP(J754,'Соответствия статей'!$A$2:$B$50,2,0)),\"Другое\")","v":"Услуги для внешнего вида"},"Банк","Расход"]
["2020-04-15T20:03:36","2020-01-17","*7127","OK",-288.8,"RUB",-288.8,"RUB",null,"Супермаркеты",5411,"Перекресток",2,{"$f":"IFERROR(IF(A755=\"\",\"\",VLOOKUP(J755,'Соответствия статей'!$A$2:$B$50,2,0)),\"Другое\")","v":"Продукты"},"Банк","Расход"]
["2020-04-15T17:10:24","2020-01-16","*7127","OK",-20,"RUB",-20,"RUB",null,"Фастфуд",5814,"OOO As-Vend",0,{"$f":"IFERROR(IF(A756=\"\",\"\",VLOOKUP(J756,'Соответствия статей'!$A$2:$B$50,2,0)),\"Другое\")","v":"Рестораны"},"Банк","Расход"]
["2020-04-15T13:42:57","2020-01-16","*7127","OK",-25,"RUB",-25,"RUB",null,"Фастфуд",5814,"OOO As-Vend",0,{"$f":"IFERROR(IF(A757=\"\",\"\",VLOOKUP(J757,'Соответствия статей'!$A$2:$B$50,2,0)),\"Другое\")","v":"Рестораны"},"Банк","Расход"]
["2020-04-15T13:12:50","2020-01-17","*7127","OK",-205,"RUB",-205,"RUB",null,"Фастфуд",5814,"Stolovaya",2,{"$f":"IFERROR(IF(A758=\"\",\"\",VLOOKUP(J758,'Соответствия статей'!$A$2:$B$50,2,0)),\"Другое\")","v":"Рестораны"},"Банк","Расход"]
["2020-04-15T13:07:49","2020-01-17","*7357","OK",-218,"RUB",-218,"RUB",2,"Фастфуд",5814,"Tarelka",2,{"$f":"IFERROR(IF(A759=\"\",\"\",VLOOKUP(J759,'Соответствия статей'!$A$2:$B$50,2,0)),\"Другое\")","v":"Рестораны"},"Банк","Расход"]
["2020-04-15T08:55:46","2020-01-17","*7357","OK",-55,"RUB",-55,"RUB",2,"Транспорт",4111,"Метро Санкт-Петербург",2,{"$f":"IFERROR(IF(A760=\"\",\"\",VLOOKUP(J760,'Соответствия статей'!$A$2:$B$50,2,0)),\"Другое\")","v":"Транспорт"},"Банк","Расход"]
["2020-04-15T07:46:45","2020-01-16","*7127","OK",-25,"RUB",-25,"RUB",null,"Фастфуд",5814,"OOO As-Vend",0,{"$f":"IFERROR(IF(A761=\"\",\"\",VLOOKUP(J761,'Соответствия статей'!$A$2:$B$50,2,0)),\"Другое\")","v":"Рестораны"},"Банк","Расход"]
["2020-04-15T00:11:13","2020-01-16","*7127","OK",-520.86,"RUB",-520.86,"RUB",null,"Жкх/иб",4900,"Петроэлектросбыт",0,{"$f":"IFERROR(IF(A762=\"\",\"\",VLOOKUP(J762,'Соответствия статей'!$A$2:$B$50,2,0)),\"Другое\")","v":"Коммунальные услуги"},"Банк","Расход"]
["2020-04-14T23:44:46","2020-01-16","*7127","OK",-54980,"RUB",-54980,"RUB",null,"Дом, ремонт",5722,"Мвидео",549,{"$f":"IFERROR(IF(A763=\"\",\"\",VLOOKUP(J763,'Соответствия статей'!$A$2:$B$50,2,0)),\"Другое\")","v":"Товары для дома, ремонта"},"Банк","Расход"]
["2020-04-14T13:34:53","2020-01-15","*7127","OK",-35,"RUB",-35,"RUB",null,"Фастфуд",5814,"Petro-Servis",0,{"$f":"IFERROR(IF(A764=\"\",\"\",VLOOKUP(J764,'Соответствия статей'!$A$2:$B$50,2,0)),\"Другое\")","v":"Рестораны"},"Банк","Расход"]
["2020-04-14T13:12:18","2020-01-15","*7127","OK",-200,"RUB",-200,"RUB",null,"Фастфуд",5814,"Stolovaya",2,{"$f":"IFERROR(IF(A765=\"\",\"\",VLOOKUP(J765,'Соответствия статей'!$A$2:$B$50,2,0)),\"Другое\")","v":"Рестораны"},"Банк","Расход"]
["2020-04-13T20:48:36","2020-01-15","*7357","OK",-411.4,"RUB",-411.4,"RUB",4,"Супермаркеты",5411,"Перекресток",4,{"$f":"IFERROR(IF(A766=\"\",\"\",VLOOKUP(J766,'Соответствия статей'!$A$2:$B$50,2,0)),\"Другое\")","v":"Продукты"},"Банк","Расход"]
["2020-04-13T19:19:14","2020-01-15","*7357","OK",-55,"RUB",-55,"RUB",0,"Фастфуд",5814,"Tarelka",0,{"$f":"IFERROR(IF(A767=\"\",\"\",VLOOKUP(J767,'Соответствия статей'!$A$2:$B$50,2,0)),\"Другое\")","v":"Рестораны"},"Банк","Расход"]
["2020-04-13T19:17:06","2020-01-15","*7127","OK",-1371.86,"RUB",-1371.86,"RUB",null,"Супермаркеты",5411,"Магнит",13,{"$f":"IFERROR(IF(A768=\"\",\"\",VLOOKUP(J768,'Соответствия статей'!$A$2:$B$50,2,0)),\"Другое\")","v":"Продукты"},"Банк","Расход"]
["2020-04-13T13:25:29","2020-01-14","*7127","OK",-35,"RUB",-35,"RUB",null,"Фастфуд",5814,"Petro-Servis",0,{"$f":"IFERROR(IF(A769=\"\",\"\",VLOOKUP(J769,'Соответствия статей'!$A$2:$B$50,2,0)),\"Другое\")","v":"Рестораны"},"Банк","Расход"]
["2020-04-13T13:04:48","2020-01-15","*7127","OK",-260,"RUB",-260,"RUB",null,"Фастфуд",5814,"Stolovaya",2,{"$f":"IFERROR(IF(A770=\"\",\"\",VLOOKUP(J770,'Соответствия статей'!$A$2:$B$50,2,0)),\"Другое\")","v":"Рестораны"},"Банк","Расход"]
["2020-04-13T12:24:44","2020-01-15","*7357","OK",-230,"RUB",-230,"RUB",2,"Фастфуд",5814,"Tarelka",2,{"$f":"IFERROR(IF(A771=\"\",\"\",VLOOKUP(J771,'Соответствия статей'!$A$2:$B$50,2,0)),\"Другое\")","v":"Рестораны"},"Банк","Расход"]
["2020-04-12T17:19:45","2020-01-14","*8173","OK",-150,"RUB",-150,"RUB",7,"Транспорт",4111,"Метро Санкт-Петербург",7,{"$f":"IFERROR(IF(A772=\"\",\"\",VLOOKUP(J772,'Соответствия статей'!$A$2:$B$50,2,0)),\"Другое\")","v":"Транспорт"},"Банк","Расход"]
["2020-04-12T17:17:26","2020-01-14","*8173","OK",-150,"RUB",-150,"RUB",7,"Транспорт",4111,"Метро Санкт-Петербург",7,{"$f":"IFERROR(IF(A773=\"\",\"\",VLOOKUP(J773,'Соответствия статей'!$A$2:$B$50,2,0)),\"Другое\")","v":"Транспорт"},"Банк","Расход"]
["2020-04-11T12:59:38","2020-01-13","*7127","OK",-745.61,"RUB",-745.61,"RUB",null,"Супермаркеты",5411,"Магнит",7,{"$f":"IFERROR(IF(A774=\"\",\"\",VLOOKUP(J774,'Соответствия статей'!$A$2:$B$50,2,0)),\"Другое\")","v":"Продукты"},"Банк","Расход"]
["2020-04-10T07:22:43","2020-01-10","*8173","OK",240,"RUB",240,"RUB",null,"Прочие доходы",null,"Бонус по акции",0,{"$f":"IFERROR(IF(A775=\"\",\"\",VLOOKUP(J775,'Соответствия статей'!$A$2:$B$50,2,0)),\"Другое\")","v":"Прочие доходы"},"Банк","Доход"]
["2020-04-09T22:05:08","2020-01-11","*8173","OK",-157,"RUB",-157,"RUB",7,"Транспорт",4121,"Яндекс Такси",7,{"$f":"IFERROR(IF(A776=\"\",\"\",VLOOKUP(J776,'Соответствия статей'!$A$2:$B$50,2,0)),\"Другое\")","v":"Транспорт"},"Банк","Расход"]
["2020-04-09T19:21:03","2020-01-11","*8173","OK",-239,"RUB",-239,"RUB",11,"Транспорт",4121,"Яндекс Такси",11,{"$f":"IFERROR(IF(A777=\"\",\"\",VLOOKUP(J777,'Соответствия статей'!$A$2:$B$50,2,0)),\"Другое\")","v":"Транспорт"},"Банк","Расход"]
["2020-04-09T19:15:41","2020-01-11","*8173","OK",-648,"RUB",-648,"RUB",32,"Кино",7832,"Синема Парк",32,{"$f":"IFERROR(IF(A778=\"\",\"\",VLOOKUP(J778,'Соответствия статей'!$A$2:$B$50,2,0)),\"Другое\")","v":"Развлечения"},"Банк","Расход"]
["2020-04-09T18:15:52","2020-01-10","*7127","OK",-410,"RUB",-410,"RUB",null,"Рестораны",5812,"OOO Mir Vkusa",4,{"$f":"IFERROR(IF(A779=\"\",\"\",VLOOKUP(J779,'Соответствия статей'!$A$2:$B$50,2,0)),\"Другое\")","v":"Рестораны"},"Банк","Расход"]
["2020-04-09T02:16:20","2020-01-10","*8173","OK",-235,"RUB",-235,"RUB",11,"Транспорт",4121,"Яндекс Такси",11,{"$f":"IFERROR(IF(A780=\"\",\"\",VLOOKUP(J780,'Соответствия статей'!$A$2:$B$50,2,0)),\"Другое\")","v":"Транспорт"},"Банк","Расход"]
["2020-04-08T20:28:04","2020-01-10","*7127","OK",-2600,"RUB",-2600,"RUB",null,"Развлечения",7999,"Elyaty Club",26,{"$f":"IFERROR(IF(A781=\"\",\"\",VLOOKUP(J781,'Соответствия статей'!$A$2:$B$50,2,0)),\"Другое\")","v":"Развлечения"},"Банк","Расход"]
["2020-04-08T15:59:20","2020-01-10","*7127","OK",-171.8,"RUB",-171.8,"RUB",null,"Супермаркеты",5411,"Магнит",1,{"$f":"IFERROR(IF(A782=\"\",\"\",VLOOKUP(J782,'Соответствия статей'!$A$2:$B$50,2,0)),\"Другое\")","v":"Продукты"},"Банк","Расход"]
["2020-04-08T15:49:41","2020-01-10","*7127","OK",-293,"RUB",-293,"RUB",null,"Разные товары",5331,"Magazin Rider",2,{"$f":"IFERROR(IF(A783=\"\",\"\",VLOOKUP(J783,'Соответствия статей'!$A$2:$B$50,2,0)),\"Другое\")","v":"Другое"},"Банк","Расход"]
["2020-04-08T15:39:13","2020-01-10","*7127","OK",-55,"RUB",-55,"RUB",null,"Разные товары",5943,"IP Turova D.Yu. Rider",0,{"$f":"IFERROR(IF(A784=\"\",\"\",VLOOKUP(J784,'Соответствия статей'!$A$2:$B$50,2,0)),\"Другое\")","v":"Другое"},"Банк","Расход"]
["2020-04-08T15:28:40","2020-01-10","*7127","OK",-339,"RUB",-339,"RUB",null,"Разные товары",5331,"Magazin Rider",3,{"$f":"IFERROR(IF(A785=\"\",\"\",VLOOKUP(J785,'Соответствия статей'!$A$2:$B$50,2,0)),\"Другое\")","v":"Другое"},"Банк","Расход"]
["2020-04-07T01:39:53","2020-01-07","*7127","OK",-160.09,"RUB",-160.09,"RUB",null,"Разные товары",5399,"Aliexpress.com",1,{"$f":"IFERROR(IF(A786=\"\",\"\",VLOOKUP(J786,'Соответствия статей'!$A$2:$B$50,2,0)),\"Другое\")","v":"Другое"},"Банк","Расход"]
["2020-04-06T20:42:20","2020-01-08","*7127","OK",-1235,"RUB",-1235,"RUB",null,"Фастфуд",5814,"Додо Пицца",12,{"$f":"IFERROR(IF(A787=\"\",\"\",VLOOKUP(J787,'Соответствия статей'!$A$2:$B$50,2,0)),\"Другое\")","v":"Рестораны"},"Банк","Расход"]
["2020-04-05T16:36:55","2020-01-07","*8173","OK",-235,"RUB",-235,"RUB",11,"Транспорт",4121,"Яндекс Такси",11,{"$f":"IFERROR(IF(A788=\"\",\"\",VLOOKUP(J788,'Соответствия статей'!$A$2:$B$50,2,0)),\"Другое\")","v":"Транспорт"},"Банк","Расход"]
["2020-04-03T22:18:59","2020-01-06","*8173","OK",-178,"RUB",-178,"RUB",8,"Транспорт",4121,"Яндекс Такси",8,{"$f":"IFERROR(IF(A789=\"\",\"\",VLOOKUP(J789,'Соответствия статей'!$A$2:$B$50,2,0)),\"Другое\")","v":"Транспорт"},"Банк","Расход"]
["2020-04-03T22:16:49","2020-01-04","*8173","OK",-50,"RUB",-50,"RUB",null,"Переводы/иб",null,"Елена Н.",0,{"$f":"IFERROR(IF(A790=\"\",\"\",VLOOKUP(J790,'Соответствия статей'!$A$2:$B$50,2,0)),\"Другое\")","v":"Переводы"},"Банк","Расход"]
["2020-04-03T17:52:32","2020-01-03","*8173","OK",-1600,"RUB",-1600,"RUB",80,"Кино",7832,"Билеты в кино",80,{"$f":"IFERROR(IF(A791=\"\",\"\",VLOOKUP(J791,'Соответствия статей'!$A$2:$B$50,2,0)),\"Другое\")","v":"Развлечения"},"Банк","Расход"]
["2020-04-03T00:35:00","2020-01-04","*8173","OK",-102,"RUB",-102,"RUB",5,"Транспорт",4121,"Яндекс Такси",5,{"$f":"IFERROR(IF(A792=\"\",\"\",VLOOKUP(J792,'Соответствия статей'!$A$2:$B$50,2,0)),\"Другое\")","v":"Транспорт"},"Банк","Расход"]
["2020-04-03T00:35:00",null,null,null,55000,null,null,null,null,"Заработная плата",null,"Заработная плата",null,{"$f":"IFERROR(IF(A793=\"\",\"\",VLOOKUP(J793,'Соответствия статей'!$A$2:$B$50,2,0)),\"Другое\")","v":"Заработная плата"},"Банк","Доход"]
["2020-04-03T00:35:00",null,null,null,15000,null,null,null,null,"Оплата за преподавание",null,"Оплата за преподавание",null,{"$f":"IFERROR(IF(A794=\"\",\"\",VLOOKUP(J794,'Соответствия статей'!$A$2:$B$50,2,0)),\"Другое\")","v":"Оплата за преподавание"},"Банк","Доход"]
["2020-04-03T00:35:00",null,null,null,5000,null,null,null,null,"Прочие доходы",null,"Прочие доходы",null,{"$f":"IFERROR(IF(A795=\"\",\"\",VLOOKUP(J795,'Соответствия статей'!$A$2:$B$50,2,0)),\"Другое\")","v":"Прочие доходы"},"Банк","Доход"]
["2020-04-03T00:35:00",null,null,null,5000,null,null,null,null,"Дивиденды",null,"Дивиденды",null,{"$f":"IFERROR(IF(A796=\"\",\"\",VLOOKUP(J796,'Соответствия статей'!$A$2:$B$50,2,0)),\"Другое\")","v":"Дивиденды"},"Банк","Доход"]
["2020-04-03T00:35:00",null,null,null,5000,null,null,null,null,"Проценты по вкладам",null,"Проценты по вкладам",null,{"$f":"IFERROR(IF(A797=\"\",\"\",VLOOKUP(J797,'Соответствия статей'!$A$2:$B$50,2,0)),\"Другое\")","v":"Проценты по вкладам"},"Банк","Доход"]
["2020-05-03T00:35:00",null,null,null,55000,null,null,null,null,"Заработная плата",null,"Заработная плата",null,{"$f":"IFERROR(IF(A798=\"\",\"\",VLOOKUP(J798,'Соответствия статей'!$A$2:$B$50,2,0)),\"Другое\")","v":"Заработная плата"},"Банк","Доход"]
["2020-05-03T00:35:00",null,null,null,15000,null,null,null,null,"Оплата за преподавание",null,"Оплата за преподавание",null,{"$f":"IFERROR(IF(A799=\"\",\"\",VLOOKUP(J799,'Соответствия статей'!$A$2:$B$50,2,0)),\"Другое\")","v":"Оплата за преподавание"},"Банк","Доход"]
["2020-05-03T00:35:00",null,null,null,5000,null,null,null,null,"Прочие доходы",null,"Прочие доходы",null,{"$f":"IFERROR(IF(A800=\"\",\"\",VLOOKUP(J800,'Соответствия статей'!$A$2:$B$50,2,0)),\"Другое\")","v":"Прочие доходы"},"Банк","Доход"]
["2020-05-03T00:35:00",null,null,null,5000,null,null,null,null,"Дивиденды",null,"Дивиденды",null,{"$f":"IFERROR(IF(A801=\"\",\"\",VLOOKUP(J801,'Соответствия статей'!$A$2:$B$50,2,0)),\"Другое\")","v":"Дивиденды"},"Банк","Доход"]
["2020-05-03T00:35:00",null,null,null,5000,null,null,null,null,"Проценты по вкладам",null,"Проценты по вкладам",null,{"$f":"IFERROR(IF(A802=\"\",\"\",VLOOKUP(J802,'Соответствия статей'!$A$2:$B$50,2,0)),\"Другое\")","v":"Проценты по вкладам"},"Банк","Доход"]
["2020-06-03T00:35:00",null,null,null,55000,null,null,null,null,"Заработная плата",null,"Заработная плата",null,{"$f":"IFERROR(IF(A803=\"\",\"\",VLOOKUP(J803,'Соответствия статей'!$A$2:$B$50,2,0)),\"Другое\")","v":"Заработная плата"},"Банк","Доход"]
["2020-06-03T00:35:00",null,null,null,15000,null,null,null,null,"Оплата за преподавание",null,"Оплата за преподавание",null,{"$f":"IFERROR(IF(A804=\"\",\"\",VLOOKUP(J804,'Соответствия статей'!$A$2:$B$50,2,0)),\"Другое\")","v":"Оплата за преподавание"},"Банк","Доход"]
["2020-06-03T00:35:00",null,null,null,5000,null,null,null,null,"Прочие доходы",null,"Прочие доходы",null,{"$f":"IFERROR(IF(A805=\"\",\"\",VLOOKUP(J805,'Соответствия статей'!$A$2:$B$50,2,0)),\"Другое\")","v":"Прочие доходы"},"Банк","Доход"]
["2020-06-03T00:35:00",null,null,null,5000,null,null,null,null,"Дивиденды",null,"Дивиденды",null,{"$f":"IFERROR(IF(A806=\"\",\"\",VLOOKUP(J806,'Соответствия статей'!$A$2:$B$50,2,0)),\"Другое\")","v":"Дивиденды"},"Банк","Доход"]
["2020-06-03T00:35:00",null,null,null,5000,null,null,null,null,"Проценты по вкладам",null,"Проценты по вкладам",null,{"$f":"IFERROR(IF(A807=\"\",\"\",VLOOKUP(J807,'Соответствия статей'!$A$2:$B$50,2,0)),\"Другое\")","v":"Проценты по вкладам"},"Банк","Доход"]
["2020-09-30T23:08:49","2020-04-02","*7127","OK",-400,"RUB",-400,"RUB",null,"Сервис. услуги",7311,"Y.M*youdo",0,{"$f":"IFERROR(IF(A808=\"\",\"\",VLOOKUP(J808,'Соответствия статей'!$A$2:$B$50,2,0)),\"Другое\")","v":"Другое"},"Банк","Расход"]
["2020-09-30T19:55:21","2020-04-01","*7127","OK",-100,"RUB",-100,"RUB",null,"Сервис. услуги",7361,"PayMaster",1,{"$f":"IFERROR(IF(A809=\"\",\"\",VLOOKUP(J809,'Соответствия статей'!$A$2:$B$50,2,0)),\"Другое\")","v":"Другое"},"Банк","Расход"]
["2020-09-30T17:06:30","2020-04-02","*7127","OK",-206.55,"RUB",-206.55,"RUB",null,"Аптеки",5912,"Аптека 36,6",2,{"$f":"IFERROR(IF(A810=\"\",\"\",VLOOKUP(J810,'Соответствия статей'!$A$2:$B$50,2,0)),\"Другое\")","v":"Медицина"},"Банк","Расход"]
["2020-09-30T16:36:49","2020-04-02","*7127","OK",-559,"RUB",-559,"RUB",null,"Аптеки",5912,"Аптеки Первая Помощь",5,{"$f":"IFERROR(IF(A811=\"\",\"\",VLOOKUP(J811,'Соответствия статей'!$A$2:$B$50,2,0)),\"Другое\")","v":"Медицина"},"Банк","Расход"]
["2020-09-30T16:26:24","2020-04-02","*7127","OK",-215.98,"RUB",-215.98,"RUB",null,"Супермаркеты",5411,"Семишагофф",2,{"$f":"IFERROR(IF(A812=\"\",\"\",VLOOKUP(J812,'Соответствия статей'!$A$2:$B$50,2,0)),\"Другое\")","v":"Продукты"},"Банк","Расход"]
["2020-09-30T13:17:30","2020-03-31","*7127","OK",209,"RUB",209,"RUB",null,"Прочие доходы",null,"Компенсация покупки",0,{"$f":"IFERROR(IF(A813=\"\",\"\",VLOOKUP(J813,'Соответствия статей'!$A$2:$B$50,2,0)),\"Другое\")","v":"Прочие доходы"},"Банк","Доход"]
["2020-09-30T13:17:13","2020-03-31","*7127","OK",200,"RUB",200,"RUB",null,"Прочие доходы",null,"Компенсация покупки",0,{"$f":"IFERROR(IF(A814=\"\",\"\",VLOOKUP(J814,'Соответствия статей'!$A$2:$B$50,2,0)),\"Другое\")","v":"Прочие доходы"},"Банк","Доход"]
["2020-09-30T13:17:00","2020-03-31","*7127","OK",200,"RUB",200,"RUB",null,"Прочие доходы",null,"Компенсация покупки",0,{"$f":"IFERROR(IF(A815=\"\",\"\",VLOOKUP(J815,'Соответствия статей'!$A$2:$B$50,2,0)),\"Другое\")","v":"Прочие доходы"},"Банк","Доход"]
["2020-09-30T13:16:26","2020-03-31","*7127","OK",265,"RUB",265,"RUB",null,"Прочие доходы",null,"Компенсация покупки",0,{"$f":"IFERROR(IF(A816=\"\",\"\",VLOOKUP(J816,'Соответствия статей'!$A$2:$B$50,2,0)),\"Другое\")","v":"Прочие доходы"},"Банк","Доход"]
["2020-09-30T13:16:08","2020-03-31","*7127","OK",250,"RUB",250,"RUB",null,"Прочие доходы",null,"Компенсация покупки",0,{"$f":"IFERROR(IF(A817=\"\",\"\",VLOOKUP(J817,'Соответствия статей'!$A$2:$B$50,2,0)),\"Другое\")","v":"Прочие доходы"},"Банк","Доход"]
["2020-09-30T13:15:48","2020-03-31","*7127","OK",240,"RUB",240,"RUB",null,"Прочие доходы",null,"Компенсация покупки",0,{"$f":"IFERROR(IF(A818=\"\",\"\",VLOOKUP(J818,'Соответствия статей'!$A$2:$B$50,2,0)),\"Другое\")","v":"Прочие доходы"},"Банк","Доход"]
["2020-09-30T22:33:51","2020-03-30",null,"OK",-59,"RUB",-59,"RUB",null,"Другое",null,"Плата за оповещения об операциях",0,{"$f":"IFERROR(IF(A819=\"\",\"\",VLOOKUP(J819,'Соответствия статей'!$A$2:$B$50,2,0)),\"Другое\")","v":"Другое"},"Банк","Расход"]
["2020-09-27T09:09:31","2020-03-30","*7127","OK",-3764,"RUB",-3764,"RUB",null,"Супермаркеты",5411,"Перекресток",37,{"$f":"IFERROR(IF(A820=\"\",\"\",VLOOKUP(J820,'Соответствия статей'!$A$2:$B$50,2,0)),\"Другое\")","v":"Продукты"},"Банк","Расход"]
["2020-09-25T17:54:29","2020-03-27","*8173","OK",-507.75,"RUB",-507.75,"RUB",5,"Супермаркеты",5411,"Перекресток",5,{"$f":"IFERROR(IF(A821=\"\",\"\",VLOOKUP(J821,'Соответствия статей'!$A$2:$B$50,2,0)),\"Другое\")","v":"Продукты"},"Банк","Расход"]
["2020-09-25T17:42:43","2020-03-25","*8173","OK",-130000,"RUB",-130000,"RUB",null,"Наличные",6011,"Банкомат Тинькофф",0,{"$f":"IFERROR(IF(A822=\"\",\"\",VLOOKUP(J822,'Соответствия статей'!$A$2:$B$50,2,0)),\"Другое\")","v":"Снятие наличных"},"Банк","Расход"]
["2020-09-24T21:27:51","2020-03-25","*7127","OK",-100,"RUB",-100,"RUB",null,"Мобильные/иб",null,"Ростелеком Мобильная связь +79932213431",0,{"$f":"IFERROR(IF(A823=\"\",\"\",VLOOKUP(J823,'Соответствия статей'!$A$2:$B$50,2,0)),\"Другое\")","v":"Телефонная связь"},"Банк","Расход"]
["2020-09-24T20:41:12","2020-03-26","*7127","OK",-264.79000000000002,"RUB",-264.79000000000002,"RUB",null,"Супермаркеты",5411,"Дикси",2,{"$f":"IFERROR(IF(A824=\"\",\"\",VLOOKUP(J824,'Соответствия статей'!$A$2:$B$50,2,0)),\"Другое\")","v":"Продукты"},"Банк","Расход"]
["2020-09-24T20:25:04","2020-03-26","*7127","OK",-946,"RUB",-946,"RUB",null,"Аптеки",5912,"Озерки",9,{"$f":"IFERROR(IF(A825=\"\",\"\",VLOOKUP(J825,'Соответствия статей'!$A$2:$B$50,2,0)),\"Другое\")","v":"Медицина"},"Банк","Расход"]
["2020-09-23T23:13:50","2020-03-23",null,"OK",-99,"RUB",-99,"RUB",null,"Другое",null,"Плата за обслуживание",0,{"$f":"IFERROR(IF(A826=\"\",\"\",VLOOKUP(J826,'Соответствия статей'!$A$2:$B$50,2,0)),\"Другое\")","v":"Другое"},"Банк","Расход"]
["2020-09-23T22:49:06","2020-03-23",null,"OK",227,"RUB",227,"RUB",null,"Прочие доходы",null,"Вознаграждение за операции покупок",0,{"$f":"IFERROR(IF(A827=\"\",\"\",VLOOKUP(J827,'Соответствия статей'!$A$2:$B$50,2,0)),\"Другое\")","v":"Прочие доходы"},"Банк","Доход"]
["2020-09-23T22:37:43","2020-03-25","*8173","OK",-101,"RUB",-101,"RUB",5,"Транспорт",4121,"Uber",5,{"$f":"IFERROR(IF(A828=\"\",\"\",VLOOKUP(J828,'Соответствия статей'!$A$2:$B$50,2,0)),\"Другое\")","v":"Транспорт"},"Банк","Расход"]
["2020-09-23T22:07:34","2020-03-25","*7127","OK",-1856.58,"RUB",-1856.58,"RUB",null,"Супермаркеты",5411,"Перекресток",18,{"$f":"IFERROR(IF(A829=\"\",\"\",VLOOKUP(J829,'Соответствия статей'!$A$2:$B$50,2,0)),\"Другое\")","v":"Продукты"},"Банк","Расход"]
["2020-09-23T21:46:03","2020-03-23",null,"OK",239.78,"RUB",239.78,"RUB",null,"Прочие доходы",null,"Проценты на остаток по счету",0,{"$f":"IFERROR(IF(A830=\"\",\"\",VLOOKUP(J830,'Соответствия статей'!$A$2:$B$50,2,0)),\"Другое\")","v":"Прочие доходы"},"Банк","Доход"]
["2020-09-23T19:55:17","2020-03-23","*8173","OK",900,"RUB",900,"RUB",null,"Прочие доходы",null,"Иван Ш.",0,{"$f":"IFERROR(IF(A831=\"\",\"\",VLOOKUP(J831,'Соответствия статей'!$A$2:$B$50,2,0)),\"Другое\")","v":"Прочие доходы"},"Банк","Доход"]
["2020-09-23T14:12:48","2020-03-24","*7127","OK",48751,"RUB",48751,"RUB",null,"Супермаркеты",5411,"Ozon.ru",-487,{"$f":"IFERROR(IF(A832=\"\",\"\",VLOOKUP(J832,'Соответствия статей'!$A$2:$B$50,2,0)),\"Другое\")","v":"Продукты"},"Банк","Расход"]
["2020-09-23T14:02:37","2020-03-24","*7127","OK",-48751,"RUB",-48751,"RUB",null,"Супермаркеты",5411,"Ozon.ru",487,{"$f":"IFERROR(IF(A833=\"\",\"\",VLOOKUP(J833,'Соответствия статей'!$A$2:$B$50,2,0)),\"Другое\")","v":"Продукты"},"Банк","Расход"]
["2020-09-22T14:59:46","2020-03-24","*8173","OK",-100,"RUB",-100,"RUB",5,"Транспорт",4111,"Метро Санкт-Петербург",5,{"$f":"IFERROR(IF(A834=\"\",\"\",VLOOKUP(J834,'Соответствия статей'!$A$2:$B$50,2,0)),\"Другое\")","v":"Транспорт"},"Банк","Расход"]
["2020-09-22T04:43:15","2020-03-23","*7127","OK",300,"RUB",300,"RUB",null,"Авиабилеты",4511,"Авиакомпания UTair",-3,{"$f":"IFERROR(IF(A835=\"\",\"\",VLOOKUP(J835,'Соответствия статей'!$A$2:$B$50,2,0)),\"Другое\")","v":"Поездки"},"Банк","Расход"]
["2020-09-22T04:43:14","2020-03-23","*7127","OK",300,"RUB",300,"RUB",null,"Авиабилеты",4511,"Авиакомпания UTair",-3,{"$f":"IFERROR(IF(A836=\"\",\"\",VLOOKUP(J836,'Соответствия статей'!$A$2:$B$50,2,0)),\"Другое\")","v":"Поездки"},"Банк","Расход"]
["2020-09-22T04:43:13","2020-03-23","*7127","OK",300,"RUB",300,"RUB",null,"Авиабилеты",4511,"Авиакомпания UTair",-3,{"$f":"IFERROR(IF(A837=\"\",\"\",VLOOKUP(J837,'Соответствия статей'!$A$2:$B$50,2,0)),\"Другое\")","v":"Поездки"},"Банк","Расход"]
["2020-09-22T04:40:15","2020-03-23","*7127","OK",299,"RUB",299,"RUB",null,"Авиабилеты",4511,"Авиакомпания UTair",-2,{"$f":"IFERROR(IF(A838=\"\",\"\",VLOOKUP(J838,'Соответствия статей'!$A$2:$B$50,2,0)),\"Другое\")","v":"Поездки"},"Банк","Расход"]
["2020-09-22T04:40:14","2020-03-23","*7127","OK",199,"RUB",199,"RUB",null,"Авиабилеты",4511,"Авиакомпания UTair",-1,{"$f":"IFERROR(IF(A839=\"\",\"\",VLOOKUP(J839,'Соответствия статей'!$A$2:$B$50,2,0)),\"Другое\")","v":"Поездки"},"Банк","Расход"]
["2020-09-22T04:40:13","2020-03-23","*7127","OK",199,"RUB",199,"RUB",null,"Авиабилеты",4511,"Авиакомпания UTair",-1,{"$f":"IFERROR(IF(A840=\"\",\"\",VLOOKUP(J840,'Соответствия статей'!$A$2:$B$50,2,0)),\"Другое\")","v":"Поездки"},"Банк","Расход"]
["2020-09-21T15:43:23","2020-03-23","*7127","OK",-15.2,"RUB",-15.2,"RUB",null,"Аптеки",5912,"Apteka 193",0,{"$f":"IFERROR(IF(A841=\"\",\"\",VLOOKUP(J841,'Соответствия статей'!$A$2:$B$50,2,0)),\"Другое\")","v":"Медицина"},"Банк","Расход"]
["2020-09-21T15:41:31","2020-03-23","*7127","OK",-247,"RUB",-247,"RUB",null,"Аптеки",5912,"Apteka 193",2,{"$f":"IFERROR(IF(A842=\"\",\"\",VLOOKUP(J842,'Соответствия статей'!$A$2:$B$50,2,0)),\"Другое\")","v":"Медицина"},"Банк","Расход"]
["2020-09-19T17:12:02","2020-03-20","*7127","OK",6193.4,"RUB",6193.4,"RUB",null,"Ж/д билеты",4112,"РЖД",-61,{"$f":"IFERROR(IF(A843=\"\",\"\",VLOOKUP(J843,'Соответствия статей'!$A$2:$B$50,2,0)),\"Другое\")","v":"Поездки"},"Банк","Расход"]
["2020-09-19T17:12:02","2020-03-20","*7127","OK",4332.8999999999996,"RUB",4332.8999999999996,"RUB",null,"Ж/д билеты",4112,"РЖД",-43,{"$f":"IFERROR(IF(A844=\"\",\"\",VLOOKUP(J844,'Соответствия статей'!$A$2:$B$50,2,0)),\"Другое\")","v":"Поездки"},"Банк","Расход"]
["2020-09-19T17:12:02","2020-03-20","*7127","OK",2528.6999999999998,"RUB",2528.6999999999998,"RUB",null,"Ж/д билеты",4112,"РЖД",-25,{"$f":"IFERROR(IF(A845=\"\",\"\",VLOOKUP(J845,'Соответствия статей'!$A$2:$B$50,2,0)),\"Другое\")","v":"Поездки"},"Банк","Расход"]
["2020-09-19T14:36:45","2020-03-21","*7127","OK",-1325,"RUB",-1325,"RUB",null,"Аптеки",5912,"Озерки",13,{"$f":"IFERROR(IF(A846=\"\",\"\",VLOOKUP(J846,'Соответствия статей'!$A$2:$B$50,2,0)),\"Другое\")","v":"Медицина"},"Банк","Расход"]
["2020-09-19T13:50:17","2020-03-21","*7127","OK",-240,"RUB",-240,"RUB",null,"Фастфуд",5814,"Рестораны ТАРЕЛКА",2,{"$f":"IFERROR(IF(A847=\"\",\"\",VLOOKUP(J847,'Соответствия статей'!$A$2:$B$50,2,0)),\"Другое\")","v":"Рестораны"},"Банк","Расход"]
["2020-09-19T09:34:34","2020-03-21","*7127","OK",-200,"RUB",-200,"RUB",null,"Транспорт",4111,"Метро Санкт-Петербург",2,{"$f":"IFERROR(IF(A848=\"\",\"\",VLOOKUP(J848,'Соответствия статей'!$A$2:$B$50,2,0)),\"Другое\")","v":"Транспорт"},"Банк","Расход"]
["2020-09-18T19:17:35","2020-03-20","*8173","OK",-59.6,"RUB",-59.6,"RUB",0,"Аптеки",5912,"Аптека 36,6",0,{"$f":"IFERROR(IF(A849=\"\",\"\",VLOOKUP(J849,'Соответствия статей'!$A$2:$B$50,2,0)),\"Другое\")","v":"Медицина"},"Банк","Расход"]
["2020-09-18T16:03:33","2020-03-18","*7127","OK",-230,"RUB",-230,"RUB",null,"Сувениры",5947,"IP Zajtseva A N",2,{"$f":"IFERROR(IF(A850=\"\",\"\",VLOOKUP(J850,'Соответствия статей'!$A$2:$B$50,2,0)),\"Другое\")","v":"Подарки, благотворительность"},"Банк","Расход"]
["2020-09-18T10:40:20","2020-03-19","*7127","OK",-1600,"RUB",-1600,"RUB",null,"Мед. услуги",8099,"A-Mediya LLC",16,{"$f":"IFERROR(IF(A851=\"\",\"\",VLOOKUP(J851,'Соответствия статей'!$A$2:$B$50,2,0)),\"Другое\")","v":"Медицина"},"Банк","Расход"]
["2020-09-17T20:00:54","2020-03-19","*7127","OK",-256,"RUB",-256,"RUB",null,"Аптеки",5912,"Озерки",2,{"$f":"IFERROR(IF(A852=\"\",\"\",VLOOKUP(J852,'Соответствия статей'!$A$2:$B$50,2,0)),\"Другое\")","v":"Медицина"},"Банк","Расход"]
["2020-09-17T13:20:43","2020-03-19","*7127","OK",-799.98,"RUB",-799.98,"RUB",null,"Супермаркеты",5411,"Пятерочка",7,{"$f":"IFERROR(IF(A853=\"\",\"\",VLOOKUP(J853,'Соответствия статей'!$A$2:$B$50,2,0)),\"Другое\")","v":"Продукты"},"Банк","Расход"]
["2020-09-17T12:31:35","2020-03-19","*7127","OK",-250,"RUB",-250,"RUB",null,"Фастфуд",5814,"Рестораны ТАРЕЛКА",2,{"$f":"IFERROR(IF(A854=\"\",\"\",VLOOKUP(J854,'Соответствия статей'!$A$2:$B$50,2,0)),\"Другое\")","v":"Рестораны"},"Банк","Расход"]
["2020-09-17T10:25:14","2020-03-19","*7357","OK",-39,"RUB",-39,"RUB",0,"Фастфуд",5814,"Babushkiny Pirogi",0,{"$f":"IFERROR(IF(A855=\"\",\"\",VLOOKUP(J855,'Соответствия статей'!$A$2:$B$50,2,0)),\"Другое\")","v":"Рестораны"},"Банк","Расход"]
["2020-09-17T09:33:36","2020-03-19","*7357","OK",-200,"RUB",-200,"RUB",10,"Транспорт",4111,"Метро Санкт-Петербург",10,{"$f":"IFERROR(IF(A856=\"\",\"\",VLOOKUP(J856,'Соответствия статей'!$A$2:$B$50,2,0)),\"Другое\")","v":"Транспорт"},"Банк","Расход"]
["2020-09-17","2020-03-17","*7127","OK",800,"RUB",800,"RUB",null,"Финан. услуги",6536,"Сбербанк",0,{"$f":"IFERROR(IF(A857=\"\",\"\",VLOOKUP(J857,'Соответствия статей'!$A$2:$B$50,2,0)),\"Другое\")","v":"Переводы"},"Банк","Расход"]
["2020-09-16T13:58:31","2020-03-18","*7127","OK",-238,"RUB",-238,"RUB",null,"Аптеки",5912,"Apt1208 Neptun",2,{"$f":"IFERROR(IF(A858=\"\",\"\",VLOOKUP(J858,'Соответствия статей'!$A$2:$B$50,2,0)),\"Другое\")","v":"Медицина"},"Банк","Расход"]
["2020-09-16T13:38:29","2020-03-18","*8173","OK",-25,"RUB",-25,"RUB",0,"Супермаркеты",5499,"Petro-Servis",0,{"$f":"IFERROR(IF(A859=\"\",\"\",VLOOKUP(J859,'Соответствия статей'!$A$2:$B$50,2,0)),\"Другое\")","v":"Продукты"},"Банк","Расход"]
["2020-09-16T13:14:12","2020-03-18","*8173","OK",-200,"RUB",-200,"RUB",2,"Фастфуд",5814,"Stolovaya",2,{"$f":"IFERROR(IF(A860=\"\",\"\",VLOOKUP(J860,'Соответствия статей'!$A$2:$B$50,2,0)),\"Другое\")","v":"Рестораны"},"Банк","Расход"]
["2020-09-16T13:05:33","2020-03-18","*7127","OK",-265,"RUB",-265,"RUB",null,"Фастфуд",5814,"Рестораны ТАРЕЛКА",2,{"$f":"IFERROR(IF(A861=\"\",\"\",VLOOKUP(J861,'Соответствия статей'!$A$2:$B$50,2,0)),\"Другое\")","v":"Рестораны"},"Банк","Расход"]
["2020-09-16T09:08:52","2020-03-17","*7127","OK",-4025,"RUB",-4025,"RUB",null,"Супермаркеты",5411,"Перекресток",40,{"$f":"IFERROR(IF(A862=\"\",\"\",VLOOKUP(J862,'Соответствия статей'!$A$2:$B$50,2,0)),\"Другое\")","v":"Продукты"},"Банк","Расход"]
["2020-09-15T18:32:54","2020-03-16","*7127","OK",-758.34,"RUB",-758.34,"RUB",null,"Жкх/иб",4900,"Петроэлектросбыт",0,{"$f":"IFERROR(IF(A863=\"\",\"\",VLOOKUP(J863,'Соответствия статей'!$A$2:$B$50,2,0)),\"Другое\")","v":"Коммунальные услуги"},"Банк","Расход"]
["2020-09-15T16:53:42","2020-03-17","*7127","OK",-1354,"RUB",-1354,"RUB",null,"Аптеки",5912,"Озерки",13,{"$f":"IFERROR(IF(A864=\"\",\"\",VLOOKUP(J864,'Соответствия статей'!$A$2:$B$50,2,0)),\"Другое\")","v":"Медицина"},"Банк","Расход"]
["2020-09-13T21:01:13","2020-03-16","*7127","OK",-252.95,"RUB",-252.95,"RUB",null,"Супермаркеты",5411,"Семишагофф",2,{"$f":"IFERROR(IF(A865=\"\",\"\",VLOOKUP(J865,'Соответствия статей'!$A$2:$B$50,2,0)),\"Другое\")","v":"Продукты"},"Банк","Расход"]
["2020-09-13T16:56:00","2020-03-14","*7127","OK",-25,"RUB",-25,"RUB",null,"Фастфуд",5814,"OOO As-Vend",0,{"$f":"IFERROR(IF(A866=\"\",\"\",VLOOKUP(J866,'Соответствия статей'!$A$2:$B$50,2,0)),\"Другое\")","v":"Рестораны"},"Банк","Расход"]
["2020-09-13T14:21:03","2020-03-16","*7357","OK",-110,"RUB",-110,"RUB",1,"Разные товары",5311,"Fixprice",1,{"$f":"IFERROR(IF(A867=\"\",\"\",VLOOKUP(J867,'Соответствия статей'!$A$2:$B$50,2,0)),\"Другое\")","v":"Другое"},"Банк","Расход"]
["2020-09-13T13:17:30","2020-03-16","*7127","OK",-25,"RUB",-25,"RUB",null,"Супермаркеты",5499,"Petro-Servis",0,{"$f":"IFERROR(IF(A868=\"\",\"\",VLOOKUP(J868,'Соответствия статей'!$A$2:$B$50,2,0)),\"Другое\")","v":"Продукты"},"Банк","Расход"]
["2020-09-13T12:55:29","2020-03-16","*7127","OK",-200,"RUB",-200,"RUB",null,"Фастфуд",5814,"Stolovaya",2,{"$f":"IFERROR(IF(A869=\"\",\"\",VLOOKUP(J869,'Соответствия статей'!$A$2:$B$50,2,0)),\"Другое\")","v":"Рестораны"},"Банк","Расход"]
["2020-09-12T22:23:11","2020-03-14","*8173","OK",-200,"RUB",-200,"RUB",10,"Транспорт",4111,"Метро Санкт-Петербург",10,{"$f":"IFERROR(IF(A870=\"\",\"\",VLOOKUP(J870,'Соответствия статей'!$A$2:$B$50,2,0)),\"Другое\")","v":"Транспорт"},"Банк","Расход"]
["2020-09-12T21:23:38","2020-03-14","*8173","OK",-55,"RUB",-55,"RUB",2,"Транспорт",4111,"Метро Санкт-Петербург",2,{"$f":"IFERROR(IF(A871=\"\",\"\",VLOOKUP(J871,'Соответствия статей'!$A$2:$B$50,2,0)),\"Другое\")","v":"Транспорт"},"Банк","Расход"]
["2020-09-12T19:34:24","2020-03-14","*7357","OK",-51.9,"RUB",-51.9,"RUB",0,"Супермаркеты",5411,"Перекресток",0,{"$f":"IFERROR(IF(A872=\"\",\"\",VLOOKUP(J872,'Соответствия статей'!$A$2:$B$50,2,0)),\"Другое\")","v":"Продукты"},"Банк","Расход"]
["2020-09-12T13:47:03","2020-03-14","*7127","OK",-25,"RUB",-25,"RUB",null,"Супермаркеты",5499,"Petro-Servis",0,{"$f":"IFERROR(IF(A873=\"\",\"\",VLOOKUP(J873,'Соответствия статей'!$A$2:$B$50,2,0)),\"Другое\")","v":"Продукты"},"Банк","Расход"]
["2020-09-12T13:15:18","2020-03-14","*7127","OK",-200,"RUB",-200,"RUB",null,"Фастфуд",5814,"Stolovaya",2,{"$f":"IFERROR(IF(A874=\"\",\"\",VLOOKUP(J874,'Соответствия статей'!$A$2:$B$50,2,0)),\"Другое\")","v":"Рестораны"},"Банк","Расход"]
["2020-09-12T10:02:28","2020-03-12","*8173","OK",2300,"RUB",2300,"RUB",null,"Прочие доходы",null,"Иван Ш.",0,{"$f":"IFERROR(IF(A875=\"\",\"\",VLOOKUP(J875,'Соответствия статей'!$A$2:$B$50,2,0)),\"Другое\")","v":"Прочие доходы"},"Банк","Доход"]
["2020-09-12T09:21:25","2020-03-14","*7357","OK",-200,"RUB",-200,"RUB",10,"Транспорт",4111,"Метро Санкт-Петербург",10,{"$f":"IFERROR(IF(A876=\"\",\"\",VLOOKUP(J876,'Соответствия статей'!$A$2:$B$50,2,0)),\"Другое\")","v":"Транспорт"},"Банк","Расход"]
["2020-09-12T02:55:30","2020-03-13","*8173","OK",-101,"RUB",-101,"RUB",5,"Транспорт",4121,"Uber",5,{"$f":"IFERROR(IF(A877=\"\",\"\",VLOOKUP(J877,'Соответствия статей'!$A$2:$B$50,2,0)),\"Другое\")","v":"Транспорт"},"Банк","Расход"]
["2020-09-11T23:05:00","2020-03-13","*7127","OK",-55,"RUB",-55,"RUB",null,"Транспорт",4111,"Метро Санкт-Петербург",0,{"$f":"IFERROR(IF(A878=\"\",\"\",VLOOKUP(J878,'Соответствия статей'!$A$2:$B$50,2,0)),\"Другое\")","v":"Транспорт"},"Банк","Расход"]
["2020-09-11T22:29:23","2020-03-13","*7357","OK",-540,"RUB",-540,"RUB",5,"Фастфуд",5814,"IP Mokhov V. A.",5,{"$f":"IFERROR(IF(A879=\"\",\"\",VLOOKUP(J879,'Соответствия статей'!$A$2:$B$50,2,0)),\"Другое\")","v":"Рестораны"},"Банк","Расход"]
["2020-09-11T18:46:35","2020-03-13","*7127","OK",-209,"RUB",-209,"RUB",null,"Фастфуд",5814,"Теремок",2,{"$f":"IFERROR(IF(A880=\"\",\"\",VLOOKUP(J880,'Соответствия статей'!$A$2:$B$50,2,0)),\"Другое\")","v":"Рестораны"},"Банк","Расход"]
["2020-09-11T12:28:32","2020-03-13","*7127","OK",-25,"RUB",-25,"RUB",null,"Супермаркеты",5499,"Petro-Servis",0,{"$f":"IFERROR(IF(A881=\"\",\"\",VLOOKUP(J881,'Соответствия статей'!$A$2:$B$50,2,0)),\"Другое\")","v":"Продукты"},"Банк","Расход"]
["2020-09-11T10:44:38","2020-03-12","*7127","OK",-3464,"RUB",-3464,"RUB",null,"Рестораны",5812,"Достаевский",34,{"$f":"IFERROR(IF(A882=\"\",\"\",VLOOKUP(J882,'Соответствия статей'!$A$2:$B$50,2,0)),\"Другое\")","v":"Рестораны"},"Банк","Расход"]
["2020-09-10T22:16:42","2020-03-12","*7127","OK",-1973.49,"RUB",-1973.49,"RUB",null,"Супермаркеты",5411,"Перекресток",19,{"$f":"IFERROR(IF(A883=\"\",\"\",VLOOKUP(J883,'Соответствия статей'!$A$2:$B$50,2,0)),\"Другое\")","v":"Продукты"},"Банк","Расход"]
["2020-09-10T22:02:07","2020-03-11","*7127","OK",-4200,"RUB",-4200,"RUB",null,"Одежда, обувь",5621,"IP Sharapova E.N.",42,{"$f":"IFERROR(IF(A884=\"\",\"\",VLOOKUP(J884,'Соответствия статей'!$A$2:$B$50,2,0)),\"Другое\")","v":"Одежда и обувь"},"Банк","Расход"]
["2020-09-10T20:14:28","2020-03-12","*7357","OK",-200,"RUB",-200,"RUB",10,"Транспорт",4111,"Метро Санкт-Петербург",10,{"$f":"IFERROR(IF(A885=\"\",\"\",VLOOKUP(J885,'Соответствия статей'!$A$2:$B$50,2,0)),\"Другое\")","v":"Транспорт"},"Банк","Расход"]
["2020-09-10T13:46:49","2020-03-11","*7127","OK",-25,"RUB",-25,"RUB",null,"Фастфуд",5814,"Petro-Servis",0,{"$f":"IFERROR(IF(A886=\"\",\"\",VLOOKUP(J886,'Соответствия статей'!$A$2:$B$50,2,0)),\"Другое\")","v":"Рестораны"},"Банк","Расход"]
["2020-09-10T12:04:46","2020-03-12","*7357","OK",-253,"RUB",-253,"RUB",2,"Фастфуд",5814,"Рестораны ТАРЕЛКА",2,{"$f":"IFERROR(IF(A887=\"\",\"\",VLOOKUP(J887,'Соответствия статей'!$A$2:$B$50,2,0)),\"Другое\")","v":"Рестораны"},"Банк","Расход"]
["2020-09-10T00:57:09","2020-03-10","*7127","OK",-510,"RUB",-510,"RUB",null,"Сервис. услуги",7311,"ВКонтакте",0,{"$f":"IFERROR(IF(A888=\"\",\"\",VLOOKUP(J888,'Соответствия статей'!$A$2:$B$50,2,0)),\"Другое\")","v":"Другое"},"Банк","Расход"]
["2020-09-09T19:47:14","2020-03-11","*7357","OK",-64.900000000000006,"RUB",-64.900000000000006,"RUB",0,"Супермаркеты",5411,"Перекресток",0,{"$f":"IFERROR(IF(A889=\"\",\"\",VLOOKUP(J889,'Соответствия статей'!$A$2:$B$50,2,0)),\"Другое\")","v":"Продукты"},"Банк","Расход"]
["2020-09-09T19:41:41","2020-03-11","*7357","OK",-69,"RUB",-69,"RUB",0,"Дом, ремонт",5211,"СТАРТ",0,{"$f":"IFERROR(IF(A890=\"\",\"\",VLOOKUP(J890,'Соответствия статей'!$A$2:$B$50,2,0)),\"Другое\")","v":"Товары для дома, ремонта"},"Банк","Расход"]
["2020-09-09T19:39:55","2020-03-11","*7127","OK",-259,"RUB",-259,"RUB",null,"Книги",5942,"Буквоед",2,{"$f":"IFERROR(IF(A891=\"\",\"\",VLOOKUP(J891,'Соответствия статей'!$A$2:$B$50,2,0)),\"Другое\")","v":"Обучение"},"Банк","Расход"]
["2020-09-09T19:23:51","2020-03-11","*8173","OK",-97,"RUB",-97,"RUB",4,"Транспорт",4121,"Uber",4,{"$f":"IFERROR(IF(A892=\"\",\"\",VLOOKUP(J892,'Соответствия статей'!$A$2:$B$50,2,0)),\"Другое\")","v":"Транспорт"},"Банк","Расход"]
["2020-09-09T17:43:18","2020-03-11","*7127","OK",-422,"RUB",-422,"RUB",null,"Фастфуд",5814,"Додо Пицца",4,{"$f":"IFERROR(IF(A893=\"\",\"\",VLOOKUP(J893,'Соответствия статей'!$A$2:$B$50,2,0)),\"Другое\")","v":"Рестораны"},"Банк","Расход"]
["2020-09-08T19:12:11","2020-03-09","*7127","OK",-1100,"RUB",-1100,"RUB",null,"Цветы",5992,"Salon Tsvety",11,{"$f":"IFERROR(IF(A894=\"\",\"\",VLOOKUP(J894,'Соответствия статей'!$A$2:$B$50,2,0)),\"Другое\")","v":"Подарки, благотворительность"},"Банк","Расход"]
["2020-09-08T18:31:04","2020-03-10","*7127","OK",-622,"RUB",-622,"RUB",null,"Фастфуд",5814,"McDonald's",6,{"$f":"IFERROR(IF(A895=\"\",\"\",VLOOKUP(J895,'Соответствия статей'!$A$2:$B$50,2,0)),\"Другое\")","v":"Рестораны"},"Банк","Расход"]
["2020-09-08T16:27:47","2020-03-10","*8173","OK",-1053,"RUB",-1053,"RUB",52,"Кино",7832,"Синема Парк",52,{"$f":"IFERROR(IF(A896=\"\",\"\",VLOOKUP(J896,'Соответствия статей'!$A$2:$B$50,2,0)),\"Другое\")","v":"Развлечения"},"Банк","Расход"]
["2020-09-08T15:20:30","2020-03-10","*8173","OK",-144,"RUB",-144,"RUB",7,"Транспорт",4121,"Uber",7,{"$f":"IFERROR(IF(A897=\"\",\"\",VLOOKUP(J897,'Соответствия статей'!$A$2:$B$50,2,0)),\"Другое\")","v":"Транспорт"},"Банк","Расход"]
["2020-09-08T14:55:48","2020-03-10","*8173","OK",-113,"RUB",-113,"RUB",1,"Супермаркеты",5411,"Latte",1,{"$f":"IFERROR(IF(A898=\"\",\"\",VLOOKUP(J898,'Соответствия статей'!$A$2:$B$50,2,0)),\"Другое\")","v":"Продукты"},"Банк","Расход"]
["2020-09-08T14:02:12","2020-03-10","*8173","OK",-203.97,"RUB",-203.97,"RUB",2,"Супермаркеты",5411,"Верный",2,{"$f":"IFERROR(IF(A899=\"\",\"\",VLOOKUP(J899,'Соответствия статей'!$A$2:$B$50,2,0)),\"Другое\")","v":"Продукты"},"Банк","Расход"]
["2020-09-07T23:19:39","2020-03-09","*7127","OK",-2540,"RUB",-2540,"RUB",null,"Супермаркеты",5411,"Перекресток",25,{"$f":"IFERROR(IF(A900=\"\",\"\",VLOOKUP(J900,'Соответствия статей'!$A$2:$B$50,2,0)),\"Другое\")","v":"Продукты"},"Банк","Расход"]
["2020-09-07T19:54:28","2020-03-09","*7357","OK",-196,"RUB",-196,"RUB",1,"Фастфуд",5814,"Додо Пицца",1,{"$f":"IFERROR(IF(A901=\"\",\"\",VLOOKUP(J901,'Соответствия статей'!$A$2:$B$50,2,0)),\"Другое\")","v":"Рестораны"},"Банк","Расход"]
["2020-09-07T18:16:00","2020-03-09","*8173","OK",-299,"RUB",-299,"RUB",2,"Дом, ремонт",5211,"СТАРТ",2,{"$f":"IFERROR(IF(A902=\"\",\"\",VLOOKUP(J902,'Соответствия статей'!$A$2:$B$50,2,0)),\"Другое\")","v":"Товары для дома, ремонта"},"Банк","Расход"]
["2020-09-07T13:17:45","2020-03-09","*8173","OK",-613,"RUB",-613,"RUB",6,"Аптеки",5912,"Озерки",6,{"$f":"IFERROR(IF(A903=\"\",\"\",VLOOKUP(J903,'Соответствия статей'!$A$2:$B$50,2,0)),\"Другое\")","v":"Медицина"},"Банк","Расход"]
["2020-09-07T12:47:07","2020-03-09","*8173","OK",-107.99,"RUB",-107.99,"RUB",1,"Супермаркеты",5411,"Семишагофф",1,{"$f":"IFERROR(IF(A904=\"\",\"\",VLOOKUP(J904,'Соответствия статей'!$A$2:$B$50,2,0)),\"Другое\")","v":"Продукты"},"Банк","Расход"]
["2020-09-07T06:13:44","2020-03-07","*8173","OK",500,"RUB",500,"RUB",null,"Прочие доходы",null,"Иван Ш.",0,{"$f":"IFERROR(IF(A905=\"\",\"\",VLOOKUP(J905,'Соответствия статей'!$A$2:$B$50,2,0)),\"Другое\")","v":"Прочие доходы"},"Банк","Доход"]
["2020-09-06T22:52:50","2020-03-09","*8173","OK",-100,"RUB",-100,"RUB",5,"Транспорт",4111,"Метро Санкт-Петербург",5,{"$f":"IFERROR(IF(A906=\"\",\"\",VLOOKUP(J906,'Соответствия статей'!$A$2:$B$50,2,0)),\"Другое\")","v":"Транспорт"},"Банк","Расход"]
["2020-09-06T21:22:07","2020-03-09","*7127","OK",-214,"RUB",-214,"RUB",null,"Фастфуд",5814,"McDonald's",2,{"$f":"IFERROR(IF(A907=\"\",\"\",VLOOKUP(J907,'Соответствия статей'!$A$2:$B$50,2,0)),\"Другое\")","v":"Рестораны"},"Банк","Расход"]
["2020-09-06T18:58:38","2020-03-09","*7357","OK",-500,"RUB",-500,"RUB",5,"Фастфуд",5814,"Poddon",5,{"$f":"IFERROR(IF(A908=\"\",\"\",VLOOKUP(J908,'Соответствия статей'!$A$2:$B$50,2,0)),\"Другое\")","v":"Рестораны"},"Банк","Расход"]
["2020-09-06T16:23:13","2020-03-09","*7127","OK",-25,"RUB",-25,"RUB",null,"Супермаркеты",5499,"Petro-Servis",0,{"$f":"IFERROR(IF(A909=\"\",\"\",VLOOKUP(J909,'Соответствия статей'!$A$2:$B$50,2,0)),\"Другое\")","v":"Продукты"},"Банк","Расход"]
["2020-09-06T12:32:49","2020-03-07","*7127","OK",-25,"RUB",-25,"RUB",null,"Фастфуд",5814,"Petro-Servis",0,{"$f":"IFERROR(IF(A910=\"\",\"\",VLOOKUP(J910,'Соответствия статей'!$A$2:$B$50,2,0)),\"Другое\")","v":"Рестораны"},"Банк","Расход"]
["2020-09-06T12:12:54","2020-03-09","*7127","OK",-200,"RUB",-200,"RUB",null,"Фастфуд",5814,"Stolovaya",2,{"$f":"IFERROR(IF(A911=\"\",\"\",VLOOKUP(J911,'Соответствия статей'!$A$2:$B$50,2,0)),\"Другое\")","v":"Рестораны"},"Банк","Расход"]
["2020-09-06T09:13:05","2020-03-09","*7357","OK",-100,"RUB",-100,"RUB",5,"Транспорт",4111,"Метро Санкт-Петербург",5,{"$f":"IFERROR(IF(A912=\"\",\"\",VLOOKUP(J912,'Соответствия статей'!$A$2:$B$50,2,0)),\"Другое\")","v":"Транспорт"},"Банк","Расход"]
["2020-09-06T08:16:17","2020-03-07","*7127","OK",-360,"RUB",-360,"RUB",null,"Цветы",5992,"Tsvety-3",3,{"$f":"IFERROR(IF(A913=\"\",\"\",VLOOKUP(J913,'Соответствия статей'!$A$2:$B$50,2,0)),\"Другое\")","v":"Подарки, благотворительность"},"Банк","Расход"]
["2020-09-05T21:07:19","2020-03-09","*7357","OK",-420.33,"RUB",-420.33,"RUB",4,"Супермаркеты",5411,"Перекресток",4,{"$f":"IFERROR(IF(A914=\"\",\"\",VLOOKUP(J914,'Соответствия статей'!$A$2:$B$50,2,0)),\"Другое\")","v":"Продукты"},"Банк","Расход"]
["2020-09-05T19:56:38","2020-03-05","*7127","OK",35,"RUB",35,"RUB",null,"Прочие доходы",null,"Компенсация покупки",0,{"$f":"IFERROR(IF(A915=\"\",\"\",VLOOKUP(J915,'Соответствия статей'!$A$2:$B$50,2,0)),\"Другое\")","v":"Прочие доходы"},"Банк","Доход"]
["2020-09-05T19:56:28","2020-03-05","*7127","OK",200,"RUB",200,"RUB",null,"Прочие доходы",null,"Компенсация покупки",0,{"$f":"IFERROR(IF(A916=\"\",\"\",VLOOKUP(J916,'Соответствия статей'!$A$2:$B$50,2,0)),\"Другое\")","v":"Прочие доходы"},"Банк","Доход"]
["2020-09-05T19:55:54","2020-03-05","*7127","OK",200,"RUB",200,"RUB",null,"Прочие доходы",null,"Компенсация покупки",0,{"$f":"IFERROR(IF(A917=\"\",\"\",VLOOKUP(J917,'Соответствия статей'!$A$2:$B$50,2,0)),\"Другое\")","v":"Прочие доходы"},"Банк","Доход"]
["2020-09-05T19:32:12","2020-03-05","*7127","OK",-10,"RUB",-10,"RUB",null,"Мобильные/иб",null,"Ростелеком Мобильная связь +79932213431",0,{"$f":"IFERROR(IF(A918=\"\",\"\",VLOOKUP(J918,'Соответствия статей'!$A$2:$B$50,2,0)),\"Другое\")","v":"Телефонная связь"},"Банк","Расход"]
["2020-09-05T13:04:49","2020-03-09","*7357","OK",-270,"RUB",-270,"RUB",2,"Фастфуд",5814,"Рестораны ТАРЕЛКА",2,{"$f":"IFERROR(IF(A919=\"\",\"\",VLOOKUP(J919,'Соответствия статей'!$A$2:$B$50,2,0)),\"Другое\")","v":"Рестораны"},"Банк","Расход"]
["2020-09-04T20:56:15","2020-03-07","*7357","OK",-107.99,"RUB",-107.99,"RUB",1,"Супермаркеты",5411,"Семишагофф",1,{"$f":"IFERROR(IF(A920=\"\",\"\",VLOOKUP(J920,'Соответствия статей'!$A$2:$B$50,2,0)),\"Другое\")","v":"Продукты"},"Банк","Расход"]
["2020-09-04T20:42:42","2020-03-07","*7357","OK",-525,"RUB",-525,"RUB",5,"Аптеки",5912,"Озерки",5,{"$f":"IFERROR(IF(A921=\"\",\"\",VLOOKUP(J921,'Соответствия статей'!$A$2:$B$50,2,0)),\"Другое\")","v":"Медицина"},"Банк","Расход"]
["2020-09-04T20:24:22","2020-03-07","*7357","OK",-122.3,"RUB",-122.3,"RUB",1,"Аптеки",5912,"Аптека 36,6",1,{"$f":"IFERROR(IF(A922=\"\",\"\",VLOOKUP(J922,'Соответствия статей'!$A$2:$B$50,2,0)),\"Другое\")","v":"Медицина"},"Банк","Расход"]
["2020-09-04T20:20:58","2020-03-07","*7357","OK",-601.64,"RUB",-601.64,"RUB",6,"Супермаркеты",5411,"Дикси",6,{"$f":"IFERROR(IF(A923=\"\",\"\",VLOOKUP(J923,'Соответствия статей'!$A$2:$B$50,2,0)),\"Другое\")","v":"Продукты"},"Банк","Расход"]
["2020-09-04T17:07:58","2020-03-05","*8173","OK",-75,"RUB",-75,"RUB",0,"Фастфуд",5814,"OOO As-Vend",0,{"$f":"IFERROR(IF(A924=\"\",\"\",VLOOKUP(J924,'Соответствия статей'!$A$2:$B$50,2,0)),\"Другое\")","v":"Рестораны"},"Банк","Расход"]
["2020-09-04T14:37:05","2020-03-07","*7127","OK",-270,"RUB",-270,"RUB",null,"Фастфуд",5814,"Рестораны ТАРЕЛКА",2,{"$f":"IFERROR(IF(A925=\"\",\"\",VLOOKUP(J925,'Соответствия статей'!$A$2:$B$50,2,0)),\"Другое\")","v":"Рестораны"},"Банк","Расход"]
["2020-09-04T13:08:12","2020-03-05","*8173","OK",-75,"RUB",-75,"RUB",0,"Фастфуд",5814,"OOO As-Vend",0,{"$f":"IFERROR(IF(A926=\"\",\"\",VLOOKUP(J926,'Соответствия статей'!$A$2:$B$50,2,0)),\"Другое\")","v":"Рестораны"},"Банк","Расход"]
["2020-09-03T19:03:03","2020-03-06","*8173","OK",-509.96,"RUB",-509.96,"RUB",5,"Супермаркеты",5411,"Перекресток",5,{"$f":"IFERROR(IF(A927=\"\",\"\",VLOOKUP(J927,'Соответствия статей'!$A$2:$B$50,2,0)),\"Другое\")","v":"Продукты"},"Банк","Расход"]
["2020-09-03T18:54:50","2020-03-05","*7127","OK",-200,"RUB",-200,"RUB",null,"Транспорт",4111,"Метро Санкт-Петербург",2,{"$f":"IFERROR(IF(A928=\"\",\"\",VLOOKUP(J928,'Соответствия статей'!$A$2:$B$50,2,0)),\"Другое\")","v":"Транспорт"},"Банк","Расход"]
["2020-09-03T14:51:00","2020-03-06","*7127","OK",-265,"RUB",-265,"RUB",null,"Фастфуд",5814,"Рестораны ТАРЕЛКА",2,{"$f":"IFERROR(IF(A929=\"\",\"\",VLOOKUP(J929,'Соответствия статей'!$A$2:$B$50,2,0)),\"Другое\")","v":"Рестораны"},"Банк","Расход"]
["2020-09-03T13:40:32","2020-03-06","*8173","OK",-25,"RUB",-25,"RUB",0,"Супермаркеты",5499,"Petro-Servis",0,{"$f":"IFERROR(IF(A930=\"\",\"\",VLOOKUP(J930,'Соответствия статей'!$A$2:$B$50,2,0)),\"Другое\")","v":"Продукты"},"Банк","Расход"]
["2020-09-03T13:17:27","2020-03-06","*8173","OK",-200,"RUB",-200,"RUB",2,"Фастфуд",5814,"Stolovaya",2,{"$f":"IFERROR(IF(A931=\"\",\"\",VLOOKUP(J931,'Соответствия статей'!$A$2:$B$50,2,0)),\"Другое\")","v":"Рестораны"},"Банк","Расход"]
["2020-09-03T08:40:29","2020-03-06","*7127","OK",-1600,"RUB",-1600,"RUB",null,"Мед. услуги",8099,"Spb Gbuz Tspsir",16,{"$f":"IFERROR(IF(A932=\"\",\"\",VLOOKUP(J932,'Соответствия статей'!$A$2:$B$50,2,0)),\"Другое\")","v":"Медицина"},"Банк","Расход"]
["2020-09-03T02:06:47","2020-03-03","*7127","OK",-500,"RUB",-500,"RUB",null,"Сервис. услуги",7311,"ВКонтакте",0,{"$f":"IFERROR(IF(A933=\"\",\"\",VLOOKUP(J933,'Соответствия статей'!$A$2:$B$50,2,0)),\"Другое\")","v":"Другое"},"Банк","Расход"]
["2020-09-02T20:28:58","2020-03-05","*7357","OK",-102.17,"RUB",-102.17,"RUB",1,"Супермаркеты",5411,"Дикси",1,{"$f":"IFERROR(IF(A934=\"\",\"\",VLOOKUP(J934,'Соответствия статей'!$A$2:$B$50,2,0)),\"Другое\")","v":"Продукты"},"Банк","Расход"]
["2020-09-02T20:28:42","2020-03-05","*7357","OK",-279.87,"RUB",-279.87,"RUB",2,"Супермаркеты",5411,"Дикси",2,{"$f":"IFERROR(IF(A935=\"\",\"\",VLOOKUP(J935,'Соответствия статей'!$A$2:$B$50,2,0)),\"Другое\")","v":"Продукты"},"Банк","Расход"]
["2020-09-02T18:06:50","2020-03-03","*7127","OK",-35,"RUB",-35,"RUB",null,"Фастфуд",5814,"OOO As-Vend",0,{"$f":"IFERROR(IF(A936=\"\",\"\",VLOOKUP(J936,'Соответствия статей'!$A$2:$B$50,2,0)),\"Другое\")","v":"Рестораны"},"Банк","Расход"]
["2020-09-02T13:57:25","2020-03-05","*7127","OK",-25,"RUB",-25,"RUB",null,"Супермаркеты",5499,"Petro-Servis",0,{"$f":"IFERROR(IF(A937=\"\",\"\",VLOOKUP(J937,'Соответствия статей'!$A$2:$B$50,2,0)),\"Другое\")","v":"Продукты"},"Банк","Расход"]
["2020-09-02T13:36:44","2020-03-05","*7127","OK",-200,"RUB",-200,"RUB",null,"Фастфуд",5814,"Stolovaya",2,{"$f":"IFERROR(IF(A938=\"\",\"\",VLOOKUP(J938,'Соответствия статей'!$A$2:$B$50,2,0)),\"Другое\")","v":"Рестораны"},"Банк","Расход"]
["2020-09-02T12:43:25","2020-03-05","*7357","OK",-265,"RUB",-265,"RUB",2,"Фастфуд",5814,"Рестораны ТАРЕЛКА",2,{"$f":"IFERROR(IF(A939=\"\",\"\",VLOOKUP(J939,'Соответствия статей'!$A$2:$B$50,2,0)),\"Другое\")","v":"Рестораны"},"Банк","Расход"]
["2020-09-01T17:03:55","2020-03-04","*7127","OK",-559,"RUB",-559,"RUB",null,"Аптеки",5912,"Аптека 36,6",5,{"$f":"IFERROR(IF(A940=\"\",\"\",VLOOKUP(J940,'Соответствия статей'!$A$2:$B$50,2,0)),\"Другое\")","v":"Медицина"},"Банк","Расход"]
["2020-09-01T15:52:32","2020-03-04","*7127","OK",-31,"RUB",-31,"RUB",null,"Книги",5192,"Первая полоса",0,{"$f":"IFERROR(IF(A941=\"\",\"\",VLOOKUP(J941,'Соответствия статей'!$A$2:$B$50,2,0)),\"Другое\")","v":"Обучение"},"Банк","Расход"]
["2020-09-01T15:48:52","2020-03-05","*7127","OK",-807.5,"RUB",-807.5,"RUB",null,"Супермаркеты",5411,"Перекресток",8,{"$f":"IFERROR(IF(A942=\"\",\"\",VLOOKUP(J942,'Соответствия статей'!$A$2:$B$50,2,0)),\"Другое\")","v":"Продукты"},"Банк","Расход"]
["2020-09-01T14:36:27","2020-03-01","*7127","OK",-360,"RUB",-360,"RUB",null,"Мобильные/иб",null,"Ростелеком Мобильная связь +79932213431",0,{"$f":"IFERROR(IF(A943=\"\",\"\",VLOOKUP(J943,'Соответствия статей'!$A$2:$B$50,2,0)),\"Другое\")","v":"Телефонная связь"},"Банк","Расход"]
["2020-09-01T12:44:09","2020-03-01","*7127","OK",25,"RUB",25,"RUB",null,"Прочие доходы",null,"Компенсация покупки",0,{"$f":"IFERROR(IF(A944=\"\",\"\",VLOOKUP(J944,'Соответствия статей'!$A$2:$B$50,2,0)),\"Другое\")","v":"Прочие доходы"},"Банк","Доход"]
["2020-09-01T12:43:58","2020-03-01","*7127","OK",25,"RUB",25,"RUB",null,"Прочие доходы",null,"Компенсация покупки",0,{"$f":"IFERROR(IF(A945=\"\",\"\",VLOOKUP(J945,'Соответствия статей'!$A$2:$B$50,2,0)),\"Другое\")","v":"Прочие доходы"},"Банк","Доход"]
["2020-09-01T12:43:46","2020-03-01","*7127","OK",25,"RUB",25,"RUB",null,"Прочие доходы",null,"Компенсация покупки",0,{"$f":"IFERROR(IF(A946=\"\",\"\",VLOOKUP(J946,'Соответствия статей'!$A$2:$B$50,2,0)),\"Другое\")","v":"Прочие доходы"},"Банк","Доход"]
["2020-09-01T12:43:23","2020-03-01","*7127","OK",25,"RUB",25,"RUB",null,"Прочие доходы",null,"Компенсация покупки",0,{"$f":"IFERROR(IF(A947=\"\",\"\",VLOOKUP(J947,'Соответствия статей'!$A$2:$B$50,2,0)),\"Другое\")","v":"Прочие доходы"},"Банк","Доход"]
["2020-09-01T12:42:59","2020-03-01","*7127","OK",200,"RUB",200,"RUB",null,"Прочие доходы",null,"Компенсация покупки",0,{"$f":"IFERROR(IF(A948=\"\",\"\",VLOOKUP(J948,'Соответствия статей'!$A$2:$B$50,2,0)),\"Другое\")","v":"Прочие доходы"},"Банк","Доход"]
["2020-09-01T12:42:14","2020-03-01","*7127","OK",314,"RUB",314,"RUB",null,"Прочие доходы",null,"Компенсация покупки",0,{"$f":"IFERROR(IF(A949=\"\",\"\",VLOOKUP(J949,'Соответствия статей'!$A$2:$B$50,2,0)),\"Другое\")","v":"Прочие доходы"},"Банк","Доход"]
["2020-09-01T12:41:09","2020-03-01","*7127","OK",1004.02,"RUB",1004.02,"RUB",null,"Прочие доходы",null,"Компенсация покупки",0,{"$f":"IFERROR(IF(A950=\"\",\"\",VLOOKUP(J950,'Соответствия статей'!$A$2:$B$50,2,0)),\"Другое\")","v":"Прочие доходы"},"Банк","Доход"]
["2020-08-29T22:54:57","2020-02-29",null,"OK",-59,"RUB",-59,"RUB",null,"Другое",null,"Плата за оповещения об операциях",0,{"$f":"IFERROR(IF(A951=\"\",\"\",VLOOKUP(J951,'Соответствия статей'!$A$2:$B$50,2,0)),\"Другое\")","v":"Другое"},"Банк","Расход"]
["2020-08-29T19:07:37","2020-03-03","*7127","OK",-449.69,"RUB",-449.69,"RUB",null,"Супермаркеты",5411,"Верный",4,{"$f":"IFERROR(IF(A952=\"\",\"\",VLOOKUP(J952,'Соответствия статей'!$A$2:$B$50,2,0)),\"Другое\")","v":"Продукты"},"Банк","Расход"]
["2020-08-29T10:51:46","2020-03-03","*7127","OK",-333.01,"RUB",-333.01,"RUB",null,"Супермаркеты",5411,"Магнит",3,{"$f":"IFERROR(IF(A953=\"\",\"\",VLOOKUP(J953,'Соответствия статей'!$A$2:$B$50,2,0)),\"Другое\")","v":"Продукты"},"Банк","Расход"]
["2020-08-28T13:21:34","2020-03-02","*7127","OK",-25,"RUB",-25,"RUB",null,"Супермаркеты",5499,"Petro-Servis",0,{"$f":"IFERROR(IF(A954=\"\",\"\",VLOOKUP(J954,'Соответствия статей'!$A$2:$B$50,2,0)),\"Другое\")","v":"Продукты"},"Банк","Расход"]
["2020-08-28T13:00:04","2020-03-02","*7127","OK",-200,"RUB",-200,"RUB",null,"Фастфуд",5814,"Stolovaya",2,{"$f":"IFERROR(IF(A955=\"\",\"\",VLOOKUP(J955,'Соответствия статей'!$A$2:$B$50,2,0)),\"Другое\")","v":"Рестораны"},"Банк","Расход"]
["2020-08-27T19:18:40","2020-02-29","*7127","OK",-249.89,"RUB",-249.89,"RUB",null,"Фастфуд",5814,"Burger King",2,{"$f":"IFERROR(IF(A956=\"\",\"\",VLOOKUP(J956,'Соответствия статей'!$A$2:$B$50,2,0)),\"Другое\")","v":"Рестораны"},"Банк","Расход"]
["2020-08-27T19:10:52","2020-02-29","*7127","OK",-275.95999999999998,"RUB",-275.95999999999998,"RUB",null,"Супермаркеты",5411,"О'КЕЙ",2,{"$f":"IFERROR(IF(A957=\"\",\"\",VLOOKUP(J957,'Соответствия статей'!$A$2:$B$50,2,0)),\"Другое\")","v":"Продукты"},"Банк","Расход"]
["2020-08-27T13:34:23","2020-02-29","*7127","OK",-25,"RUB",-25,"RUB",null,"Супермаркеты",5499,"Petro-Servis",0,{"$f":"IFERROR(IF(A958=\"\",\"\",VLOOKUP(J958,'Соответствия статей'!$A$2:$B$50,2,0)),\"Другое\")","v":"Продукты"},"Банк","Расход"]
["2020-08-27T13:13:19","2020-02-29","*7127","OK",-200,"RUB",-200,"RUB",null,"Фастфуд",5814,"Stolovaya",2,{"$f":"IFERROR(IF(A959=\"\",\"\",VLOOKUP(J959,'Соответствия статей'!$A$2:$B$50,2,0)),\"Другое\")","v":"Рестораны"},"Банк","Расход"]
["2020-08-26T22:04:29","2020-02-27","*7127","OK",-250,"RUB",-250,"RUB",null,"Мобильные/иб",null,"TELE2 +79967762825",0,{"$f":"IFERROR(IF(A960=\"\",\"\",VLOOKUP(J960,'Соответствия статей'!$A$2:$B$50,2,0)),\"Другое\")","v":"Телефонная связь"},"Банк","Расход"]
["2020-08-26T13:48:50","2020-02-29","*7127","OK",-25,"RUB",-25,"RUB",null,"Супермаркеты",5499,"Petro-Servis",0,{"$f":"IFERROR(IF(A961=\"\",\"\",VLOOKUP(J961,'Соответствия статей'!$A$2:$B$50,2,0)),\"Другое\")","v":"Продукты"},"Банк","Расход"]
["2020-08-26T13:19:22","2020-02-28","*7127","OK",-200,"RUB",-200,"RUB",null,"Фастфуд",5814,"Stolovaya",2,{"$f":"IFERROR(IF(A962=\"\",\"\",VLOOKUP(J962,'Соответствия статей'!$A$2:$B$50,2,0)),\"Другое\")","v":"Рестораны"},"Банк","Расход"]
["2020-08-25T19:06:11","2020-02-28","*7127","OK",-649,"RUB",-649,"RUB",null,"Супермаркеты",5411,"Перекресток",6,{"$f":"IFERROR(IF(A963=\"\",\"\",VLOOKUP(J963,'Соответствия статей'!$A$2:$B$50,2,0)),\"Другое\")","v":"Продукты"},"Банк","Расход"]
["2020-08-25T13:46:10","2020-02-25","*8173","OK",625,"RUB",625,"RUB",null,"Прочие доходы",null,"Иван Ш.",0,{"$f":"IFERROR(IF(A964=\"\",\"\",VLOOKUP(J964,'Соответствия статей'!$A$2:$B$50,2,0)),\"Другое\")","v":"Прочие доходы"},"Банк","Доход"]
["2020-08-25T13:36:10","2020-02-26","*7127","OK",-25,"RUB",-25,"RUB",null,"Фастфуд",5814,"Petro-Servis",0,{"$f":"IFERROR(IF(A965=\"\",\"\",VLOOKUP(J965,'Соответствия статей'!$A$2:$B$50,2,0)),\"Другое\")","v":"Рестораны"},"Банк","Расход"]
["2020-08-25T13:15:02","2020-02-27","*7127","OK",-205,"RUB",-205,"RUB",null,"Фастфуд",5814,"Stolovaya",2,{"$f":"IFERROR(IF(A966=\"\",\"\",VLOOKUP(J966,'Соответствия статей'!$A$2:$B$50,2,0)),\"Другое\")","v":"Рестораны"},"Банк","Расход"]
["2020-08-25T01:22:01","2020-02-25","*7127","OK",-625,"RUB",-625,"RUB",null,"Сервис. услуги",7311,"ВКонтакте",0,{"$f":"IFERROR(IF(A967=\"\",\"\",VLOOKUP(J967,'Соответствия статей'!$A$2:$B$50,2,0)),\"Другое\")","v":"Другое"},"Банк","Расход"]
["2020-08-24T13:23:55","2020-02-27","*7127","OK",-29.99,"RUB",-29.99,"RUB",null,"Супермаркеты",5411,"Семишагофф",0,{"$f":"IFERROR(IF(A968=\"\",\"\",VLOOKUP(J968,'Соответствия статей'!$A$2:$B$50,2,0)),\"Другое\")","v":"Продукты"},"Банк","Расход"]
["2020-08-24T12:48:38","2020-02-26","*7127","OK",-487,"RUB",-487,"RUB",null,"Аптеки",5912,"Озерки",4,{"$f":"IFERROR(IF(A969=\"\",\"\",VLOOKUP(J969,'Соответствия статей'!$A$2:$B$50,2,0)),\"Другое\")","v":"Медицина"},"Банк","Расход"]
["2020-08-24T12:27:09","2020-02-27","*7127","OK",-666.46,"RUB",-666.46,"RUB",null,"Супермаркеты",5411,"Перекресток",6,{"$f":"IFERROR(IF(A970=\"\",\"\",VLOOKUP(J970,'Соответствия статей'!$A$2:$B$50,2,0)),\"Другое\")","v":"Продукты"},"Банк","Расход"]
["2020-08-23T22:41:53","2020-02-23",null,"OK",-99,"RUB",-99,"RUB",null,"Другое",null,"Плата за обслуживание",0,{"$f":"IFERROR(IF(A971=\"\",\"\",VLOOKUP(J971,'Соответствия статей'!$A$2:$B$50,2,0)),\"Другое\")","v":"Другое"},"Банк","Расход"]
["2020-08-23T22:22:41","2020-02-23",null,"OK",67,"RUB",67,"RUB",null,"Прочие доходы",null,"Вознаграждение за операции покупок",0,{"$f":"IFERROR(IF(A972=\"\",\"\",VLOOKUP(J972,'Соответствия статей'!$A$2:$B$50,2,0)),\"Другое\")","v":"Прочие доходы"},"Банк","Доход"]
["2020-08-23T21:34:10","2020-02-23",null,"OK",2.69,"RUB",2.69,"RUB",null,"Прочие доходы",null,"Проценты на остаток по счету",0,{"$f":"IFERROR(IF(A973=\"\",\"\",VLOOKUP(J973,'Соответствия статей'!$A$2:$B$50,2,0)),\"Другое\")","v":"Прочие доходы"},"Банк","Доход"]
["2020-08-23T21:05:47","2020-02-24","*8173","OK",400,"RUB",400,"RUB",null,"Прочие доходы",null,"Иван Ш.",0,{"$f":"IFERROR(IF(A974=\"\",\"\",VLOOKUP(J974,'Соответствия статей'!$A$2:$B$50,2,0)),\"Другое\")","v":"Прочие доходы"},"Банк","Доход"]
["2020-08-23T20:10:28","2020-02-26","*7127","OK",-524.61,"RUB",-524.61,"RUB",null,"Супермаркеты",5411,"Перекресток",5,{"$f":"IFERROR(IF(A975=\"\",\"\",VLOOKUP(J975,'Соответствия статей'!$A$2:$B$50,2,0)),\"Другое\")","v":"Продукты"},"Банк","Расход"]
["2020-08-22T21:00:53","2020-02-24","*8173","OK",-136,"RUB",-136,"RUB",6,"Транспорт",4121,"Uber",6,{"$f":"IFERROR(IF(A976=\"\",\"\",VLOOKUP(J976,'Соответствия статей'!$A$2:$B$50,2,0)),\"Другое\")","v":"Транспорт"},"Банк","Расход"]
["2020-08-22T18:31:50","2020-02-25","*7127","OK",-579.96,"RUB",-579.96,"RUB",null,"Супермаркеты",5411,"Пятерочка",5,{"$f":"IFERROR(IF(A977=\"\",\"\",VLOOKUP(J977,'Соответствия статей'!$A$2:$B$50,2,0)),\"Другое\")","v":"Продукты"},"Банк","Расход"]
["2020-08-22T18:19:47","2020-02-25","*7127","OK",-75,"RUB",-75,"RUB",null,"Аптеки",5912,"OOO Parus",0,{"$f":"IFERROR(IF(A978=\"\",\"\",VLOOKUP(J978,'Соответствия статей'!$A$2:$B$50,2,0)),\"Другое\")","v":"Медицина"},"Банк","Расход"]
["2020-08-22T16:45:55","2020-02-22","*8173","OK",4400,"RUB",4400,"RUB",null,"Прочие доходы",null,"Иван Ш.",0,{"$f":"IFERROR(IF(A979=\"\",\"\",VLOOKUP(J979,'Соответствия статей'!$A$2:$B$50,2,0)),\"Другое\")","v":"Прочие доходы"},"Банк","Доход"]
["2020-08-22T00:21:04","2020-02-25","*7127","OK",-488.46,"RUB",-488.46,"RUB",null,"Супермаркеты",5411,"Перекресток",4,{"$f":"IFERROR(IF(A980=\"\",\"\",VLOOKUP(J980,'Соответствия статей'!$A$2:$B$50,2,0)),\"Другое\")","v":"Продукты"},"Банк","Расход"]
["2020-08-21T21:42:49","2020-02-24","*7127","OK",-120,"RUB",-120,"RUB",null,"Аптеки",5912,"Аптеки Первая Помощь",1,{"$f":"IFERROR(IF(A981=\"\",\"\",VLOOKUP(J981,'Соответствия статей'!$A$2:$B$50,2,0)),\"Другое\")","v":"Медицина"},"Банк","Расход"]
["2020-08-21T21:35:40","2020-02-25","*8173","OK",-684,"RUB",-684,"RUB",34,"Кино",7832,"Синема Парк",34,{"$f":"IFERROR(IF(A982=\"\",\"\",VLOOKUP(J982,'Соответствия статей'!$A$2:$B$50,2,0)),\"Другое\")","v":"Развлечения"},"Банк","Расход"]
["2020-08-21T20:32:19","2020-02-25","*7357","OK",-249.89,"RUB",-249.89,"RUB",2,"Фастфуд",5814,"Burger King",2,{"$f":"IFERROR(IF(A983=\"\",\"\",VLOOKUP(J983,'Соответствия статей'!$A$2:$B$50,2,0)),\"Другое\")","v":"Рестораны"},"Банк","Расход"]
["2020-08-21T19:36:55","2020-02-25","*7357","OK",-100,"RUB",-100,"RUB",5,"Транспорт",4111,"Метро Санкт-Петербург",5,{"$f":"IFERROR(IF(A984=\"\",\"\",VLOOKUP(J984,'Соответствия статей'!$A$2:$B$50,2,0)),\"Другое\")","v":"Транспорт"},"Банк","Расход"]
["2020-08-21T18:56:56","2020-02-25","*7127","OK",-279.98,"RUB",-279.98,"RUB",null,"Фастфуд",5814,"Burger King",2,{"$f":"IFERROR(IF(A985=\"\",\"\",VLOOKUP(J985,'Соответствия статей'!$A$2:$B$50,2,0)),\"Другое\")","v":"Рестораны"},"Банк","Расход"]
["2020-08-21T13:36:06","2020-02-24","*7127","OK",-25,"RUB",-25,"RUB",null,"Супермаркеты",5499,"Petro-Servis",0,{"$f":"IFERROR(IF(A986=\"\",\"\",VLOOKUP(J986,'Соответствия статей'!$A$2:$B$50,2,0)),\"Другое\")","v":"Продукты"},"Банк","Расход"]
["2020-08-21T13:13:50","2020-02-24","*7127","OK",-200,"RUB",-200,"RUB",null,"Фастфуд",5814,"Stolovaya",2,{"$f":"IFERROR(IF(A987=\"\",\"\",VLOOKUP(J987,'Соответствия статей'!$A$2:$B$50,2,0)),\"Другое\")","v":"Рестораны"},"Банк","Расход"]
["2020-08-21T00:45:46","2020-02-21","*7127","OK",-500,"RUB",-500,"RUB",null,"Сервис. услуги",7311,"ВКонтакте",0,{"$f":"IFERROR(IF(A988=\"\",\"\",VLOOKUP(J988,'Соответствия статей'!$A$2:$B$50,2,0)),\"Другое\")","v":"Другое"},"Банк","Расход"]
["2020-08-20T20:04:12","2020-02-22","*7357","OK",-100,"RUB",-100,"RUB",5,"Транспорт",4111,"Метро Санкт-Петербург",5,{"$f":"IFERROR(IF(A989=\"\",\"\",VLOOKUP(J989,'Соответствия статей'!$A$2:$B$50,2,0)),\"Другое\")","v":"Транспорт"},"Банк","Расход"]
["2020-08-20T19:25:53","2020-02-24","*7127","OK",-832.61,"RUB",-832.61,"RUB",null,"Супермаркеты",5411,"Перекресток",8,{"$f":"IFERROR(IF(A990=\"\",\"\",VLOOKUP(J990,'Соответствия статей'!$A$2:$B$50,2,0)),\"Другое\")","v":"Продукты"},"Банк","Расход"]
["2020-08-20T14:44:59","2020-02-25","*7357","OK",-198,"RUB",-198,"RUB",1,"Разные товары",5311,"Fixprice",1,{"$f":"IFERROR(IF(A991=\"\",\"\",VLOOKUP(J991,'Соответствия статей'!$A$2:$B$50,2,0)),\"Другое\")","v":"Другое"},"Банк","Расход"]
["2020-08-20T13:43:49","2020-02-22","*7127","OK",-25,"RUB",-25,"RUB",null,"Супермаркеты",5499,"Petro-Servis",0,{"$f":"IFERROR(IF(A992=\"\",\"\",VLOOKUP(J992,'Соответствия статей'!$A$2:$B$50,2,0)),\"Другое\")","v":"Продукты"},"Банк","Расход"]
["2020-08-20T13:37:39","2020-02-22","*7357","OK",-230,"RUB",-230,"RUB",2,"Фастфуд",5814,"Рестораны ТАРЕЛКА",2,{"$f":"IFERROR(IF(A993=\"\",\"\",VLOOKUP(J993,'Соответствия статей'!$A$2:$B$50,2,0)),\"Другое\")","v":"Рестораны"},"Банк","Расход"]
["2020-08-20T07:50:00","2020-02-21","*7127","OK",-25,"RUB",-25,"RUB",null,"Фастфуд",5814,"OOO As-Vend",0,{"$f":"IFERROR(IF(A994=\"\",\"\",VLOOKUP(J994,'Соответствия статей'!$A$2:$B$50,2,0)),\"Другое\")","v":"Рестораны"},"Банк","Расход"]
["2020-08-19T19:08:36","2020-02-22","*7127","OK",-694.56,"RUB",-694.56,"RUB",null,"Супермаркеты",5411,"Перекресток",6,{"$f":"IFERROR(IF(A995=\"\",\"\",VLOOKUP(J995,'Соответствия статей'!$A$2:$B$50,2,0)),\"Другое\")","v":"Продукты"},"Банк","Расход"]
["2020-08-19T13:19:48","2020-02-22","*7127","OK",-25,"RUB",-25,"RUB",null,"Супермаркеты",5499,"Petro-Servis",0,{"$f":"IFERROR(IF(A996=\"\",\"\",VLOOKUP(J996,'Соответствия статей'!$A$2:$B$50,2,0)),\"Другое\")","v":"Продукты"},"Банк","Расход"]
["2020-08-19T12:32:22","2020-02-22","*7357","OK",-273,"RUB",-273,"RUB",2,"Фастфуд",5814,"Рестораны ТАРЕЛКА",2,{"$f":"IFERROR(IF(A997=\"\",\"\",VLOOKUP(J997,'Соответствия статей'!$A$2:$B$50,2,0)),\"Другое\")","v":"Рестораны"},"Банк","Расход"]
["2020-08-19T10:50:05","2020-02-20","*7127","OK",251,"RUB",251,"RUB",null,"Финан. услуги",6513,"Rosreestr.Net",-2,{"$f":"IFERROR(IF(A998=\"\",\"\",VLOOKUP(J998,'Соответствия статей'!$A$2:$B$50,2,0)),\"Другое\")","v":"Переводы"},"Банк","Расход"]
["2020-08-19T02:56:12","2020-02-19","*8173","OK",-50,"RUB",-50,"RUB",null,"Мобильные/иб",null,"TELE2 - автоплатеж +79533443146",0,{"$f":"IFERROR(IF(A999=\"\",\"\",VLOOKUP(J999,'Соответствия статей'!$A$2:$B$50,2,0)),\"Другое\")","v":"Телефонная связь"},"Банк","Расход"]
["2020-08-18T21:55:23","2020-02-19","*7127","OK",-695.28,"RUB",-695.28,"RUB",null,"Жкх/иб",4900,"Петроэлектросбыт",0,{"$f":"IFERROR(IF(A1000=\"\",\"\",VLOOKUP(J1000,'Соответствия статей'!$A$2:$B$50,2,0)),\"Другое\")","v":"Коммунальные услуги"},"Банк","Расход"]
["2020-08-18T19:06:31","2020-02-21","*7127","OK",-319.32,"RUB",-319.32,"RUB",null,"Супермаркеты",5411,"Перекресток",3,{"$f":"IFERROR(IF(A1001=\"\",\"\",VLOOKUP(J1001,'Соответствия статей'!$A$2:$B$50,2,0)),\"Другое\")","v":"Продукты"},"Банк","Расход"]
["2020-08-18T13:35:25","2020-02-20","*7127","OK",-25,"RUB",-25,"RUB",null,"Супермаркеты",5499,"Petro-Servis",0,{"$f":"IFERROR(IF(A1002=\"\",\"\",VLOOKUP(J1002,'Соответствия статей'!$A$2:$B$50,2,0)),\"Другое\")","v":"Продукты"},"Банк","Расход"]
["2020-08-18T13:14:18","2020-02-21","*7127","OK",-200,"RUB",-200,"RUB",null,"Фастфуд",5814,"Stolovaya",2,{"$f":"IFERROR(IF(A1003=\"\",\"\",VLOOKUP(J1003,'Соответствия статей'!$A$2:$B$50,2,0)),\"Другое\")","v":"Рестораны"},"Банк","Расход"]
["2020-08-18T13:03:03","2020-02-21","*7357","OK",-253,"RUB",-253,"RUB",2,"Фастфуд",5814,"Рестораны ТАРЕЛКА",2,{"$f":"IFERROR(IF(A1004=\"\",\"\",VLOOKUP(J1004,'Соответствия статей'!$A$2:$B$50,2,0)),\"Другое\")","v":"Рестораны"},"Банк","Расход"]
["2020-08-18T11:01:21","2020-02-18","*8173","OK",510,"RUB",510,"RUB",null,"Прочие доходы",null,"Иван Ш.",0,{"$f":"IFERROR(IF(A1005=\"\",\"\",VLOOKUP(J1005,'Соответствия статей'!$A$2:$B$50,2,0)),\"Другое\")","v":"Прочие доходы"},"Банк","Доход"]
["2020-08-18T10:59:53","2020-02-19","*7127","OK",-25,"RUB",-25,"RUB",null,"Фастфуд",5814,"OOO As-Vend",0,{"$f":"IFERROR(IF(A1006=\"\",\"\",VLOOKUP(J1006,'Соответствия статей'!$A$2:$B$50,2,0)),\"Другое\")","v":"Рестораны"},"Банк","Расход"]
["2020-08-18T02:55:41","2020-02-18","*7127","OK",-510,"RUB",-510,"RUB",null,"Сервис. услуги",7311,"ВКонтакте",0,{"$f":"IFERROR(IF(A1007=\"\",\"\",VLOOKUP(J1007,'Соответствия статей'!$A$2:$B$50,2,0)),\"Другое\")","v":"Другое"},"Банк","Расход"]
["2020-08-17T22:16:38","2020-02-18","*7127","OK",-13686.8,"RUB",-13686.8,"RUB",null,"Ж/д билеты",4112,"РЖД",136,{"$f":"IFERROR(IF(A1008=\"\",\"\",VLOOKUP(J1008,'Соответствия статей'!$A$2:$B$50,2,0)),\"Другое\")","v":"Поездки"},"Банк","Расход"]
["2020-08-17T19:36:27","2020-02-19","*7127","OK",-12402,"RUB",-12402,"RUB",null,"Авиабилеты",4511,"Авиакомпания UTair",124,{"$f":"IFERROR(IF(A1009=\"\",\"\",VLOOKUP(J1009,'Соответствия статей'!$A$2:$B$50,2,0)),\"Другое\")","v":"Поездки"},"Банк","Расход"]
["2020-08-17T19:31:07","2020-02-20","*7127","OK",-154.99,"RUB",-154.99,"RUB",null,"Супермаркеты",5411,"Дикси",1,{"$f":"IFERROR(IF(A1010=\"\",\"\",VLOOKUP(J1010,'Соответствия статей'!$A$2:$B$50,2,0)),\"Другое\")","v":"Продукты"},"Банк","Расход"]
["2020-08-17T19:18:32","2020-02-20","*7127","OK",-367,"RUB",-367,"RUB",null,"Аптеки",5912,"Apteka 78-385",3,{"$f":"IFERROR(IF(A1011=\"\",\"\",VLOOKUP(J1011,'Соответствия статей'!$A$2:$B$50,2,0)),\"Другое\")","v":"Медицина"},"Банк","Расход"]
["2020-08-17T13:31:49","2020-02-20","*7127","OK",-25,"RUB",-25,"RUB",null,"Супермаркеты",5499,"Petro-Servis",0,{"$f":"IFERROR(IF(A1012=\"\",\"\",VLOOKUP(J1012,'Соответствия статей'!$A$2:$B$50,2,0)),\"Другое\")","v":"Продукты"},"Банк","Расход"]
["2020-08-17T13:04:14","2020-02-19","*7127","OK",-200,"RUB",-200,"RUB",null,"Фастфуд",5814,"Stolovaya",2,{"$f":"IFERROR(IF(A1013=\"\",\"\",VLOOKUP(J1013,'Соответствия статей'!$A$2:$B$50,2,0)),\"Другое\")","v":"Рестораны"},"Банк","Расход"]
["2020-08-17T12:46:09","2020-02-20","*7357","OK",-278,"RUB",-278,"RUB",2,"Фастфуд",5814,"Рестораны ТАРЕЛКА",2,{"$f":"IFERROR(IF(A1014=\"\",\"\",VLOOKUP(J1014,'Соответствия статей'!$A$2:$B$50,2,0)),\"Другое\")","v":"Рестораны"},"Банк","Расход"]
["2020-08-17T10:06:40","2020-02-17","*7127","OK",-370,"RUB",-370,"RUB",null,"Мобильные/иб",null,"Мой телефон +79533443146",0,{"$f":"IFERROR(IF(A1015=\"\",\"\",VLOOKUP(J1015,'Соответствия статей'!$A$2:$B$50,2,0)),\"Другое\")","v":"Телефонная связь"},"Банк","Расход"]
["2020-08-16T18:18:11","2020-02-19","*7127","OK",-341,"RUB",-341,"RUB",null,"Книги",5942,"Буквоед",3,{"$f":"IFERROR(IF(A1016=\"\",\"\",VLOOKUP(J1016,'Соответствия статей'!$A$2:$B$50,2,0)),\"Другое\")","v":"Обучение"},"Банк","Расход"]
["2020-08-16T17:52:49","2020-02-19","*7127","OK",-1745.49,"RUB",-1745.49,"RUB",null,"Супермаркеты",5411,"Перекресток",17,{"$f":"IFERROR(IF(A1017=\"\",\"\",VLOOKUP(J1017,'Соответствия статей'!$A$2:$B$50,2,0)),\"Другое\")","v":"Продукты"},"Банк","Расход"]
["2020-08-15T17:39:46","2020-02-18","*7127","OK",-128.97,"RUB",-128.97,"RUB",null,"Супермаркеты",5411,"Пятерочка",1,{"$f":"IFERROR(IF(A1018=\"\",\"\",VLOOKUP(J1018,'Соответствия статей'!$A$2:$B$50,2,0)),\"Другое\")","v":"Продукты"},"Банк","Расход"]
["2020-08-15T17:33:17","2020-02-18","*7127","OK",-905,"RUB",-905,"RUB",null,"Аптеки",5912,"Озерки",9,{"$f":"IFERROR(IF(A1019=\"\",\"\",VLOOKUP(J1019,'Соответствия статей'!$A$2:$B$50,2,0)),\"Другое\")","v":"Медицина"},"Банк","Расход"]
["2020-08-15T03:38:42","2020-02-18","*8173","OK",-182,"RUB",-182,"RUB",9,"Транспорт",4121,"Uber",9,{"$f":"IFERROR(IF(A1020=\"\",\"\",VLOOKUP(J1020,'Соответствия статей'!$A$2:$B$50,2,0)),\"Другое\")","v":"Транспорт"},"Банк","Расход"]
["2020-08-15T00:57:15","2020-02-18","*8173","OK",-197,"RUB",-197,"RUB",9,"Транспорт",4121,"Uber",9,{"$f":"IFERROR(IF(A1021=\"\",\"\",VLOOKUP(J1021,'Соответствия статей'!$A$2:$B$50,2,0)),\"Другое\")","v":"Транспорт"},"Банк","Расход"]
["2020-08-15T00:16:20","2020-02-17","*7127","OK",-3100,"RUB",-3100,"RUB",null,"Рестораны",5812,"Restoran Larisuvanuhoc",31,{"$f":"IFERROR(IF(A1022=\"\",\"\",VLOOKUP(J1022,'Соответствия статей'!$A$2:$B$50,2,0)),\"Другое\")","v":"Рестораны"},"Банк","Расход"]
["2020-08-14T20:32:51","2020-02-18","*7357","OK",-140,"RUB",-140,"RUB",1,"Аптеки",5912,"Озерки",1,{"$f":"IFERROR(IF(A1023=\"\",\"\",VLOOKUP(J1023,'Соответствия статей'!$A$2:$B$50,2,0)),\"Другое\")","v":"Медицина"},"Банк","Расход"]
["2020-08-14T20:17:17","2020-02-17","*7357","OK",-202.83,"RUB",-202.83,"RUB",2,"Супермаркеты",5411,"Перекресток",2,{"$f":"IFERROR(IF(A1024=\"\",\"\",VLOOKUP(J1024,'Соответствия статей'!$A$2:$B$50,2,0)),\"Другое\")","v":"Продукты"},"Банк","Расход"]
["2020-08-14T20:04:36","2020-02-17","*7357","OK",-98,"RUB",-98,"RUB",0,"Книги",5942,"Буквоед",0,{"$f":"IFERROR(IF(A1025=\"\",\"\",VLOOKUP(J1025,'Соответствия статей'!$A$2:$B$50,2,0)),\"Другое\")","v":"Обучение"},"Банк","Расход"]
["2020-08-14T19:32:28","2020-02-14","*8173","OK",510,"RUB",510,"RUB",null,"Прочие доходы",null,"Иван Ш.",0,{"$f":"IFERROR(IF(A1026=\"\",\"\",VLOOKUP(J1026,'Соответствия статей'!$A$2:$B$50,2,0)),\"Другое\")","v":"Прочие доходы"},"Банк","Доход"]
["2020-08-14T18:44:44","2020-02-17","*7127","OK",-510,"RUB",-510,"RUB",null,"ДРУГИЕ ОПЕРАЦИИ",5816,"ВКонтакте",5,{"$f":"IFERROR(IF(A1027=\"\",\"\",VLOOKUP(J1027,'Соответствия статей'!$A$2:$B$50,2,0)),\"Другое\")","v":"Другое"},"Банк","Расход"]
["2020-08-14T14:08:07","2020-02-17","*7357","OK",-248,"RUB",-248,"RUB",2,"Фастфуд",5814,"Tarelka",2,{"$f":"IFERROR(IF(A1028=\"\",\"\",VLOOKUP(J1028,'Соответствия статей'!$A$2:$B$50,2,0)),\"Другое\")","v":"Рестораны"},"Банк","Расход"]
["2020-08-14T13:19:39","2020-02-15","*7127","OK",-25,"RUB",-25,"RUB",null,"Фастфуд",5814,"Petro-Servis",0,{"$f":"IFERROR(IF(A1029=\"\",\"\",VLOOKUP(J1029,'Соответствия статей'!$A$2:$B$50,2,0)),\"Другое\")","v":"Рестораны"},"Банк","Расход"]
["2020-08-14T12:58:00","2020-02-17","*7127","OK",-200,"RUB",-200,"RUB",null,"Фастфуд",5814,"Stolovaya",2,{"$f":"IFERROR(IF(A1030=\"\",\"\",VLOOKUP(J1030,'Соответствия статей'!$A$2:$B$50,2,0)),\"Другое\")","v":"Рестораны"},"Банк","Расход"]
["2020-08-13T19:30:48","2020-02-17","*7127","OK",-1237.75,"RUB",-1237.75,"RUB",null,"Супермаркеты",5411,"Перекресток",12,{"$f":"IFERROR(IF(A1031=\"\",\"\",VLOOKUP(J1031,'Соответствия статей'!$A$2:$B$50,2,0)),\"Другое\")","v":"Продукты"},"Банк","Расход"]
["2020-08-13T13:38:56","2020-02-14","*7127","OK",-25,"RUB",-25,"RUB",null,"Фастфуд",5814,"Petro-Servis",0,{"$f":"IFERROR(IF(A1032=\"\",\"\",VLOOKUP(J1032,'Соответствия статей'!$A$2:$B$50,2,0)),\"Другое\")","v":"Рестораны"},"Банк","Расход"]
["2020-08-13T13:15:48","2020-02-17","*7127","OK",-200,"RUB",-200,"RUB",null,"Фастфуд",5814,"Stolovaya",2,{"$f":"IFERROR(IF(A1033=\"\",\"\",VLOOKUP(J1033,'Соответствия статей'!$A$2:$B$50,2,0)),\"Другое\")","v":"Рестораны"},"Банк","Расход"]
["2020-08-13T02:30:33","2020-02-15","*8173","OK",-337,"RUB",-337,"RUB",16,"Транспорт",4121,"Uber",16,{"$f":"IFERROR(IF(A1034=\"\",\"\",VLOOKUP(J1034,'Соответствия статей'!$A$2:$B$50,2,0)),\"Другое\")","v":"Транспорт"},"Банк","Расход"]
["2020-08-12T13:49:03","2020-02-15","*7127","OK",-25,"RUB",-25,"RUB",null,"Супермаркеты",5499,"Petro-Servis",0,{"$f":"IFERROR(IF(A1035=\"\",\"\",VLOOKUP(J1035,'Соответствия статей'!$A$2:$B$50,2,0)),\"Другое\")","v":"Продукты"},"Банк","Расход"]
["2020-08-12T13:21:39","2020-02-14","*7127","OK",-200,"RUB",-200,"RUB",null,"Фастфуд",5814,"Stolovaya",2,{"$f":"IFERROR(IF(A1036=\"\",\"\",VLOOKUP(J1036,'Соответствия статей'!$A$2:$B$50,2,0)),\"Другое\")","v":"Рестораны"},"Банк","Расход"]
["2020-08-11T19:45:11","2020-02-15","*7127","OK",-605.78,"RUB",-605.78,"RUB",null,"Супермаркеты",5411,"Перекресток",6,{"$f":"IFERROR(IF(A1037=\"\",\"\",VLOOKUP(J1037,'Соответствия статей'!$A$2:$B$50,2,0)),\"Другое\")","v":"Продукты"},"Банк","Расход"]
["2020-08-11T19:05:29","2020-02-14","*7127","OK",-460,"RUB",-460,"RUB",null,"Дом, ремонт",5200,"Etm1416001",4,{"$f":"IFERROR(IF(A1038=\"\",\"\",VLOOKUP(J1038,'Соответствия статей'!$A$2:$B$50,2,0)),\"Другое\")","v":"Товары для дома, ремонта"},"Банк","Расход"]
["2020-08-11T17:06:43","2020-02-12","*7127","OK",-75,"RUB",-75,"RUB",null,"Фастфуд",5814,"OOO As-Vend",0,{"$f":"IFERROR(IF(A1039=\"\",\"\",VLOOKUP(J1039,'Соответствия статей'!$A$2:$B$50,2,0)),\"Другое\")","v":"Рестораны"},"Банк","Расход"]
["2020-08-11T14:57:39","2020-02-12","*7127","OK",-25,"RUB",-25,"RUB",null,"Фастфуд",5814,"OOO As-Vend",0,{"$f":"IFERROR(IF(A1040=\"\",\"\",VLOOKUP(J1040,'Соответствия статей'!$A$2:$B$50,2,0)),\"Другое\")","v":"Рестораны"},"Банк","Расход"]
["2020-08-11T12:36:15","2020-02-14","*7127","OK",-314,"RUB",-314,"RUB",null,"Фастфуд",5814,"Додо Пицца",3,{"$f":"IFERROR(IF(A1041=\"\",\"\",VLOOKUP(J1041,'Соответствия статей'!$A$2:$B$50,2,0)),\"Другое\")","v":"Рестораны"},"Банк","Расход"]
["2020-08-11T12:27:42","2020-02-12","*7127","OK",-258.04000000000002,"RUB",-258.04000000000002,"RUB",null,"Гос. сборы",9402,"Почта России",2,{"$f":"IFERROR(IF(A1042=\"\",\"\",VLOOKUP(J1042,'Соответствия статей'!$A$2:$B$50,2,0)),\"Другое\")","v":"Другое"},"Банк","Расход"]
["2020-08-11T11:32:09","2020-02-12","*7127","OK",-16,"RUB",-16,"RUB",null,"Гос. сборы",9402,"Почта России",0,{"$f":"IFERROR(IF(A1043=\"\",\"\",VLOOKUP(J1043,'Соответствия статей'!$A$2:$B$50,2,0)),\"Другое\")","v":"Другое"},"Банк","Расход"]
["2020-08-11T11:23:31","2020-02-12","*7127","OK",-10,"RUB",-10,"RUB",null,"Фото/видео",7395,"Foto Na Dokumenti",0,{"$f":"IFERROR(IF(A1044=\"\",\"\",VLOOKUP(J1044,'Соответствия статей'!$A$2:$B$50,2,0)),\"Другое\")","v":"Другое"},"Банк","Расход"]
["2020-08-11T11:02:05","2020-02-12","*7127","OK",-20,"RUB",-20,"RUB",null,"Фото/видео",7395,"Foto Na Dokumenti",0,{"$f":"IFERROR(IF(A1045=\"\",\"\",VLOOKUP(J1045,'Соответствия статей'!$A$2:$B$50,2,0)),\"Другое\")","v":"Другое"},"Банк","Расход"]
["2020-08-10T13:42:55","2020-02-13","*7127","OK",-25,"RUB",-25,"RUB",null,"Супермаркеты",5499,"Petro-Servis",0,{"$f":"IFERROR(IF(A1046=\"\",\"\",VLOOKUP(J1046,'Соответствия статей'!$A$2:$B$50,2,0)),\"Другое\")","v":"Продукты"},"Банк","Расход"]
["2020-08-10T13:07:20","2020-02-13","*7127","OK",-205,"RUB",-205,"RUB",null,"Фастфуд",5814,"Stolovaya",2,{"$f":"IFERROR(IF(A1047=\"\",\"\",VLOOKUP(J1047,'Соответствия статей'!$A$2:$B$50,2,0)),\"Другое\")","v":"Рестораны"},"Банк","Расход"]
["2020-08-10T01:12:58","2020-02-13","*7127","OK",-350,"RUB",-350,"RUB",null,"Финан. услуги",6513,"Rosreestr.Net",3,{"$f":"IFERROR(IF(A1048=\"\",\"\",VLOOKUP(J1048,'Соответствия статей'!$A$2:$B$50,2,0)),\"Другое\")","v":"Переводы"},"Банк","Расход"]
["2020-08-09T22:19:52","2020-02-12","*7127","OK",-350,"RUB",-350,"RUB",null,"Финан. услуги",6513,"Rosreestr.Net",3,{"$f":"IFERROR(IF(A1049=\"\",\"\",VLOOKUP(J1049,'Соответствия статей'!$A$2:$B$50,2,0)),\"Другое\")","v":"Переводы"},"Банк","Расход"]
["2020-08-09T22:12:10","2020-02-12","*7127","OK",-350,"RUB",-350,"RUB",null,"Финан. услуги",6513,"Rosreestr.Net",3,{"$f":"IFERROR(IF(A1050=\"\",\"\",VLOOKUP(J1050,'Соответствия статей'!$A$2:$B$50,2,0)),\"Другое\")","v":"Переводы"},"Банк","Расход"]
["2020-08-08T19:11:18","2020-02-11","*7127","OK",-329,"RUB",-329,"RUB",null,"Аптеки",5912,"Apt2896 Antares",3,{"$f":"IFERROR(IF(A1051=\"\",\"\",VLOOKUP(J1051,'Соответствия статей'!$A$2:$B$50,2,0)),\"Другое\")","v":"Медицина"},"Банк","Расход"]
["2020-08-08T18:53:08","2020-02-11","*7127","OK",-368.19,"RUB",-368.19,"RUB",null,"Супермаркеты",5411,"Перекресток",3,{"$f":"IFERROR(IF(A1052=\"\",\"\",VLOOKUP(J1052,'Соответствия статей'!$A$2:$B$50,2,0)),\"Другое\")","v":"Продукты"},"Банк","Расход"]
["2020-08-08T15:33:17","2020-02-12","*7127","OK",-33.99,"RUB",-33.99,"RUB",null,"Супермаркеты",5411,"Верный",0,{"$f":"IFERROR(IF(A1053=\"\",\"\",VLOOKUP(J1053,'Соответствия статей'!$A$2:$B$50,2,0)),\"Другое\")","v":"Продукты"},"Банк","Расход"]
["2020-08-07T19:22:01","2020-02-10","*7127","OK",-1336.98,"RUB",-1336.98,"RUB",null,"Супермаркеты",5411,"Перекресток",13,{"$f":"IFERROR(IF(A1054=\"\",\"\",VLOOKUP(J1054,'Соответствия статей'!$A$2:$B$50,2,0)),\"Другое\")","v":"Продукты"},"Банк","Расход"]
["2020-08-07T13:36:35","2020-02-08","*7127","OK",-25,"RUB",-25,"RUB",null,"Фастфуд",5814,"Petro-Servis",0,{"$f":"IFERROR(IF(A1055=\"\",\"\",VLOOKUP(J1055,'Соответствия статей'!$A$2:$B$50,2,0)),\"Другое\")","v":"Рестораны"},"Банк","Расход"]
["2020-08-07T13:07:21","2020-02-10","*7127","OK",-200,"RUB",-200,"RUB",null,"Фастфуд",5814,"Stolovaya",2,{"$f":"IFERROR(IF(A1056=\"\",\"\",VLOOKUP(J1056,'Соответствия статей'!$A$2:$B$50,2,0)),\"Другое\")","v":"Рестораны"},"Банк","Расход"]
["2020-08-07T08:03:42","2020-02-08","*7127","OK",-25,"RUB",-25,"RUB",null,"Фастфуд",5814,"OOO As-Vend",0,{"$f":"IFERROR(IF(A1057=\"\",\"\",VLOOKUP(J1057,'Соответствия статей'!$A$2:$B$50,2,0)),\"Другое\")","v":"Рестораны"},"Банк","Расход"]
["2020-08-06T23:56:03","2020-02-08","*7127","OK",-680.01,"RUB",-680.01,"RUB",null,"Супермаркеты",5411,"Перекресток",6,{"$f":"IFERROR(IF(A1058=\"\",\"\",VLOOKUP(J1058,'Соответствия статей'!$A$2:$B$50,2,0)),\"Другое\")","v":"Продукты"},"Банк","Расход"]
["2020-08-06T19:21:25","2020-02-08","*7127","OK",-32,"RUB",-32,"RUB",null,"Книги",5192,"Первая полоса",0,{"$f":"IFERROR(IF(A1059=\"\",\"\",VLOOKUP(J1059,'Соответствия статей'!$A$2:$B$50,2,0)),\"Другое\")","v":"Обучение"},"Банк","Расход"]
["2020-08-06T13:08:10","2020-02-08","*7127","OK",-200,"RUB",-200,"RUB",null,"Фастфуд",5814,"Stolovaya",2,{"$f":"IFERROR(IF(A1060=\"\",\"\",VLOOKUP(J1060,'Соответствия статей'!$A$2:$B$50,2,0)),\"Другое\")","v":"Рестораны"},"Банк","Расход"]
["2020-08-05T21:03:41","2020-02-07","*7127","OK",-196,"RUB",-196,"RUB",null,"Аптеки",5912,"Аптеки Первая Помощь",1,{"$f":"IFERROR(IF(A1061=\"\",\"\",VLOOKUP(J1061,'Соответствия статей'!$A$2:$B$50,2,0)),\"Другое\")","v":"Медицина"},"Банк","Расход"]
["2020-08-05T20:50:19","2020-02-07","*7127","OK",-30,"RUB",-30,"RUB",null,"Аптеки",5912,"Озерки",0,{"$f":"IFERROR(IF(A1062=\"\",\"\",VLOOKUP(J1062,'Соответствия статей'!$A$2:$B$50,2,0)),\"Другое\")","v":"Медицина"},"Банк","Расход"]
["2020-08-05T18:49:51","2020-02-06","*7127","OK",-35,"RUB",-35,"RUB",null,"Фастфуд",5814,"OOO As-Vend",0,{"$f":"IFERROR(IF(A1063=\"\",\"\",VLOOKUP(J1063,'Соответствия статей'!$A$2:$B$50,2,0)),\"Другое\")","v":"Рестораны"},"Банк","Расход"]
["2020-08-05T13:17:13","2020-02-06","*7127","OK",-200,"RUB",-200,"RUB",null,"Фастфуд",5814,"Stolovaya",2,{"$f":"IFERROR(IF(A1064=\"\",\"\",VLOOKUP(J1064,'Соответствия статей'!$A$2:$B$50,2,0)),\"Другое\")","v":"Рестораны"},"Банк","Расход"]
["2020-08-05T08:42:18","2020-02-06","*7127","OK",-25,"RUB",-25,"RUB",null,"Фастфуд",5814,"OOO As-Vend",0,{"$f":"IFERROR(IF(A1065=\"\",\"\",VLOOKUP(J1065,'Соответствия статей'!$A$2:$B$50,2,0)),\"Другое\")","v":"Рестораны"},"Банк","Расход"]
["2020-08-04T21:13:24","2020-02-06","*7127","OK",-222,"RUB",-222,"RUB",null,"Фастфуд",5814,"Ямм-Пицца",2,{"$f":"IFERROR(IF(A1066=\"\",\"\",VLOOKUP(J1066,'Соответствия статей'!$A$2:$B$50,2,0)),\"Другое\")","v":"Рестораны"},"Банк","Расход"]
["2020-08-04T19:59:53","2020-02-06","*7127","OK",-396,"RUB",-396,"RUB",null,"Фастфуд",5814,"Ямм-Пицца",3,{"$f":"IFERROR(IF(A1067=\"\",\"\",VLOOKUP(J1067,'Соответствия статей'!$A$2:$B$50,2,0)),\"Другое\")","v":"Рестораны"},"Банк","Расход"]
["2020-08-04T19:34:05","2020-02-06","*7127","OK",-150,"RUB",-150,"RUB",null,"Рестораны",5813,"OOO Arij",1,{"$f":"IFERROR(IF(A1068=\"\",\"\",VLOOKUP(J1068,'Соответствия статей'!$A$2:$B$50,2,0)),\"Другое\")","v":"Рестораны"},"Банк","Расход"]
["2020-08-04T13:12:41","2020-02-06","*7127","OK",-200,"RUB",-200,"RUB",null,"Фастфуд",5814,"Stolovaya",2,{"$f":"IFERROR(IF(A1069=\"\",\"\",VLOOKUP(J1069,'Соответствия статей'!$A$2:$B$50,2,0)),\"Другое\")","v":"Рестораны"},"Банк","Расход"]
["2020-08-03T20:27:08","2020-02-04","*7127","OK",-20.23,"RUB",-20.23,"RUB",null,"Жкх/иб",4900,"Петроэлектросбыт",0,{"$f":"IFERROR(IF(A1070=\"\",\"\",VLOOKUP(J1070,'Соответствия статей'!$A$2:$B$50,2,0)),\"Другое\")","v":"Коммунальные услуги"},"Банк","Расход"]
["2020-08-03T19:45:11","2020-02-05","*7127","OK",-972.27,"RUB",-972.27,"RUB",null,"Супермаркеты",5411,"Перекресток",9,{"$f":"IFERROR(IF(A1071=\"\",\"\",VLOOKUP(J1071,'Соответствия статей'!$A$2:$B$50,2,0)),\"Другое\")","v":"Продукты"},"Банк","Расход"]
["2020-08-03T13:02:25","2020-02-05","*7127","OK",-200,"RUB",-200,"RUB",null,"Фастфуд",5814,"Stolovaya",2,{"$f":"IFERROR(IF(A1072=\"\",\"\",VLOOKUP(J1072,'Соответствия статей'!$A$2:$B$50,2,0)),\"Другое\")","v":"Рестораны"},"Банк","Расход"]
["2020-08-03T00:29:45","2020-02-03","*7127","OK",-7,"RUB",-7,"RUB",null,"Мобильные/иб",null,"Ростелеком Мобильная связь +79932213431",0,{"$f":"IFERROR(IF(A1073=\"\",\"\",VLOOKUP(J1073,'Соответствия статей'!$A$2:$B$50,2,0)),\"Другое\")","v":"Телефонная связь"},"Банк","Расход"]
["2020-08-02T16:06:02","2020-02-04","*7127","OK",-326.52,"RUB",-326.52,"RUB",null,"Супермаркеты",5411,"Семишагофф",3,{"$f":"IFERROR(IF(A1074=\"\",\"\",VLOOKUP(J1074,'Соответствия статей'!$A$2:$B$50,2,0)),\"Другое\")","v":"Продукты"},"Банк","Расход"]
["2020-08-02T13:08:33","2020-02-04","*7127","OK",-1182,"RUB",-1182,"RUB",null,"Дом, ремонт",5211,"СТАРТ",11,{"$f":"IFERROR(IF(A1075=\"\",\"\",VLOOKUP(J1075,'Соответствия статей'!$A$2:$B$50,2,0)),\"Другое\")","v":"Товары для дома, ремонта"},"Банк","Расход"]
["2020-08-02T12:40:51","2020-02-02","*7127","OK",-550,"RUB",-550,"RUB",null,"Мобильные/иб",null,"Ростелеком Мобильная связь +79932213431",0,{"$f":"IFERROR(IF(A1076=\"\",\"\",VLOOKUP(J1076,'Соответствия статей'!$A$2:$B$50,2,0)),\"Другое\")","v":"Телефонная связь"},"Банк","Расход"]
["2020-08-02T12:31:42","2020-02-02","*8173","OK",-4000,"RUB",-4000,"RUB",null,"Переводы/иб",null,"Олег Н.",0,{"$f":"IFERROR(IF(A1077=\"\",\"\",VLOOKUP(J1077,'Соответствия статей'!$A$2:$B$50,2,0)),\"Другое\")","v":"Переводы"},"Банк","Расход"]
["2020-08-01T15:54:26","2020-02-01","*8173","OK",490,"RUB",490,"RUB",null,"Прочие доходы",null,"Дмитрий И.",0,{"$f":"IFERROR(IF(A1078=\"\",\"\",VLOOKUP(J1078,'Соответствия статей'!$A$2:$B$50,2,0)),\"Другое\")","v":"Прочие доходы"},"Банк","Доход"]
["2020-08-01T14:26:50","2020-02-03","*8173","OK",-100,"RUB",-100,"RUB",5,"Транспорт",4111,"Метро Санкт-Петербург",5,{"$f":"IFERROR(IF(A1079=\"\",\"\",VLOOKUP(J1079,'Соответствия статей'!$A$2:$B$50,2,0)),\"Другое\")","v":"Транспорт"},"Банк","Расход"]
["2020-08-01T14:16:18","2020-02-03","*7127","OK",-1004.02,"RUB",-1004.02,"RUB",null,"Фастфуд",5814,"Evrazia",10,{"$f":"IFERROR(IF(A1080=\"\",\"\",VLOOKUP(J1080,'Соответствия статей'!$A$2:$B$50,2,0)),\"Другое\")","v":"Рестораны"},"Банк","Расход"]
["2020-08-01T11:35:28","2020-02-03","*8173","OK",-55,"RUB",-55,"RUB",2,"Транспорт",4111,"Метро Санкт-Петербург",2,{"$f":"IFERROR(IF(A1081=\"\",\"\",VLOOKUP(J1081,'Соответствия статей'!$A$2:$B$50,2,0)),\"Другое\")","v":"Транспорт"},"Банк","Расход"]
["2020-07-31T22:57:02","2020-02-03","*7127","OK",-1762.57,"RUB",-1762.57,"RUB",null,"Супермаркеты",5411,"Перекресток",17,{"$f":"IFERROR(IF(A1082=\"\",\"\",VLOOKUP(J1082,'Соответствия статей'!$A$2:$B$50,2,0)),\"Другое\")","v":"Продукты"},"Банк","Расход"]
["2020-07-31T21:47:18","2020-02-03","*8173","OK",-60,"RUB",-60,"RUB",3,"Транспорт",4111,"Метро Санкт-Петербург",3,{"$f":"IFERROR(IF(A1083=\"\",\"\",VLOOKUP(J1083,'Соответствия статей'!$A$2:$B$50,2,0)),\"Другое\")","v":"Транспорт"},"Банк","Расход"]
["2020-07-31T21:41:51","2020-02-01","*7127","OK",-1049,"RUB",-1049,"RUB",null,"Разные товары",5945,"IP Kurilov",10,{"$f":"IFERROR(IF(A1084=\"\",\"\",VLOOKUP(J1084,'Соответствия статей'!$A$2:$B$50,2,0)),\"Другое\")","v":"Другое"},"Банк","Расход"]
["2020-07-31T13:39:27","2020-02-01","*7127","OK",-35,"RUB",-35,"RUB",null,"Фастфуд",5814,"Petro-Servis",0,{"$f":"IFERROR(IF(A1085=\"\",\"\",VLOOKUP(J1085,'Соответствия статей'!$A$2:$B$50,2,0)),\"Другое\")","v":"Рестораны"},"Банк","Расход"]
["2020-07-31T13:07:33","2020-02-03","*7127","OK",-200,"RUB",-200,"RUB",null,"Фастфуд",5814,"Stolovaya",2,{"$f":"IFERROR(IF(A1086=\"\",\"\",VLOOKUP(J1086,'Соответствия статей'!$A$2:$B$50,2,0)),\"Другое\")","v":"Рестораны"},"Банк","Расход"]
["2020-07-31T12:13:56","2020-01-31","*7127","OK",25,"RUB",25,"RUB",null,"Прочие доходы",null,"Компенсация покупки",0,{"$f":"IFERROR(IF(A1087=\"\",\"\",VLOOKUP(J1087,'Соответствия статей'!$A$2:$B$50,2,0)),\"Другое\")","v":"Прочие доходы"},"Банк","Доход"]
["2020-07-31T12:13:46","2020-01-31","*7127","OK",190,"RUB",190,"RUB",null,"Прочие доходы",null,"Компенсация покупки",0,{"$f":"IFERROR(IF(A1088=\"\",\"\",VLOOKUP(J1088,'Соответствия статей'!$A$2:$B$50,2,0)),\"Другое\")","v":"Прочие доходы"},"Банк","Доход"]
["2020-07-31T12:12:40","2020-01-31","*7127","OK",234.89,"RUB",234.89,"RUB",null,"Прочие доходы",null,"Компенсация покупки",0,{"$f":"IFERROR(IF(A1089=\"\",\"\",VLOOKUP(J1089,'Соответствия статей'!$A$2:$B$50,2,0)),\"Другое\")","v":"Прочие доходы"},"Банк","Доход"]
["2020-07-31T12:12:04","2020-01-31","*7127","OK",208,"RUB",208,"RUB",null,"Прочие доходы",null,"Компенсация покупки",0,{"$f":"IFERROR(IF(A1090=\"\",\"\",VLOOKUP(J1090,'Соответствия статей'!$A$2:$B$50,2,0)),\"Другое\")","v":"Прочие доходы"},"Банк","Доход"]
["2020-07-31T12:10:54","2020-01-31","*7127","OK",1235,"RUB",1235,"RUB",null,"Прочие доходы",null,"Компенсация покупки",0,{"$f":"IFERROR(IF(A1091=\"\",\"\",VLOOKUP(J1091,'Соответствия статей'!$A$2:$B$50,2,0)),\"Другое\")","v":"Прочие доходы"},"Банк","Доход"]
["2020-07-30T23:08:10","2020-01-30",null,"OK",-59,"RUB",-59,"RUB",null,"Другое",null,"Плата за оповещения об операциях",0,{"$f":"IFERROR(IF(A1092=\"\",\"\",VLOOKUP(J1092,'Соответствия статей'!$A$2:$B$50,2,0)),\"Другое\")","v":"Другое"},"Банк","Расход"]
["2020-07-30T19:00:07","2020-02-03","*7127","OK",-166.74,"RUB",-166.74,"RUB",null,"Супермаркеты",5441,"Pyshnye Bulki",1,{"$f":"IFERROR(IF(A1093=\"\",\"\",VLOOKUP(J1093,'Соответствия статей'!$A$2:$B$50,2,0)),\"Другое\")","v":"Продукты"},"Банк","Расход"]
["2020-07-30T13:16:16","2020-02-01","*7127","OK",-205,"RUB",-205,"RUB",null,"Фастфуд",5814,"Stolovaya",2,{"$f":"IFERROR(IF(A1094=\"\",\"\",VLOOKUP(J1094,'Соответствия статей'!$A$2:$B$50,2,0)),\"Другое\")","v":"Рестораны"},"Банк","Расход"]
["2020-07-30T10:26:26","2020-01-31","*7127","OK",-25,"RUB",-25,"RUB",null,"Фастфуд",5814,"OOO As-Vend",0,{"$f":"IFERROR(IF(A1095=\"\",\"\",VLOOKUP(J1095,'Соответствия статей'!$A$2:$B$50,2,0)),\"Другое\")","v":"Рестораны"},"Банк","Расход"]
["2020-07-29T19:00:44","2020-01-31","*7127","OK",-76.02,"RUB",-76.02,"RUB",null,"Супермаркеты",5441,"Pyshnye Bulki",0,{"$f":"IFERROR(IF(A1096=\"\",\"\",VLOOKUP(J1096,'Соответствия статей'!$A$2:$B$50,2,0)),\"Другое\")","v":"Продукты"},"Банк","Расход"]
["2020-07-29T17:18:46","2020-01-29","*8173","OK",-26000,"RUB",-26000,"RUB",null,"Переводы/иб",null,"Олег Н.",0,{"$f":"IFERROR(IF(A1097=\"\",\"\",VLOOKUP(J1097,'Соответствия статей'!$A$2:$B$50,2,0)),\"Другое\")","v":"Переводы"},"Банк","Расход"]
["2020-07-29T13:12:11","2020-01-31","*7127","OK",-200,"RUB",-200,"RUB",null,"Фастфуд",5814,"Stolovaya",2,{"$f":"IFERROR(IF(A1098=\"\",\"\",VLOOKUP(J1098,'Соответствия статей'!$A$2:$B$50,2,0)),\"Другое\")","v":"Рестораны"},"Банк","Расход"]
["2020-07-29T07:51:07","2020-01-30","*7127","OK",-45,"RUB",-45,"RUB",null,"Фастфуд",5814,"OOO As-Vend",0,{"$f":"IFERROR(IF(A1099=\"\",\"\",VLOOKUP(J1099,'Соответствия статей'!$A$2:$B$50,2,0)),\"Другое\")","v":"Рестораны"},"Банк","Расход"]
["2020-07-28T17:12:50","2020-01-29","*7127","OK",-75,"RUB",-75,"RUB",null,"Фастфуд",5814,"OOO As-Vend",0,{"$f":"IFERROR(IF(A1100=\"\",\"\",VLOOKUP(J1100,'Соответствия статей'!$A$2:$B$50,2,0)),\"Другое\")","v":"Рестораны"},"Банк","Расход"]
["2020-07-28T13:27:08","2020-01-29","*7127","OK",-35,"RUB",-35,"RUB",null,"Фастфуд",5814,"Petro-Servis",0,{"$f":"IFERROR(IF(A1101=\"\",\"\",VLOOKUP(J1101,'Соответствия статей'!$A$2:$B$50,2,0)),\"Другое\")","v":"Рестораны"},"Банк","Расход"]
["2020-07-28T13:00:41","2020-01-30","*7127","OK",-200,"RUB",-200,"RUB",null,"Фастфуд",5814,"Stolovaya",2,{"$f":"IFERROR(IF(A1102=\"\",\"\",VLOOKUP(J1102,'Соответствия статей'!$A$2:$B$50,2,0)),\"Другое\")","v":"Рестораны"},"Банк","Расход"]
["2020-07-28T09:05:10","2020-01-29","*7127","OK",-25,"RUB",-25,"RUB",null,"Фастфуд",5814,"OOO As-Vend",0,{"$f":"IFERROR(IF(A1103=\"\",\"\",VLOOKUP(J1103,'Соответствия статей'!$A$2:$B$50,2,0)),\"Другое\")","v":"Рестораны"},"Банк","Расход"]
["2020-07-28T00:03:25","2020-01-29","*7127","OK",-84,"RUB",-84,"RUB",null,"Транспорт",4121,"Uber",0,{"$f":"IFERROR(IF(A1104=\"\",\"\",VLOOKUP(J1104,'Соответствия статей'!$A$2:$B$50,2,0)),\"Другое\")","v":"Транспорт"},"Банк","Расход"]
["2020-07-27T18:49:50","2020-01-29","*7127","OK",-140.1,"RUB",-140.1,"RUB",null,"Супермаркеты",5441,"Pyshnye Bulki",1,{"$f":"IFERROR(IF(A1105=\"\",\"\",VLOOKUP(J1105,'Соответствия статей'!$A$2:$B$50,2,0)),\"Другое\")","v":"Продукты"},"Банк","Расход"]
["2020-07-27T14:04:28","2020-01-27","*8173","OK",570,"RUB",570,"RUB",null,"Прочие доходы",null,"Федор Ф.",0,{"$f":"IFERROR(IF(A1106=\"\",\"\",VLOOKUP(J1106,'Соответствия статей'!$A$2:$B$50,2,0)),\"Другое\")","v":"Прочие доходы"},"Банк","Доход"]
["2020-07-27T13:15:36","2020-01-29","*7127","OK",-200,"RUB",-200,"RUB",null,"Фастфуд",5814,"Stolovaya",2,{"$f":"IFERROR(IF(A1107=\"\",\"\",VLOOKUP(J1107,'Соответствия статей'!$A$2:$B$50,2,0)),\"Другое\")","v":"Рестораны"},"Банк","Расход"]
["2020-07-27T09:52:28","2020-01-27","*8173","OK",190,"RUB",190,"RUB",null,"Прочие доходы",null,"Анна Ш.",0,{"$f":"IFERROR(IF(A1108=\"\",\"\",VLOOKUP(J1108,'Соответствия статей'!$A$2:$B$50,2,0)),\"Другое\")","v":"Прочие доходы"},"Банк","Доход"]
["2020-07-26T22:56:19","2020-01-30","*7127","OK",-275.43,"RUB",-275.43,"RUB",null,"Супермаркеты",5411,"Перекресток",2,{"$f":"IFERROR(IF(A1109=\"\",\"\",VLOOKUP(J1109,'Соответствия статей'!$A$2:$B$50,2,0)),\"Другое\")","v":"Продукты"},"Банк","Расход"]
["2020-07-25T15:10:38","2020-01-28","*7127","OK",-1363.73,"RUB",-1363.73,"RUB",null,"Супермаркеты",5411,"Перекресток",13,{"$f":"IFERROR(IF(A1110=\"\",\"\",VLOOKUP(J1110,'Соответствия статей'!$A$2:$B$50,2,0)),\"Другое\")","v":"Продукты"},"Банк","Расход"]
["2020-07-25T14:39:38","2020-01-28","*7127","OK",-691,"RUB",-691,"RUB",null,"Аптеки",5912,"Озерки",6,{"$f":"IFERROR(IF(A1111=\"\",\"\",VLOOKUP(J1111,'Соответствия статей'!$A$2:$B$50,2,0)),\"Другое\")","v":"Медицина"},"Банк","Расход"]
["2020-07-25T14:19:41","2020-01-27","*7127","OK",-5400,"RUB",-5400,"RUB",null,"Мед. услуги",8099,"A-Mediya LLC",54,{"$f":"IFERROR(IF(A1112=\"\",\"\",VLOOKUP(J1112,'Соответствия статей'!$A$2:$B$50,2,0)),\"Другое\")","v":"Медицина"},"Банк","Расход"]
["2020-07-24T18:43:57","2020-01-27","*7127","OK",-104,"RUB",-104,"RUB",null,"Транспорт",4121,"Uber",1,{"$f":"IFERROR(IF(A1113=\"\",\"\",VLOOKUP(J1113,'Соответствия статей'!$A$2:$B$50,2,0)),\"Другое\")","v":"Транспорт"},"Банк","Расход"]
["2020-07-24T13:21:42","2020-01-27","*7357","OK",-251,"RUB",-251,"RUB",2,"Фастфуд",5814,"Tarelka",2,{"$f":"IFERROR(IF(A1114=\"\",\"\",VLOOKUP(J1114,'Соответствия статей'!$A$2:$B$50,2,0)),\"Другое\")","v":"Рестораны"},"Банк","Расход"]
["2020-07-24T12:54:25","2020-01-25","*7127","OK",-35,"RUB",-35,"RUB",null,"Фастфуд",5814,"Petro-Servis",0,{"$f":"IFERROR(IF(A1115=\"\",\"\",VLOOKUP(J1115,'Соответствия статей'!$A$2:$B$50,2,0)),\"Другое\")","v":"Рестораны"},"Банк","Расход"]
["2020-07-24T12:37:39","2020-01-27","*7127","OK",-226,"RUB",-226,"RUB",null,"Фастфуд",5814,"Stolovaya",2,{"$f":"IFERROR(IF(A1116=\"\",\"\",VLOOKUP(J1116,'Соответствия статей'!$A$2:$B$50,2,0)),\"Другое\")","v":"Рестораны"},"Банк","Расход"]
["2020-07-24T10:10:51","2020-01-24","*7127","OK",-2850,"RUB",-2850,"RUB",null,"Развлечения",7999,"ilocked.ru/",28,{"$f":"IFERROR(IF(A1117=\"\",\"\",VLOOKUP(J1117,'Соответствия статей'!$A$2:$B$50,2,0)),\"Другое\")","v":"Развлечения"},"Банк","Расход"]
["2020-07-23T23:03:13","2020-01-23",null,"OK",-99,"RUB",-99,"RUB",null,"Другое",null,"Плата за обслуживание",0,{"$f":"IFERROR(IF(A1118=\"\",\"\",VLOOKUP(J1118,'Соответствия статей'!$A$2:$B$50,2,0)),\"Другое\")","v":"Другое"},"Банк","Расход"]
["2020-07-23T22:41:14","2020-01-23",null,"OK",270,"RUB",270,"RUB",null,"Прочие доходы",null,"Вознаграждение за операции покупок",0,{"$f":"IFERROR(IF(A1119=\"\",\"\",VLOOKUP(J1119,'Соответствия статей'!$A$2:$B$50,2,0)),\"Другое\")","v":"Прочие доходы"},"Банк","Доход"]
["2020-07-23T22:32:42","2020-01-24","*7127","OK",-110,"RUB",-110,"RUB",null,"Транспорт",4121,"Uber",1,{"$f":"IFERROR(IF(A1120=\"\",\"\",VLOOKUP(J1120,'Соответствия статей'!$A$2:$B$50,2,0)),\"Другое\")","v":"Транспорт"},"Банк","Расход"]
["2020-07-23T21:41:27","2020-01-23",null,"OK",4.1500000000000004,"RUB",4.1500000000000004,"RUB",null,"Прочие доходы",null,"Проценты на остаток по счету",0,{"$f":"IFERROR(IF(A1121=\"\",\"\",VLOOKUP(J1121,'Соответствия статей'!$A$2:$B$50,2,0)),\"Другое\")","v":"Прочие доходы"},"Банк","Доход"]
["2020-07-23T13:32:52","2020-01-24","*7127","OK",-25,"RUB",-25,"RUB",null,"Фастфуд",5814,"OOO As-Vend",0,{"$f":"IFERROR(IF(A1122=\"\",\"\",VLOOKUP(J1122,'Соответствия статей'!$A$2:$B$50,2,0)),\"Другое\")","v":"Рестораны"},"Банк","Расход"]
["2020-07-23T13:11:40","2020-01-25","*7127","OK",-200,"RUB",-200,"RUB",null,"Фастфуд",5814,"Stolovaya",2,{"$f":"IFERROR(IF(A1123=\"\",\"\",VLOOKUP(J1123,'Соответствия статей'!$A$2:$B$50,2,0)),\"Другое\")","v":"Рестораны"},"Банк","Расход"]
["2020-07-23T10:28:59","2020-01-24","*7127","OK",-25,"RUB",-25,"RUB",null,"Фастфуд",5814,"OOO As-Vend",0,{"$f":"IFERROR(IF(A1124=\"\",\"\",VLOOKUP(J1124,'Соответствия статей'!$A$2:$B$50,2,0)),\"Другое\")","v":"Рестораны"},"Банк","Расход"]
["2020-07-22T20:31:01","2020-01-24","*7357","OK",-301.74,"RUB",-301.74,"RUB",3,"Супермаркеты",5411,"Перекресток",3,{"$f":"IFERROR(IF(A1125=\"\",\"\",VLOOKUP(J1125,'Соответствия статей'!$A$2:$B$50,2,0)),\"Другое\")","v":"Продукты"},"Банк","Расход"]
["2020-07-22T13:41:11","2020-01-23","*7127","OK",-35,"RUB",-35,"RUB",null,"Фастфуд",5814,"Petro-Servis",0,{"$f":"IFERROR(IF(A1126=\"\",\"\",VLOOKUP(J1126,'Соответствия статей'!$A$2:$B$50,2,0)),\"Другое\")","v":"Рестораны"},"Банк","Расход"]
["2020-07-22T13:12:17","2020-01-24","*7127","OK",-200,"RUB",-200,"RUB",null,"Фастфуд",5814,"Stolovaya",2,{"$f":"IFERROR(IF(A1127=\"\",\"\",VLOOKUP(J1127,'Соответствия статей'!$A$2:$B$50,2,0)),\"Другое\")","v":"Рестораны"},"Банк","Расход"]
["2020-07-22T11:29:46","2020-01-23","*7127","OK",-25,"RUB",-25,"RUB",null,"Фастфуд",5814,"OOO As-Vend",0,{"$f":"IFERROR(IF(A1128=\"\",\"\",VLOOKUP(J1128,'Соответствия статей'!$A$2:$B$50,2,0)),\"Другое\")","v":"Рестораны"},"Банк","Расход"]
["2020-07-22T01:08:34","2020-01-23","*7127","OK",-340,"RUB",-340,"RUB",null,"Транспорт",4121,"Uber",3,{"$f":"IFERROR(IF(A1129=\"\",\"\",VLOOKUP(J1129,'Соответствия статей'!$A$2:$B$50,2,0)),\"Другое\")","v":"Транспорт"},"Банк","Расход"]
["2020-07-21T13:38:45","2020-01-22","*7127","OK",-35,"RUB",-35,"RUB",null,"Фастфуд",5814,"Petro-Servis",0,{"$f":"IFERROR(IF(A1130=\"\",\"\",VLOOKUP(J1130,'Соответствия статей'!$A$2:$B$50,2,0)),\"Другое\")","v":"Рестораны"},"Банк","Расход"]
["2020-07-21T13:15:46","2020-01-23","*7127","OK",-200,"RUB",-200,"RUB",null,"Фастфуд",5814,"Stolovaya",2,{"$f":"IFERROR(IF(A1131=\"\",\"\",VLOOKUP(J1131,'Соответствия статей'!$A$2:$B$50,2,0)),\"Другое\")","v":"Рестораны"},"Банк","Расход"]
["2020-07-21T11:20:05","2020-01-22","*7127","OK",-25,"RUB",-25,"RUB",null,"Фастфуд",5814,"OOO As-Vend",0,{"$f":"IFERROR(IF(A1132=\"\",\"\",VLOOKUP(J1132,'Соответствия статей'!$A$2:$B$50,2,0)),\"Другое\")","v":"Рестораны"},"Банк","Расход"]
["2020-07-21T10:52:47","2020-01-23","*7357","OK",-194,"RUB",-194,"RUB",1,"Фастфуд",5814,"Додо Пицца",1,{"$f":"IFERROR(IF(A1133=\"\",\"\",VLOOKUP(J1133,'Соответствия статей'!$A$2:$B$50,2,0)),\"Другое\")","v":"Рестораны"},"Банк","Расход"]
["2020-07-20T20:46:38","2020-01-22","*7127","OK",-191,"RUB",-191,"RUB",null,"Супермаркеты",5441,"Pyshnye Bulki",1,{"$f":"IFERROR(IF(A1134=\"\",\"\",VLOOKUP(J1134,'Соответствия статей'!$A$2:$B$50,2,0)),\"Другое\")","v":"Продукты"},"Банк","Расход"]
["2020-07-20T19:48:01","2020-01-22","*7357","OK",-178,"RUB",-178,"RUB",1,"Фастфуд",5814,"KFC",1,{"$f":"IFERROR(IF(A1135=\"\",\"\",VLOOKUP(J1135,'Соответствия статей'!$A$2:$B$50,2,0)),\"Другое\")","v":"Рестораны"},"Банк","Расход"]
["2020-07-20T13:34:47","2020-01-21","*7127","OK",-35,"RUB",-35,"RUB",null,"Фастфуд",5814,"Petro-Servis",0,{"$f":"IFERROR(IF(A1136=\"\",\"\",VLOOKUP(J1136,'Соответствия статей'!$A$2:$B$50,2,0)),\"Другое\")","v":"Рестораны"},"Банк","Расход"]
["2020-07-20T13:11:44","2020-01-22","*7127","OK",-200,"RUB",-200,"RUB",null,"Фастфуд",5814,"Stolovaya",2,{"$f":"IFERROR(IF(A1137=\"\",\"\",VLOOKUP(J1137,'Соответствия статей'!$A$2:$B$50,2,0)),\"Другое\")","v":"Рестораны"},"Банк","Расход"]
["2020-07-20T09:43:05","2020-01-21","*7127","OK",-25,"RUB",-25,"RUB",null,"Фастфуд",5814,"OOO As-Vend",0,{"$f":"IFERROR(IF(A1138=\"\",\"\",VLOOKUP(J1138,'Соответствия статей'!$A$2:$B$50,2,0)),\"Другое\")","v":"Рестораны"},"Банк","Расход"]
["2020-07-20T02:52:15","2020-01-20","*8173","FAILED",-50,"RUB",-50,"RUB",null,"Мобильные/иб",null,"TELE2 - автоплатеж",0,{"$f":"IFERROR(IF(A1139=\"\",\"\",VLOOKUP(J1139,'Соответствия статей'!$A$2:$B$50,2,0)),\"Другое\")","v":"Телефонная связь"},"Банк","Расход"]
["2020-07-19T22:11:29","2020-01-21","*7127","OK",-1701.39,"RUB",-1701.39,"RUB",null,"Супермаркеты",5411,"Перекресток",17,{"$f":"IFERROR(IF(A1140=\"\",\"\",VLOOKUP(J1140,'Соответствия статей'!$A$2:$B$50,2,0)),\"Другое\")","v":"Продукты"},"Банк","Расход"]
["2020-07-19T21:08:27","2020-01-21","*7127","OK",-400,"RUB",-400,"RUB",null,"Рестораны",5812,"Kebab 24k",4,{"$f":"IFERROR(IF(A1141=\"\",\"\",VLOOKUP(J1141,'Соответствия статей'!$A$2:$B$50,2,0)),\"Другое\")","v":"Рестораны"},"Банк","Расход"]
["2020-07-19T19:30:39","2020-01-20","*7127","OK",-168,"RUB",-168,"RUB",null,"Транспорт",4121,"Uber",1,{"$f":"IFERROR(IF(A1142=\"\",\"\",VLOOKUP(J1142,'Соответствия статей'!$A$2:$B$50,2,0)),\"Другое\")","v":"Транспорт"},"Банк","Расход"]
["2020-07-19T18:07:43","2020-01-21","*7127","OK",-100,"RUB",-100,"RUB",null,"Кино",7832,"Синема Парк",1,{"$f":"IFERROR(IF(A1143=\"\",\"\",VLOOKUP(J1143,'Соответствия статей'!$A$2:$B$50,2,0)),\"Другое\")","v":"Развлечения"},"Банк","Расход"]
["2020-07-19T17:53:37","2020-01-19","*7127","OK",-1220,"RUB",-1220,"RUB",null,"Кино",7832,"Билеты в кино",12,{"$f":"IFERROR(IF(A1144=\"\",\"\",VLOOKUP(J1144,'Соответствия статей'!$A$2:$B$50,2,0)),\"Другое\")","v":"Развлечения"},"Банк","Расход"]
["2020-07-19T11:21:51","2020-01-19","*7127","OK",-370,"RUB",-370,"RUB",null,"Мобильные/иб",null,"Мой телефон +79533443146",0,{"$f":"IFERROR(IF(A1145=\"\",\"\",VLOOKUP(J1145,'Соответствия статей'!$A$2:$B$50,2,0)),\"Другое\")","v":"Телефонная связь"},"Банк","Расход"]
["2020-07-18T10:59:33","2020-01-21","*7127","OK",-152.69999999999999,"RUB",-152.69999999999999,"RUB",null,"Супермаркеты",5411,"Магнит",1,{"$f":"IFERROR(IF(A1146=\"\",\"\",VLOOKUP(J1146,'Соответствия статей'!$A$2:$B$50,2,0)),\"Другое\")","v":"Продукты"},"Банк","Расход"]
["2020-07-17T19:14:51","2020-01-20","*7127","OK",-762.6,"RUB",-762.6,"RUB",null,"Супермаркеты",5411,"Магнит",7,{"$f":"IFERROR(IF(A1147=\"\",\"\",VLOOKUP(J1147,'Соответствия статей'!$A$2:$B$50,2,0)),\"Другое\")","v":"Продукты"},"Банк","Расход"]
["2020-07-17T13:14:04","2020-01-18","*7127","OK",-200,"RUB",-200,"RUB",null,"Фастфуд",5814,"Stolovaya",2,{"$f":"IFERROR(IF(A1148=\"\",\"\",VLOOKUP(J1148,'Соответствия статей'!$A$2:$B$50,2,0)),\"Другое\")","v":"Рестораны"},"Банк","Расход"]
["2020-07-17T10:19:45","2020-01-18","*7127","OK",-15,"RUB",-15,"RUB",null,"Фастфуд",5814,"OOO As-Vend",0,{"$f":"IFERROR(IF(A1149=\"\",\"\",VLOOKUP(J1149,'Соответствия статей'!$A$2:$B$50,2,0)),\"Другое\")","v":"Рестораны"},"Банк","Расход"]
["2020-07-17T10:17:53","2020-01-18","*7127","OK",-25,"RUB",-25,"RUB",null,"Фастфуд",5814,"OOO As-Vend",0,{"$f":"IFERROR(IF(A1150=\"\",\"\",VLOOKUP(J1150,'Соответствия статей'!$A$2:$B$50,2,0)),\"Другое\")","v":"Рестораны"},"Банк","Расход"]
["2020-07-16T19:33:30","2020-01-18","*7127","OK",-40,"RUB",-40,"RUB",null,"Супермаркеты",5441,"Pyshnye Bulki",0,{"$f":"IFERROR(IF(A1151=\"\",\"\",VLOOKUP(J1151,'Соответствия статей'!$A$2:$B$50,2,0)),\"Другое\")","v":"Продукты"},"Банк","Расход"]
["2020-07-16T14:00:55","2020-01-18","*7357","OK",-203,"RUB",-203,"RUB",2,"Фастфуд",5814,"Tarelka",2,{"$f":"IFERROR(IF(A1152=\"\",\"\",VLOOKUP(J1152,'Соответствия статей'!$A$2:$B$50,2,0)),\"Другое\")","v":"Рестораны"},"Банк","Расход"]
["2020-07-16T13:38:54","2020-01-17","*7127","OK",-35,"RUB",-35,"RUB",null,"Фастфуд",5814,"Petro-Servis",0,{"$f":"IFERROR(IF(A1153=\"\",\"\",VLOOKUP(J1153,'Соответствия статей'!$A$2:$B$50,2,0)),\"Другое\")","v":"Рестораны"},"Банк","Расход"]
["2020-07-16T13:11:52","2020-01-17","*7127","OK",-200,"RUB",-200,"RUB",null,"Фастфуд",5814,"Stolovaya",2,{"$f":"IFERROR(IF(A1154=\"\",\"\",VLOOKUP(J1154,'Соответствия статей'!$A$2:$B$50,2,0)),\"Другое\")","v":"Рестораны"},"Банк","Расход"]
["2020-07-16T07:44:57","2020-01-17","*7127","OK",-75,"RUB",-75,"RUB",null,"Фастфуд",5814,"OOO As-Vend",0,{"$f":"IFERROR(IF(A1155=\"\",\"\",VLOOKUP(J1155,'Соответствия статей'!$A$2:$B$50,2,0)),\"Другое\")","v":"Рестораны"},"Банк","Расход"]
["2020-07-16","2020-01-17","*7127","OK",54980,"RUB",54980,"RUB",null,"Дом, ремонт",5722,"Мвидео",-549,{"$f":"IFERROR(IF(A1156=\"\",\"\",VLOOKUP(J1156,'Соответствия статей'!$A$2:$B$50,2,0)),\"Другое\")","v":"Товары для дома, ремонта"},"Банк","Расход"]
["2020-07-15T21:19:30","2020-01-16","*7127","OK",-1100,"RUB",-1100,"RUB",null,"Красота",7230,"IP Layter",11,{"$f":"IFERROR(IF(A1157=\"\",\"\",VLOOKUP(J1157,'Соответствия статей'!$A$2:$B$50,2,0)),\"Другое\")","v":"Услуги для внешнего вида"},"Банк","Расход"]
["2020-07-15T20:03:36","2020-01-17","*7127","OK",-288.8,"RUB",-288.8,"RUB",null,"Супермаркеты",5411,"Перекресток",2,{"$f":"IFERROR(IF(A1158=\"\",\"\",VLOOKUP(J1158,'Соответствия статей'!$A$2:$B$50,2,0)),\"Другое\")","v":"Продукты"},"Банк","Расход"]
["2020-07-15T17:10:24","2020-01-16","*7127","OK",-20,"RUB",-20,"RUB",null,"Фастфуд",5814,"OOO As-Vend",0,{"$f":"IFERROR(IF(A1159=\"\",\"\",VLOOKUP(J1159,'Соответствия статей'!$A$2:$B$50,2,0)),\"Другое\")","v":"Рестораны"},"Банк","Расход"]
["2020-07-15T13:42:57","2020-01-16","*7127","OK",-25,"RUB",-25,"RUB",null,"Фастфуд",5814,"OOO As-Vend",0,{"$f":"IFERROR(IF(A1160=\"\",\"\",VLOOKUP(J1160,'Соответствия статей'!$A$2:$B$50,2,0)),\"Другое\")","v":"Рестораны"},"Банк","Расход"]
["2020-07-15T13:12:50","2020-01-17","*7127","OK",-205,"RUB",-205,"RUB",null,"Фастфуд",5814,"Stolovaya",2,{"$f":"IFERROR(IF(A1161=\"\",\"\",VLOOKUP(J1161,'Соответствия статей'!$A$2:$B$50,2,0)),\"Другое\")","v":"Рестораны"},"Банк","Расход"]
["2020-07-15T13:07:49","2020-01-17","*7357","OK",-218,"RUB",-218,"RUB",2,"Фастфуд",5814,"Tarelka",2,{"$f":"IFERROR(IF(A1162=\"\",\"\",VLOOKUP(J1162,'Соответствия статей'!$A$2:$B$50,2,0)),\"Другое\")","v":"Рестораны"},"Банк","Расход"]
["2020-07-15T08:55:46","2020-01-17","*7357","OK",-55,"RUB",-55,"RUB",2,"Транспорт",4111,"Метро Санкт-Петербург",2,{"$f":"IFERROR(IF(A1163=\"\",\"\",VLOOKUP(J1163,'Соответствия статей'!$A$2:$B$50,2,0)),\"Другое\")","v":"Транспорт"},"Банк","Расход"]
["2020-07-15T07:46:45","2020-01-16","*7127","OK",-25,"RUB",-25,"RUB",null,"Фастфуд",5814,"OOO As-Vend",0,{"$f":"IFERROR(IF(A1164=\"\",\"\",VLOOKUP(J1164,'Соответствия статей'!$A$2:$B$50,2,0)),\"Другое\")","v":"Рестораны"},"Банк","Расход"]
["2020-07-15T00:11:13","2020-01-16","*7127","OK",-520.86,"RUB",-520.86,"RUB",null,"Жкх/иб",4900,"Петроэлектросбыт",0,{"$f":"IFERROR(IF(A1165=\"\",\"\",VLOOKUP(J1165,'Соответствия статей'!$A$2:$B$50,2,0)),\"Другое\")","v":"Коммунальные услуги"},"Банк","Расход"]
["2020-07-14T23:44:46","2020-01-16","*7127","OK",-54980,"RUB",-54980,"RUB",null,"Дом, ремонт",5722,"Мвидео",549,{"$f":"IFERROR(IF(A1166=\"\",\"\",VLOOKUP(J1166,'Соответствия статей'!$A$2:$B$50,2,0)),\"Другое\")","v":"Товары для дома, ремонта"},"Банк","Расход"]
["2020-07-14T13:34:53","2020-01-15","*7127","OK",-35,"RUB",-35,"RUB",null,"Фастфуд",5814,"Petro-Servis",0,{"$f":"IFERROR(IF(A1167=\"\",\"\",VLOOKUP(J1167,'Соответствия статей'!$A$2:$B$50,2,0)),\"Другое\")","v":"Рестораны"},"Банк","Расход"]
["2020-07-14T13:12:18","2020-01-15","*7127","OK",-200,"RUB",-200,"RUB",null,"Фастфуд",5814,"Stolovaya",2,{"$f":"IFERROR(IF(A1168=\"\",\"\",VLOOKUP(J1168,'Соответствия статей'!$A$2:$B$50,2,0)),\"Другое\")","v":"Рестораны"},"Банк","Расход"]
["2020-07-13T20:48:36","2020-01-15","*7357","OK",-411.4,"RUB",-411.4,"RUB",4,"Супермаркеты",5411,"Перекресток",4,{"$f":"IFERROR(IF(A1169=\"\",\"\",VLOOKUP(J1169,'Соответствия статей'!$A$2:$B$50,2,0)),\"Другое\")","v":"Продукты"},"Банк","Расход"]
["2020-07-13T19:19:14","2020-01-15","*7357","OK",-55,"RUB",-55,"RUB",0,"Фастфуд",5814,"Tarelka",0,{"$f":"IFERROR(IF(A1170=\"\",\"\",VLOOKUP(J1170,'Соответствия статей'!$A$2:$B$50,2,0)),\"Другое\")","v":"Рестораны"},"Банк","Расход"]
["2020-07-13T19:17:06","2020-01-15","*7127","OK",-1371.86,"RUB",-1371.86,"RUB",null,"Супермаркеты",5411,"Магнит",13,{"$f":"IFERROR(IF(A1171=\"\",\"\",VLOOKUP(J1171,'Соответствия статей'!$A$2:$B$50,2,0)),\"Другое\")","v":"Продукты"},"Банк","Расход"]
["2020-07-13T13:25:29","2020-01-14","*7127","OK",-35,"RUB",-35,"RUB",null,"Фастфуд",5814,"Petro-Servis",0,{"$f":"IFERROR(IF(A1172=\"\",\"\",VLOOKUP(J1172,'Соответствия статей'!$A$2:$B$50,2,0)),\"Другое\")","v":"Рестораны"},"Банк","Расход"]
["2020-07-13T13:04:48","2020-01-15","*7127","OK",-260,"RUB",-260,"RUB",null,"Фастфуд",5814,"Stolovaya",2,{"$f":"IFERROR(IF(A1173=\"\",\"\",VLOOKUP(J1173,'Соответствия статей'!$A$2:$B$50,2,0)),\"Другое\")","v":"Рестораны"},"Банк","Расход"]
["2020-07-13T12:24:44","2020-01-15","*7357","OK",-230,"RUB",-230,"RUB",2,"Фастфуд",5814,"Tarelka",2,{"$f":"IFERROR(IF(A1174=\"\",\"\",VLOOKUP(J1174,'Соответствия статей'!$A$2:$B$50,2,0)),\"Другое\")","v":"Рестораны"},"Банк","Расход"]
["2020-07-12T17:19:45","2020-01-14","*8173","OK",-150,"RUB",-150,"RUB",7,"Транспорт",4111,"Метро Санкт-Петербург",7,{"$f":"IFERROR(IF(A1175=\"\",\"\",VLOOKUP(J1175,'Соответствия статей'!$A$2:$B$50,2,0)),\"Другое\")","v":"Транспорт"},"Банк","Расход"]
["2020-07-12T17:17:26","2020-01-14","*8173","OK",-150,"RUB",-150,"RUB",7,"Транспорт",4111,"Метро Санкт-Петербург",7,{"$f":"IFERROR(IF(A1176=\"\",\"\",VLOOKUP(J1176,'Соответствия статей'!$A$2:$B$50,2,0)),\"Другое\")","v":"Транспорт"},"Банк","Расход"]
["2020-07-11T12:59:38","2020-01-13","*7127","OK",-745.61,"RUB",-745.61,"RUB",null,"Супермаркеты",5411,"Магнит",7,{"$f":"IFERROR(IF(A1177=\"\",\"\",VLOOKUP(J1177,'Соответствия статей'!$A$2:$B$50,2,0)),\"Другое\")","v":"Продукты"},"Банк","Расход"]
["2020-07-10T07:22:43","2020-01-10","*8173","OK",240,"RUB",240,"RUB",null,"Прочие доходы",null,"Бонус по акции",0,{"$f":"IFERROR(IF(A1178=\"\",\"\",VLOOKUP(J1178,'Соответствия статей'!$A$2:$B$50,2,0)),\"Другое\")","v":"Прочие доходы"},"Банк","Доход"]
["2020-07-09T22:05:08","2020-01-11","*8173","OK",-157,"RUB",-157,"RUB",7,"Транспорт",4121,"Яндекс Такси",7,{"$f":"IFERROR(IF(A1179=\"\",\"\",VLOOKUP(J1179,'Соответствия статей'!$A$2:$B$50,2,0)),\"Другое\")","v":"Транспорт"},"Банк","Расход"]
["2020-07-09T19:21:03","2020-01-11","*8173","OK",-239,"RUB",-239,"RUB",11,"Транспорт",4121,"Яндекс Такси",11,{"$f":"IFERROR(IF(A1180=\"\",\"\",VLOOKUP(J1180,'Соответствия статей'!$A$2:$B$50,2,0)),\"Другое\")","v":"Транспорт"},"Банк","Расход"]
["2020-07-09T19:15:41","2020-01-11","*8173","OK",-648,"RUB",-648,"RUB",32,"Кино",7832,"Синема Парк",32,{"$f":"IFERROR(IF(A1181=\"\",\"\",VLOOKUP(J1181,'Соответствия статей'!$A$2:$B$50,2,0)),\"Другое\")","v":"Развлечения"},"Банк","Расход"]
["2020-07-09T18:15:52","2020-01-10","*7127","OK",-410,"RUB",-410,"RUB",null,"Рестораны",5812,"OOO Mir Vkusa",4,{"$f":"IFERROR(IF(A1182=\"\",\"\",VLOOKUP(J1182,'Соответствия статей'!$A$2:$B$50,2,0)),\"Другое\")","v":"Рестораны"},"Банк","Расход"]
["2020-07-09T02:16:20","2020-01-10","*8173","OK",-235,"RUB",-235,"RUB",11,"Транспорт",4121,"Яндекс Такси",11,{"$f":"IFERROR(IF(A1183=\"\",\"\",VLOOKUP(J1183,'Соответствия статей'!$A$2:$B$50,2,0)),\"Другое\")","v":"Транспорт"},"Банк","Расход"]
["2020-07-08T20:28:04","2020-01-10","*7127","OK",-2600,"RUB",-2600,"RUB",null,"Развлечения",7999,"Elyaty Club",26,{"$f":"IFERROR(IF(A1184=\"\",\"\",VLOOKUP(J1184,'Соответствия статей'!$A$2:$B$50,2,0)),\"Другое\")","v":"Развлечения"},"Банк","Расход"]
["2020-07-08T15:59:20","2020-01-10","*7127","OK",-171.8,"RUB",-171.8,"RUB",null,"Супермаркеты",5411,"Магнит",1,{"$f":"IFERROR(IF(A1185=\"\",\"\",VLOOKUP(J1185,'Соответствия статей'!$A$2:$B$50,2,0)),\"Другое\")","v":"Продукты"},"Банк","Расход"]
["2020-07-08T15:49:41","2020-01-10","*7127","OK",-293,"RUB",-293,"RUB",null,"Разные товары",5331,"Magazin Rider",2,{"$f":"IFERROR(IF(A1186=\"\",\"\",VLOOKUP(J1186,'Соответствия статей'!$A$2:$B$50,2,0)),\"Другое\")","v":"Другое"},"Банк","Расход"]
["2020-07-08T15:39:13","2020-01-10","*7127","OK",-55,"RUB",-55,"RUB",null,"Разные товары",5943,"IP Turova D.Yu. Rider",0,{"$f":"IFERROR(IF(A1187=\"\",\"\",VLOOKUP(J1187,'Соответствия статей'!$A$2:$B$50,2,0)),\"Другое\")","v":"Другое"},"Банк","Расход"]
["2020-07-08T15:28:40","2020-01-10","*7127","OK",-339,"RUB",-339,"RUB",null,"Разные товары",5331,"Magazin Rider",3,{"$f":"IFERROR(IF(A1188=\"\",\"\",VLOOKUP(J1188,'Соответствия статей'!$A$2:$B$50,2,0)),\"Другое\")","v":"Другое"},"Банк","Расход"]
["2020-07-07T01:39:53","2020-01-07","*7127","OK",-160.09,"RUB",-160.09,"RUB",null,"Разные товары",5399,"Aliexpress.com",1,{"$f":"IFERROR(IF(A1189=\"\",\"\",VLOOKUP(J1189,'Соответствия статей'!$A$2:$B$50,2,0)),\"Другое\")","v":"Другое"},"Банк","Расход"]
["2020-07-06T20:42:20","2020-01-08","*7127","OK",-1235,"RUB",-1235,"RUB",null,"Фастфуд",5814,"Додо Пицца",12,{"$f":"IFERROR(IF(A1190=\"\",\"\",VLOOKUP(J1190,'Соответствия статей'!$A$2:$B$50,2,0)),\"Другое\")","v":"Рестораны"},"Банк","Расход"]
["2020-07-05T16:36:55","2020-01-07","*8173","OK",-235,"RUB",-235,"RUB",11,"Транспорт",4121,"Яндекс Такси",11,{"$f":"IFERROR(IF(A1191=\"\",\"\",VLOOKUP(J1191,'Соответствия статей'!$A$2:$B$50,2,0)),\"Другое\")","v":"Транспорт"},"Банк","Расход"]
["2020-07-03T22:18:59","2020-01-06","*8173","OK",-178,"RUB",-178,"RUB",8,"Транспорт",4121,"Яндекс Такси",8,{"$f":"IFERROR(IF(A1192=\"\",\"\",VLOOKUP(J1192,'Соответствия статей'!$A$2:$B$50,2,0)),\"Другое\")","v":"Транспорт"},"Банк","Расход"]
["2020-07-03T22:16:49","2020-01-04","*8173","OK",-50,"RUB",-50,"RUB",null,"Переводы/иб",null,"Елена Н.",0,{"$f":"IFERROR(IF(A1193=\"\",\"\",VLOOKUP(J1193,'Соответствия статей'!$A$2:$B$50,2,0)),\"Другое\")","v":"Переводы"},"Банк","Расход"]
["2020-07-03T17:52:32","2020-01-03","*8173","OK",-1600,"RUB",-1600,"RUB",80,"Кино",7832,"Билеты в кино",80,{"$f":"IFERROR(IF(A1194=\"\",\"\",VLOOKUP(J1194,'Соответствия статей'!$A$2:$B$50,2,0)),\"Другое\")","v":"Развлечения"},"Банк","Расход"]
["2020-07-03T00:35:00","2020-01-04","*8173","OK",-102,"RUB",-102,"RUB",5,"Транспорт",4121,"Яндекс Такси",5,{"$f":"IFERROR(IF(A1195=\"\",\"\",VLOOKUP(J1195,'Соответствия статей'!$A$2:$B$50,2,0)),\"Другое\")","v":"Транспорт"},"Банк","Расход"]
["2020-07-03T00:35:00",null,null,null,55000,null,null,null,null,"Заработная плата",null,"Заработная плата",null,{"$f":"IFERROR(IF(A1196=\"\",\"\",VLOOKUP(J1196,'Соответствия статей'!$A$2:$B$50,2,0)),\"Другое\")","v":"Заработная плата"},"Банк","Доход"]
["2020-07-03T00:35:00",null,null,null,15000,null,null,null,null,"Оплата за преподавание",null,"Оплата за преподавание",null,{"$f":"IFERROR(IF(A1197=\"\",\"\",VLOOKUP(J1197,'Соответствия статей'!$A$2:$B$50,2,0)),\"Другое\")","v":"Оплата за преподавание"},"Банк","Доход"]
["2020-07-03T00:35:00",null,null,null,5000,null,null,null,null,"Прочие доходы",null,"Прочие доходы",null,{"$f":"IFERROR(IF(A1198=\"\",\"\",VLOOKUP(J1198,'Соответствия статей'!$A$2:$B$50,2,0)),\"Другое\")","v":"Прочие доходы"},"Банк","Доход"]
["2020-07-03T00:35:00",null,null,null,5000,null,null,null,null,"Дивиденды",null,"Дивиденды",null,{"$f":"IFERROR(IF(A1199=\"\",\"\",VLOOKUP(J1199,'Соответствия статей'!$A$2:$B$50,2,0)),\"Другое\")","v":"Дивиденды"},"Банк","Доход"]
["2020-07-03T00:35:00",null,null,null,5000,null,null,null,null,"Проценты по вкладам",null,"Проценты по вкладам",null,{"$f":"IFERROR(IF(A1200=\"\",\"\",VLOOKUP(J1200,'Соответствия статей'!$A$2:$B$50,2,0)),\"Другое\")","v":"Проценты по вкладам"},"Банк","Доход"]
["2020-08-03T00:35:00",null,null,null,55000,null,null,null,null,"Заработная плата",null,"Заработная плата",null,{"$f":"IFERROR(IF(A1201=\"\",\"\",VLOOKUP(J1201,'Соответствия статей'!$A$2:$B$50,2,0)),\"Другое\")","v":"Заработная плата"},"Банк","Доход"]
["2020-08-03T00:35:00",null,null,null,15000,null,null,null,null,"Оплата за преподавание",null,"Оплата за преподавание",null,{"$f":"IFERROR(IF(A1202=\"\",\"\",VLOOKUP(J1202,'Соответствия статей'!$A$2:$B$50,2,0)),\"Другое\")","v":"Оплата за преподавание"},"Банк","Доход"]
["2020-08-03T00:35:00",null,null,null,5000,null,null,null,null,"Прочие доходы",null,"Прочие доходы",null,{"$f":"IFERROR(IF(A1203=\"\",\"\",VLOOKUP(J1203,'Соответствия статей'!$A$2:$B$50,2,0)),\"Другое\")","v":"Прочие доходы"},"Банк","Доход"]
["2020-08-03T00:35:00",null,null,null,5000,null,null,null,null,"Дивиденды",null,"Дивиденды",null,{"$f":"IFERROR(IF(A1204=\"\",\"\",VLOOKUP(J1204,'Соответствия статей'!$A$2:$B$50,2,0)),\"Другое\")","v":"Дивиденды"},"Банк","Доход"]
["2020-08-03T00:35:00",null,null,null,5000,null,null,null,null,"Проценты по вкладам",null,"Проценты по вкладам",null,{"$f":"IFERROR(IF(A1205=\"\",\"\",VLOOKUP(J1205,'Соответствия статей'!$A$2:$B$50,2,0)),\"Другое\")","v":"Проценты по вкладам"},"Банк","Доход"]
["2020-09-03T00:35:00",null,null,null,55000,null,null,null,null,"Заработная плата",null,"Заработная плата",null,{"$f":"IFERROR(IF(A1206=\"\",\"\",VLOOKUP(J1206,'Соответствия статей'!$A$2:$B$50,2,0)),\"Другое\")","v":"Заработная плата"},"Банк","Доход"]
["2020-09-03T00:35:00",null,null,null,15000,null,null,null,null,"Оплата за преподавание",null,"Оплата за преподавание",null,{"$f":"IFERROR(IF(A1207=\"\",\"\",VLOOKUP(J1207,'Соответствия статей'!$A$2:$B$50,2,0)),\"Другое\")","v":"Оплата за преподавание"},"Банк","Доход"]
["2020-09-03T00:35:00",null,null,null,5000,null,null,null,null,"Прочие доходы",null,"Прочие доходы",null,{"$f":"IFERROR(IF(A1208=\"\",\"\",VLOOKUP(J1208,'Соответствия статей'!$A$2:$B$50,2,0)),\"Другое\")","v":"Прочие доходы"},"Банк","Доход"]
["2020-09-03T00:35:00",null,null,null,5000,null,null,null,null,"Дивиденды",null,"Дивиденды",null,{"$f":"IFERROR(IF(A1209=\"\",\"\",VLOOKUP(J1209,'Соответствия статей'!$A$2:$B$50,2,0)),\"Другое\")","v":"Дивиденды"},"Банк","Доход"]
["2020-09-03T00:35:00",null,null,null,5000,null,null,null,null,"Проценты по вкладам",null,"Проценты по вкладам",null,{"$f":"IFERROR(IF(A1210=\"\",\"\",VLOOKUP(J1210,'Соответствия статей'!$A$2:$B$50,2,0)),\"Другое\")","v":"Проценты по вкладам"},"Банк","Доход"]
["2020-12-31T23:08:49","2020-04-02","*7127","OK",-400,"RUB",-400,"RUB",null,"Сервис. услуги",7311,"Y.M*youdo",0,{"$f":"IFERROR(IF(A1211=\"\",\"\",VLOOKUP(J1211,'Соответствия статей'!$A$2:$B$50,2,0)),\"Другое\")","v":"Другое"},"Банк","Расход"]
["2020-12-31T19:55:21","2020-04-01","*7127","OK",-100,"RUB",-100,"RUB",null,"Сервис. услуги",7361,"PayMaster",1,{"$f":"IFERROR(IF(A1212=\"\",\"\",VLOOKUP(J1212,'Соответствия статей'!$A$2:$B$50,2,0)),\"Другое\")","v":"Другое"},"Банк","Расход"]
["2020-12-31T17:06:30","2020-04-02","*7127","OK",-206.55,"RUB",-206.55,"RUB",null,"Аптеки",5912,"Аптека 36,6",2,{"$f":"IFERROR(IF(A1213=\"\",\"\",VLOOKUP(J1213,'Соответствия статей'!$A$2:$B$50,2,0)),\"Другое\")","v":"Медицина"},"Банк","Расход"]
["2020-12-31T16:36:49","2020-04-02","*7127","OK",-559,"RUB",-559,"RUB",null,"Аптеки",5912,"Аптеки Первая Помощь",5,{"$f":"IFERROR(IF(A1214=\"\",\"\",VLOOKUP(J1214,'Соответствия статей'!$A$2:$B$50,2,0)),\"Другое\")","v":"Медицина"},"Банк","Расход"]
["2020-12-31T16:26:24","2020-04-02","*7127","OK",-215.98,"RUB",-215.98,"RUB",null,"Супермаркеты",5411,"Семишагофф",2,{"$f":"IFERROR(IF(A1215=\"\",\"\",VLOOKUP(J1215,'Соответствия статей'!$A$2:$B$50,2,0)),\"Другое\")","v":"Продукты"},"Банк","Расход"]
["2020-12-31T13:17:30","2020-03-31","*7127","OK",209,"RUB",209,"RUB",null,"Прочие доходы",null,"Компенсация покупки",0,{"$f":"IFERROR(IF(A1216=\"\",\"\",VLOOKUP(J1216,'Соответствия статей'!$A$2:$B$50,2,0)),\"Другое\")","v":"Прочие доходы"},"Банк","Доход"]
["2020-12-31T13:17:13","2020-03-31","*7127","OK",200,"RUB",200,"RUB",null,"Прочие доходы",null,"Компенсация покупки",0,{"$f":"IFERROR(IF(A1217=\"\",\"\",VLOOKUP(J1217,'Соответствия статей'!$A$2:$B$50,2,0)),\"Другое\")","v":"Прочие доходы"},"Банк","Доход"]
["2020-12-31T13:17:00","2020-03-31","*7127","OK",200,"RUB",200,"RUB",null,"Прочие доходы",null,"Компенсация покупки",0,{"$f":"IFERROR(IF(A1218=\"\",\"\",VLOOKUP(J1218,'Соответствия статей'!$A$2:$B$50,2,0)),\"Другое\")","v":"Прочие доходы"},"Банк","Доход"]
["2020-12-31T13:16:26","2020-03-31","*7127","OK",265,"RUB",265,"RUB",null,"Прочие доходы",null,"Компенсация покупки",0,{"$f":"IFERROR(IF(A1219=\"\",\"\",VLOOKUP(J1219,'Соответствия статей'!$A$2:$B$50,2,0)),\"Другое\")","v":"Прочие доходы"},"Банк","Доход"]
["2020-12-31T13:16:08","2020-03-31","*7127","OK",250,"RUB",250,"RUB",null,"Прочие доходы",null,"Компенсация покупки",0,{"$f":"IFERROR(IF(A1220=\"\",\"\",VLOOKUP(J1220,'Соответствия статей'!$A$2:$B$50,2,0)),\"Другое\")","v":"Прочие доходы"},"Банк","Доход"]
["2020-12-31T13:15:48","2020-03-31","*7127","OK",240,"RUB",240,"RUB",null,"Прочие доходы",null,"Компенсация покупки",0,{"$f":"IFERROR(IF(A1221=\"\",\"\",VLOOKUP(J1221,'Соответствия статей'!$A$2:$B$50,2,0)),\"Другое\")","v":"Прочие доходы"},"Банк","Доход"]
["2020-12-30T22:33:51","2020-03-30",null,"OK",-59,"RUB",-59,"RUB",null,"Другое",null,"Плата за оповещения об операциях",0,{"$f":"IFERROR(IF(A1222=\"\",\"\",VLOOKUP(J1222,'Соответствия статей'!$A$2:$B$50,2,0)),\"Другое\")","v":"Другое"},"Банк","Расход"]
["2020-12-27T09:09:31","2020-03-30","*7127","OK",-3764,"RUB",-3764,"RUB",null,"Супермаркеты",5411,"Перекресток",37,{"$f":"IFERROR(IF(A1223=\"\",\"\",VLOOKUP(J1223,'Соответствия статей'!$A$2:$B$50,2,0)),\"Другое\")","v":"Продукты"},"Банк","Расход"]
["2020-12-25T17:54:29","2020-03-27","*8173","OK",-507.75,"RUB",-507.75,"RUB",5,"Супермаркеты",5411,"Перекресток",5,{"$f":"IFERROR(IF(A1224=\"\",\"\",VLOOKUP(J1224,'Соответствия статей'!$A$2:$B$50,2,0)),\"Другое\")","v":"Продукты"},"Банк","Расход"]
["2020-12-25T17:42:43","2020-03-25","*8173","OK",-130000,"RUB",-130000,"RUB",null,"Наличные",6011,"Банкомат Тинькофф",0,{"$f":"IFERROR(IF(A1225=\"\",\"\",VLOOKUP(J1225,'Соответствия статей'!$A$2:$B$50,2,0)),\"Другое\")","v":"Снятие наличных"},"Банк","Расход"]
["2020-12-24T21:27:51","2020-03-25","*7127","OK",-100,"RUB",-100,"RUB",null,"Мобильные/иб",null,"Ростелеком Мобильная связь +79932213431",0,{"$f":"IFERROR(IF(A1226=\"\",\"\",VLOOKUP(J1226,'Соответствия статей'!$A$2:$B$50,2,0)),\"Другое\")","v":"Телефонная связь"},"Банк","Расход"]
["2020-12-24T20:41:12","2020-03-26","*7127","OK",-264.79000000000002,"RUB",-264.79000000000002,"RUB",null,"Супермаркеты",5411,"Дикси",2,{"$f":"IFERROR(IF(A1227=\"\",\"\",VLOOKUP(J1227,'Соответствия статей'!$A$2:$B$50,2,0)),\"Другое\")","v":"Продукты"},"Банк","Расход"]
["2020-12-24T20:25:04","2020-03-26","*7127","OK",-946,"RUB",-946,"RUB",null,"Аптеки",5912,"Озерки",9,{"$f":"IFERROR(IF(A1228=\"\",\"\",VLOOKUP(J1228,'Соответствия статей'!$A$2:$B$50,2,0)),\"Другое\")","v":"Медицина"},"Банк","Расход"]
["2020-12-23T23:13:50","2020-03-23",null,"OK",-99,"RUB",-99,"RUB",null,"Другое",null,"Плата за обслуживание",0,{"$f":"IFERROR(IF(A1229=\"\",\"\",VLOOKUP(J1229,'Соответствия статей'!$A$2:$B$50,2,0)),\"Другое\")","v":"Другое"},"Банк","Расход"]
["2020-12-23T22:49:06","2020-03-23",null,"OK",227,"RUB",227,"RUB",null,"Прочие доходы",null,"Вознаграждение за операции покупок",0,{"$f":"IFERROR(IF(A1230=\"\",\"\",VLOOKUP(J1230,'Соответствия статей'!$A$2:$B$50,2,0)),\"Другое\")","v":"Прочие доходы"},"Банк","Доход"]
["2020-12-23T22:37:43","2020-03-25","*8173","OK",-101,"RUB",-101,"RUB",5,"Транспорт",4121,"Uber",5,{"$f":"IFERROR(IF(A1231=\"\",\"\",VLOOKUP(J1231,'Соответствия статей'!$A$2:$B$50,2,0)),\"Другое\")","v":"Транспорт"},"Банк","Расход"]
["2020-12-23T22:07:34","2020-03-25","*7127","OK",-1856.58,"RUB",-1856.58,"RUB",null,"Супермаркеты",5411,"Перекресток",18,{"$f":"IFERROR(IF(A1232=\"\",\"\",VLOOKUP(J1232,'Соответствия статей'!$A$2:$B$50,2,0)),\"Другое\")","v":"Продукты"},"Банк","Расход"]
["2020-12-23T21:46:03","2020-03-23",null,"OK",239.78,"RUB",239.78,"RUB",null,"Прочие доходы",null,"Проценты на остаток по счету",0,{"$f":"IFERROR(IF(A1233=\"\",\"\",VLOOKUP(J1233,'Соответствия статей'!$A$2:$B$50,2,0)),\"Другое\")","v":"Прочие доходы"},"Банк","Доход"]
["2020-12-23T19:55:17","2020-03-23","*8173","OK",900,"RUB",900,"RUB",null,"Прочие доходы",null,"Иван Ш.",0,{"$f":"IFERROR(IF(A1234=\"\",\"\",VLOOKUP(J1234,'Соответствия статей'!$A$2:$B$50,2,0)),\"Другое\")","v":"Прочие доходы"},"Банк","Доход"]
["2020-12-23T14:12:48","2020-03-24","*7127","OK",48751,"RUB",48751,"RUB",null,"Супермаркеты",5411,"Ozon.ru",-487,{"$f":"IFERROR(IF(A1235=\"\",\"\",VLOOKUP(J1235,'Соответствия статей'!$A$2:$B$50,2,0)),\"Другое\")","v":"Продукты"},"Банк","Расход"]
["2020-12-23T14:02:37","2020-03-24","*7127","OK",-48751,"RUB",-48751,"RUB",null,"Супермаркеты",5411,"Ozon.ru",487,{"$f":"IFERROR(IF(A1236=\"\",\"\",VLOOKUP(J1236,'Соответствия статей'!$A$2:$B$50,2,0)),\"Другое\")","v":"Продукты"},"Банк","Расход"]
["2020-12-22T14:59:46","2020-03-24","*8173","OK",-100,"RUB",-100,"RUB",5,"Транспорт",4111,"Метро Санкт-Петербург",5,{"$f":"IFERROR(IF(A1237=\"\",\"\",VLOOKUP(J1237,'Соответствия статей'!$A$2:$B$50,2,0)),\"Другое\")","v":"Транспорт"},"Банк","Расход"]
["2020-12-22T04:43:15","2020-03-23","*7127","OK",300,"RUB",300,"RUB",null,"Авиабилеты",4511,"Авиакомпания UTair",-3,{"$f":"IFERROR(IF(A1238=\"\",\"\",VLOOKUP(J1238,'Соответствия статей'!$A$2:$B$50,2,0)),\"Другое\")","v":"Поездки"},"Банк","Расход"]
["2020-12-22T04:43:14","2020-03-23","*7127","OK",300,"RUB",300,"RUB",null,"Авиабилеты",4511,"Авиакомпания UTair",-3,{"$f":"IFERROR(IF(A1239=\"\",\"\",VLOOKUP(J1239,'Соответствия статей'!$A$2:$B$50,2,0)),\"Другое\")","v":"Поездки"},"Банк","Расход"]
["2020-12-22T04:43:13","2020-03-23","*7127","OK",300,"RUB",300,"RUB",null,"Авиабилеты",4511,"Авиакомпания UTair",-3,{"$f":"IFERROR(IF(A1240=\"\",\"\",VLOOKUP(J1240,'Соответствия статей'!$A$2:$B$50,2,0)),\"Другое\")","v":"Поездки"},"Банк","Расход"]
["2020-12-22T04:40:15","2020-03-23","*7127","OK",299,"RUB",299,"RUB",null,"Авиабилеты",4511,"Авиакомпания UTair",-2,{"$f":"IFERROR(IF(A1241=\"\",\"\",VLOOKUP(J1241,'Соответствия статей'!$A$2:$B$50,2,0)),\"Другое\")","v":"Поездки"},"Банк","Расход"]
["2020-12-22T04:40:14","2020-03-23","*7127","OK",199,"RUB",199,"RUB",null,"Авиабилеты",4511,"Авиакомпания UTair",-1,{"$f":"IFERROR(IF(A1242=\"\",\"\",VLOOKUP(J1242,'Соответствия статей'!$A$2:$B$50,2,0)),\"Другое\")","v":"Поездки"},"Банк","Расход"]
["2020-12-22T04:40:13","2020-03-23","*7127","OK",199,"RUB",199,"RUB",null,"Авиабилеты",4511,"Авиакомпания UTair",-1,{"$f":"IFERROR(IF(A1243=\"\",\"\",VLOOKUP(J1243,'Соответствия статей'!$A$2:$B$50,2,0)),\"Другое\")","v":"Поездки"},"Банк","Расход"]
["2020-12-21T15:43:23","2020-03-23","*7127","OK",-15.2,"RUB",-15.2,"RUB",null,"Аптеки",5912,"Apteka 193",0,{"$f":"IFERROR(IF(A1244=\"\",\"\",VLOOKUP(J1244,'Соответствия статей'!$A$2:$B$50,2,0)),\"Другое\")","v":"Медицина"},"Банк","Расход"]
["2020-12-21T15:41:31","2020-03-23","*7127","OK",-247,"RUB",-247,"RUB",null,"Аптеки",5912,"Apteka 193",2,{"$f":"IFERROR(IF(A1245=\"\",\"\",VLOOKUP(J1245,'Соответствия статей'!$A$2:$B$50,2,0)),\"Другое\")","v":"Медицина"},"Банк","Расход"]
["2020-12-19T17:12:02","2020-03-20","*7127","OK",6193.4,"RUB",6193.4,"RUB",null,"Ж/д билеты",4112,"РЖД",-61,{"$f":"IFERROR(IF(A1246=\"\",\"\",VLOOKUP(J1246,'Соответствия статей'!$A$2:$B$50,2,0)),\"Другое\")","v":"Поездки"},"Банк","Расход"]
["2020-12-19T17:12:02","2020-03-20","*7127","OK",4332.8999999999996,"RUB",4332.8999999999996,"RUB",null,"Ж/д билеты",4112,"РЖД",-43,{"$f":"IFERROR(IF(A1247=\"\",\"\",VLOOKUP(J1247,'Соответствия статей'!$A$2:$B$50,2,0)),\"Другое\")","v":"Поездки"},"Банк","Расход"]
["2020-12-19T17:12:02","2020-03-20","*7127","OK",2528.6999999999998,"RUB",2528.6999999999998,"RUB",null,"Ж/д билеты",4112,"РЖД",-25,{"$f":"IFERROR(IF(A1248=\"\",\"\",VLOOKUP(J1248,'Соответствия статей'!$A$2:$B$50,2,0)),\"Другое\")","v":"Поездки"},"Банк","Расход"]
["2020-12-19T14:36:45","2020-03-21","*7127","OK",-1325,"RUB",-1325,"RUB",null,"Аптеки",5912,"Озерки",13,{"$f":"IFERROR(IF(A1249=\"\",\"\",VLOOKUP(J1249,'Соответствия статей'!$A$2:$B$50,2,0)),\"Другое\")","v":"Медицина"},"Банк","Расход"]
["2020-12-19T13:50:17","2020-03-21","*7127","OK",-240,"RUB",-240,"RUB",null,"Фастфуд",5814,"Рестораны ТАРЕЛКА",2,{"$f":"IFERROR(IF(A1250=\"\",\"\",VLOOKUP(J1250,'Соответствия статей'!$A$2:$B$50,2,0)),\"Другое\")","v":"Рестораны"},"Банк","Расход"]
["2020-12-19T09:34:34","2020-03-21","*7127","OK",-200,"RUB",-200,"RUB",null,"Транспорт",4111,"Метро Санкт-Петербург",2,{"$f":"IFERROR(IF(A1251=\"\",\"\",VLOOKUP(J1251,'Соответствия статей'!$A$2:$B$50,2,0)),\"Другое\")","v":"Транспорт"},"Банк","Расход"]
["2020-12-18T19:17:35","2020-03-20","*8173","OK",-59.6,"RUB",-59.6,"RUB",0,"Аптеки",5912,"Аптека 36,6",0,{"$f":"IFERROR(IF(A1252=\"\",\"\",VLOOKUP(J1252,'Соответствия статей'!$A$2:$B$50,2,0)),\"Другое\")","v":"Медицина"},"Банк","Расход"]
["2020-12-18T16:03:33","2020-03-18","*7127","OK",-230,"RUB",-230,"RUB",null,"Сувениры",5947,"IP Zajtseva A N",2,{"$f":"IFERROR(IF(A1253=\"\",\"\",VLOOKUP(J1253,'Соответствия статей'!$A$2:$B$50,2,0)),\"Другое\")","v":"Подарки, благотворительность"},"Банк","Расход"]
["2020-12-18T10:40:20","2020-03-19","*7127","OK",-1600,"RUB",-1600,"RUB",null,"Мед. услуги",8099,"A-Mediya LLC",16,{"$f":"IFERROR(IF(A1254=\"\",\"\",VLOOKUP(J1254,'Соответствия статей'!$A$2:$B$50,2,0)),\"Другое\")","v":"Медицина"},"Банк","Расход"]
["2020-12-17T20:00:54","2020-03-19","*7127","OK",-256,"RUB",-256,"RUB",null,"Аптеки",5912,"Озерки",2,{"$f":"IFERROR(IF(A1255=\"\",\"\",VLOOKUP(J1255,'Соответствия статей'!$A$2:$B$50,2,0)),\"Другое\")","v":"Медицина"},"Банк","Расход"]
["2020-12-17T13:20:43","2020-03-19","*7127","OK",-799.98,"RUB",-799.98,"RUB",null,"Супермаркеты",5411,"Пятерочка",7,{"$f":"IFERROR(IF(A1256=\"\",\"\",VLOOKUP(J1256,'Соответствия статей'!$A$2:$B$50,2,0)),\"Другое\")","v":"Продукты"},"Банк","Расход"]
["2020-12-17T12:31:35","2020-03-19","*7127","OK",-250,"RUB",-250,"RUB",null,"Фастфуд",5814,"Рестораны ТАРЕЛКА",2,{"$f":"IFERROR(IF(A1257=\"\",\"\",VLOOKUP(J1257,'Соответствия статей'!$A$2:$B$50,2,0)),\"Другое\")","v":"Рестораны"},"Банк","Расход"]
["2020-12-17T10:25:14","2020-03-19","*7357","OK",-39,"RUB",-39,"RUB",0,"Фастфуд",5814,"Babushkiny Pirogi",0,{"$f":"IFERROR(IF(A1258=\"\",\"\",VLOOKUP(J1258,'Соответствия статей'!$A$2:$B$50,2,0)),\"Другое\")","v":"Рестораны"},"Банк","Расход"]
["2020-12-17T09:33:36","2020-03-19","*7357","OK",-200,"RUB",-200,"RUB",10,"Транспорт",4111,"Метро Санкт-Петербург",10,{"$f":"IFERROR(IF(A1259=\"\",\"\",VLOOKUP(J1259,'Соответствия статей'!$A$2:$B$50,2,0)),\"Другое\")","v":"Транспорт"},"Банк","Расход"]
["2020-12-17","2020-03-17","*7127","OK",800,"RUB",800,"RUB",null,"Финан. услуги",6536,"Сбербанк",0,{"$f":"IFERROR(IF(A1260=\"\",\"\",VLOOKUP(J1260,'Соответствия статей'!$A$2:$B$50,2,0)),\"Другое\")","v":"Переводы"},"Банк","Расход"]
["2020-12-16T13:58:31","2020-03-18","*7127","OK",-238,"RUB",-238,"RUB",null,"Аптеки",5912,"Apt1208 Neptun",2,{"$f":"IFERROR(IF(A1261=\"\",\"\",VLOOKUP(J1261,'Соответствия статей'!$A$2:$B$50,2,0)),\"Другое\")","v":"Медицина"},"Банк","Расход"]
["2020-12-16T13:38:29","2020-03-18","*8173","OK",-25,"RUB",-25,"RUB",0,"Супермаркеты",5499,"Petro-Servis",0,{"$f":"IFERROR(IF(A1262=\"\",\"\",VLOOKUP(J1262,'Соответствия статей'!$A$2:$B$50,2,0)),\"Другое\")","v":"Продукты"},"Банк","Расход"]
["2020-12-16T13:14:12","2020-03-18","*8173","OK",-200,"RUB",-200,"RUB",2,"Фастфуд",5814,"Stolovaya",2,{"$f":"IFERROR(IF(A1263=\"\",\"\",VLOOKUP(J1263,'Соответствия статей'!$A$2:$B$50,2,0)),\"Другое\")","v":"Рестораны"},"Банк","Расход"]
["2020-12-16T13:05:33","2020-03-18","*7127","OK",-265,"RUB",-265,"RUB",null,"Фастфуд",5814,"Рестораны ТАРЕЛКА",2,{"$f":"IFERROR(IF(A1264=\"\",\"\",VLOOKUP(J1264,'Соответствия статей'!$A$2:$B$50,2,0)),\"Другое\")","v":"Рестораны"},"Банк","Расход"]
["2020-12-16T09:08:52","2020-03-17","*7127","OK",-4025,"RUB",-4025,"RUB",null,"Супермаркеты",5411,"Перекресток",40,{"$f":"IFERROR(IF(A1265=\"\",\"\",VLOOKUP(J1265,'Соответствия статей'!$A$2:$B$50,2,0)),\"Другое\")","v":"Продукты"},"Банк","Расход"]
["2020-12-15T18:32:54","2020-03-16","*7127","OK",-758.34,"RUB",-758.34,"RUB",null,"Жкх/иб",4900,"Петроэлектросбыт",0,{"$f":"IFERROR(IF(A1266=\"\",\"\",VLOOKUP(J1266,'Соответствия статей'!$A$2:$B$50,2,0)),\"Другое\")","v":"Коммунальные услуги"},"Банк","Расход"]
["2020-12-15T16:53:42","2020-03-17","*7127","OK",-1354,"RUB",-1354,"RUB",null,"Аптеки",5912,"Озерки",13,{"$f":"IFERROR(IF(A1267=\"\",\"\",VLOOKUP(J1267,'Соответствия статей'!$A$2:$B$50,2,0)),\"Другое\")","v":"Медицина"},"Банк","Расход"]
["2020-12-13T21:01:13","2020-03-16","*7127","OK",-252.95,"RUB",-252.95,"RUB",null,"Супермаркеты",5411,"Семишагофф",2,{"$f":"IFERROR(IF(A1268=\"\",\"\",VLOOKUP(J1268,'Соответствия статей'!$A$2:$B$50,2,0)),\"Другое\")","v":"Продукты"},"Банк","Расход"]
["2020-12-13T16:56:00","2020-03-14","*7127","OK",-25,"RUB",-25,"RUB",null,"Фастфуд",5814,"OOO As-Vend",0,{"$f":"IFERROR(IF(A1269=\"\",\"\",VLOOKUP(J1269,'Соответствия статей'!$A$2:$B$50,2,0)),\"Другое\")","v":"Рестораны"},"Банк","Расход"]
["2020-12-13T14:21:03","2020-03-16","*7357","OK",-110,"RUB",-110,"RUB",1,"Разные товары",5311,"Fixprice",1,{"$f":"IFERROR(IF(A1270=\"\",\"\",VLOOKUP(J1270,'Соответствия статей'!$A$2:$B$50,2,0)),\"Другое\")","v":"Другое"},"Банк","Расход"]
["2020-12-13T13:17:30","2020-03-16","*7127","OK",-25,"RUB",-25,"RUB",null,"Супермаркеты",5499,"Petro-Servis",0,{"$f":"IFERROR(IF(A1271=\"\",\"\",VLOOKUP(J1271,'Соответствия статей'!$A$2:$B$50,2,0)),\"Другое\")","v":"Продукты"},"Банк","Расход"]
["2020-12-13T12:55:29","2020-03-16","*7127","OK",-200,"RUB",-200,"RUB",null,"Фастфуд",5814,"Stolovaya",2,{"$f":"IFERROR(IF(A1272=\"\",\"\",VLOOKUP(J1272,'Соответствия статей'!$A$2:$B$50,2,0)),\"Другое\")","v":"Рестораны"},"Банк","Расход"]
["2020-12-12T22:23:11","2020-03-14","*8173","OK",-200,"RUB",-200,"RUB",10,"Транспорт",4111,"Метро Санкт-Петербург",10,{"$f":"IFERROR(IF(A1273=\"\",\"\",VLOOKUP(J1273,'Соответствия статей'!$A$2:$B$50,2,0)),\"Другое\")","v":"Транспорт"},"Банк","Расход"]
["2020-12-12T21:23:38","2020-03-14","*8173","OK",-55,"RUB",-55,"RUB",2,"Транспорт",4111,"Метро Санкт-Петербург",2,{"$f":"IFERROR(IF(A1274=\"\",\"\",VLOOKUP(J1274,'Соответствия статей'!$A$2:$B$50,2,0)),\"Другое\")","v":"Транспорт"},"Банк","Расход"]
["2020-12-12T19:34:24","2020-03-14","*7357","OK",-51.9,"RUB",-51.9,"RUB",0,"Супермаркеты",5411,"Перекресток",0,{"$f":"IFERROR(IF(A1275=\"\",\"\",VLOOKUP(J1275,'Соответствия статей'!$A$2:$B$50,2,0)),\"Другое\")","v":"Продукты"},"Банк","Расход"]
["2020-12-12T13:47:03","2020-03-14","*7127","OK",-25,"RUB",-25,"RUB",null,"Супермаркеты",5499,"Petro-Servis",0,{"$f":"IFERROR(IF(A1276=\"\",\"\",VLOOKUP(J1276,'Соответствия статей'!$A$2:$B$50,2,0)),\"Другое\")","v":"Продукты"},"Банк","Расход"]
["2020-12-12T13:15:18","2020-03-14","*7127","OK",-200,"RUB",-200,"RUB",null,"Фастфуд",5814,"Stolovaya",2,{"$f":"IFERROR(IF(A1277=\"\",\"\",VLOOKUP(J1277,'Соответствия статей'!$A$2:$B$50,2,0)),\"Другое\")","v":"Рестораны"},"Банк","Расход"]
["2020-12-12T10:02:28","2020-03-12","*8173","OK",2300,"RUB",2300,"RUB",null,"Прочие доходы",null,"Иван Ш.",0,{"$f":"IFERROR(IF(A1278=\"\",\"\",VLOOKUP(J1278,'Соответствия статей'!$A$2:$B$50,2,0)),\"Другое\")","v":"Прочие доходы"},"Банк","Доход"]
["2020-12-12T09:21:25","2020-03-14","*7357","OK",-200,"RUB",-200,"RUB",10,"Транспорт",4111,"Метро Санкт-Петербург",10,{"$f":"IFERROR(IF(A1279=\"\",\"\",VLOOKUP(J1279,'Соответствия статей'!$A$2:$B$50,2,0)),\"Другое\")","v":"Транспорт"},"Банк","Расход"]
["2020-12-12T02:55:30","2020-03-13","*8173","OK",-101,"RUB",-101,"RUB",5,"Транспорт",4121,"Uber",5,{"$f":"IFERROR(IF(A1280=\"\",\"\",VLOOKUP(J1280,'Соответствия статей'!$A$2:$B$50,2,0)),\"Другое\")","v":"Транспорт"},"Банк","Расход"]
["2020-12-11T23:05:00","2020-03-13","*7127","OK",-55,"RUB",-55,"RUB",null,"Транспорт",4111,"Метро Санкт-Петербург",0,{"$f":"IFERROR(IF(A1281=\"\",\"\",VLOOKUP(J1281,'Соответствия статей'!$A$2:$B$50,2,0)),\"Другое\")","v":"Транспорт"},"Банк","Расход"]
["2020-12-11T22:29:23","2020-03-13","*7357","OK",-540,"RUB",-540,"RUB",5,"Фастфуд",5814,"IP Mokhov V. A.",5,{"$f":"IFERROR(IF(A1282=\"\",\"\",VLOOKUP(J1282,'Соответствия статей'!$A$2:$B$50,2,0)),\"Другое\")","v":"Рестораны"},"Банк","Расход"]
["2020-12-11T18:46:35","2020-03-13","*7127","OK",-209,"RUB",-209,"RUB",null,"Фастфуд",5814,"Теремок",2,{"$f":"IFERROR(IF(A1283=\"\",\"\",VLOOKUP(J1283,'Соответствия статей'!$A$2:$B$50,2,0)),\"Другое\")","v":"Рестораны"},"Банк","Расход"]
["2020-12-11T12:28:32","2020-03-13","*7127","OK",-25,"RUB",-25,"RUB",null,"Супермаркеты",5499,"Petro-Servis",0,{"$f":"IFERROR(IF(A1284=\"\",\"\",VLOOKUP(J1284,'Соответствия статей'!$A$2:$B$50,2,0)),\"Другое\")","v":"Продукты"},"Банк","Расход"]
["2020-12-11T10:44:38","2020-03-12","*7127","OK",-3464,"RUB",-3464,"RUB",null,"Рестораны",5812,"Достаевский",34,{"$f":"IFERROR(IF(A1285=\"\",\"\",VLOOKUP(J1285,'Соответствия статей'!$A$2:$B$50,2,0)),\"Другое\")","v":"Рестораны"},"Банк","Расход"]
["2020-12-10T22:16:42","2020-03-12","*7127","OK",-1973.49,"RUB",-1973.49,"RUB",null,"Супермаркеты",5411,"Перекресток",19,{"$f":"IFERROR(IF(A1286=\"\",\"\",VLOOKUP(J1286,'Соответствия статей'!$A$2:$B$50,2,0)),\"Другое\")","v":"Продукты"},"Банк","Расход"]
["2020-12-10T22:02:07","2020-03-11","*7127","OK",-4200,"RUB",-4200,"RUB",null,"Одежда, обувь",5621,"IP Sharapova E.N.",42,{"$f":"IFERROR(IF(A1287=\"\",\"\",VLOOKUP(J1287,'Соответствия статей'!$A$2:$B$50,2,0)),\"Другое\")","v":"Одежда и обувь"},"Банк","Расход"]
["2020-12-10T20:14:28","2020-03-12","*7357","OK",-200,"RUB",-200,"RUB",10,"Транспорт",4111,"Метро Санкт-Петербург",10,{"$f":"IFERROR(IF(A1288=\"\",\"\",VLOOKUP(J1288,'Соответствия статей'!$A$2:$B$50,2,0)),\"Другое\")","v":"Транспорт"},"Банк","Расход"]
["2020-12-10T13:46:49","2020-03-11","*7127","OK",-25,"RUB",-25,"RUB",null,"Фастфуд",5814,"Petro-Servis",0,{"$f":"IFERROR(IF(A1289=\"\",\"\",VLOOKUP(J1289,'Соответствия статей'!$A$2:$B$50,2,0)),\"Другое\")","v":"Рестораны"},"Банк","Расход"]
["2020-12-10T12:04:46","2020-03-12","*7357","OK",-253,"RUB",-253,"RUB",2,"Фастфуд",5814,"Рестораны ТАРЕЛКА",2,{"$f":"IFERROR(IF(A1290=\"\",\"\",VLOOKUP(J1290,'Соответствия статей'!$A$2:$B$50,2,0)),\"Другое\")","v":"Рестораны"},"Банк","Расход"]
["2020-12-10T00:57:09","2020-03-10","*7127","OK",-510,"RUB",-510,"RUB",null,"Сервис. услуги",7311,"ВКонтакте",0,{"$f":"IFERROR(IF(A1291=\"\",\"\",VLOOKUP(J1291,'Соответствия статей'!$A$2:$B$50,2,0)),\"Другое\")","v":"Другое"},"Банк","Расход"]
["2020-12-09T19:47:14","2020-03-11","*7357","OK",-64.900000000000006,"RUB",-64.900000000000006,"RUB",0,"Супермаркеты",5411,"Перекресток",0,{"$f":"IFERROR(IF(A1292=\"\",\"\",VLOOKUP(J1292,'Соответствия статей'!$A$2:$B$50,2,0)),\"Другое\")","v":"Продукты"},"Банк","Расход"]
["2020-12-09T19:41:41","2020-03-11","*7357","OK",-69,"RUB",-69,"RUB",0,"Дом, ремонт",5211,"СТАРТ",0,{"$f":"IFERROR(IF(A1293=\"\",\"\",VLOOKUP(J1293,'Соответствия статей'!$A$2:$B$50,2,0)),\"Другое\")","v":"Товары для дома, ремонта"},"Банк","Расход"]
["2020-12-09T19:39:55","2020-03-11","*7127","OK",-259,"RUB",-259,"RUB",null,"Книги",5942,"Буквоед",2,{"$f":"IFERROR(IF(A1294=\"\",\"\",VLOOKUP(J1294,'Соответствия статей'!$A$2:$B$50,2,0)),\"Другое\")","v":"Обучение"},"Банк","Расход"]
["2020-12-09T19:23:51","2020-03-11","*8173","OK",-97,"RUB",-97,"RUB",4,"Транспорт",4121,"Uber",4,{"$f":"IFERROR(IF(A1295=\"\",\"\",VLOOKUP(J1295,'Соответствия статей'!$A$2:$B$50,2,0)),\"Другое\")","v":"Транспорт"},"Банк","Расход"]
["2020-12-09T17:43:18","2020-03-11","*7127","OK",-422,"RUB",-422,"RUB",null,"Фастфуд",5814,"Додо Пицца",4,{"$f":"IFERROR(IF(A1296=\"\",\"\",VLOOKUP(J1296,'Соответствия статей'!$A$2:$B$50,2,0)),\"Другое\")","v":"Рестораны"},"Банк","Расход"]
["2020-12-08T19:12:11","2020-03-09","*7127","OK",-1100,"RUB",-1100,"RUB",null,"Цветы",5992,"Salon Tsvety",11,{"$f":"IFERROR(IF(A1297=\"\",\"\",VLOOKUP(J1297,'Соответствия статей'!$A$2:$B$50,2,0)),\"Другое\")","v":"Подарки, благотворительность"},"Банк","Расход"]
["2020-12-08T18:31:04","2020-03-10","*7127","OK",-622,"RUB",-622,"RUB",null,"Фастфуд",5814,"McDonald's",6,{"$f":"IFERROR(IF(A1298=\"\",\"\",VLOOKUP(J1298,'Соответствия статей'!$A$2:$B$50,2,0)),\"Другое\")","v":"Рестораны"},"Банк","Расход"]
["2020-12-08T16:27:47","2020-03-10","*8173","OK",-1053,"RUB",-1053,"RUB",52,"Кино",7832,"Синема Парк",52,{"$f":"IFERROR(IF(A1299=\"\",\"\",VLOOKUP(J1299,'Соответствия статей'!$A$2:$B$50,2,0)),\"Другое\")","v":"Развлечения"},"Банк","Расход"]
["2020-12-08T15:20:30","2020-03-10","*8173","OK",-144,"RUB",-144,"RUB",7,"Транспорт",4121,"Uber",7,{"$f":"IFERROR(IF(A1300=\"\",\"\",VLOOKUP(J1300,'Соответствия статей'!$A$2:$B$50,2,0)),\"Другое\")","v":"Транспорт"},"Банк","Расход"]
["2020-12-08T14:55:48","2020-03-10","*8173","OK",-113,"RUB",-113,"RUB",1,"Супермаркеты",5411,"Latte",1,{"$f":"IFERROR(IF(A1301=\"\",\"\",VLOOKUP(J1301,'Соответствия статей'!$A$2:$B$50,2,0)),\"Другое\")","v":"Продукты"},"Банк","Расход"]
["2020-12-08T14:02:12","2020-03-10","*8173","OK",-203.97,"RUB",-203.97,"RUB",2,"Супермаркеты",5411,"Верный",2,{"$f":"IFERROR(IF(A1302=\"\",\"\",VLOOKUP(J1302,'Соответствия статей'!$A$2:$B$50,2,0)),\"Другое\")","v":"Продукты"},"Банк","Расход"]
["2020-12-07T23:19:39","2020-03-09","*7127","OK",-2540,"RUB",-2540,"RUB",null,"Супермаркеты",5411,"Перекресток",25,{"$f":"IFERROR(IF(A1303=\"\",\"\",VLOOKUP(J1303,'Соответствия статей'!$A$2:$B$50,2,0)),\"Другое\")","v":"Продукты"},"Банк","Расход"]
["2020-12-07T19:54:28","2020-03-09","*7357","OK",-196,"RUB",-196,"RUB",1,"Фастфуд",5814,"Додо Пицца",1,{"$f":"IFERROR(IF(A1304=\"\",\"\",VLOOKUP(J1304,'Соответствия статей'!$A$2:$B$50,2,0)),\"Другое\")","v":"Рестораны"},"Банк","Расход"]
["2020-12-07T18:16:00","2020-03-09","*8173","OK",-299,"RUB",-299,"RUB",2,"Дом, ремонт",5211,"СТАРТ",2,{"$f":"IFERROR(IF(A1305=\"\",\"\",VLOOKUP(J1305,'Соответствия статей'!$A$2:$B$50,2,0)),\"Другое\")","v":"Товары для дома, ремонта"},"Банк","Расход"]
["2020-12-07T13:17:45","2020-03-09","*8173","OK",-613,"RUB",-613,"RUB",6,"Аптеки",5912,"Озерки",6,{"$f":"IFERROR(IF(A1306=\"\",\"\",VLOOKUP(J1306,'Соответствия статей'!$A$2:$B$50,2,0)),\"Другое\")","v":"Медицина"},"Банк","Расход"]
["2020-12-07T12:47:07","2020-03-09","*8173","OK",-107.99,"RUB",-107.99,"RUB",1,"Супермаркеты",5411,"Семишагофф",1,{"$f":"IFERROR(IF(A1307=\"\",\"\",VLOOKUP(J1307,'Соответствия статей'!$A$2:$B$50,2,0)),\"Другое\")","v":"Продукты"},"Банк","Расход"]
["2020-12-07T06:13:44","2020-03-07","*8173","OK",500,"RUB",500,"RUB",null,"Прочие доходы",null,"Иван Ш.",0,{"$f":"IFERROR(IF(A1308=\"\",\"\",VLOOKUP(J1308,'Соответствия статей'!$A$2:$B$50,2,0)),\"Другое\")","v":"Прочие доходы"},"Банк","Доход"]
["2020-12-06T22:52:50","2020-03-09","*8173","OK",-100,"RUB",-100,"RUB",5,"Транспорт",4111,"Метро Санкт-Петербург",5,{"$f":"IFERROR(IF(A1309=\"\",\"\",VLOOKUP(J1309,'Соответствия статей'!$A$2:$B$50,2,0)),\"Другое\")","v":"Транспорт"},"Банк","Расход"]
["2020-12-06T21:22:07","2020-03-09","*7127","OK",-214,"RUB",-214,"RUB",null,"Фастфуд",5814,"McDonald's",2,{"$f":"IFERROR(IF(A1310=\"\",\"\",VLOOKUP(J1310,'Соответствия статей'!$A$2:$B$50,2,0)),\"Другое\")","v":"Рестораны"},"Банк","Расход"]
["2020-12-06T18:58:38","2020-03-09","*7357","OK",-500,"RUB",-500,"RUB",5,"Фастфуд",5814,"Poddon",5,{"$f":"IFERROR(IF(A1311=\"\",\"\",VLOOKUP(J1311,'Соответствия статей'!$A$2:$B$50,2,0)),\"Другое\")","v":"Рестораны"},"Банк","Расход"]
["2020-12-06T16:23:13","2020-03-09","*7127","OK",-25,"RUB",-25,"RUB",null,"Супермаркеты",5499,"Petro-Servis",0,{"$f":"IFERROR(IF(A1312=\"\",\"\",VLOOKUP(J1312,'Соответствия статей'!$A$2:$B$50,2,0)),\"Другое\")","v":"Продукты"},"Банк","Расход"]
["2020-12-06T12:32:49","2020-03-07","*7127","OK",-25,"RUB",-25,"RUB",null,"Фастфуд",5814,"Petro-Servis",0,{"$f":"IFERROR(IF(A1313=\"\",\"\",VLOOKUP(J1313,'Соответствия статей'!$A$2:$B$50,2,0)),\"Другое\")","v":"Рестораны"},"Банк","Расход"]
["2020-12-06T12:12:54","2020-03-09","*7127","OK",-200,"RUB",-200,"RUB",null,"Фастфуд",5814,"Stolovaya",2,{"$f":"IFERROR(IF(A1314=\"\",\"\",VLOOKUP(J1314,'Соответствия статей'!$A$2:$B$50,2,0)),\"Другое\")","v":"Рестораны"},"Банк","Расход"]
["2020-12-06T09:13:05","2020-03-09","*7357","OK",-100,"RUB",-100,"RUB",5,"Транспорт",4111,"Метро Санкт-Петербург",5,{"$f":"IFERROR(IF(A1315=\"\",\"\",VLOOKUP(J1315,'Соответствия статей'!$A$2:$B$50,2,0)),\"Другое\")","v":"Транспорт"},"Банк","Расход"]
["2020-12-06T08:16:17","2020-03-07","*7127","OK",-360,"RUB",-360,"RUB",null,"Цветы",5992,"Tsvety-3",3,{"$f":"IFERROR(IF(A1316=\"\",\"\",VLOOKUP(J1316,'Соответствия статей'!$A$2:$B$50,2,0)),\"Другое\")","v":"Подарки, благотворительность"},"Банк","Расход"]
["2020-12-05T21:07:19","2020-03-09","*7357","OK",-420.33,"RUB",-420.33,"RUB",4,"Супермаркеты",5411,"Перекресток",4,{"$f":"IFERROR(IF(A1317=\"\",\"\",VLOOKUP(J1317,'Соответствия статей'!$A$2:$B$50,2,0)),\"Другое\")","v":"Продукты"},"Банк","Расход"]
["2020-12-05T19:56:38","2020-03-05","*7127","OK",35,"RUB",35,"RUB",null,"Прочие доходы",null,"Компенсация покупки",0,{"$f":"IFERROR(IF(A1318=\"\",\"\",VLOOKUP(J1318,'Соответствия статей'!$A$2:$B$50,2,0)),\"Другое\")","v":"Прочие доходы"},"Банк","Доход"]
["2020-12-05T19:56:28","2020-03-05","*7127","OK",200,"RUB",200,"RUB",null,"Прочие доходы",null,"Компенсация покупки",0,{"$f":"IFERROR(IF(A1319=\"\",\"\",VLOOKUP(J1319,'Соответствия статей'!$A$2:$B$50,2,0)),\"Другое\")","v":"Прочие доходы"},"Банк","Доход"]
["2020-12-05T19:55:54","2020-03-05","*7127","OK",200,"RUB",200,"RUB",null,"Прочие доходы",null,"Компенсация покупки",0,{"$f":"IFERROR(IF(A1320=\"\",\"\",VLOOKUP(J1320,'Соответствия статей'!$A$2:$B$50,2,0)),\"Другое\")","v":"Прочие доходы"},"Банк","Доход"]
["2020-12-05T19:32:12","2020-03-05","*7127","OK",-10,"RUB",-10,"RUB",null,"Мобильные/иб",null,"Ростелеком Мобильная связь +79932213431",0,{"$f":"IFERROR(IF(A1321=\"\",\"\",VLOOKUP(J1321,'Соответствия статей'!$A$2:$B$50,2,0)),\"Другое\")","v":"Телефонная связь"},"Банк","Расход"]
["2020-12-05T13:04:49","2020-03-09","*7357","OK",-270,"RUB",-270,"RUB",2,"Фастфуд",5814,"Рестораны ТАРЕЛКА",2,{"$f":"IFERROR(IF(A1322=\"\",\"\",VLOOKUP(J1322,'Соответствия статей'!$A$2:$B$50,2,0)),\"Другое\")","v":"Рестораны"},"Банк","Расход"]
["2020-12-04T20:56:15","2020-03-07","*7357","OK",-107.99,"RUB",-107.99,"RUB",1,"Супермаркеты",5411,"Семишагофф",1,{"$f":"IFERROR(IF(A1323=\"\",\"\",VLOOKUP(J1323,'Соответствия статей'!$A$2:$B$50,2,0)),\"Другое\")","v":"Продукты"},"Банк","Расход"]
["2020-12-04T20:42:42","2020-03-07","*7357","OK",-525,"RUB",-525,"RUB",5,"Аптеки",5912,"Озерки",5,{"$f":"IFERROR(IF(A1324=\"\",\"\",VLOOKUP(J1324,'Соответствия статей'!$A$2:$B$50,2,0)),\"Другое\")","v":"Медицина"},"Банк","Расход"]
["2020-12-04T20:24:22","2020-03-07","*7357","OK",-122.3,"RUB",-122.3,"RUB",1,"Аптеки",5912,"Аптека 36,6",1,{"$f":"IFERROR(IF(A1325=\"\",\"\",VLOOKUP(J1325,'Соответствия статей'!$A$2:$B$50,2,0)),\"Другое\")","v":"Медицина"},"Банк","Расход"]
["2020-12-04T20:20:58","2020-03-07","*7357","OK",-601.64,"RUB",-601.64,"RUB",6,"Супермаркеты",5411,"Дикси",6,{"$f":"IFERROR(IF(A1326=\"\",\"\",VLOOKUP(J1326,'Соответствия статей'!$A$2:$B$50,2,0)),\"Другое\")","v":"Продукты"},"Банк","Расход"]
["2020-12-04T17:07:58","2020-03-05","*8173","OK",-75,"RUB",-75,"RUB",0,"Фастфуд",5814,"OOO As-Vend",0,{"$f":"IFERROR(IF(A1327=\"\",\"\",VLOOKUP(J1327,'Соответствия статей'!$A$2:$B$50,2,0)),\"Другое\")","v":"Рестораны"},"Банк","Расход"]
["2020-12-04T14:37:05","2020-03-07","*7127","OK",-270,"RUB",-270,"RUB",null,"Фастфуд",5814,"Рестораны ТАРЕЛКА",2,{"$f":"IFERROR(IF(A1328=\"\",\"\",VLOOKUP(J1328,'Соответствия статей'!$A$2:$B$50,2,0)),\"Другое\")","v":"Рестораны"},"Банк","Расход"]
["2020-12-04T13:08:12","2020-03-05","*8173","OK",-75,"RUB",-75,"RUB",0,"Фастфуд",5814,"OOO As-Vend",0,{"$f":"IFERROR(IF(A1329=\"\",\"\",VLOOKUP(J1329,'Соответствия статей'!$A$2:$B$50,2,0)),\"Другое\")","v":"Рестораны"},"Банк","Расход"]
["2020-12-03T19:03:03","2020-03-06","*8173","OK",-509.96,"RUB",-509.96,"RUB",5,"Супермаркеты",5411,"Перекресток",5,{"$f":"IFERROR(IF(A1330=\"\",\"\",VLOOKUP(J1330,'Соответствия статей'!$A$2:$B$50,2,0)),\"Другое\")","v":"Продукты"},"Банк","Расход"]
["2020-12-03T18:54:50","2020-03-05","*7127","OK",-200,"RUB",-200,"RUB",null,"Транспорт",4111,"Метро Санкт-Петербург",2,{"$f":"IFERROR(IF(A1331=\"\",\"\",VLOOKUP(J1331,'Соответствия статей'!$A$2:$B$50,2,0)),\"Другое\")","v":"Транспорт"},"Банк","Расход"]
["2020-12-03T14:51:00","2020-03-06","*7127","OK",-265,"RUB",-265,"RUB",null,"Фастфуд",5814,"Рестораны ТАРЕЛКА",2,{"$f":"IFERROR(IF(A1332=\"\",\"\",VLOOKUP(J1332,'Соответствия статей'!$A$2:$B$50,2,0)),\"Другое\")","v":"Рестораны"},"Банк","Расход"]
["2020-12-03T13:40:32","2020-03-06","*8173","OK",-25,"RUB",-25,"RUB",0,"Супермаркеты",5499,"Petro-Servis",0,{"$f":"IFERROR(IF(A1333=\"\",\"\",VLOOKUP(J1333,'Соответствия статей'!$A$2:$B$50,2,0)),\"Другое\")","v":"Продукты"},"Банк","Расход"]
["2020-12-03T13:17:27","2020-03-06","*8173","OK",-200,"RUB",-200,"RUB",2,"Фастфуд",5814,"Stolovaya",2,{"$f":"IFERROR(IF(A1334=\"\",\"\",VLOOKUP(J1334,'Соответствия статей'!$A$2:$B$50,2,0)),\"Другое\")","v":"Рестораны"},"Банк","Расход"]
["2020-12-03T08:40:29","2020-03-06","*7127","OK",-1600,"RUB",-1600,"RUB",null,"Мед. услуги",8099,"Spb Gbuz Tspsir",16,{"$f":"IFERROR(IF(A1335=\"\",\"\",VLOOKUP(J1335,'Соответствия статей'!$A$2:$B$50,2,0)),\"Другое\")","v":"Медицина"},"Банк","Расход"]
["2020-12-03T02:06:47","2020-03-03","*7127","OK",-500,"RUB",-500,"RUB",null,"Сервис. услуги",7311,"ВКонтакте",0,{"$f":"IFERROR(IF(A1336=\"\",\"\",VLOOKUP(J1336,'Соответствия статей'!$A$2:$B$50,2,0)),\"Другое\")","v":"Другое"},"Банк","Расход"]
["2020-12-02T20:28:58","2020-03-05","*7357","OK",-102.17,"RUB",-102.17,"RUB",1,"Супермаркеты",5411,"Дикси",1,{"$f":"IFERROR(IF(A1337=\"\",\"\",VLOOKUP(J1337,'Соответствия статей'!$A$2:$B$50,2,0)),\"Другое\")","v":"Продукты"},"Банк","Расход"]
["2020-12-02T20:28:42","2020-03-05","*7357","OK",-279.87,"RUB",-279.87,"RUB",2,"Супермаркеты",5411,"Дикси",2,{"$f":"IFERROR(IF(A1338=\"\",\"\",VLOOKUP(J1338,'Соответствия статей'!$A$2:$B$50,2,0)),\"Другое\")","v":"Продукты"},"Банк","Расход"]
["2020-12-02T18:06:50","2020-03-03","*7127","OK",-35,"RUB",-35,"RUB",null,"Фастфуд",5814,"OOO As-Vend",0,{"$f":"IFERROR(IF(A1339=\"\",\"\",VLOOKUP(J1339,'Соответствия статей'!$A$2:$B$50,2,0)),\"Другое\")","v":"Рестораны"},"Банк","Расход"]
["2020-12-02T13:57:25","2020-03-05","*7127","OK",-25,"RUB",-25,"RUB",null,"Супермаркеты",5499,"Petro-Servis",0,{"$f":"IFERROR(IF(A1340=\"\",\"\",VLOOKUP(J1340,'Соответствия статей'!$A$2:$B$50,2,0)),\"Другое\")","v":"Продукты"},"Банк","Расход"]
["2020-12-02T13:36:44","2020-03-05","*7127","OK",-200,"RUB",-200,"RUB",null,"Фастфуд",5814,"Stolovaya",2,{"$f":"IFERROR(IF(A1341=\"\",\"\",VLOOKUP(J1341,'Соответствия статей'!$A$2:$B$50,2,0)),\"Другое\")","v":"Рестораны"},"Банк","Расход"]
["2020-12-02T12:43:25","2020-03-05","*7357","OK",-265,"RUB",-265,"RUB",2,"Фастфуд",5814,"Рестораны ТАРЕЛКА",2,{"$f":"IFERROR(IF(A1342=\"\",\"\",VLOOKUP(J1342,'Соответствия статей'!$A$2:$B$50,2,0)),\"Другое\")","v":"Рестораны"},"Банк","Расход"]
["2020-12-01T17:03:55","2020-03-04","*7127","OK",-559,"RUB",-559,"RUB",null,"Аптеки",5912,"Аптека 36,6",5,{"$f":"IFERROR(IF(A1343=\"\",\"\",VLOOKUP(J1343,'Соответствия статей'!$A$2:$B$50,2,0)),\"Другое\")","v":"Медицина"},"Банк","Расход"]
["2020-12-01T15:52:32","2020-03-04","*7127","OK",-31,"RUB",-31,"RUB",null,"Книги",5192,"Первая полоса",0,{"$f":"IFERROR(IF(A1344=\"\",\"\",VLOOKUP(J1344,'Соответствия статей'!$A$2:$B$50,2,0)),\"Другое\")","v":"Обучение"},"Банк","Расход"]
["2020-12-01T15:48:52","2020-03-05","*7127","OK",-807.5,"RUB",-807.5,"RUB",null,"Супермаркеты",5411,"Перекресток",8,{"$f":"IFERROR(IF(A1345=\"\",\"\",VLOOKUP(J1345,'Соответствия статей'!$A$2:$B$50,2,0)),\"Другое\")","v":"Продукты"},"Банк","Расход"]
["2020-12-01T14:36:27","2020-03-01","*7127","OK",-360,"RUB",-360,"RUB",null,"Мобильные/иб",null,"Ростелеком Мобильная связь +79932213431",0,{"$f":"IFERROR(IF(A1346=\"\",\"\",VLOOKUP(J1346,'Соответствия статей'!$A$2:$B$50,2,0)),\"Другое\")","v":"Телефонная связь"},"Банк","Расход"]
["2020-12-01T12:44:09","2020-03-01","*7127","OK",25,"RUB",25,"RUB",null,"Прочие доходы",null,"Компенсация покупки",0,{"$f":"IFERROR(IF(A1347=\"\",\"\",VLOOKUP(J1347,'Соответствия статей'!$A$2:$B$50,2,0)),\"Другое\")","v":"Прочие доходы"},"Банк","Доход"]
["2020-12-01T12:43:58","2020-03-01","*7127","OK",25,"RUB",25,"RUB",null,"Прочие доходы",null,"Компенсация покупки",0,{"$f":"IFERROR(IF(A1348=\"\",\"\",VLOOKUP(J1348,'Соответствия статей'!$A$2:$B$50,2,0)),\"Другое\")","v":"Прочие доходы"},"Банк","Доход"]
["2020-12-01T12:43:46","2020-03-01","*7127","OK",25,"RUB",25,"RUB",null,"Прочие доходы",null,"Компенсация покупки",0,{"$f":"IFERROR(IF(A1349=\"\",\"\",VLOOKUP(J1349,'Соответствия статей'!$A$2:$B$50,2,0)),\"Другое\")","v":"Прочие доходы"},"Банк","Доход"]
["2020-12-01T12:43:23","2020-03-01","*7127","OK",25,"RUB",25,"RUB",null,"Прочие доходы",null,"Компенсация покупки",0,{"$f":"IFERROR(IF(A1350=\"\",\"\",VLOOKUP(J1350,'Соответствия статей'!$A$2:$B$50,2,0)),\"Другое\")","v":"Прочие доходы"},"Банк","Доход"]
["2020-12-01T12:42:59","2020-03-01","*7127","OK",200,"RUB",200,"RUB",null,"Прочие доходы",null,"Компенсация покупки",0,{"$f":"IFERROR(IF(A1351=\"\",\"\",VLOOKUP(J1351,'Соответствия статей'!$A$2:$B$50,2,0)),\"Другое\")","v":"Прочие доходы"},"Банк","Доход"]
["2020-12-01T12:42:14","2020-03-01","*7127","OK",314,"RUB",314,"RUB",null,"Прочие доходы",null,"Компенсация покупки",0,{"$f":"IFERROR(IF(A1352=\"\",\"\",VLOOKUP(J1352,'Соответствия статей'!$A$2:$B$50,2,0)),\"Другое\")","v":"Прочие доходы"},"Банк","Доход"]
["2020-12-01T12:41:09","2020-03-01","*7127","OK",1004.02,"RUB",1004.02,"RUB",null,"Прочие доходы",null,"Компенсация покупки",0,{"$f":"IFERROR(IF(A1353=\"\",\"\",VLOOKUP(J1353,'Соответствия статей'!$A$2:$B$50,2,0)),\"Другое\")","v":"Прочие доходы"},"Банк","Доход"]
["2020-11-29T22:54:57","2020-02-29",null,"OK",-59,"RUB",-59,"RUB",null,"Другое",null,"Плата за оповещения об операциях",0,{"$f":"IFERROR(IF(A1354=\"\",\"\",VLOOKUP(J1354,'Соответствия статей'!$A$2:$B$50,2,0)),\"Другое\")","v":"Другое"},"Банк","Расход"]
["2020-11-29T19:07:37","2020-03-03","*7127","OK",-449.69,"RUB",-449.69,"RUB",null,"Супермаркеты",5411,"Верный",4,{"$f":"IFERROR(IF(A1355=\"\",\"\",VLOOKUP(J1355,'Соответствия статей'!$A$2:$B$50,2,0)),\"Другое\")","v":"Продукты"},"Банк","Расход"]
["2020-11-29T10:51:46","2020-03-03","*7127","OK",-333.01,"RUB",-333.01,"RUB",null,"Супермаркеты",5411,"Магнит",3,{"$f":"IFERROR(IF(A1356=\"\",\"\",VLOOKUP(J1356,'Соответствия статей'!$A$2:$B$50,2,0)),\"Другое\")","v":"Продукты"},"Банк","Расход"]
["2020-11-28T13:21:34","2020-03-02","*7127","OK",-25,"RUB",-25,"RUB",null,"Супермаркеты",5499,"Petro-Servis",0,{"$f":"IFERROR(IF(A1357=\"\",\"\",VLOOKUP(J1357,'Соответствия статей'!$A$2:$B$50,2,0)),\"Другое\")","v":"Продукты"},"Банк","Расход"]
["2020-11-28T13:00:04","2020-03-02","*7127","OK",-200,"RUB",-200,"RUB",null,"Фастфуд",5814,"Stolovaya",2,{"$f":"IFERROR(IF(A1358=\"\",\"\",VLOOKUP(J1358,'Соответствия статей'!$A$2:$B$50,2,0)),\"Другое\")","v":"Рестораны"},"Банк","Расход"]
["2020-11-27T19:18:40","2020-02-29","*7127","OK",-249.89,"RUB",-249.89,"RUB",null,"Фастфуд",5814,"Burger King",2,{"$f":"IFERROR(IF(A1359=\"\",\"\",VLOOKUP(J1359,'Соответствия статей'!$A$2:$B$50,2,0)),\"Другое\")","v":"Рестораны"},"Банк","Расход"]
["2020-11-27T19:10:52","2020-02-29","*7127","OK",-275.95999999999998,"RUB",-275.95999999999998,"RUB",null,"Супермаркеты",5411,"О'КЕЙ",2,{"$f":"IFERROR(IF(A1360=\"\",\"\",VLOOKUP(J1360,'Соответствия статей'!$A$2:$B$50,2,0)),\"Другое\")","v":"Продукты"},"Банк","Расход"]
["2020-11-27T13:34:23","2020-02-29","*7127","OK",-25,"RUB",-25,"RUB",null,"Супермаркеты",5499,"Petro-Servis",0,{"$f":"IFERROR(IF(A1361=\"\",\"\",VLOOKUP(J1361,'Соответствия статей'!$A$2:$B$50,2,0)),\"Другое\")","v":"Продукты"},"Банк","Расход"]
["2020-11-27T13:13:19","2020-02-29","*7127","OK",-200,"RUB",-200,"RUB",null,"Фастфуд",5814,"Stolovaya",2,{"$f":"IFERROR(IF(A1362=\"\",\"\",VLOOKUP(J1362,'Соответствия статей'!$A$2:$B$50,2,0)),\"Другое\")","v":"Рестораны"},"Банк","Расход"]
["2020-11-26T22:04:29","2020-02-27","*7127","OK",-250,"RUB",-250,"RUB",null,"Мобильные/иб",null,"TELE2 +79967762825",0,{"$f":"IFERROR(IF(A1363=\"\",\"\",VLOOKUP(J1363,'Соответствия статей'!$A$2:$B$50,2,0)),\"Другое\")","v":"Телефонная связь"},"Банк","Расход"]
["2020-11-26T13:48:50","2020-02-29","*7127","OK",-25,"RUB",-25,"RUB",null,"Супермаркеты",5499,"Petro-Servis",0,{"$f":"IFERROR(IF(A1364=\"\",\"\",VLOOKUP(J1364,'Соответствия статей'!$A$2:$B$50,2,0)),\"Другое\")","v":"Продукты"},"Банк","Расход"]
["2020-11-26T13:19:22","2020-02-28","*7127","OK",-200,"RUB",-200,"RUB",null,"Фастфуд",5814,"Stolovaya",2,{"$f":"IFERROR(IF(A1365=\"\",\"\",VLOOKUP(J1365,'Соответствия статей'!$A$2:$B$50,2,0)),\"Другое\")","v":"Рестораны"},"Банк","Расход"]
["2020-11-25T19:06:11","2020-02-28","*7127","OK",-649,"RUB",-649,"RUB",null,"Супермаркеты",5411,"Перекресток",6,{"$f":"IFERROR(IF(A1366=\"\",\"\",VLOOKUP(J1366,'Соответствия статей'!$A$2:$B$50,2,0)),\"Другое\")","v":"Продукты"},"Банк","Расход"]
["2020-11-25T13:46:10","2020-02-25","*8173","OK",625,"RUB",625,"RUB",null,"Прочие доходы",null,"Иван Ш.",0,{"$f":"IFERROR(IF(A1367=\"\",\"\",VLOOKUP(J1367,'Соответствия статей'!$A$2:$B$50,2,0)),\"Другое\")","v":"Прочие доходы"},"Банк","Доход"]
["2020-11-25T13:36:10","2020-02-26","*7127","OK",-25,"RUB",-25,"RUB",null,"Фастфуд",5814,"Petro-Servis",0,{"$f":"IFERROR(IF(A1368=\"\",\"\",VLOOKUP(J1368,'Соответствия статей'!$A$2:$B$50,2,0)),\"Другое\")","v":"Рестораны"},"Банк","Расход"]
["2020-11-25T13:15:02","2020-02-27","*7127","OK",-205,"RUB",-205,"RUB",null,"Фастфуд",5814,"Stolovaya",2,{"$f":"IFERROR(IF(A1369=\"\",\"\",VLOOKUP(J1369,'Соответствия статей'!$A$2:$B$50,2,0)),\"Другое\")","v":"Рестораны"},"Банк","Расход"]
["2020-11-25T01:22:01","2020-02-25","*7127","OK",-625,"RUB",-625,"RUB",null,"Сервис. услуги",7311,"ВКонтакте",0,{"$f":"IFERROR(IF(A1370=\"\",\"\",VLOOKUP(J1370,'Соответствия статей'!$A$2:$B$50,2,0)),\"Другое\")","v":"Другое"},"Банк","Расход"]
["2020-11-24T13:23:55","2020-02-27","*7127","OK",-29.99,"RUB",-29.99,"RUB",null,"Супермаркеты",5411,"Семишагофф",0,{"$f":"IFERROR(IF(A1371=\"\",\"\",VLOOKUP(J1371,'Соответствия статей'!$A$2:$B$50,2,0)),\"Другое\")","v":"Продукты"},"Банк","Расход"]
["2020-11-24T12:48:38","2020-02-26","*7127","OK",-487,"RUB",-487,"RUB",null,"Аптеки",5912,"Озерки",4,{"$f":"IFERROR(IF(A1372=\"\",\"\",VLOOKUP(J1372,'Соответствия статей'!$A$2:$B$50,2,0)),\"Другое\")","v":"Медицина"},"Банк","Расход"]
["2020-11-24T12:27:09","2020-02-27","*7127","OK",-666.46,"RUB",-666.46,"RUB",null,"Супермаркеты",5411,"Перекресток",6,{"$f":"IFERROR(IF(A1373=\"\",\"\",VLOOKUP(J1373,'Соответствия статей'!$A$2:$B$50,2,0)),\"Другое\")","v":"Продукты"},"Банк","Расход"]
["2020-11-23T22:41:53","2020-02-23",null,"OK",-99,"RUB",-99,"RUB",null,"Другое",null,"Плата за обслуживание",0,{"$f":"IFERROR(IF(A1374=\"\",\"\",VLOOKUP(J1374,'Соответствия статей'!$A$2:$B$50,2,0)),\"Другое\")","v":"Другое"},"Банк","Расход"]
["2020-11-23T22:22:41","2020-02-23",null,"OK",67,"RUB",67,"RUB",null,"Прочие доходы",null,"Вознаграждение за операции покупок",0,{"$f":"IFERROR(IF(A1375=\"\",\"\",VLOOKUP(J1375,'Соответствия статей'!$A$2:$B$50,2,0)),\"Другое\")","v":"Прочие доходы"},"Банк","Доход"]
["2020-11-23T21:34:10","2020-02-23",null,"OK",2.69,"RUB",2.69,"RUB",null,"Прочие доходы",null,"Проценты на остаток по счету",0,{"$f":"IFERROR(IF(A1376=\"\",\"\",VLOOKUP(J1376,'Соответствия статей'!$A$2:$B$50,2,0)),\"Другое\")","v":"Прочие доходы"},"Банк","Доход"]
["2020-11-23T21:05:47","2020-02-24","*8173","OK",400,"RUB",400,"RUB",null,"Прочие доходы",null,"Иван Ш.",0,{"$f":"IFERROR(IF(A1377=\"\",\"\",VLOOKUP(J1377,'Соответствия статей'!$A$2:$B$50,2,0)),\"Другое\")","v":"Прочие доходы"},"Банк","Доход"]
["2020-11-23T20:10:28","2020-02-26","*7127","OK",-524.61,"RUB",-524.61,"RUB",null,"Супермаркеты",5411,"Перекресток",5,{"$f":"IFERROR(IF(A1378=\"\",\"\",VLOOKUP(J1378,'Соответствия статей'!$A$2:$B$50,2,0)),\"Другое\")","v":"Продукты"},"Банк","Расход"]
["2020-11-22T21:00:53","2020-02-24","*8173","OK",-136,"RUB",-136,"RUB",6,"Транспорт",4121,"Uber",6,{"$f":"IFERROR(IF(A1379=\"\",\"\",VLOOKUP(J1379,'Соответствия статей'!$A$2:$B$50,2,0)),\"Другое\")","v":"Транспорт"},"Банк","Расход"]
["2020-11-22T18:31:50","2020-02-25","*7127","OK",-579.96,"RUB",-579.96,"RUB",null,"Супермаркеты",5411,"Пятерочка",5,{"$f":"IFERROR(IF(A1380=\"\",\"\",VLOOKUP(J1380,'Соответствия статей'!$A$2:$B$50,2,0)),\"Другое\")","v":"Продукты"},"Банк","Расход"]
["2020-11-22T18:19:47","2020-02-25","*7127","OK",-75,"RUB",-75,"RUB",null,"Аптеки",5912,"OOO Parus",0,{"$f":"IFERROR(IF(A1381=\"\",\"\",VLOOKUP(J1381,'Соответствия статей'!$A$2:$B$50,2,0)),\"Другое\")","v":"Медицина"},"Банк","Расход"]
["2020-11-22T16:45:55","2020-02-22","*8173","OK",4400,"RUB",4400,"RUB",null,"Прочие доходы",null,"Иван Ш.",0,{"$f":"IFERROR(IF(A1382=\"\",\"\",VLOOKUP(J1382,'Соответствия статей'!$A$2:$B$50,2,0)),\"Другое\")","v":"Прочие доходы"},"Банк","Доход"]
["2020-11-22T00:21:04","2020-02-25","*7127","OK",-488.46,"RUB",-488.46,"RUB",null,"Супермаркеты",5411,"Перекресток",4,{"$f":"IFERROR(IF(A1383=\"\",\"\",VLOOKUP(J1383,'Соответствия статей'!$A$2:$B$50,2,0)),\"Другое\")","v":"Продукты"},"Банк","Расход"]
["2020-11-21T21:42:49","2020-02-24","*7127","OK",-120,"RUB",-120,"RUB",null,"Аптеки",5912,"Аптеки Первая Помощь",1,{"$f":"IFERROR(IF(A1384=\"\",\"\",VLOOKUP(J1384,'Соответствия статей'!$A$2:$B$50,2,0)),\"Другое\")","v":"Медицина"},"Банк","Расход"]
["2020-11-21T21:35:40","2020-02-25","*8173","OK",-684,"RUB",-684,"RUB",34,"Кино",7832,"Синема Парк",34,{"$f":"IFERROR(IF(A1385=\"\",\"\",VLOOKUP(J1385,'Соответствия статей'!$A$2:$B$50,2,0)),\"Другое\")","v":"Развлечения"},"Банк","Расход"]
["2020-11-21T20:32:19","2020-02-25","*7357","OK",-249.89,"RUB",-249.89,"RUB",2,"Фастфуд",5814,"Burger King",2,{"$f":"IFERROR(IF(A1386=\"\",\"\",VLOOKUP(J1386,'Соответствия статей'!$A$2:$B$50,2,0)),\"Другое\")","v":"Рестораны"},"Банк","Расход"]
["2020-11-21T19:36:55","2020-02-25","*7357","OK",-100,"RUB",-100,"RUB",5,"Транспорт",4111,"Метро Санкт-Петербург",5,{"$f":"IFERROR(IF(A1387=\"\",\"\",VLOOKUP(J1387,'Соответствия статей'!$A$2:$B$50,2,0)),\"Другое\")","v":"Транспорт"},"Банк","Расход"]
["2020-11-21T18:56:56","2020-02-25","*7127","OK",-279.98,"RUB",-279.98,"RUB",null,"Фастфуд",5814,"Burger King",2,{"$f":"IFERROR(IF(A1388=\"\",\"\",VLOOKUP(J1388,'Соответствия статей'!$A$2:$B$50,2,0)),\"Другое\")","v":"Рестораны"},"Банк","Расход"]
["2020-11-21T13:36:06","2020-02-24","*7127","OK",-25,"RUB",-25,"RUB",null,"Супермаркеты",5499,"Petro-Servis",0,{"$f":"IFERROR(IF(A1389=\"\",\"\",VLOOKUP(J1389,'Соответствия статей'!$A$2:$B$50,2,0)),\"Другое\")","v":"Продукты"},"Банк","Расход"]
["2020-11-21T13:13:50","2020-02-24","*7127","OK",-200,"RUB",-200,"RUB",null,"Фастфуд",5814,"Stolovaya",2,{"$f":"IFERROR(IF(A1390=\"\",\"\",VLOOKUP(J1390,'Соответствия статей'!$A$2:$B$50,2,0)),\"Другое\")","v":"Рестораны"},"Банк","Расход"]
["2020-11-21T00:45:46","2020-02-21","*7127","OK",-500,"RUB",-500,"RUB",null,"Сервис. услуги",7311,"ВКонтакте",0,{"$f":"IFERROR(IF(A1391=\"\",\"\",VLOOKUP(J1391,'Соответствия статей'!$A$2:$B$50,2,0)),\"Другое\")","v":"Другое"},"Банк","Расход"]
["2020-11-20T20:04:12","2020-02-22","*7357","OK",-100,"RUB",-100,"RUB",5,"Транспорт",4111,"Метро Санкт-Петербург",5,{"$f":"IFERROR(IF(A1392=\"\",\"\",VLOOKUP(J1392,'Соответствия статей'!$A$2:$B$50,2,0)),\"Другое\")","v":"Транспорт"},"Банк","Расход"]
["2020-11-20T19:25:53","2020-02-24","*7127","OK",-832.61,"RUB",-832.61,"RUB",null,"Супермаркеты",5411,"Перекресток",8,{"$f":"IFERROR(IF(A1393=\"\",\"\",VLOOKUP(J1393,'Соответствия статей'!$A$2:$B$50,2,0)),\"Другое\")","v":"Продукты"},"Банк","Расход"]
["2020-11-20T14:44:59","2020-02-25","*7357","OK",-198,"RUB",-198,"RUB",1,"Разные товары",5311,"Fixprice",1,{"$f":"IFERROR(IF(A1394=\"\",\"\",VLOOKUP(J1394,'Соответствия статей'!$A$2:$B$50,2,0)),\"Другое\")","v":"Другое"},"Банк","Расход"]
["2020-11-20T13:43:49","2020-02-22","*7127","OK",-25,"RUB",-25,"RUB",null,"Супермаркеты",5499,"Petro-Servis",0,{"$f":"IFERROR(IF(A1395=\"\",\"\",VLOOKUP(J1395,'Соответствия статей'!$A$2:$B$50,2,0)),\"Другое\")","v":"Продукты"},"Банк","Расход"]
["2020-11-20T13:37:39","2020-02-22","*7357","OK",-230,"RUB",-230,"RUB",2,"Фастфуд",5814,"Рестораны ТАРЕЛКА",2,{"$f":"IFERROR(IF(A1396=\"\",\"\",VLOOKUP(J1396,'Соответствия статей'!$A$2:$B$50,2,0)),\"Другое\")","v":"Рестораны"},"Банк","Расход"]
["2020-11-20T07:50:00","2020-02-21","*7127","OK",-25,"RUB",-25,"RUB",null,"Фастфуд",5814,"OOO As-Vend",0,{"$f":"IFERROR(IF(A1397=\"\",\"\",VLOOKUP(J1397,'Соответствия статей'!$A$2:$B$50,2,0)),\"Другое\")","v":"Рестораны"},"Банк","Расход"]
["2020-11-19T19:08:36","2020-02-22","*7127","OK",-694.56,"RUB",-694.56,"RUB",null,"Супермаркеты",5411,"Перекресток",6,{"$f":"IFERROR(IF(A1398=\"\",\"\",VLOOKUP(J1398,'Соответствия статей'!$A$2:$B$50,2,0)),\"Другое\")","v":"Продукты"},"Банк","Расход"]
["2020-11-19T13:19:48","2020-02-22","*7127","OK",-25,"RUB",-25,"RUB",null,"Супермаркеты",5499,"Petro-Servis",0,{"$f":"IFERROR(IF(A1399=\"\",\"\",VLOOKUP(J1399,'Соответствия статей'!$A$2:$B$50,2,0)),\"Другое\")","v":"Продукты"},"Банк","Расход"]
["2020-11-19T12:32:22","2020-02-22","*7357","OK",-273,"RUB",-273,"RUB",2,"Фастфуд",5814,"Рестораны ТАРЕЛКА",2,{"$f":"IFERROR(IF(A1400=\"\",\"\",VLOOKUP(J1400,'Соответствия статей'!$A$2:$B$50,2,0)),\"Другое\")","v":"Рестораны"},"Банк","Расход"]
["2020-11-19T10:50:05","2020-02-20","*7127","OK",251,"RUB",251,"RUB",null,"Финан. услуги",6513,"Rosreestr.Net",-2,{"$f":"IFERROR(IF(A1401=\"\",\"\",VLOOKUP(J1401,'Соответствия статей'!$A$2:$B$50,2,0)),\"Другое\")","v":"Переводы"},"Банк","Расход"]
["2020-11-19T02:56:12","2020-02-19","*8173","OK",-50,"RUB",-50,"RUB",null,"Мобильные/иб",null,"TELE2 - автоплатеж +79533443146",0,{"$f":"IFERROR(IF(A1402=\"\",\"\",VLOOKUP(J1402,'Соответствия статей'!$A$2:$B$50,2,0)),\"Другое\")","v":"Телефонная связь"},"Банк","Расход"]
["2020-11-18T21:55:23","2020-02-19","*7127","OK",-695.28,"RUB",-695.28,"RUB",null,"Жкх/иб",4900,"Петроэлектросбыт",0,{"$f":"IFERROR(IF(A1403=\"\",\"\",VLOOKUP(J1403,'Соответствия статей'!$A$2:$B$50,2,0)),\"Другое\")","v":"Коммунальные услуги"},"Банк","Расход"]
["2020-11-18T19:06:31","2020-02-21","*7127","OK",-319.32,"RUB",-319.32,"RUB",null,"Супермаркеты",5411,"Перекресток",3,{"$f":"IFERROR(IF(A1404=\"\",\"\",VLOOKUP(J1404,'Соответствия статей'!$A$2:$B$50,2,0)),\"Другое\")","v":"Продукты"},"Банк","Расход"]
["2020-11-18T13:35:25","2020-02-20","*7127","OK",-25,"RUB",-25,"RUB",null,"Супермаркеты",5499,"Petro-Servis",0,{"$f":"IFERROR(IF(A1405=\"\",\"\",VLOOKUP(J1405,'Соответствия статей'!$A$2:$B$50,2,0)),\"Другое\")","v":"Продукты"},"Банк","Расход"]
["2020-11-18T13:14:18","2020-02-21","*7127","OK",-200,"RUB",-200,"RUB",null,"Фастфуд",5814,"Stolovaya",2,{"$f":"IFERROR(IF(A1406=\"\",\"\",VLOOKUP(J1406,'Соответствия статей'!$A$2:$B$50,2,0)),\"Другое\")","v":"Рестораны"},"Банк","Расход"]
["2020-11-18T13:03:03","2020-02-21","*7357","OK",-253,"RUB",-253,"RUB",2,"Фастфуд",5814,"Рестораны ТАРЕЛКА",2,{"$f":"IFERROR(IF(A1407=\"\",\"\",VLOOKUP(J1407,'Соответствия статей'!$A$2:$B$50,2,0)),\"Другое\")","v":"Рестораны"},"Банк","Расход"]
["2020-11-18T11:01:21","2020-02-18","*8173","OK",510,"RUB",510,"RUB",null,"Прочие доходы",null,"Иван Ш.",0,{"$f":"IFERROR(IF(A1408=\"\",\"\",VLOOKUP(J1408,'Соответствия статей'!$A$2:$B$50,2,0)),\"Другое\")","v":"Прочие доходы"},"Банк","Доход"]
["2020-11-18T10:59:53","2020-02-19","*7127","OK",-25,"RUB",-25,"RUB",null,"Фастфуд",5814,"OOO As-Vend",0,{"$f":"IFERROR(IF(A1409=\"\",\"\",VLOOKUP(J1409,'Соответствия статей'!$A$2:$B$50,2,0)),\"Другое\")","v":"Рестораны"},"Банк","Расход"]
["2020-11-18T02:55:41","2020-02-18","*7127","OK",-510,"RUB",-510,"RUB",null,"Сервис. услуги",7311,"ВКонтакте",0,{"$f":"IFERROR(IF(A1410=\"\",\"\",VLOOKUP(J1410,'Соответствия статей'!$A$2:$B$50,2,0)),\"Другое\")","v":"Другое"},"Банк","Расход"]
["2020-11-17T22:16:38","2020-02-18","*7127","OK",-13686.8,"RUB",-13686.8,"RUB",null,"Ж/д билеты",4112,"РЖД",136,{"$f":"IFERROR(IF(A1411=\"\",\"\",VLOOKUP(J1411,'Соответствия статей'!$A$2:$B$50,2,0)),\"Другое\")","v":"Поездки"},"Банк","Расход"]
["2020-11-17T19:36:27","2020-02-19","*7127","OK",-12402,"RUB",-12402,"RUB",null,"Авиабилеты",4511,"Авиакомпания UTair",124,{"$f":"IFERROR(IF(A1412=\"\",\"\",VLOOKUP(J1412,'Соответствия статей'!$A$2:$B$50,2,0)),\"Другое\")","v":"Поездки"},"Банк","Расход"]
["2020-11-17T19:31:07","2020-02-20","*7127","OK",-154.99,"RUB",-154.99,"RUB",null,"Супермаркеты",5411,"Дикси",1,{"$f":"IFERROR(IF(A1413=\"\",\"\",VLOOKUP(J1413,'Соответствия статей'!$A$2:$B$50,2,0)),\"Другое\")","v":"Продукты"},"Банк","Расход"]
["2020-11-17T19:18:32","2020-02-20","*7127","OK",-367,"RUB",-367,"RUB",null,"Аптеки",5912,"Apteka 78-385",3,{"$f":"IFERROR(IF(A1414=\"\",\"\",VLOOKUP(J1414,'Соответствия статей'!$A$2:$B$50,2,0)),\"Другое\")","v":"Медицина"},"Банк","Расход"]
["2020-11-17T13:31:49","2020-02-20","*7127","OK",-25,"RUB",-25,"RUB",null,"Супермаркеты",5499,"Petro-Servis",0,{"$f":"IFERROR(IF(A1415=\"\",\"\",VLOOKUP(J1415,'Соответствия статей'!$A$2:$B$50,2,0)),\"Другое\")","v":"Продукты"},"Банк","Расход"]
["2020-11-17T13:04:14","2020-02-19","*7127","OK",-200,"RUB",-200,"RUB",null,"Фастфуд",5814,"Stolovaya",2,{"$f":"IFERROR(IF(A1416=\"\",\"\",VLOOKUP(J1416,'Соответствия статей'!$A$2:$B$50,2,0)),\"Другое\")","v":"Рестораны"},"Банк","Расход"]
["2020-11-17T12:46:09","2020-02-20","*7357","OK",-278,"RUB",-278,"RUB",2,"Фастфуд",5814,"Рестораны ТАРЕЛКА",2,{"$f":"IFERROR(IF(A1417=\"\",\"\",VLOOKUP(J1417,'Соответствия статей'!$A$2:$B$50,2,0)),\"Другое\")","v":"Рестораны"},"Банк","Расход"]
["2020-11-17T10:06:40","2020-02-17","*7127","OK",-370,"RUB",-370,"RUB",null,"Мобильные/иб",null,"Мой телефон +79533443146",0,{"$f":"IFERROR(IF(A1418=\"\",\"\",VLOOKUP(J1418,'Соответствия статей'!$A$2:$B$50,2,0)),\"Другое\")","v":"Телефонная связь"},"Банк","Расход"]
["2020-11-16T18:18:11","2020-02-19","*7127","OK",-341,"RUB",-341,"RUB",null,"Книги",5942,"Буквоед",3,{"$f":"IFERROR(IF(A1419=\"\",\"\",VLOOKUP(J1419,'Соответствия статей'!$A$2:$B$50,2,0)),\"Другое\")","v":"Обучение"},"Банк","Расход"]
["2020-11-16T17:52:49","2020-02-19","*7127","OK",-1745.49,"RUB",-1745.49,"RUB",null,"Супермаркеты",5411,"Перекресток",17,{"$f":"IFERROR(IF(A1420=\"\",\"\",VLOOKUP(J1420,'Соответствия статей'!$A$2:$B$50,2,0)),\"Другое\")","v":"Продукты"},"Банк","Расход"]
["2020-11-15T17:39:46","2020-02-18","*7127","OK",-128.97,"RUB",-128.97,"RUB",null,"Супермаркеты",5411,"Пятерочка",1,{"$f":"IFERROR(IF(A1421=\"\",\"\",VLOOKUP(J1421,'Соответствия статей'!$A$2:$B$50,2,0)),\"Другое\")","v":"Продукты"},"Банк","Расход"]
["2020-11-15T17:33:17","2020-02-18","*7127","OK",-905,"RUB",-905,"RUB",null,"Аптеки",5912,"Озерки",9,{"$f":"IFERROR(IF(A1422=\"\",\"\",VLOOKUP(J1422,'Соответствия статей'!$A$2:$B$50,2,0)),\"Другое\")","v":"Медицина"},"Банк","Расход"]
["2020-11-15T03:38:42","2020-02-18","*8173","OK",-182,"RUB",-182,"RUB",9,"Транспорт",4121,"Uber",9,{"$f":"IFERROR(IF(A1423=\"\",\"\",VLOOKUP(J1423,'Соответствия статей'!$A$2:$B$50,2,0)),\"Другое\")","v":"Транспорт"},"Банк","Расход"]
["2020-11-15T00:57:15","2020-02-18","*8173","OK",-197,"RUB",-197,"RUB",9,"Транспорт",4121,"Uber",9,{"$f":"IFERROR(IF(A1424=\"\",\"\",VLOOKUP(J1424,'Соответствия статей'!$A$2:$B$50,2,0)),\"Другое\")","v":"Транспорт"},"Банк","Расход"]
["2020-11-15T00:16:20","2020-02-17","*7127","OK",-3100,"RUB",-3100,"RUB",null,"Рестораны",5812,"Restoran Larisuvanuhoc",31,{"$f":"IFERROR(IF(A1425=\"\",\"\",VLOOKUP(J1425,'Соответствия статей'!$A$2:$B$50,2,0)),\"Другое\")","v":"Рестораны"},"Банк","Расход"]
["2020-11-14T20:32:51","2020-02-18","*7357","OK",-140,"RUB",-140,"RUB",1,"Аптеки",5912,"Озерки",1,{"$f":"IFERROR(IF(A1426=\"\",\"\",VLOOKUP(J1426,'Соответствия статей'!$A$2:$B$50,2,0)),\"Другое\")","v":"Медицина"},"Банк","Расход"]
["2020-11-14T20:17:17","2020-02-17","*7357","OK",-202.83,"RUB",-202.83,"RUB",2,"Супермаркеты",5411,"Перекресток",2,{"$f":"IFERROR(IF(A1427=\"\",\"\",VLOOKUP(J1427,'Соответствия статей'!$A$2:$B$50,2,0)),\"Другое\")","v":"Продукты"},"Банк","Расход"]
["2020-11-14T20:04:36","2020-02-17","*7357","OK",-98,"RUB",-98,"RUB",0,"Книги",5942,"Буквоед",0,{"$f":"IFERROR(IF(A1428=\"\",\"\",VLOOKUP(J1428,'Соответствия статей'!$A$2:$B$50,2,0)),\"Другое\")","v":"Обучение"},"Банк","Расход"]
["2020-11-14T19:32:28","2020-02-14","*8173","OK",510,"RUB",510,"RUB",null,"Прочие доходы",null,"Иван Ш.",0,{"$f":"IFERROR(IF(A1429=\"\",\"\",VLOOKUP(J1429,'Соответствия статей'!$A$2:$B$50,2,0)),\"Другое\")","v":"Прочие доходы"},"Банк","Доход"]
["2020-11-14T18:44:44","2020-02-17","*7127","OK",-510,"RUB",-510,"RUB",null,"ДРУГИЕ ОПЕРАЦИИ",5816,"ВКонтакте",5,{"$f":"IFERROR(IF(A1430=\"\",\"\",VLOOKUP(J1430,'Соответствия статей'!$A$2:$B$50,2,0)),\"Другое\")","v":"Другое"},"Банк","Расход"]
["2020-11-14T14:08:07","2020-02-17","*7357","OK",-248,"RUB",-248,"RUB",2,"Фастфуд",5814,"Tarelka",2,{"$f":"IFERROR(IF(A1431=\"\",\"\",VLOOKUP(J1431,'Соответствия статей'!$A$2:$B$50,2,0)),\"Другое\")","v":"Рестораны"},"Банк","Расход"]
["2020-11-14T13:19:39","2020-02-15","*7127","OK",-25,"RUB",-25,"RUB",null,"Фастфуд",5814,"Petro-Servis",0,{"$f":"IFERROR(IF(A1432=\"\",\"\",VLOOKUP(J1432,'Соответствия статей'!$A$2:$B$50,2,0)),\"Другое\")","v":"Рестораны"},"Банк","Расход"]
["2020-11-14T12:58:00","2020-02-17","*7127","OK",-200,"RUB",-200,"RUB",null,"Фастфуд",5814,"Stolovaya",2,{"$f":"IFERROR(IF(A1433=\"\",\"\",VLOOKUP(J1433,'Соответствия статей'!$A$2:$B$50,2,0)),\"Другое\")","v":"Рестораны"},"Банк","Расход"]
["2020-11-13T19:30:48","2020-02-17","*7127","OK",-1237.75,"RUB",-1237.75,"RUB",null,"Супермаркеты",5411,"Перекресток",12,{"$f":"IFERROR(IF(A1434=\"\",\"\",VLOOKUP(J1434,'Соответствия статей'!$A$2:$B$50,2,0)),\"Другое\")","v":"Продукты"},"Банк","Расход"]
["2020-11-13T13:38:56","2020-02-14","*7127","OK",-25,"RUB",-25,"RUB",null,"Фастфуд",5814,"Petro-Servis",0,{"$f":"IFERROR(IF(A1435=\"\",\"\",VLOOKUP(J1435,'Соответствия статей'!$A$2:$B$50,2,0)),\"Другое\")","v":"Рестораны"},"Банк","Расход"]
["2020-11-13T13:15:48","2020-02-17","*7127","OK",-200,"RUB",-200,"RUB",null,"Фастфуд",5814,"Stolovaya",2,{"$f":"IFERROR(IF(A1436=\"\",\"\",VLOOKUP(J1436,'Соответствия статей'!$A$2:$B$50,2,0)),\"Другое\")","v":"Рестораны"},"Банк","Расход"]
["2020-11-13T02:30:33","2020-02-15","*8173","OK",-337,"RUB",-337,"RUB",16,"Транспорт",4121,"Uber",16,{"$f":"IFERROR(IF(A1437=\"\",\"\",VLOOKUP(J1437,'Соответствия статей'!$A$2:$B$50,2,0)),\"Другое\")","v":"Транспорт"},"Банк","Расход"]
["2020-11-12T13:49:03","2020-02-15","*7127","OK",-25,"RUB",-25,"RUB",null,"Супермаркеты",5499,"Petro-Servis",0,{"$f":"IFERROR(IF(A1438=\"\",\"\",VLOOKUP(J1438,'Соответствия статей'!$A$2:$B$50,2,0)),\"Другое\")","v":"Продукты"},"Банк","Расход"]
["2020-11-12T13:21:39","2020-02-14","*7127","OK",-200,"RUB",-200,"RUB",null,"Фастфуд",5814,"Stolovaya",2,{"$f":"IFERROR(IF(A1439=\"\",\"\",VLOOKUP(J1439,'Соответствия статей'!$A$2:$B$50,2,0)),\"Другое\")","v":"Рестораны"},"Банк","Расход"]
["2020-11-11T19:45:11","2020-02-15","*7127","OK",-605.78,"RUB",-605.78,"RUB",null,"Супермаркеты",5411,"Перекресток",6,{"$f":"IFERROR(IF(A1440=\"\",\"\",VLOOKUP(J1440,'Соответствия статей'!$A$2:$B$50,2,0)),\"Другое\")","v":"Продукты"},"Банк","Расход"]
["2020-11-11T19:05:29","2020-02-14","*7127","OK",-460,"RUB",-460,"RUB",null,"Дом, ремонт",5200,"Etm1416001",4,{"$f":"IFERROR(IF(A1441=\"\",\"\",VLOOKUP(J1441,'Соответствия статей'!$A$2:$B$50,2,0)),\"Другое\")","v":"Товары для дома, ремонта"},"Банк","Расход"]
["2020-11-11T17:06:43","2020-02-12","*7127","OK",-75,"RUB",-75,"RUB",null,"Фастфуд",5814,"OOO As-Vend",0,{"$f":"IFERROR(IF(A1442=\"\",\"\",VLOOKUP(J1442,'Соответствия статей'!$A$2:$B$50,2,0)),\"Другое\")","v":"Рестораны"},"Банк","Расход"]
["2020-11-11T14:57:39","2020-02-12","*7127","OK",-25,"RUB",-25,"RUB",null,"Фастфуд",5814,"OOO As-Vend",0,{"$f":"IFERROR(IF(A1443=\"\",\"\",VLOOKUP(J1443,'Соответствия статей'!$A$2:$B$50,2,0)),\"Другое\")","v":"Рестораны"},"Банк","Расход"]
["2020-11-11T12:36:15","2020-02-14","*7127","OK",-314,"RUB",-314,"RUB",null,"Фастфуд",5814,"Додо Пицца",3,{"$f":"IFERROR(IF(A1444=\"\",\"\",VLOOKUP(J1444,'Соответствия статей'!$A$2:$B$50,2,0)),\"Другое\")","v":"Рестораны"},"Банк","Расход"]
["2020-11-11T12:27:42","2020-02-12","*7127","OK",-258.04000000000002,"RUB",-258.04000000000002,"RUB",null,"Гос. сборы",9402,"Почта России",2,{"$f":"IFERROR(IF(A1445=\"\",\"\",VLOOKUP(J1445,'Соответствия статей'!$A$2:$B$50,2,0)),\"Другое\")","v":"Другое"},"Банк","Расход"]
["2020-11-11T11:32:09","2020-02-12","*7127","OK",-16,"RUB",-16,"RUB",null,"Гос. сборы",9402,"Почта России",0,{"$f":"IFERROR(IF(A1446=\"\",\"\",VLOOKUP(J1446,'Соответствия статей'!$A$2:$B$50,2,0)),\"Другое\")","v":"Другое"},"Банк","Расход"]
["2020-11-11T11:23:31","2020-02-12","*7127","OK",-10,"RUB",-10,"RUB",null,"Фото/видео",7395,"Foto Na Dokumenti",0,{"$f":"IFERROR(IF(A1447=\"\",\"\",VLOOKUP(J1447,'Соответствия статей'!$A$2:$B$50,2,0)),\"Другое\")","v":"Другое"},"Банк","Расход"]
["2020-11-11T11:02:05","2020-02-12","*7127","OK",-20,"RUB",-20,"RUB",null,"Фото/видео",7395,"Foto Na Dokumenti",0,{"$f":"IFERROR(IF(A1448=\"\",\"\",VLOOKUP(J1448,'Соответствия статей'!$A$2:$B$50,2,0)),\"Другое\")","v":"Другое"},"Банк","Расход"]
["2020-11-10T13:42:55","2020-02-13","*7127","OK",-25,"RUB",-25,"RUB",null,"Супермаркеты",5499,"Petro-Servis",0,{"$f":"IFERROR(IF(A1449=\"\",\"\",VLOOKUP(J1449,'Соответствия статей'!$A$2:$B$50,2,0)),\"Другое\")","v":"Продукты"},"Банк","Расход"]
["2020-11-10T13:07:20","2020-02-13","*7127","OK",-205,"RUB",-205,"RUB",null,"Фастфуд",5814,"Stolovaya",2,{"$f":"IFERROR(IF(A1450=\"\",\"\",VLOOKUP(J1450,'Соответствия статей'!$A$2:$B$50,2,0)),\"Другое\")","v":"Рестораны"},"Банк","Расход"]
["2020-11-10T01:12:58","2020-02-13","*7127","OK",-350,"RUB",-350,"RUB",null,"Финан. услуги",6513,"Rosreestr.Net",3,{"$f":"IFERROR(IF(A1451=\"\",\"\",VLOOKUP(J1451,'Соответствия статей'!$A$2:$B$50,2,0)),\"Другое\")","v":"Переводы"},"Банк","Расход"]
["2020-11-09T22:19:52","2020-02-12","*7127","OK",-350,"RUB",-350,"RUB",null,"Финан. услуги",6513,"Rosreestr.Net",3,{"$f":"IFERROR(IF(A1452=\"\",\"\",VLOOKUP(J1452,'Соответствия статей'!$A$2:$B$50,2,0)),\"Другое\")","v":"Переводы"},"Банк","Расход"]
["2020-11-09T22:12:10","2020-02-12","*7127","OK",-350,"RUB",-350,"RUB",null,"Финан. услуги",6513,"Rosreestr.Net",3,{"$f":"IFERROR(IF(A1453=\"\",\"\",VLOOKUP(J1453,'Соответствия статей'!$A$2:$B$50,2,0)),\"Другое\")","v":"Переводы"},"Банк","Расход"]
["2020-11-08T19:11:18","2020-02-11","*7127","OK",-329,"RUB",-329,"RUB",null,"Аптеки",5912,"Apt2896 Antares",3,{"$f":"IFERROR(IF(A1454=\"\",\"\",VLOOKUP(J1454,'Соответствия статей'!$A$2:$B$50,2,0)),\"Другое\")","v":"Медицина"},"Банк","Расход"]
["2020-11-08T18:53:08","2020-02-11","*7127","OK",-368.19,"RUB",-368.19,"RUB",null,"Супермаркеты",5411,"Перекресток",3,{"$f":"IFERROR(IF(A1455=\"\",\"\",VLOOKUP(J1455,'Соответствия статей'!$A$2:$B$50,2,0)),\"Другое\")","v":"Продукты"},"Банк","Расход"]
["2020-11-08T15:33:17","2020-02-12","*7127","OK",-33.99,"RUB",-33.99,"RUB",null,"Супермаркеты",5411,"Верный",0,{"$f":"IFERROR(IF(A1456=\"\",\"\",VLOOKUP(J1456,'Соответствия статей'!$A$2:$B$50,2,0)),\"Другое\")","v":"Продукты"},"Банк","Расход"]
["2020-11-07T19:22:01","2020-02-10","*7127","OK",-1336.98,"RUB",-1336.98,"RUB",null,"Супермаркеты",5411,"Перекресток",13,{"$f":"IFERROR(IF(A1457=\"\",\"\",VLOOKUP(J1457,'Соответствия статей'!$A$2:$B$50,2,0)),\"Другое\")","v":"Продукты"},"Банк","Расход"]
["2020-11-07T13:36:35","2020-02-08","*7127","OK",-25,"RUB",-25,"RUB",null,"Фастфуд",5814,"Petro-Servis",0,{"$f":"IFERROR(IF(A1458=\"\",\"\",VLOOKUP(J1458,'Соответствия статей'!$A$2:$B$50,2,0)),\"Другое\")","v":"Рестораны"},"Банк","Расход"]
["2020-11-07T13:07:21","2020-02-10","*7127","OK",-200,"RUB",-200,"RUB",null,"Фастфуд",5814,"Stolovaya",2,{"$f":"IFERROR(IF(A1459=\"\",\"\",VLOOKUP(J1459,'Соответствия статей'!$A$2:$B$50,2,0)),\"Другое\")","v":"Рестораны"},"Банк","Расход"]
["2020-11-07T08:03:42","2020-02-08","*7127","OK",-25,"RUB",-25,"RUB",null,"Фастфуд",5814,"OOO As-Vend",0,{"$f":"IFERROR(IF(A1460=\"\",\"\",VLOOKUP(J1460,'Соответствия статей'!$A$2:$B$50,2,0)),\"Другое\")","v":"Рестораны"},"Банк","Расход"]
["2020-11-06T23:56:03","2020-02-08","*7127","OK",-680.01,"RUB",-680.01,"RUB",null,"Супермаркеты",5411,"Перекресток",6,{"$f":"IFERROR(IF(A1461=\"\",\"\",VLOOKUP(J1461,'Соответствия статей'!$A$2:$B$50,2,0)),\"Другое\")","v":"Продукты"},"Банк","Расход"]
["2020-11-06T19:21:25","2020-02-08","*7127","OK",-32,"RUB",-32,"RUB",null,"Книги",5192,"Первая полоса",0,{"$f":"IFERROR(IF(A1462=\"\",\"\",VLOOKUP(J1462,'Соответствия статей'!$A$2:$B$50,2,0)),\"Другое\")","v":"Обучение"},"Банк","Расход"]
["2020-11-06T13:08:10","2020-02-08","*7127","OK",-200,"RUB",-200,"RUB",null,"Фастфуд",5814,"Stolovaya",2,{"$f":"IFERROR(IF(A1463=\"\",\"\",VLOOKUP(J1463,'Соответствия статей'!$A$2:$B$50,2,0)),\"Другое\")","v":"Рестораны"},"Банк","Расход"]
["2020-11-05T21:03:41","2020-02-07","*7127","OK",-196,"RUB",-196,"RUB",null,"Аптеки",5912,"Аптеки Первая Помощь",1,{"$f":"IFERROR(IF(A1464=\"\",\"\",VLOOKUP(J1464,'Соответствия статей'!$A$2:$B$50,2,0)),\"Другое\")","v":"Медицина"},"Банк","Расход"]
["2020-11-05T20:50:19","2020-02-07","*7127","OK",-30,"RUB",-30,"RUB",null,"Аптеки",5912,"Озерки",0,{"$f":"IFERROR(IF(A1465=\"\",\"\",VLOOKUP(J1465,'Соответствия статей'!$A$2:$B$50,2,0)),\"Другое\")","v":"Медицина"},"Банк","Расход"]
["2020-11-05T18:49:51","2020-02-06","*7127","OK",-35,"RUB",-35,"RUB",null,"Фастфуд",5814,"OOO As-Vend",0,{"$f":"IFERROR(IF(A1466=\"\",\"\",VLOOKUP(J1466,'Соответствия статей'!$A$2:$B$50,2,0)),\"Другое\")","v":"Рестораны"},"Банк","Расход"]
["2020-11-05T13:17:13","2020-02-06","*7127","OK",-200,"RUB",-200,"RUB",null,"Фастфуд",5814,"Stolovaya",2,{"$f":"IFERROR(IF(A1467=\"\",\"\",VLOOKUP(J1467,'Соответствия статей'!$A$2:$B$50,2,0)),\"Другое\")","v":"Рестораны"},"Банк","Расход"]
["2020-11-05T08:42:18","2020-02-06","*7127","OK",-25,"RUB",-25,"RUB",null,"Фастфуд",5814,"OOO As-Vend",0,{"$f":"IFERROR(IF(A1468=\"\",\"\",VLOOKUP(J1468,'Соответствия статей'!$A$2:$B$50,2,0)),\"Другое\")","v":"Рестораны"},"Банк","Расход"]
["2020-11-04T21:13:24","2020-02-06","*7127","OK",-222,"RUB",-222,"RUB",null,"Фастфуд",5814,"Ямм-Пицца",2,{"$f":"IFERROR(IF(A1469=\"\",\"\",VLOOKUP(J1469,'Соответствия статей'!$A$2:$B$50,2,0)),\"Другое\")","v":"Рестораны"},"Банк","Расход"]
["2020-11-04T19:59:53","2020-02-06","*7127","OK",-396,"RUB",-396,"RUB",null,"Фастфуд",5814,"Ямм-Пицца",3,{"$f":"IFERROR(IF(A1470=\"\",\"\",VLOOKUP(J1470,'Соответствия статей'!$A$2:$B$50,2,0)),\"Другое\")","v":"Рестораны"},"Банк","Расход"]
["2020-11-04T19:34:05","2020-02-06","*7127","OK",-150,"RUB",-150,"RUB",null,"Рестораны",5813,"OOO Arij",1,{"$f":"IFERROR(IF(A1471=\"\",\"\",VLOOKUP(J1471,'Соответствия статей'!$A$2:$B$50,2,0)),\"Другое\")","v":"Рестораны"},"Банк","Расход"]
["2020-11-04T13:12:41","2020-02-06","*7127","OK",-200,"RUB",-200,"RUB",null,"Фастфуд",5814,"Stolovaya",2,{"$f":"IFERROR(IF(A1472=\"\",\"\",VLOOKUP(J1472,'Соответствия статей'!$A$2:$B$50,2,0)),\"Другое\")","v":"Рестораны"},"Банк","Расход"]
["2020-11-03T20:27:08","2020-02-04","*7127","OK",-20.23,"RUB",-20.23,"RUB",null,"Жкх/иб",4900,"Петроэлектросбыт",0,{"$f":"IFERROR(IF(A1473=\"\",\"\",VLOOKUP(J1473,'Соответствия статей'!$A$2:$B$50,2,0)),\"Другое\")","v":"Коммунальные услуги"},"Банк","Расход"]
["2020-11-03T19:45:11","2020-02-05","*7127","OK",-972.27,"RUB",-972.27,"RUB",null,"Супермаркеты",5411,"Перекресток",9,{"$f":"IFERROR(IF(A1474=\"\",\"\",VLOOKUP(J1474,'Соответствия статей'!$A$2:$B$50,2,0)),\"Другое\")","v":"Продукты"},"Банк","Расход"]
["2020-11-03T13:02:25","2020-02-05","*7127","OK",-200,"RUB",-200,"RUB",null,"Фастфуд",5814,"Stolovaya",2,{"$f":"IFERROR(IF(A1475=\"\",\"\",VLOOKUP(J1475,'Соответствия статей'!$A$2:$B$50,2,0)),\"Другое\")","v":"Рестораны"},"Банк","Расход"]
["2020-11-03T00:29:45","2020-02-03","*7127","OK",-7,"RUB",-7,"RUB",null,"Мобильные/иб",null,"Ростелеком Мобильная связь +79932213431",0,{"$f":"IFERROR(IF(A1476=\"\",\"\",VLOOKUP(J1476,'Соответствия статей'!$A$2:$B$50,2,0)),\"Другое\")","v":"Телефонная связь"},"Банк","Расход"]
["2020-11-02T16:06:02","2020-02-04","*7127","OK",-326.52,"RUB",-326.52,"RUB",null,"Супермаркеты",5411,"Семишагофф",3,{"$f":"IFERROR(IF(A1477=\"\",\"\",VLOOKUP(J1477,'Соответствия статей'!$A$2:$B$50,2,0)),\"Другое\")","v":"Продукты"},"Банк","Расход"]
["2020-11-02T13:08:33","2020-02-04","*7127","OK",-1182,"RUB",-1182,"RUB",null,"Дом, ремонт",5211,"СТАРТ",11,{"$f":"IFERROR(IF(A1478=\"\",\"\",VLOOKUP(J1478,'Соответствия статей'!$A$2:$B$50,2,0)),\"Другое\")","v":"Товары для дома, ремонта"},"Банк","Расход"]
["2020-11-02T12:40:51","2020-02-02","*7127","OK",-550,"RUB",-550,"RUB",null,"Мобильные/иб",null,"Ростелеком Мобильная связь +79932213431",0,{"$f":"IFERROR(IF(A1479=\"\",\"\",VLOOKUP(J1479,'Соответствия статей'!$A$2:$B$50,2,0)),\"Другое\")","v":"Телефонная связь"},"Банк","Расход"]
["2020-11-02T12:31:42","2020-02-02","*8173","OK",-4000,"RUB",-4000,"RUB",null,"Переводы/иб",null,"Олег Н.",0,{"$f":"IFERROR(IF(A1480=\"\",\"\",VLOOKUP(J1480,'Соответствия статей'!$A$2:$B$50,2,0)),\"Другое\")","v":"Переводы"},"Банк","Расход"]
["2020-11-01T15:54:26","2020-02-01","*8173","OK",490,"RUB",490,"RUB",null,"Прочие доходы",null,"Дмитрий И.",0,{"$f":"IFERROR(IF(A1481=\"\",\"\",VLOOKUP(J1481,'Соответствия статей'!$A$2:$B$50,2,0)),\"Другое\")","v":"Прочие доходы"},"Банк","Доход"]
["2020-11-01T14:26:50","2020-02-03","*8173","OK",-100,"RUB",-100,"RUB",5,"Транспорт",4111,"Метро Санкт-Петербург",5,{"$f":"IFERROR(IF(A1482=\"\",\"\",VLOOKUP(J1482,'Соответствия статей'!$A$2:$B$50,2,0)),\"Другое\")","v":"Транспорт"},"Банк","Расход"]
["2020-11-01T14:16:18","2020-02-03","*7127","OK",-1004.02,"RUB",-1004.02,"RUB",null,"Фастфуд",5814,"Evrazia",10,{"$f":"IFERROR(IF(A1483=\"\",\"\",VLOOKUP(J1483,'Соответствия статей'!$A$2:$B$50,2,0)),\"Другое\")","v":"Рестораны"},"Банк","Расход"]
["2020-11-01T11:35:28","2020-02-03","*8173","OK",-55,"RUB",-55,"RUB",2,"Транспорт",4111,"Метро Санкт-Петербург",2,{"$f":"IFERROR(IF(A1484=\"\",\"\",VLOOKUP(J1484,'Соответствия статей'!$A$2:$B$50,2,0)),\"Другое\")","v":"Транспорт"},"Банк","Расход"]
["2020-10-31T22:57:02","2020-02-03","*7127","OK",-1762.57,"RUB",-1762.57,"RUB",null,"Супермаркеты",5411,"Перекресток",17,{"$f":"IFERROR(IF(A1485=\"\",\"\",VLOOKUP(J1485,'Соответствия статей'!$A$2:$B$50,2,0)),\"Другое\")","v":"Продукты"},"Банк","Расход"]
["2020-10-31T21:47:18","2020-02-03","*8173","OK",-60,"RUB",-60,"RUB",3,"Транспорт",4111,"Метро Санкт-Петербург",3,{"$f":"IFERROR(IF(A1486=\"\",\"\",VLOOKUP(J1486,'Соответствия статей'!$A$2:$B$50,2,0)),\"Другое\")","v":"Транспорт"},"Банк","Расход"]
["2020-10-31T21:41:51","2020-02-01","*7127","OK",-1049,"RUB",-1049,"RUB",null,"Разные товары",5945,"IP Kurilov",10,{"$f":"IFERROR(IF(A1487=\"\",\"\",VLOOKUP(J1487,'Соответствия статей'!$A$2:$B$50,2,0)),\"Другое\")","v":"Другое"},"Банк","Расход"]
["2020-10-31T13:39:27","2020-02-01","*7127","OK",-35,"RUB",-35,"RUB",null,"Фастфуд",5814,"Petro-Servis",0,{"$f":"IFERROR(IF(A1488=\"\",\"\",VLOOKUP(J1488,'Соответствия статей'!$A$2:$B$50,2,0)),\"Другое\")","v":"Рестораны"},"Банк","Расход"]
["2020-10-31T13:07:33","2020-02-03","*7127","OK",-200,"RUB",-200,"RUB",null,"Фастфуд",5814,"Stolovaya",2,{"$f":"IFERROR(IF(A1489=\"\",\"\",VLOOKUP(J1489,'Соответствия статей'!$A$2:$B$50,2,0)),\"Другое\")","v":"Рестораны"},"Банк","Расход"]
["2020-10-31T12:13:56","2020-01-31","*7127","OK",25,"RUB",25,"RUB",null,"Прочие доходы",null,"Компенсация покупки",0,{"$f":"IFERROR(IF(A1490=\"\",\"\",VLOOKUP(J1490,'Соответствия статей'!$A$2:$B$50,2,0)),\"Другое\")","v":"Прочие доходы"},"Банк","Доход"]
["2020-10-31T12:13:46","2020-01-31","*7127","OK",190,"RUB",190,"RUB",null,"Прочие доходы",null,"Компенсация покупки",0,{"$f":"IFERROR(IF(A1491=\"\",\"\",VLOOKUP(J1491,'Соответствия статей'!$A$2:$B$50,2,0)),\"Другое\")","v":"Прочие доходы"},"Банк","Доход"]
["2020-10-31T12:12:40","2020-01-31","*7127","OK",234.89,"RUB",234.89,"RUB",null,"Прочие доходы",null,"Компенсация покупки",0,{"$f":"IFERROR(IF(A1492=\"\",\"\",VLOOKUP(J1492,'Соответствия статей'!$A$2:$B$50,2,0)),\"Другое\")","v":"Прочие доходы"},"Банк","Доход"]
["2020-10-31T12:12:04","2020-01-31","*7127","OK",208,"RUB",208,"RUB",null,"Прочие доходы",null,"Компенсация покупки",0,{"$f":"IFERROR(IF(A1493=\"\",\"\",VLOOKUP(J1493,'Соответствия статей'!$A$2:$B$50,2,0)),\"Другое\")","v":"Прочие доходы"},"Банк","Доход"]
["2020-10-31T12:10:54","2020-01-31","*7127","OK",1235,"RUB",1235,"RUB",null,"Прочие доходы",null,"Компенсация покупки",0,{"$f":"IFERROR(IF(A1494=\"\",\"\",VLOOKUP(J1494,'Соответствия статей'!$A$2:$B$50,2,0)),\"Другое\")","v":"Прочие доходы"},"Банк","Доход"]
["2020-10-30T23:08:10","2020-01-30",null,"OK",-59,"RUB",-59,"RUB",null,"Другое",null,"Плата за оповещения об операциях",0,{"$f":"IFERROR(IF(A1495=\"\",\"\",VLOOKUP(J1495,'Соответствия статей'!$A$2:$B$50,2,0)),\"Другое\")","v":"Другое"},"Банк","Расход"]
["2020-10-30T19:00:07","2020-02-03","*7127","OK",-166.74,"RUB",-166.74,"RUB",null,"Супермаркеты",5441,"Pyshnye Bulki",1,{"$f":"IFERROR(IF(A1496=\"\",\"\",VLOOKUP(J1496,'Соответствия статей'!$A$2:$B$50,2,0)),\"Другое\")","v":"Продукты"},"Банк","Расход"]
["2020-10-30T13:16:16","2020-02-01","*7127","OK",-205,"RUB",-205,"RUB",null,"Фастфуд",5814,"Stolovaya",2,{"$f":"IFERROR(IF(A1497=\"\",\"\",VLOOKUP(J1497,'Соответствия статей'!$A$2:$B$50,2,0)),\"Другое\")","v":"Рестораны"},"Банк","Расход"]
["2020-10-30T10:26:26","2020-01-31","*7127","OK",-25,"RUB",-25,"RUB",null,"Фастфуд",5814,"OOO As-Vend",0,{"$f":"IFERROR(IF(A1498=\"\",\"\",VLOOKUP(J1498,'Соответствия статей'!$A$2:$B$50,2,0)),\"Другое\")","v":"Рестораны"},"Банк","Расход"]
["2020-10-29T19:00:44","2020-01-31","*7127","OK",-76.02,"RUB",-76.02,"RUB",null,"Супермаркеты",5441,"Pyshnye Bulki",0,{"$f":"IFERROR(IF(A1499=\"\",\"\",VLOOKUP(J1499,'Соответствия статей'!$A$2:$B$50,2,0)),\"Другое\")","v":"Продукты"},"Банк","Расход"]
["2020-10-29T17:18:46","2020-01-29","*8173","OK",-26000,"RUB",-26000,"RUB",null,"Переводы/иб",null,"Олег Н.",0,{"$f":"IFERROR(IF(A1500=\"\",\"\",VLOOKUP(J1500,'Соответствия статей'!$A$2:$B$50,2,0)),\"Другое\")","v":"Переводы"},"Банк","Расход"]
["2020-10-29T13:12:11","2020-01-31","*7127","OK",-200,"RUB",-200,"RUB",null,"Фастфуд",5814,"Stolovaya",2,{"$f":"IFERROR(IF(A1501=\"\",\"\",VLOOKUP(J1501,'Соответствия статей'!$A$2:$B$50,2,0)),\"Другое\")","v":"Рестораны"},"Банк","Расход"]
["2020-10-29T07:51:07","2020-01-30","*7127","OK",-45,"RUB",-45,"RUB",null,"Фастфуд",5814,"OOO As-Vend",0,{"$f":"IFERROR(IF(A1502=\"\",\"\",VLOOKUP(J1502,'Соответствия статей'!$A$2:$B$50,2,0)),\"Другое\")","v":"Рестораны"},"Банк","Расход"]
["2020-10-28T17:12:50","2020-01-29","*7127","OK",-75,"RUB",-75,"RUB",null,"Фастфуд",5814,"OOO As-Vend",0,{"$f":"IFERROR(IF(A1503=\"\",\"\",VLOOKUP(J1503,'Соответствия статей'!$A$2:$B$50,2,0)),\"Другое\")","v":"Рестораны"},"Банк","Расход"]
["2020-10-28T13:27:08","2020-01-29","*7127","OK",-35,"RUB",-35,"RUB",null,"Фастфуд",5814,"Petro-Servis",0,{"$f":"IFERROR(IF(A1504=\"\",\"\",VLOOKUP(J1504,'Соответствия статей'!$A$2:$B$50,2,0)),\"Другое\")","v":"Рестораны"},"Банк","Расход"]
["2020-10-28T13:00:41","2020-01-30","*7127","OK",-200,"RUB",-200,"RUB",null,"Фастфуд",5814,"Stolovaya",2,{"$f":"IFERROR(IF(A1505=\"\",\"\",VLOOKUP(J1505,'Соответствия статей'!$A$2:$B$50,2,0)),\"Другое\")","v":"Рестораны"},"Банк","Расход"]
["2020-10-28T09:05:10","2020-01-29","*7127","OK",-25,"RUB",-25,"RUB",null,"Фастфуд",5814,"OOO As-Vend",0,{"$f":"IFERROR(IF(A1506=\"\",\"\",VLOOKUP(J1506,'Соответствия статей'!$A$2:$B$50,2,0)),\"Другое\")","v":"Рестораны"},"Банк","Расход"]
["2020-10-28T00:03:25","2020-01-29","*7127","OK",-84,"RUB",-84,"RUB",null,"Транспорт",4121,"Uber",0,{"$f":"IFERROR(IF(A1507=\"\",\"\",VLOOKUP(J1507,'Соответствия статей'!$A$2:$B$50,2,0)),\"Другое\")","v":"Транспорт"},"Банк","Расход"]
["2020-10-27T18:49:50","2020-01-29","*7127","OK",-140.1,"RUB",-140.1,"RUB",null,"Супермаркеты",5441,"Pyshnye Bulki",1,{"$f":"IFERROR(IF(A1508=\"\",\"\",VLOOKUP(J1508,'Соответствия статей'!$A$2:$B$50,2,0)),\"Другое\")","v":"Продукты"},"Банк","Расход"]
["2020-10-27T14:04:28","2020-01-27","*8173","OK",570,"RUB",570,"RUB",null,"Прочие доходы",null,"Федор Ф.",0,{"$f":"IFERROR(IF(A1509=\"\",\"\",VLOOKUP(J1509,'Соответствия статей'!$A$2:$B$50,2,0)),\"Другое\")","v":"Прочие доходы"},"Банк","Доход"]
["2020-10-27T13:15:36","2020-01-29","*7127","OK",-200,"RUB",-200,"RUB",null,"Фастфуд",5814,"Stolovaya",2,{"$f":"IFERROR(IF(A1510=\"\",\"\",VLOOKUP(J1510,'Соответствия статей'!$A$2:$B$50,2,0)),\"Другое\")","v":"Рестораны"},"Банк","Расход"]
["2020-10-27T09:52:28","2020-01-27","*8173","OK",190,"RUB",190,"RUB",null,"Прочие доходы",null,"Анна Ш.",0,{"$f":"IFERROR(IF(A1511=\"\",\"\",VLOOKUP(J1511,'Соответствия статей'!$A$2:$B$50,2,0)),\"Другое\")","v":"Прочие доходы"},"Банк","Доход"]
["2020-10-26T22:56:19","2020-01-30","*7127","OK",-275.43,"RUB",-275.43,"RUB",null,"Супермаркеты",5411,"Перекресток",2,{"$f":"IFERROR(IF(A1512=\"\",\"\",VLOOKUP(J1512,'Соответствия статей'!$A$2:$B$50,2,0)),\"Другое\")","v":"Продукты"},"Банк","Расход"]
["2020-10-25T15:10:38","2020-01-28","*7127","OK",-1363.73,"RUB",-1363.73,"RUB",null,"Супермаркеты",5411,"Перекресток",13,{"$f":"IFERROR(IF(A1513=\"\",\"\",VLOOKUP(J1513,'Соответствия статей'!$A$2:$B$50,2,0)),\"Другое\")","v":"Продукты"},"Банк","Расход"]
["2020-10-25T14:39:38","2020-01-28","*7127","OK",-691,"RUB",-691,"RUB",null,"Аптеки",5912,"Озерки",6,{"$f":"IFERROR(IF(A1514=\"\",\"\",VLOOKUP(J1514,'Соответствия статей'!$A$2:$B$50,2,0)),\"Другое\")","v":"Медицина"},"Банк","Расход"]
["2020-10-25T14:19:41","2020-01-27","*7127","OK",-5400,"RUB",-5400,"RUB",null,"Мед. услуги",8099,"A-Mediya LLC",54,{"$f":"IFERROR(IF(A1515=\"\",\"\",VLOOKUP(J1515,'Соответствия статей'!$A$2:$B$50,2,0)),\"Другое\")","v":"Медицина"},"Банк","Расход"]
["2020-10-24T18:43:57","2020-01-27","*7127","OK",-104,"RUB",-104,"RUB",null,"Транспорт",4121,"Uber",1,{"$f":"IFERROR(IF(A1516=\"\",\"\",VLOOKUP(J1516,'Соответствия статей'!$A$2:$B$50,2,0)),\"Другое\")","v":"Транспорт"},"Банк","Расход"]
["2020-10-24T13:21:42","2020-01-27","*7357","OK",-251,"RUB",-251,"RUB",2,"Фастфуд",5814,"Tarelka",2,{"$f":"IFERROR(IF(A1517=\"\",\"\",VLOOKUP(J1517,'Соответствия статей'!$A$2:$B$50,2,0)),\"Другое\")","v":"Рестораны"},"Банк","Расход"]
["2020-10-24T12:54:25","2020-01-25","*7127","OK",-35,"RUB",-35,"RUB",null,"Фастфуд",5814,"Petro-Servis",0,{"$f":"IFERROR(IF(A1518=\"\",\"\",VLOOKUP(J1518,'Соответствия статей'!$A$2:$B$50,2,0)),\"Другое\")","v":"Рестораны"},"Банк","Расход"]
["2020-10-24T12:37:39","2020-01-27","*7127","OK",-226,"RUB",-226,"RUB",null,"Фастфуд",5814,"Stolovaya",2,{"$f":"IFERROR(IF(A1519=\"\",\"\",VLOOKUP(J1519,'Соответствия статей'!$A$2:$B$50,2,0)),\"Другое\")","v":"Рестораны"},"Банк","Расход"]
["2020-10-24T10:10:51","2020-01-24","*7127","OK",-2850,"RUB",-2850,"RUB",null,"Развлечения",7999,"ilocked.ru/",28,{"$f":"IFERROR(IF(A1520=\"\",\"\",VLOOKUP(J1520,'Соответствия статей'!$A$2:$B$50,2,0)),\"Другое\")","v":"Развлечения"},"Банк","Расход"]
["2020-10-23T23:03:13","2020-01-23",null,"OK",-99,"RUB",-99,"RUB",null,"Другое",null,"Плата за обслуживание",0,{"$f":"IFERROR(IF(A1521=\"\",\"\",VLOOKUP(J1521,'Соответствия статей'!$A$2:$B$50,2,0)),\"Другое\")","v":"Другое"},"Банк","Расход"]
["2020-10-23T22:41:14","2020-01-23",null,"OK",270,"RUB",270,"RUB",null,"Прочие доходы",null,"Вознаграждение за операции покупок",0,{"$f":"IFERROR(IF(A1522=\"\",\"\",VLOOKUP(J1522,'Соответствия статей'!$A$2:$B$50,2,0)),\"Другое\")","v":"Прочие доходы"},"Банк","Доход"]
["2020-10-23T22:32:42","2020-01-24","*7127","OK",-110,"RUB",-110,"RUB",null,"Транспорт",4121,"Uber",1,{"$f":"IFERROR(IF(A1523=\"\",\"\",VLOOKUP(J1523,'Соответствия статей'!$A$2:$B$50,2,0)),\"Другое\")","v":"Транспорт"},"Банк","Расход"]
["2020-10-23T21:41:27","2020-01-23",null,"OK",4.1500000000000004,"RUB",4.1500000000000004,"RUB",null,"Прочие доходы",null,"Проценты на остаток по счету",0,{"$f":"IFERROR(IF(A1524=\"\",\"\",VLOOKUP(J1524,'Соответствия статей'!$A$2:$B$50,2,0)),\"Другое\")","v":"Прочие доходы"},"Банк","Доход"]
["2020-10-23T13:32:52","2020-01-24","*7127","OK",-25,"RUB",-25,"RUB",null,"Фастфуд",5814,"OOO As-Vend",0,{"$f":"IFERROR(IF(A1525=\"\",\"\",VLOOKUP(J1525,'Соответствия статей'!$A$2:$B$50,2,0)),\"Другое\")","v":"Рестораны"},"Банк","Расход"]
["2020-10-23T13:11:40","2020-01-25","*7127","OK",-200,"RUB",-200,"RUB",null,"Фастфуд",5814,"Stolovaya",2,{"$f":"IFERROR(IF(A1526=\"\",\"\",VLOOKUP(J1526,'Соответствия статей'!$A$2:$B$50,2,0)),\"Другое\")","v":"Рестораны"},"Банк","Расход"]
["2020-10-23T10:28:59","2020-01-24","*7127","OK",-25,"RUB",-25,"RUB",null,"Фастфуд",5814,"OOO As-Vend",0,{"$f":"IFERROR(IF(A1527=\"\",\"\",VLOOKUP(J1527,'Соответствия статей'!$A$2:$B$50,2,0)),\"Другое\")","v":"Рестораны"},"Банк","Расход"]
["2020-10-22T20:31:01","2020-01-24","*7357","OK",-301.74,"RUB",-301.74,"RUB",3,"Супермаркеты",5411,"Перекресток",3,{"$f":"IFERROR(IF(A1528=\"\",\"\",VLOOKUP(J1528,'Соответствия статей'!$A$2:$B$50,2,0)),\"Другое\")","v":"Продукты"},"Банк","Расход"]
["2020-10-22T13:41:11","2020-01-23","*7127","OK",-35,"RUB",-35,"RUB",null,"Фастфуд",5814,"Petro-Servis",0,{"$f":"IFERROR(IF(A1529=\"\",\"\",VLOOKUP(J1529,'Соответствия статей'!$A$2:$B$50,2,0)),\"Другое\")","v":"Рестораны"},"Банк","Расход"]
["2020-10-22T13:12:17","2020-01-24","*7127","OK",-200,"RUB",-200,"RUB",null,"Фастфуд",5814,"Stolovaya",2,{"$f":"IFERROR(IF(A1530=\"\",\"\",VLOOKUP(J1530,'Соответствия статей'!$A$2:$B$50,2,0)),\"Другое\")","v":"Рестораны"},"Банк","Расход"]
["2020-10-22T11:29:46","2020-01-23","*7127","OK",-25,"RUB",-25,"RUB",null,"Фастфуд",5814,"OOO As-Vend",0,{"$f":"IFERROR(IF(A1531=\"\",\"\",VLOOKUP(J1531,'Соответствия статей'!$A$2:$B$50,2,0)),\"Другое\")","v":"Рестораны"},"Банк","Расход"]
["2020-10-22T01:08:34","2020-01-23","*7127","OK",-340,"RUB",-340,"RUB",null,"Транспорт",4121,"Uber",3,{"$f":"IFERROR(IF(A1532=\"\",\"\",VLOOKUP(J1532,'Соответствия статей'!$A$2:$B$50,2,0)),\"Другое\")","v":"Транспорт"},"Банк","Расход"]
["2020-10-21T13:38:45","2020-01-22","*7127","OK",-35,"RUB",-35,"RUB",null,"Фастфуд",5814,"Petro-Servis",0,{"$f":"IFERROR(IF(A1533=\"\",\"\",VLOOKUP(J1533,'Соответствия статей'!$A$2:$B$50,2,0)),\"Другое\")","v":"Рестораны"},"Банк","Расход"]
["2020-10-21T13:15:46","2020-01-23","*7127","OK",-200,"RUB",-200,"RUB",null,"Фастфуд",5814,"Stolovaya",2,{"$f":"IFERROR(IF(A1534=\"\",\"\",VLOOKUP(J1534,'Соответствия статей'!$A$2:$B$50,2,0)),\"Другое\")","v":"Рестораны"},"Банк","Расход"]
["2020-10-21T11:20:05","2020-01-22","*7127","OK",-25,"RUB",-25,"RUB",null,"Фастфуд",5814,"OOO As-Vend",0,{"$f":"IFERROR(IF(A1535=\"\",\"\",VLOOKUP(J1535,'Соответствия статей'!$A$2:$B$50,2,0)),\"Другое\")","v":"Рестораны"},"Банк","Расход"]
["2020-10-21T10:52:47","2020-01-23","*7357","OK",-194,"RUB",-194,"RUB",1,"Фастфуд",5814,"Додо Пицца",1,{"$f":"IFERROR(IF(A1536=\"\",\"\",VLOOKUP(J1536,'Соответствия статей'!$A$2:$B$50,2,0)),\"Другое\")","v":"Рестораны"},"Банк","Расход"]
["2020-10-20T20:46:38","2020-01-22","*7127","OK",-191,"RUB",-191,"RUB",null,"Супермаркеты",5441,"Pyshnye Bulki",1,{"$f":"IFERROR(IF(A1537=\"\",\"\",VLOOKUP(J1537,'Соответствия статей'!$A$2:$B$50,2,0)),\"Другое\")","v":"Продукты"},"Банк","Расход"]
["2020-10-20T19:48:01","2020-01-22","*7357","OK",-178,"RUB",-178,"RUB",1,"Фастфуд",5814,"KFC",1,{"$f":"IFERROR(IF(A1538=\"\",\"\",VLOOKUP(J1538,'Соответствия статей'!$A$2:$B$50,2,0)),\"Другое\")","v":"Рестораны"},"Банк","Расход"]
["2020-10-20T13:34:47","2020-01-21","*7127","OK",-35,"RUB",-35,"RUB",null,"Фастфуд",5814,"Petro-Servis",0,{"$f":"IFERROR(IF(A1539=\"\",\"\",VLOOKUP(J1539,'Соответствия статей'!$A$2:$B$50,2,0)),\"Другое\")","v":"Рестораны"},"Банк","Расход"]
["2020-10-20T13:11:44","2020-01-22","*7127","OK",-200,"RUB",-200,"RUB",null,"Фастфуд",5814,"Stolovaya",2,{"$f":"IFERROR(IF(A1540=\"\",\"\",VLOOKUP(J1540,'Соответствия статей'!$A$2:$B$50,2,0)),\"Другое\")","v":"Рестораны"},"Банк","Расход"]
["2020-10-20T09:43:05","2020-01-21","*7127","OK",-25,"RUB",-25,"RUB",null,"Фастфуд",5814,"OOO As-Vend",0,{"$f":"IFERROR(IF(A1541=\"\",\"\",VLOOKUP(J1541,'Соответствия статей'!$A$2:$B$50,2,0)),\"Другое\")","v":"Рестораны"},"Банк","Расход"]
["2020-10-20T02:52:15","2020-01-20","*8173","FAILED",-50,"RUB",-50,"RUB",null,"Мобильные/иб",null,"TELE2 - автоплатеж",0,{"$f":"IFERROR(IF(A1542=\"\",\"\",VLOOKUP(J1542,'Соответствия статей'!$A$2:$B$50,2,0)),\"Другое\")","v":"Телефонная связь"},"Банк","Расход"]
["2020-10-19T22:11:29","2020-01-21","*7127","OK",-1701.39,"RUB",-1701.39,"RUB",null,"Супермаркеты",5411,"Перекресток",17,{"$f":"IFERROR(IF(A1543=\"\",\"\",VLOOKUP(J1543,'Соответствия статей'!$A$2:$B$50,2,0)),\"Другое\")","v":"Продукты"},"Банк","Расход"]
["2020-10-19T21:08:27","2020-01-21","*7127","OK",-400,"RUB",-400,"RUB",null,"Рестораны",5812,"Kebab 24k",4,{"$f":"IFERROR(IF(A1544=\"\",\"\",VLOOKUP(J1544,'Соответствия статей'!$A$2:$B$50,2,0)),\"Другое\")","v":"Рестораны"},"Банк","Расход"]
["2020-10-19T19:30:39","2020-01-20","*7127","OK",-168,"RUB",-168,"RUB",null,"Транспорт",4121,"Uber",1,{"$f":"IFERROR(IF(A1545=\"\",\"\",VLOOKUP(J1545,'Соответствия статей'!$A$2:$B$50,2,0)),\"Другое\")","v":"Транспорт"},"Банк","Расход"]
["2020-10-19T18:07:43","2020-01-21","*7127","OK",-100,"RUB",-100,"RUB",null,"Кино",7832,"Синема Парк",1,{"$f":"IFERROR(IF(A1546=\"\",\"\",VLOOKUP(J1546,'Соответствия статей'!$A$2:$B$50,2,0)),\"Другое\")","v":"Развлечения"},"Банк","Расход"]
["2020-10-19T17:53:37","2020-01-19","*7127","OK",-1220,"RUB",-1220,"RUB",null,"Кино",7832,"Билеты в кино",12,{"$f":"IFERROR(IF(A1547=\"\",\"\",VLOOKUP(J1547,'Соответствия статей'!$A$2:$B$50,2,0)),\"Другое\")","v":"Развлечения"},"Банк","Расход"]
["2020-10-19T11:21:51","2020-01-19","*7127","OK",-370,"RUB",-370,"RUB",null,"Мобильные/иб",null,"Мой телефон +79533443146",0,{"$f":"IFERROR(IF(A1548=\"\",\"\",VLOOKUP(J1548,'Соответствия статей'!$A$2:$B$50,2,0)),\"Другое\")","v":"Телефонная связь"},"Банк","Расход"]
["2020-10-18T10:59:33","2020-01-21","*7127","OK",-152.69999999999999,"RUB",-152.69999999999999,"RUB",null,"Супермаркеты",5411,"Магнит",1,{"$f":"IFERROR(IF(A1549=\"\",\"\",VLOOKUP(J1549,'Соответствия статей'!$A$2:$B$50,2,0)),\"Другое\")","v":"Продукты"},"Банк","Расход"]
["2020-10-17T19:14:51","2020-01-20","*7127","OK",-762.6,"RUB",-762.6,"RUB",null,"Супермаркеты",5411,"Магнит",7,{"$f":"IFERROR(IF(A1550=\"\",\"\",VLOOKUP(J1550,'Соответствия статей'!$A$2:$B$50,2,0)),\"Другое\")","v":"Продукты"},"Банк","Расход"]
["2020-10-17T13:14:04","2020-01-18","*7127","OK",-200,"RUB",-200,"RUB",null,"Фастфуд",5814,"Stolovaya",2,{"$f":"IFERROR(IF(A1551=\"\",\"\",VLOOKUP(J1551,'Соответствия статей'!$A$2:$B$50,2,0)),\"Другое\")","v":"Рестораны"},"Банк","Расход"]
["2020-10-17T10:19:45","2020-01-18","*7127","OK",-15,"RUB",-15,"RUB",null,"Фастфуд",5814,"OOO As-Vend",0,{"$f":"IFERROR(IF(A1552=\"\",\"\",VLOOKUP(J1552,'Соответствия статей'!$A$2:$B$50,2,0)),\"Другое\")","v":"Рестораны"},"Банк","Расход"]
["2020-10-17T10:17:53","2020-01-18","*7127","OK",-25,"RUB",-25,"RUB",null,"Фастфуд",5814,"OOO As-Vend",0,{"$f":"IFERROR(IF(A1553=\"\",\"\",VLOOKUP(J1553,'Соответствия статей'!$A$2:$B$50,2,0)),\"Другое\")","v":"Рестораны"},"Банк","Расход"]
["2020-10-16T19:33:30","2020-01-18","*7127","OK",-40,"RUB",-40,"RUB",null,"Супермаркеты",5441,"Pyshnye Bulki",0,{"$f":"IFERROR(IF(A1554=\"\",\"\",VLOOKUP(J1554,'Соответствия статей'!$A$2:$B$50,2,0)),\"Другое\")","v":"Продукты"},"Банк","Расход"]
["2020-10-16T14:00:55","2020-01-18","*7357","OK",-203,"RUB",-203,"RUB",2,"Фастфуд",5814,"Tarelka",2,{"$f":"IFERROR(IF(A1555=\"\",\"\",VLOOKUP(J1555,'Соответствия статей'!$A$2:$B$50,2,0)),\"Другое\")","v":"Рестораны"},"Банк","Расход"]
["2020-10-16T13:38:54","2020-01-17","*7127","OK",-35,"RUB",-35,"RUB",null,"Фастфуд",5814,"Petro-Servis",0,{"$f":"IFERROR(IF(A1556=\"\",\"\",VLOOKUP(J1556,'Соответствия статей'!$A$2:$B$50,2,0)),\"Другое\")","v":"Рестораны"},"Банк","Расход"]
["2020-10-16T13:11:52","2020-01-17","*7127","OK",-200,"RUB",-200,"RUB",null,"Фастфуд",5814,"Stolovaya",2,{"$f":"IFERROR(IF(A1557=\"\",\"\",VLOOKUP(J1557,'Соответствия статей'!$A$2:$B$50,2,0)),\"Другое\")","v":"Рестораны"},"Банк","Расход"]
["2020-10-16T07:44:57","2020-01-17","*7127","OK",-75,"RUB",-75,"RUB",null,"Фастфуд",5814,"OOO As-Vend",0,{"$f":"IFERROR(IF(A1558=\"\",\"\",VLOOKUP(J1558,'Соответствия статей'!$A$2:$B$50,2,0)),\"Другое\")","v":"Рестораны"},"Банк","Расход"]
["2020-10-16","2020-01-17","*7127","OK",54980,"RUB",54980,"RUB",null,"Дом, ремонт",5722,"Мвидео",-549,{"$f":"IFERROR(IF(A1559=\"\",\"\",VLOOKUP(J1559,'Соответствия статей'!$A$2:$B$50,2,0)),\"Другое\")","v":"Товары для дома, ремонта"},"Банк","Расход"]
["2020-10-15T21:19:30","2020-01-16","*7127","OK",-1100,"RUB",-1100,"RUB",null,"Красота",7230,"IP Layter",11,{"$f":"IFERROR(IF(A1560=\"\",\"\",VLOOKUP(J1560,'Соответствия статей'!$A$2:$B$50,2,0)),\"Другое\")","v":"Услуги для внешнего вида"},"Банк","Расход"]
["2020-10-15T20:03:36","2020-01-17","*7127","OK",-288.8,"RUB",-288.8,"RUB",null,"Супермаркеты",5411,"Перекресток",2,{"$f":"IFERROR(IF(A1561=\"\",\"\",VLOOKUP(J1561,'Соответствия статей'!$A$2:$B$50,2,0)),\"Другое\")","v":"Продукты"},"Банк","Расход"]
["2020-10-15T17:10:24","2020-01-16","*7127","OK",-20,"RUB",-20,"RUB",null,"Фастфуд",5814,"OOO As-Vend",0,{"$f":"IFERROR(IF(A1562=\"\",\"\",VLOOKUP(J1562,'Соответствия статей'!$A$2:$B$50,2,0)),\"Другое\")","v":"Рестораны"},"Банк","Расход"]
["2020-10-15T13:42:57","2020-01-16","*7127","OK",-25,"RUB",-25,"RUB",null,"Фастфуд",5814,"OOO As-Vend",0,{"$f":"IFERROR(IF(A1563=\"\",\"\",VLOOKUP(J1563,'Соответствия статей'!$A$2:$B$50,2,0)),\"Другое\")","v":"Рестораны"},"Банк","Расход"]
["2020-10-15T13:12:50","2020-01-17","*7127","OK",-205,"RUB",-205,"RUB",null,"Фастфуд",5814,"Stolovaya",2,{"$f":"IFERROR(IF(A1564=\"\",\"\",VLOOKUP(J1564,'Соответствия статей'!$A$2:$B$50,2,0)),\"Другое\")","v":"Рестораны"},"Банк","Расход"]
["2020-10-15T13:07:49","2020-01-17","*7357","OK",-218,"RUB",-218,"RUB",2,"Фастфуд",5814,"Tarelka",2,{"$f":"IFERROR(IF(A1565=\"\",\"\",VLOOKUP(J1565,'Соответствия статей'!$A$2:$B$50,2,0)),\"Другое\")","v":"Рестораны"},"Банк","Расход"]
["2020-10-15T08:55:46","2020-01-17","*7357","OK",-55,"RUB",-55,"RUB",2,"Транспорт",4111,"Метро Санкт-Петербург",2,{"$f":"IFERROR(IF(A1566=\"\",\"\",VLOOKUP(J1566,'Соответствия статей'!$A$2:$B$50,2,0)),\"Другое\")","v":"Транспорт"},"Банк","Расход"]
["2020-10-15T07:46:45","2020-01-16","*7127","OK",-25,"RUB",-25,"RUB",null,"Фастфуд",5814,"OOO As-Vend",0,{"$f":"IFERROR(IF(A1567=\"\",\"\",VLOOKUP(J1567,'Соответствия статей'!$A$2:$B$50,2,0)),\"Другое\")","v":"Рестораны"},"Банк","Расход"]
["2020-10-15T00:11:13","2020-01-16","*7127","OK",-520.86,"RUB",-520.86,"RUB",null,"Жкх/иб",4900,"Петроэлектросбыт",0,{"$f":"IFERROR(IF(A1568=\"\",\"\",VLOOKUP(J1568,'Соответствия статей'!$A$2:$B$50,2,0)),\"Другое\")","v":"Коммунальные услуги"},"Банк","Расход"]
["2020-10-14T23:44:46","2020-01-16","*7127","OK",-54980,"RUB",-54980,"RUB",null,"Дом, ремонт",5722,"Мвидео",549,{"$f":"IFERROR(IF(A1569=\"\",\"\",VLOOKUP(J1569,'Соответствия статей'!$A$2:$B$50,2,0)),\"Другое\")","v":"Товары для дома, ремонта"},"Банк","Расход"]
["2020-10-14T13:34:53","2020-01-15","*7127","OK",-35,"RUB",-35,"RUB",null,"Фастфуд",5814,"Petro-Servis",0,{"$f":"IFERROR(IF(A1570=\"\",\"\",VLOOKUP(J1570,'Соответствия статей'!$A$2:$B$50,2,0)),\"Другое\")","v":"Рестораны"},"Банк","Расход"]
["2020-10-14T13:12:18","2020-01-15","*7127","OK",-200,"RUB",-200,"RUB",null,"Фастфуд",5814,"Stolovaya",2,{"$f":"IFERROR(IF(A1571=\"\",\"\",VLOOKUP(J1571,'Соответствия статей'!$A$2:$B$50,2,0)),\"Другое\")","v":"Рестораны"},"Банк","Расход"]
["2020-10-13T20:48:36","2020-01-15","*7357","OK",-411.4,"RUB",-411.4,"RUB",4,"Супермаркеты",5411,"Перекресток",4,{"$f":"IFERROR(IF(A1572=\"\",\"\",VLOOKUP(J1572,'Соответствия статей'!$A$2:$B$50,2,0)),\"Другое\")","v":"Продукты"},"Банк","Расход"]
["2020-10-13T19:19:14","2020-01-15","*7357","OK",-55,"RUB",-55,"RUB",0,"Фастфуд",5814,"Tarelka",0,{"$f":"IFERROR(IF(A1573=\"\",\"\",VLOOKUP(J1573,'Соответствия статей'!$A$2:$B$50,2,0)),\"Другое\")","v":"Рестораны"},"Банк","Расход"]
["2020-10-13T19:17:06","2020-01-15","*7127","OK",-1371.86,"RUB",-1371.86,"RUB",null,"Супермаркеты",5411,"Магнит",13,{"$f":"IFERROR(IF(A1574=\"\",\"\",VLOOKUP(J1574,'Соответствия статей'!$A$2:$B$50,2,0)),\"Другое\")","v":"Продукты"},"Банк","Расход"]
["2020-10-13T13:25:29","2020-01-14","*7127","OK",-35,"RUB",-35,"RUB",null,"Фастфуд",5814,"Petro-Servis",0,{"$f":"IFERROR(IF(A1575=\"\",\"\",VLOOKUP(J1575,'Соответствия статей'!$A$2:$B$50,2,0)),\"Другое\")","v":"Рестораны"},"Банк","Расход"]
["2020-10-13T13:04:48","2020-01-15","*7127","OK",-260,"RUB",-260,"RUB",null,"Фастфуд",5814,"Stolovaya",2,{"$f":"IFERROR(IF(A1576=\"\",\"\",VLOOKUP(J1576,'Соответствия статей'!$A$2:$B$50,2,0)),\"Другое\")","v":"Рестораны"},"Банк","Расход"]
["2020-10-13T12:24:44","2020-01-15","*7357","OK",-230,"RUB",-230,"RUB",2,"Фастфуд",5814,"Tarelka",2,{"$f":"IFERROR(IF(A1577=\"\",\"\",VLOOKUP(J1577,'Соответствия статей'!$A$2:$B$50,2,0)),\"Другое\")","v":"Рестораны"},"Банк","Расход"]
["2020-10-12T17:19:45","2020-01-14","*8173","OK",-150,"RUB",-150,"RUB",7,"Транспорт",4111,"Метро Санкт-Петербург",7,{"$f":"IFERROR(IF(A1578=\"\",\"\",VLOOKUP(J1578,'Соответствия статей'!$A$2:$B$50,2,0)),\"Другое\")","v":"Транспорт"},"Банк","Расход"]
["2020-10-12T17:17:26","2020-01-14","*8173","OK",-150,"RUB",-150,"RUB",7,"Транспорт",4111,"Метро Санкт-Петербург",7,{"$f":"IFERROR(IF(A1579=\"\",\"\",VLOOKUP(J1579,'Соответствия статей'!$A$2:$B$50,2,0)),\"Другое\")","v":"Транспорт"},"Банк","Расход"]
["2020-10-11T12:59:38","2020-01-13","*7127","OK",-745.61,"RUB",-745.61,"RUB",null,"Супермаркеты",5411,"Магнит",7,{"$f":"IFERROR(IF(A1580=\"\",\"\",VLOOKUP(J1580,'Соответствия статей'!$A$2:$B$50,2,0)),\"Другое\")","v":"Продукты"},"Банк","Расход"]
["2020-10-10T07:22:43","2020-01-10","*8173","OK",240,"RUB",240,"RUB",null,"Прочие доходы",null,"Бонус по акции",0,{"$f":"IFERROR(IF(A1581=\"\",\"\",VLOOKUP(J1581,'Соответствия статей'!$A$2:$B$50,2,0)),\"Другое\")","v":"Прочие доходы"},"Банк","Доход"]
["2020-10-09T22:05:08","2020-01-11","*8173","OK",-157,"RUB",-157,"RUB",7,"Транспорт",4121,"Яндекс Такси",7,{"$f":"IFERROR(IF(A1582=\"\",\"\",VLOOKUP(J1582,'Соответствия статей'!$A$2:$B$50,2,0)),\"Другое\")","v":"Транспорт"},"Банк","Расход"]
["2020-10-09T19:21:03","2020-01-11","*8173","OK",-239,"RUB",-239,"RUB",11,"Транспорт",4121,"Яндекс Такси",11,{"$f":"IFERROR(IF(A1583=\"\",\"\",VLOOKUP(J1583,'Соответствия статей'!$A$2:$B$50,2,0)),\"Другое\")","v":"Транспорт"},"Банк","Расход"]
["2020-10-09T19:15:41","2020-01-11","*8173","OK",-648,"RUB",-648,"RUB",32,"Кино",7832,"Синема Парк",32,{"$f":"IFERROR(IF(A1584=\"\",\"\",VLOOKUP(J1584,'Соответствия статей'!$A$2:$B$50,2,0)),\"Другое\")","v":"Развлечения"},"Банк","Расход"]
["2020-10-09T18:15:52","2020-01-10","*7127","OK",-410,"RUB",-410,"RUB",null,"Рестораны",5812,"OOO Mir Vkusa",4,{"$f":"IFERROR(IF(A1585=\"\",\"\",VLOOKUP(J1585,'Соответствия статей'!$A$2:$B$50,2,0)),\"Другое\")","v":"Рестораны"},"Банк","Расход"]
["2020-10-09T02:16:20","2020-01-10","*8173","OK",-235,"RUB",-235,"RUB",11,"Транспорт",4121,"Яндекс Такси",11,{"$f":"IFERROR(IF(A1586=\"\",\"\",VLOOKUP(J1586,'Соответствия статей'!$A$2:$B$50,2,0)),\"Другое\")","v":"Транспорт"},"Банк","Расход"]
["2020-10-08T20:28:04","2020-01-10","*7127","OK",-2600,"RUB",-2600,"RUB",null,"Развлечения",7999,"Elyaty Club",26,{"$f":"IFERROR(IF(A1587=\"\",\"\",VLOOKUP(J1587,'Соответствия статей'!$A$2:$B$50,2,0)),\"Другое\")","v":"Развлечения"},"Банк","Расход"]
["2020-10-08T15:59:20","2020-01-10","*7127","OK",-171.8,"RUB",-171.8,"RUB",null,"Супермаркеты",5411,"Магнит",1,{"$f":"IFERROR(IF(A1588=\"\",\"\",VLOOKUP(J1588,'Соответствия статей'!$A$2:$B$50,2,0)),\"Другое\")","v":"Продукты"},"Банк","Расход"]
["2020-10-08T15:49:41","2020-01-10","*7127","OK",-293,"RUB",-293,"RUB",null,"Разные товары",5331,"Magazin Rider",2,{"$f":"IFERROR(IF(A1589=\"\",\"\",VLOOKUP(J1589,'Соответствия статей'!$A$2:$B$50,2,0)),\"Другое\")","v":"Другое"},"Банк","Расход"]
["2020-10-08T15:39:13","2020-01-10","*7127","OK",-55,"RUB",-55,"RUB",null,"Разные товары",5943,"IP Turova D.Yu. Rider",0,{"$f":"IFERROR(IF(A1590=\"\",\"\",VLOOKUP(J1590,'Соответствия статей'!$A$2:$B$50,2,0)),\"Другое\")","v":"Другое"},"Банк","Расход"]
["2020-10-08T15:28:40","2020-01-10","*7127","OK",-339,"RUB",-339,"RUB",null,"Разные товары",5331,"Magazin Rider",3,{"$f":"IFERROR(IF(A1591=\"\",\"\",VLOOKUP(J1591,'Соответствия статей'!$A$2:$B$50,2,0)),\"Другое\")","v":"Другое"},"Банк","Расход"]
["2020-10-07T01:39:53","2020-01-07","*7127","OK",-160.09,"RUB",-160.09,"RUB",null,"Разные товары",5399,"Aliexpress.com",1,{"$f":"IFERROR(IF(A1592=\"\",\"\",VLOOKUP(J1592,'Соответствия статей'!$A$2:$B$50,2,0)),\"Другое\")","v":"Другое"},"Банк","Расход"]
["2020-10-06T20:42:20","2020-01-08","*7127","OK",-1235,"RUB",-1235,"RUB",null,"Фастфуд",5814,"Додо Пицца",12,{"$f":"IFERROR(IF(A1593=\"\",\"\",VLOOKUP(J1593,'Соответствия статей'!$A$2:$B$50,2,0)),\"Другое\")","v":"Рестораны"},"Банк","Расход"]
["2020-10-05T16:36:55","2020-01-07","*8173","OK",-235,"RUB",-235,"RUB",11,"Транспорт",4121,"Яндекс Такси",11,{"$f":"IFERROR(IF(A1594=\"\",\"\",VLOOKUP(J1594,'Соответствия статей'!$A$2:$B$50,2,0)),\"Другое\")","v":"Транспорт"},"Банк","Расход"]
["2020-10-03T22:18:59","2020-01-06","*8173","OK",-178,"RUB",-178,"RUB",8,"Транспорт",4121,"Яндекс Такси",8,{"$f":"IFERROR(IF(A1595=\"\",\"\",VLOOKUP(J1595,'Соответствия статей'!$A$2:$B$50,2,0)),\"Другое\")","v":"Транспорт"},"Банк","Расход"]
["2020-10-03T22:16:49","2020-01-04","*8173","OK",-50,"RUB",-50,"RUB",null,"Переводы/иб",null,"Елена Н.",0,{"$f":"IFERROR(IF(A1596=\"\",\"\",VLOOKUP(J1596,'Соответствия статей'!$A$2:$B$50,2,0)),\"Другое\")","v":"Переводы"},"Банк","Расход"]
["2020-10-03T17:52:32","2020-01-03","*8173","OK",-1600,"RUB",-1600,"RUB",80,"Кино",7832,"Билеты в кино",80,{"$f":"IFERROR(IF(A1597=\"\",\"\",VLOOKUP(J1597,'Соответствия статей'!$A$2:$B$50,2,0)),\"Другое\")","v":"Развлечения"},"Банк","Расход"]
["2020-10-03T00:35:00","2020-01-04","*8173","OK",-102,"RUB",-102,"RUB",5,"Транспорт",4121,"Яндекс Такси",5,{"$f":"IFERROR(IF(A1598=\"\",\"\",VLOOKUP(J1598,'Соответствия статей'!$A$2:$B$50,2,0)),\"Другое\")","v":"Транспорт"},"Банк","Расход"]
["2020-10-03T00:35:00",null,null,null,55000,null,null,null,null,"Заработная плата",null,"Заработная плата",null,{"$f":"IFERROR(IF(A1599=\"\",\"\",VLOOKUP(J1599,'Соответствия статей'!$A$2:$B$50,2,0)),\"Другое\")","v":"Заработная плата"},"Банк","Доход"]
["2020-10-03T00:35:00",null,null,null,15000,null,null,null,null,"Оплата за преподавание",null,"Оплата за преподавание",null,{"$f":"IFERROR(IF(A1600=\"\",\"\",VLOOKUP(J1600,'Соответствия статей'!$A$2:$B$50,2,0)),\"Другое\")","v":"Оплата за преподавание"},"Банк","Доход"]
["2020-10-03T00:35:00",null,null,null,5000,null,null,null,null,"Прочие доходы",null,"Прочие доходы",null,{"$f":"IFERROR(IF(A1601=\"\",\"\",VLOOKUP(J1601,'Соответствия статей'!$A$2:$B$50,2,0)),\"Другое\")","v":"Прочие доходы"},"Банк","Доход"]
["2020-10-03T00:35:00",null,null,null,5000,null,null,null,null,"Дивиденды",null,"Дивиденды",null,{"$f":"IFERROR(IF(A1602=\"\",\"\",VLOOKUP(J1602,'Соответствия статей'!$A$2:$B$50,2,0)),\"Другое\")","v":"Дивиденды"},"Банк","Доход"]
["2020-10-03T00:35:00",null,null,null,5000,null,null,null,null,"Проценты по вкладам",null,"Проценты по вкладам",null,{"$f":"IFERROR(IF(A1603=\"\",\"\",VLOOKUP(J1603,'Соответствия статей'!$A$2:$B$50,2,0)),\"Другое\")","v":"Проценты по вкладам"},"Банк","Доход"]
["2020-11-03T00:35:00",null,null,null,55000,null,null,null,null,"Заработная плата",null,"Заработная плата",null,{"$f":"IFERROR(IF(A1604=\"\",\"\",VLOOKUP(J1604,'Соответствия статей'!$A$2:$B$50,2,0)),\"Другое\")","v":"Заработная плата"},"Банк","Доход"]
["2020-11-03T00:35:00",null,null,null,15000,null,null,null,null,"Оплата за преподавание",null,"Оплата за преподавание",null,{"$f":"IFERROR(IF(A1605=\"\",\"\",VLOOKUP(J1605,'Соответствия статей'!$A$2:$B$50,2,0)),\"Другое\")","v":"Оплата за преподавание"},"Банк","Доход"]
["2020-11-03T00:35:00",null,null,null,5000,null,null,null,null,"Прочие доходы",null,"Прочие доходы",null,{"$f":"IFERROR(IF(A1606=\"\",\"\",VLOOKUP(J1606,'Соответствия статей'!$A$2:$B$50,2,0)),\"Другое\")","v":"Прочие доходы"},"Банк","Доход"]
["2020-11-03T00:35:00",null,null,null,5000,null,null,null,null,"Дивиденды",null,"Дивиденды",null,{"$f":"IFERROR(IF(A1607=\"\",\"\",VLOOKUP(J1607,'Соответствия статей'!$A$2:$B$50,2,0)),\"Другое\")","v":"Дивиденды"},"Банк","Доход"]
["2020-11-03T00:35:00",null,null,null,5000,null,null,null,null,"Проценты по вкладам",null,"Проценты по вкладам",null,{"$f":"IFERROR(IF(A1608=\"\",\"\",VLOOKUP(J1608,'Соответствия статей'!$A$2:$B$50,2,0)),\"Другое\")","v":"Проценты по вкладам"},"Банк","Доход"]
["2020-12-03T00:35:00",null,null,null,55000,null,null,null,null,"Заработная плата",null,"Заработная плата",null,{"$f":"IFERROR(IF(A1609=\"\",\"\",VLOOKUP(J1609,'Соответствия статей'!$A$2:$B$50,2,0)),\"Другое\")","v":"Заработная плата"},"Банк","Доход"]
["2020-12-03T00:35:00",null,null,null,15000,null,null,null,null,"Оплата за преподавание",null,"Оплата за преподавание",null,{"$f":"IFERROR(IF(A1610=\"\",\"\",VLOOKUP(J1610,'Соответствия статей'!$A$2:$B$50,2,0)),\"Другое\")","v":"Оплата за преподавание"},"Банк","Доход"]
["2020-12-03T00:35:00",null,null,null,5000,null,null,null,null,"Прочие доходы",null,"Прочие доходы",null,{"$f":"IFERROR(IF(A1611=\"\",\"\",VLOOKUP(J1611,'Соответствия статей'!$A$2:$B$50,2,0)),\"Другое\")","v":"Прочие доходы"},"Банк","Доход"]
["2020-12-03T00:35:00",null,null,null,5000,null,null,null,null,"Дивиденды",null,"Дивиденды",null,{"$f":"IFERROR(IF(A1612=\"\",\"\",VLOOKUP(J1612,'Соответствия статей'!$A$2:$B$50,2,0)),\"Другое\")","v":"Дивиденды"},"Банк","Доход"]
["2020-12-03T00:35:00",null,null,null,5000,null,null,null,null,"Проценты по вкладам",null,"Проценты по вкладам",null,{"$f":"IFERROR(IF(A1613=\"\",\"\",VLOOKUP(J1613,'Соответствия статей'!$A$2:$B$50,2,0)),\"Другое\")","v":"Проценты по вкладам"},"Банк","Доход"]
[null,null,null,null,null,null,null,null,null,null,null,null,null,{"$f":"IFERROR(IF(A1614=\"\",\"\",VLOOKUP(J1614,'Соответствия статей'!$A$2:$B$50,2,0)),\"Другое\")","v":""}]
[null,null,null,null,null,null,null,null,null,null,null,null,null,{"$f":"IFERROR(IF(A1615=\"\",\"\",VLOOKUP(J1615,'Соответствия статей'!$A$2:$B$50,2,0)),\"Другое\")","v":""}]
[null,null,null,null,null,null,null,null,null,null,null,null,null,{"$f":"IFERROR(IF(A1616=\"\",\"\",VLOOKUP(J1616,'Соответствия статей'!$A$2:$B$50,2,0)),\"Другое\")","v":""}]
[null,null,null,null,null,null,null,null,null,null,null,null,null,{"$f":"IFERROR(IF(A1617=\"\",\"\",VLOOKUP(J1617,'Соответствия статей'!$A$2:$B$50,2,0)),\"Другое\")","v":""}]
[null,null,null,null,null,null,null,null,null,null,null,null,null,{"$f":"IFERROR(IF(A1618=\"\",\"\",VLOOKUP(J1618,'Соответствия статей'!$A$2:$B$50,2,0)),\"Другое\")","v":""}]
[null,null,null,null,null,null,null,null,null,null,null,null,null,{"$f":"IFERROR(IF(A1619=\"\",\"\",VLOOKUP(J1619,'Соответствия статей'!$A$2:$B$50,2,0)),\"Другое\")","v":""}]
[null,null,null,null,null,null,null,null,null,null,null,null,null,{"$f":"IFERROR(IF(A1620=\"\",\"\",VLOOKUP(J1620,'Соответствия статей'!$A$2:$B$50,2,0)),\"Другое\")","v":""}]
[null,null,null,null,null,null,null,null,null,null,null,null,null,{"$f":"IFERROR(IF(A1621=\"\",\"\",VLOOKUP(J1621,'Соответствия статей'!$A$2:$B$50,2,0)),\"Другое\")","v":""}]
[null,null,null,null,null,null,null,null,null,null,null,null,null,{"$f":"IFERROR(IF(A1622=\"\",\"\",VLOOKUP(J1622,'Соответствия статей'!$A$2:$B$50,2,0)),\"Другое\")","v":""}]
[null,null,null,null,null,null,null,null,null,null,null,null,null,{"$f":"IFERROR(IF(A1623=\"\",\"\",VLOOKUP(J1623,'Соответствия статей'!$A$2:$B$50,2,0)),\"Другое\")","v":""}]
[null,null,null,null,null,null,null,null,null,null,null,null,null,{"$f":"IFERROR(IF(A1624=\"\",\"\",VLOOKUP(J1624,'Соответствия статей'!$A$2:$B$50,2,0)),\"Другое\")","v":""}]
[null,null,null,null,null,null,null,null,null,null,null,null,null,{"$f":"IFERROR(IF(A1625=\"\",\"\",VLOOKUP(J1625,'Соответствия статей'!$A$2:$B$50,2,0)),\"Другое\")","v":""}]
[null,null,null,null,null,null,null,null,null,null,null,null,null,{"$f":"IFERROR(IF(A1626=\"\",\"\",VLOOKUP(J1626,'Соответствия статей'!$A$2:$B$50,2,0)),\"Другое\")","v":""}]
[null,null,null,null,null,null,null,null,null,null,null,null,null,{"$f":"IFERROR(IF(A1627=\"\",\"\",VLOOKUP(J1627,'Соответствия статей'!$A$2:$B$50,2,0)),\"Другое\")","v":""}]
[null,null,null,null,null,null,null,null,null,null,null,null,null,{"$f":"IFERROR(IF(A1628=\"\",\"\",VLOOKUP(J1628,'Соответствия статей'!$A$2:$B$50,2,0)),\"Другое\")","v":""}]
[null,null,null,null,null,null,null,null,null,null,null,null,null,{"$f":"IFERROR(IF(A1629=\"\",\"\",VLOOKUP(J1629,'Соответствия статей'!$A$2:$B$50,2,0)),\"Другое\")","v":""}]
[null,null,null,null,null,null,null,null,null,null,null,null,null,{"$f":"IFERROR(IF(A1630=\"\",\"\",VLOOKUP(J1630,'Соответствия статей'!$A$2:$B$50,2,0)),\"Другое\")","v":""}]
[null,null,null,null,null,null,null,null,null,null,null,null,null,{"$f":"IFERROR(IF(A1631=\"\",\"\",VLOOKUP(J1631,'Соответствия статей'!$A$2:$B$50,2,0)),\"Другое\")","v":""}]
[null,null,null,null,null,null,null,null,null,null,null,null,null,{"$f":"IFERROR(IF(A1632=\"\",\"\",VLOOKUP(J1632,'Соответствия статей'!$A$2:$B$50,2,0)),\"Другое\")","v":""}]
[null,null,null,null,null,null,null,null,null,null,null,null,null,{"$f":"IFERROR(IF(A1633=\"\",\"\",VLOOKUP(J1633,'Соответствия статей'!$A$2:$B$50,2,0)),\"Другое\")","v":""}]
[null,null,null,null,null,null,null,null,null,null,null,null,null,{"$f":"IFERROR(IF(A1634=\"\",\"\",VLOOKUP(J1634,'Соответствия статей'!$A$2:$B$50,2,0)),\"Другое\")","v":""}]
[null,null,null,null,null,null,null,null,null,null,null,null,null,{"$f":"IFERROR(IF(A1635=\"\",\"\",VLOOKUP(J1635,'Соответствия статей'!$A$2:$B$50,2,0)),\"Другое\")","v":""}]
[null,null,null,null,null,null,null,null,null,null,null,null,null,{"$f":"IFERROR(IF(A1636=\"\",\"\",VLOOKUP(J1636,'Соответствия статей'!$A$2:$B$50,2,0)),\"Другое\")","v":""}]
[null,null,null,null,null,null,null,null,null,null,null,null,null,{"$f":"IFERROR(IF(A1637=\"\",\"\",VLOOKUP(J1637,'Соответствия статей'!$A$2:$B$50,2,0)),\"Другое\")","v":""}]
[null,null,null,null,null,null,null,null,null,null,null,null,null,{"$f":"IFERROR(IF(A1638=\"\",\"\",VLOOKUP(J1638,'Соответствия статей'!$A$2:$B$50,2,0)),\"Другое\")","v":""}]
[null,null,null,null,null,null,null,null,null,null,null,null,null,{"$f":"IFERROR(IF(A1639=\"\",\"\",VLOOKUP(J1639,'Соответствия статей'!$A$2:$B$50,2,0)),\"Другое\")","v":""}]
[null,null,null,null,null,null,null,null,null,null,null,null,null,{"$f":"IFERROR(IF(A1640=\"\",\"\",VLOOKUP(J1640,'Соответствия статей'!$A$2:$B$50,2,0)),\"Другое\")","v":""}]
[null,null,null,null,null,null,null,null,null,null,null,null,null,{"$f":"IFERROR(IF(A1641=\"\",\"\",VLOOKUP(J1641,'Соответствия статей'!$A$2:$B$50,2,0)),\"Другое\")","v":""}]
[null,null,null,null,null,null,null,null,null,null,null,null,null,{"$f":"IFERROR(IF(A1642=\"\",\"\",VLOOKUP(J1642,'Соответствия статей'!$A$2:$B$50,2,0)),\"Другое\")","v":""}]
[null,null,null,null,null,null,null,null,null,null,null,null,null,{"$f":"IFERROR(IF(A1643=\"\",\"\",VLOOKUP(J1643,'Соответствия статей'!$A$2:$B$50,2,0)),\"Другое\")","v":""}]
[null,null,null,null,null,null,null,null,null,null,null,null,null,{"$f":"IFERROR(IF(A1644=\"\",\"\",VLOOKUP(J1644,'Соответствия статей'!$A$2:$B$50,2,0)),\"Другое\")","v":""}]
[null,null,null,null,null,null,null,null,null,null,null,null,null,{"$f":"IFERROR(IF(A1645=\"\",\"\",VLOOKUP(J1645,'Соответствия статей'!$A$2:$B$50,2,0)),\"Другое\")","v":""}]
[null,null,null,null,null,null,null,null,null,null,null,null,null,{"$f":"IFERROR(IF(A1646=\"\",\"\",VLOOKUP(J1646,'Соответствия статей'!$A$2:$B$50,2,0)),\"Другое\")","v":""}]
[null,null,null,null,null,null,null,null,null,null,null,null,null,{"$f":"IFERROR(IF(A1647=\"\",\"\",VLOOKUP(J1647,'Соответствия статей'!$A$2:$B$50,2,0)),\"Другое\")","v":""}]
[null,null,null,null,null,null,null,null,null,null,null,null,null,{"$f":"IFERROR(IF(A1648=\"\",\"\",VLOOKUP(J1648,'Соответствия статей'!$A$2:$B$50,2,0)),\"Другое\")","v":""}]
[null,null,null,null,null,null,null,null,null,null,null,null,null,{"$f":"IFERROR(IF(A1649=\"\",\"\",VLOOKUP(J1649,'Соответствия статей'!$A$2:$B$50,2,0)),\"Другое\")","v":""}]
[null,null,null,null,null,null,null,null,null,null,null,null,null,{"$f":"IFERROR(IF(A1650=\"\",\"\",VLOOKUP(J1650,'Соответствия статей'!$A$2:$B$50,2,0)),\"Другое\")","v":""}]
[null,null,null,null,null,null,null,null,null,null,null,null,null,{"$f":"IFERROR(IF(A1651=\"\",\"\",VLOOKUP(J1651,'Соответствия статей'!$A$2:$B$50,2,0)),\"Другое\")","v":""}]
[null,null,null,null,null,null,null,null,null,null,null,null,null,{"$f":"IFERROR(IF(A1652=\"\",\"\",VLOOKUP(J1652,'Соответствия статей'!$A$2:$B$50,2,0)),\"Другое\")","v":""}]
[null,null,null,null,null,null,null,null,null,null,null,null,null,{"$f":"IFERROR(IF(A1653=\"\",\"\",VLOOKUP(J1653,'Соответствия статей'!$A$2:$B$50,2,0)),\"Другое\")","v":""}]
[null,null,null,null,null,null,null,null,null,null,null,null,null,{"$f":"IFERROR(IF(A1654=\"\",\"\",VLOOKUP(J1654,'Соответствия статей'!$A$2:$B$50,2,0)),\"Другое\")","v":""}]
[null,null,null,null,null,null,null,null,null,null,null,null,null,{"$f":"IFERROR(IF(A1655=\"\",\"\",VLOOKUP(J1655,'Соответствия статей'!$A$2:$B$50,2,0)),\"Другое\")","v":""}]
[null,null,null,null,null,null,null,null,null,null,null,null,null,{"$f":"IFERROR(IF(A1656=\"\",\"\",VLOOKUP(J1656,'Соответствия статей'!$A$2:$B$50,2,0)),\"Другое\")","v":""}]
[null,null,null,null,null,null,null,null,null,null,null,null,null,{"$f":"IFERROR(IF(A1657=\"\",\"\",VLOOKUP(J1657,'Соответствия статей'!$A$2:$B$50,2,0)),\"Другое\")","v":""}]
[null,null,null,null,null,null,null,null,null,null,null,null,null,{"$f":"IFERROR(IF(A1658=\"\",\"\",VLOOKUP(J1658,'Соответствия статей'!$A$2:$B$50,2,0)),\"Другое\")","v":""}]
[null,null,null,null,null,null,null,null,null,null,null,null,null,{"$f":"IFERROR(IF(A1659=\"\",\"\",VLOOKUP(J1659,'Соответствия статей'!$A$2:$B$50,2,0)),\"Другое\")","v":""}]
[null,null,null,null,null,null,null,null,null,null,null,null,null,{"$f":"IFERROR(IF(A1660=\"\",\"\",VLOOKUP(J1660,'Соответствия статей'!$A$2:$B$50,2,0)),\"Другое\")","v":""}]
[null,null,null,null,null,null,null,null,null,null,null,null,null,{"$f":"IFERROR(IF(A1661=\"\",\"\",VLOOKUP(J1661,'Соответствия статей'!$A$2:$B$50,2,0)),\"Другое\")","v":""}]
[null,null,null,null,null,null,null,null,null,null,null,null,null,{"$f":"IFERROR(IF(A1662=\"\",\"\",VLOOKUP(J1662,'Соответствия статей'!$A$2:$B$50,2,0)),\"Другое\")","v":""}]
[null,null,null,null,null,null,null,null,null,null,null,null,null,{"$f":"IFERROR(IF(A1663=\"\",\"\",VLOOKUP(J1663,'Соответствия статей'!$A$2:$B$50,2,0)),\"Другое\")","v":""}]
[null,null,null,null,null,null,null,null,null,null,null,null,null,{"$f":"IFERROR(IF(A1664=\"\",\"\",VLOOKUP(J1664,'Соответствия статей'!$A$2:$B$50,2,0)),\"Другое\")","v":""}]
[null,null,null,null,null,null,null,null,null,null,null,null,null,{"$f":"IFERROR(IF(A1665=\"\",\"\",VLOOKUP(J1665,'Соответствия статей'!$A$2:$B$50,2,0)),\"Другое\")","v":""}]
[null,null,null,null,null,null,null,null,null,null,null,null,null,{"$f":"IFERROR(IF(A1666=\"\",\"\",VLOOKUP(J1666,'Соответствия статей'!$A$2:$B$50,2,0)),\"Другое\")","v":""}]
[null,null,null,null,null,null,null,null,null,null,null,null,null,{"$f":"IFERROR(IF(A1667=\"\",\"\",VLOOKUP(J1667,'Соответствия статей'!$A$2:$B$50,2,0)),\"Другое\")","v":""}]
[null,null,null,null,null,null,null,null,null,null,null,null,null,{"$f":"IFERROR(IF(A1668=\"\",\"\",VLOOKUP(J1668,'Соответствия статей'!$A$2:$B$50,2,0)),\"Другое\")","v":""}]
[null,null,null,null,null,null,null,null,null,null,null,null,null,{"$f":"IFERROR(IF(A1669=\"\",\"\",VLOOKUP(J1669,'Соответствия статей'!$A$2:$B$50,2,0)),\"Другое\")","v":""}]
[null,null,null,null,null,null,null,null,null,null,null,null,null,{"$f":"IFERROR(IF(A1670=\"\",\"\",VLOOKUP(J1670,'Соответствия статей'!$A$2:$B$50,2,0)),\"Другое\")","v":""}]
[null,null,null,null,null,null,null,null,null,null,null,null,null,{"$f":"IFERROR(IF(A1671=\"\",\"\",VLOOKUP(J1671,'Соответствия статей'!$A$2:$B$50,2,0)),\"Другое\")","v":""}]
[null,null,null,null,null,null,null,null,null,null,null,null,null,{"$f":"IFERROR(IF(A1672=\"\",\"\",VLOOKUP(J1672,'Соответствия статей'!$A$2:$B$50,2,0)),\"Другое\")","v":""}]
[null,null,null,null,null,null,null,null,null,null,null,null,null,{"$f":"IFERROR(IF(A1673=\"\",\"\",VLOOKUP(J1673,'Соответствия статей'!$A$2:$B$50,2,0)),\"Другое\")","v":""}]
[null,null,null,null,null,null,null,null,null,null,null,null,null,{"$f":"IFERROR(IF(A1674=\"\",\"\",VLOOKUP(J1674,'Соответствия статей'!$A$2:$B$50,2,0)),\"Другое\")","v":""}]
[null,null,null,null,null,null,null,null,null,null,null,null,null,{"$f":"IFERROR(IF(A1675=\"\",\"\",VLOOKUP(J1675,'Соответствия статей'!$A$2:$B$50,2,0)),\"Другое\")","v":""}]
[null,null,null,null,null,null,null,null,null,null,null,null,null,{"$f":"IFERROR(IF(A1676=\"\",\"\",VLOOKUP(J1676,'Соответствия статей'!$A$2:$B$50,2,0)),\"Другое\")","v":""}]
[null,null,null,null,null,null,null,null,null,null,null,null,null,{"$f":"IFERROR(IF(A1677=\"\",\"\",VLOOKUP(J1677,'Соответствия статей'!$A$2:$B$50,2,0)),\"Другое\")","v":""}]
[null,null,null,null,null,null,null,null,null,null,null,null,null,{"$f":"IFERROR(IF(A1678=\"\",\"\",VLOOKUP(J1678,'Соответствия статей'!$A$2:$B$50,2,0)),\"Другое\")","v":""}]
[null,null,null,null,null,null,null,null,null,null,null,null,null,{"$f":"IFERROR(IF(A1679=\"\",\"\",VLOOKUP(J1679,'Соответствия статей'!$A$2:$B$50,2,0)),\"Другое\")","v":""}]
[null,null,null,null,null,null,null,null,null,null,null,null,null,{"$f":"IFERROR(IF(A1680=\"\",\"\",VLOOKUP(J1680,'Соответствия статей'!$A$2:$B$50,2,0)),\"Другое\")","v":""}]
[null,null,null,null,null,null,null,null,null,null,null,null,null,{"$f":"IFERROR(IF(A1681=\"\",\"\",VLOOKUP(J1681,'Соответствия статей'!$A$2:$B$50,2,0)),\"Другое\")","v":""}]
[null,null,null,null,null,null,null,null,null,null,null,null,null,{"$f":"IFERROR(IF(A1682=\"\",\"\",VLOOKUP(J1682,'Соответствия статей'!$A$2:$B$50,2,0)),\"Другое\")","v":""}]
[null,null,null,null,null,null,null,null,null,null,null,null,null,{"$f":"IFERROR(IF(A1683=\"\",\"\",VLOOKUP(J1683,'Соответствия статей'!$A$2:$B$50,2,0)),\"Другое\")","v":""}]
[null,null,null,null,null,null,null,null,null,null,null,null,null,{"$f":"IFERROR(IF(A1684=\"\",\"\",VLOOKUP(J1684,'Соответствия статей'!$A$2:$B$50,2,0)),\"Другое\")","v":""}]
[null,null,null,null,null,null,null,null,null,null,null,null,null,{"$f":"IFERROR(IF(A1685=\"\",\"\",VLOOKUP(J1685,'Соответствия статей'!$A$2:$B$50,2,0)),\"Другое\")","v":""}]
[null,null,null,null,null,null,null,null,null,null,null,null,null,{"$f":"IFERROR(IF(A1686=\"\",\"\",VLOOKUP(J1686,'Соответствия статей'!$A$2:$B$50,2,0)),\"Другое\")","v":""}]
[null,null,null,null,null,null,null,null,null,null,null,null,null,{"$f":"IFERROR(IF(A1687=\"\",\"\",VLOOKUP(J1687,'Соответствия статей'!$A$2:$B$50,2,0)),\"Другое\")","v":""}]
[null,null,null,null,null,null,null,null,null,null,null,null,null,{"$f":"IFERROR(IF(A1688=\"\",\"\",VLOOKUP(J1688,'Соответствия статей'!$A$2:$B$50,2,0)),\"Другое\")","v":""}]
[null,null,null,null,null,null,null,null,null,null,null,null,null,{"$f":"IFERROR(IF(A1689=\"\",\"\",VLOOKUP(J1689,'Соответствия статей'!$A$2:$B$50,2,0)),\"Другое\")","v":""}]
[null,null,null,null,null,null,null,null,null,null,null,null,null,{"$f":"IFERROR(IF(A1690=\"\",\"\",VLOOKUP(J1690,'Соответствия статей'!$A$2:$B$50,2,0)),\"Другое\")","v":""}]
[null,null,null,null,null,null,null,null,null,null,null,null,null,{"$f":"IFERROR(IF(A1691=\"\",\"\",VLOOKUP(J1691,'Соответствия статей'!$A$2:$B$50,2,0)),\"Другое\")","v":""}]
[null,null,null,null,null,null,null,null,null,null,null,null,null,{"$f":"IFERROR(IF(A1692=\"\",\"\",VLOOKUP(J1692,'Соответствия статей'!$A$2:$B$50,2,0)),\"Другое\")","v":""}]
[null,null,null,null,null,null,null,null,null,null,null,null,null,{"$f":"IFERROR(IF(A1693=\"\",\"\",VLOOKUP(J1693,'Соответствия статей'!$A$2:$B$50,2,0)),\"Другое\")","v":""}]
[null,null,null,null,null,null,null,null,null,null,null,null,null,{"$f":"IFERROR(IF(A1694=\"\",\"\",VLOOKUP(J1694,'Соответствия статей'!$A$2:$B$50,2,0)),\"Другое\")","v":""}]
[null,null,null,null,null,null,null,null,null,null,null,null,null,{"$f":"IFERROR(IF(A1695=\"\",\"\",VLOOKUP(J1695,'Соответствия статей'!$A$2:$B$50,2,0)),\"Другое\")","v":""}]
[null,null,null,null,null,null,null,null,null,null,null,null,null,{"$f":"IFERROR(IF(A1696=\"\",\"\",VLOOKUP(J1696,'Соответствия статей'!$A$2:$B$50,2,0)),\"Другое\")","v":""}]
[null,null,null,null,null,null,null,null,null,null,null,null,null,{"$f":"IFERROR(IF(A1697=\"\",\"\",VLOOKUP(J1697,'Соответствия статей'!$A$2:$B$50,2,0)),\"Другое\")","v":""}]
[null,null,null,null,null,null,null,null,null,null,null,null,null,{"$f":"IFERROR(IF(A1698=\"\",\"\",VLOOKUP(J1698,'Соответствия статей'!$A$2:$B$50,2,0)),\"Другое\")","v":""}]
[null,null,null,null,null,null,null,null,null,null,null,null,null,{"$f":"IFERROR(IF(A1699=\"\",\"\",VLOOKUP(J1699,'Соответствия статей'!$A$2:$B$50,2,0)),\"Другое\")","v":""}]
[null,null,null,null,null,null,null,null,null,null,null,null,null,{"$f":"IFERROR(IF(A1700=\"\",\"\",VLOOKUP(J1700,'Соответствия статей'!$A$2:$B$50,2,0)),\"Другое\")","v":""}]
[null,null,null,null,null,null,null,null,null,null,null,null,null,{"$f":"IFERROR(IF(A1701=\"\",\"\",VLOOKUP(J1701,'Соответствия статей'!$A$2:$B$50,2,0)),\"Другое\")","v":""}]
[null,null,null,null,null,null,null,null,null,null,null,null,null,{"$f":"IFERROR(IF(A1702=\"\",\"\",VLOOKUP(J1702,'Соответствия статей'!$A$2:$B$50,2,0)),\"Другое\")","v":""}]
[null,null,null,null,null,null,null,null,null,null,null,null,null,{"$f":"IFERROR(IF(A1703=\"\",\"\",VLOOKUP(J1703,'Соответствия статей'!$A$2:$B$50,2,0)),\"Другое\")","v":""}]
[null,null,null,null,null,null,null,null,null,null,null,null,null,{"$f":"IFERROR(IF(A1704=\"\",\"\",VLOOKUP(J1704,'Соответствия статей'!$A$2:$B$50,2,0)),\"Другое\")","v":""}]
[null,null,null,null,null,null,null,null,null,null,null,null,null,{"$f":"IFERROR(IF(A1705=\"\",\"\",VLOOKUP(J1705,'Соответствия статей'!$A$2:$B$50,2,0)),\"Другое\")","v":""}]
[null,null,null,null,null,null,null,null,null,null,null,null,null,{"$f":"IFERROR(IF(A1706=\"\",\"\",VLOOKUP(J1706,'Соответствия статей'!$A$2:$B$50,2,0)),\"Другое\")","v":""}]
[null,null,null,null,null,null,null,null,null,null,null,null,null,{"$f":"IFERROR(IF(A1707=\"\",\"\",VLOOKUP(J1707,'Соответствия статей'!$A$2:$B$50,2,0)),\"Другое\")","v":""}]
[null,null,null,null,null,null,null,null,null,null,null,null,null,{"$f":"IFERROR(IF(A1708=\"\",\"\",VLOOKUP(J1708,'Соответствия статей'!$A$2:$B$50,2,0)),\"Другое\")","v":""}]
[null,null,null,null,null,null,null,null,null,null,null,null,null,{"$f":"IFERROR(IF(A1709=\"\",\"\",VLOOKUP(J1709,'Соответствия статей'!$A$2:$B$50,2,0)),\"Другое\")","v":""}]
[null,null,null,null,null,null,null,null,null,null,null,null,null,{"$f":"IFERROR(IF(A1710=\"\",\"\",VLOOKUP(J1710,'Соответствия статей'!$A$2:$B$50,2,0)),\"Другое\")","v":""}]
[null,null,null,null,null,null,null,null,null,null,null,null,null,{"$f":"IFERROR(IF(A1711=\"\",\"\",VLOOKUP(J1711,'Соответствия статей'!$A$2:$B$50,2,0)),\"Другое\")","v":""}]
[null,null,null,null,null,null,null,null,null,null,null,null,null,{"$f":"IFERROR(IF(A1712=\"\",\"\",VLOOKUP(J1712,'Соответствия статей'!$A$2:$B$50,2,0)),\"Другое\")","v":""}]
[null,null,null,null,null,null,null,null,null,null,null,null,null,{"$f":"IFERROR(IF(A1713=\"\",\"\",VLOOKUP(J1713,'Соответствия статей'!$A$2:$B$50,2,0)),\"Другое\")","v":""}]
[null,null,null,null,null,null,null,null,null,null,null,null,null,{"$f":"IFERROR(IF(A1714=\"\",\"\",VLOOKUP(J1714,'Соответствия статей'!$A$2:$B$50,2,0)),\"Другое\")","v":""}]
[null,null,null,null,null,null,null,null,null,null,null,null,null,{"$f":"IFERROR(IF(A1715=\"\",\"\",VLOOKUP(J1715,'Соответствия статей'!$A$2:$B$50,2,0)),\"Другое\")","v":""}]
[null,null,null,null,null,null,null,null,null,null,null,null,null,{"$f":"IFERROR(IF(A1716=\"\",\"\",VLOOKUP(J1716,'Соответствия статей'!$A$2:$B$50,2,0)),\"Другое\")","v":""}]
[null,null,null,null,null,null,null,null,null,null,null,null,null,{"$f":"IFERROR(IF(A1717=\"\",\"\",VLOOKUP(J1717,'Соответствия статей'!$A$2:$B$50,2,0)),\"Другое\")","v":""}]
[null,null,null,null,null,null,null,null,null,null,null,null,null,{"$f":"IFERROR(IF(A1718=\"\",\"\",VLOOKUP(J1718,'Соответствия статей'!$A$2:$B$50,2,0)),\"Другое\")","v":""}]
[null,null,null,null,null,null,null,null,null,null,null,null,null,{"$f":"IFERROR(IF(A1719=\"\",\"\",VLOOKUP(J1719,'Соответствия статей'!$A$2:$B$50,2,0)),\"Другое\")","v":""}]
[null,null,null,null,null,null,null,null,null,null,null,null,null,{"$f":"IFERROR(IF(A1720=\"\",\"\",VLOOKUP(J1720,'Соответствия статей'!$A$2:$B$50,2,0)),\"Другое\")","v":""}]
[null,null,null,null,null,null,null,null,null,null,null,null,null,{"$f":"IFERROR(IF(A1721=\"\",\"\",VLOOKUP(J1721,'Соответствия статей'!$A$2:$B$50,2,0)),\"Другое\")","v":""}]
[null,null,null,null,null,null,null,null,null,null,null,null,null,{"$f":"IFERROR(IF(A1722=\"\",\"\",VLOOKUP(J1722,'Соответствия статей'!$A$2:$B$50,2,0)),\"Другое\")","v":""}]
[null,null,null,null,null,null,null,null,null,null,null,null,null,{"$f":"IFERROR(IF(A1723=\"\",\"\",VLOOKUP(J1723,'Соответствия статей'!$A$2:$B$50,2,0)),\"Другое\")","v":""}]
[null,null,null,null,null,null,null,null,null,null,null,null,null,{"$f":"IFERROR(IF(A1724=\"\",\"\",VLOOKUP(J1724,'Соответствия статей'!$A$2:$B$50,2,0)),\"Другое\")","v":""}]
[null,null,null,null,null,null,null,null,null,null,null,null,null,{"$f":"IFERROR(IF(A1725=\"\",\"\",VLOOKUP(J1725,'Соответствия статей'!$A$2:$B$50,2,0)),\"Другое\")","v":""}]
[null,null,null,null,null,null,null,null,null,null,null,null,null,{"$f":"IFERROR(IF(A1726=\"\",\"\",VLOOKUP(J1726,'Соответствия статей'!$A$2:$B$50,2,0)),\"Другое\")","v":""}]
[null,null,null,null,null,null,null,null,null,null,null,null,null,{"$f":"IFERROR(IF(A1727=\"\",\"\",VLOOKUP(J1727,'Соответствия статей'!$A$2:$B$50,2,0)),\"Другое\")","v":""}]
[null,null,null,null,null,null,null,null,null,null,null,null,null,{"$f":"IFERROR(IF(A1728=\"\",\"\",VLOOKUP(J1728,'Соответствия статей'!$A$2:$B$50,2,0)),\"Другое\")","v":""}]
[null,null,null,null,null,null,null,null,null,null,null,null,null,{"$f":"IFERROR(IF(A1729=\"\",\"\",VLOOKUP(J1729,'Соответствия статей'!$A$2:$B$50,2,0)),\"Другое\")","v":""}]
[null,null,null,null,null,null,null,null,null,null,null,null,null,{"$f":"IFERROR(IF(A1730=\"\",\"\",VLOOKUP(J1730,'Соответствия статей'!$A$2:$B$50,2,0)),\"Другое\")","v":""}]
[null,null,null,null,null,null,null,null,null,null,null,null,null,{"$f":"IFERROR(IF(A1731=\"\",\"\",VLOOKUP(J1731,'Соответствия статей'!$A$2:$B$50,2,0)),\"Другое\")","v":""}]
[null,null,null,null,null,null,null,null,null,null,null,null,null,{"$f":"IFERROR(IF(A1732=\"\",\"\",VLOOKUP(J1732,'Соответствия статей'!$A$2:$B$50,2,0)),\"Другое\")","v":""}]
[null,null,null,null,null,null,null,null,null,null,null,null,null,{"$f":"IFERROR(IF(A1733=\"\",\"\",VLOOKUP(J1733,'Соответствия статей'!$A$2:$B$50,2,0)),\"Другое\")","v":""}]
[null,null,null,null,null,null,null,null,null,null,null,null,null,{"$f":"IFERROR(IF(A1734=\"\",\"\",VLOOKUP(J1734,'Соответствия статей'!$A$2:$B$50,2,0)),\"Другое\")","v":""}]
[null,null,null,null,null,null,null,null,null,null,null,null,null,{"$f":"IFERROR(IF(A1735=\"\",\"\",VLOOKUP(J1735,'Соответствия статей'!$A$2:$B$50,2,0)),\"Другое\")","v":""}]
[null,null,null,null,null,null,null,null,null,null,null,null,null,{"$f":"IFERROR(IF(A1736=\"\",\"\",VLOOKUP(J1736,'Соответствия статей'!$A$2:$B$50,2,0)),\"Другое\")","v":""}]
[null,null,null,null,null,null,null,null,null,null,null,null,null,{"$f":"IFERROR(IF(A1737=\"\",\"\",VLOOKUP(J1737,'Соответствия статей'!$A$2:$B$50,2,0)),\"Другое\")","v":""}]
[null,null,null,null,null,null,null,null,null,null,null,null,null,{"$f":"IFERROR(IF(A1738=\"\",\"\",VLOOKUP(J1738,'Соответствия статей'!$A$2:$B$50,2,0)),\"Другое\")","v":""}]
[null,null,null,null,null,null,null,null,null,null,null,null,null,{"$f":"IFERROR(IF(A1739=\"\",\"\",VLOOKUP(J1739,'Соответствия статей'!$A$2:$B$50,2,0)),\"Другое\")","v":""}]
[null,null,null,null,null,null,null,null,null,null,null,null,null,{"$f":"IFERROR(IF(A1740=\"\",\"\",VLOOKUP(J1740,'Соответствия статей'!$A$2:$B$50,2,0)),\"Другое\")","v":""}]
[null,null,null,null,null,null,null,null,null,null,null,null,null,{"$f":"IFERROR(IF(A1741=\"\",\"\",VLOOKUP(J1741,'Соответствия статей'!$A$2:$B$50,2,0)),\"Другое\")","v":""}]
[null,null,null,null,null,null,null,null,null,null,null,null,null,{"$f":"IFERROR(IF(A1742=\"\",\"\",VLOOKUP(J1742,'Соответствия статей'!$A$2:$B$50,2,0)),\"Другое\")","v":""}]
[null,null,null,null,null,null,null,null,null,null,null,null,null,{"$f":"IFERROR(IF(A1743=\"\",\"\",VLOOKUP(J1743,'Соответствия статей'!$A$2:$B$50,2,0)),\"Другое\")","v":""}]
[null,null,null,null,null,null,null,null,null,null,null,null,null,{"$f":"IFERROR(IF(A1744=\"\",\"\",VLOOKUP(J1744,'Соответствия статей'!$A$2:$B$50,2,0)),\"Другое\")","v":""}]
[null,null,null,null,null,null,null,null,null,null,null,null,null,{"$f":"IFERROR(IF(A1745=\"\",\"\",VLOOKUP(J1745,'Соответствия статей'!$A$2:$B$50,2,0)),\"Другое\")","v":""}]
[null,null,null,null,null,null,null,null,null,null,null,null,null,{"$f":"IFERROR(IF(A1746=\"\",\"\",VLOOKUP(J1746,'Соответствия статей'!$A$2:$B$50,2,0)),\"Другое\")","v":""}]
[null,null,null,null,null,null,null,null,null,null,null,null,null,{"$f":"IFERROR(IF(A1747=\"\",\"\",VLOOKUP(J1747,'Соответствия статей'!$A$2:$B$50,2,0)),\"Другое\")","v":""}]
[null,null,null,null,null,null,null,null,null,null,null,null,null,{"$f":"IFERROR(IF(A1748=\"\",\"\",VLOOKUP(J1748,'Соответствия статей'!$A$2:$B$50,2,0)),\"Другое\")","v":""}]
[null,null,null,null,null,null,null,null,null,null,null,null,null,{"$f":"IFERROR(IF(A1749=\"\",\"\",VLOOKUP(J1749,'Соответствия статей'!$A$2:$B$50,2,0)),\"Другое\")","v":""}]
[null,null,null,null,null,null,null,null,null,null,null,null,null,{"$f":"IFERROR(IF(A1750=\"\",\"\",VLOOKUP(J1750,'Соответствия статей'!$A$2:$B$50,2,0)),\"Другое\")","v":""}]
[null,null,null,null,null,null,null,null,null,null,null,null,null,{"$f":"IFERROR(IF(A1751=\"\",\"\",VLOOKUP(J1751,'Соответствия статей'!$A$2:$B$50,2,0)),\"Другое\")","v":""}]
[null,null,null,null,null,null,null,null,null,null,null,null,null,{"$f":"IFERROR(IF(A1752=\"\",\"\",VLOOKUP(J1752,'Соответствия статей'!$A$2:$B$50,2,0)),\"Другое\")","v":""}]
[null,null,null,null,null,null,null,null,null,null,null,null,null,{"$f":"IFERROR(IF(A1753=\"\",\"\",VLOOKUP(J1753,'Соответствия статей'!$A$2:$B$50,2,0)),\"Другое\")","v":""}]
[null,null,null,null,null,null,null,null,null,null,null,null,null,{"$f":"IFERROR(IF(A1754=\"\",\"\",VLOOKUP(J1754,'Соответствия статей'!$A$2:$B$50,2,0)),\"Другое\")","v":""}]
[null,null,null,null,null,null,null,null,null,null,null,null,null,{"$f":"IFERROR(IF(A1755=\"\",\"\",VLOOKUP(J1755,'Соответствия статей'!$A$2:$B$50,2,0)),\"Другое\")","v":""}]
[null,null,null,null,null,null,null,null,null,null,null,null,null,{"$f":"IFERROR(IF(A1756=\"\",\"\",VLOOKUP(J1756,'Соответствия статей'!$A$2:$B$50,2,0)),\"Другое\")","v":""}]
[null,null,null,null,null,null,null,null,null,null,null,null,null,{"$f":"IFERROR(IF(A1757=\"\",\"\",VLOOKUP(J1757,'Соответствия статей'!$A$2:$B$50,2,0)),\"Другое\")","v":""}]
[null,null,null,null,null,null,null,null,null,null,null,null,null,{"$f":"IFERROR(IF(A1758=\"\",\"\",VLOOKUP(J1758,'Соответствия статей'!$A$2:$B$50,2,0)),\"Другое\")","v":""}]
[null,null,null,null,null,null,null,null,null,null,null,null,null,{"$f":"IFERROR(IF(A1759=\"\",\"\",VLOOKUP(J1759,'Соответствия статей'!$A$2:$B$50,2,0)),\"Другое\")","v":""}]
[null,null,null,null,null,null,null,null,null,null,null,null,null,{"$f":"IFERROR(IF(A1760=\"\",\"\",VLOOKUP(J1760,'Соответствия статей'!$A$2:$B$50,2,0)),\"Другое\")","v":""}]
[null,null,null,null,null,null,null,null,null,null,null,null,null,{"$f":"IFERROR(IF(A1761=\"\",\"\",VLOOKUP(J1761,'Соответствия статей'!$A$2:$B$50,2,0)),\"Другое\")","v":""}]
[null,null,null,null,null,null,null,null,null,null,null,null,null,{"$f":"IFERROR(IF(A1762=\"\",\"\",VLOOKUP(J1762,'Соответствия статей'!$A$2:$B$50,2,0)),\"Другое\")","v":""}]
[null,null,null,null,null,null,null,null,null,null,null,null,null,{"$f":"IFERROR(IF(A1763=\"\",\"\",VLOOKUP(J1763,'Соответствия статей'!$A$2:$B$50,2,0)),\"Другое\")","v":""}]
[null,null,null,null,null,null,null,null,null,null,null,null,null,{"$f":"IFERROR(IF(A1764=\"\",\"\",VLOOKUP(J1764,'Соответствия статей'!$A$2:$B$50,2,0)),\"Другое\")","v":""}]
[null,null,null,null,null,null,null,null,null,null,null,null,null,{"$f":"IFERROR(IF(A1765=\"\",\"\",VLOOKUP(J1765,'Соответствия статей'!$A$2:$B$50,2,0)),\"Другое\")","v":""}]
[null,null,null,null,null,null,null,null,null,null,null,null,null,{"$f":"IFERROR(IF(A1766=\"\",\"\",VLOOKUP(J1766,'Соответствия статей'!$A$2:$B$50,2,0)),\"Другое\")","v":""}]
[null,null,null,null,null,null,null,null,null,null,null,null,null,{"$f":"IFERROR(IF(A1767=\"\",\"\",VLOOKUP(J1767,'Соответствия статей'!$A$2:$B$50,2,0)),\"Другое\")","v":""}]
[null,null,null,null,null,null,null,null,null,null,null,null,null,{"$f":"IFERROR(IF(A1768=\"\",\"\",VLOOKUP(J1768,'Соответствия статей'!$A$2:$B$50,2,0)),\"Другое\")","v":""}]
[null,null,null,null,null,null,null,null,null,null,null,null,null,{"$f":"IFERROR(IF(A1769=\"\",\"\",VLOOKUP(J1769,'Соответствия статей'!$A$2:$B$50,2,0)),\"Другое\")","v":""}]
[null,null,null,null,null,null,null,null,null,null,null,null,null,{"$f":"IFERROR(IF(A1770=\"\",\"\",VLOOKUP(J1770,'Соответствия статей'!$A$2:$B$50,2,0)),\"Другое\")","v":""}]
[null,null,null,null,null,null,null,null,null,null,null,null,null,{"$f":"IFERROR(IF(A1771=\"\",\"\",VLOOKUP(J1771,'Соответствия статей'!$A$2:$B$50,2,0)),\"Другое\")","v":""}]
[null,null,null,null,null,null,null,null,null,null,null,null,null,{"$f":"IFERROR(IF(A1772=\"\",\"\",VLOOKUP(J1772,'Соответствия статей'!$A$2:$B$50,2,0)),\"Другое\")","v":""}]
[null,null,null,null,null,null,null,null,null,null,null,null,null,{"$f":"IFERROR(IF(A1773=\"\",\"\",VLOOKUP(J1773,'Соответствия статей'!$A$2:$B$50,2,0)),\"Другое\")","v":""}]
[null,null,null,null,null,null,null,null,null,null,null,null,null,{"$f":"IFERROR(IF(A1774=\"\",\"\",VLOOKUP(J1774,'Соответствия статей'!$A$2:$B$50,2,0)),\"Другое\")","v":""}]
[null,null,null,null,null,null,null,null,null,null,null,null,null,{"$f":"IFERROR(IF(A1775=\"\",\"\",VLOOKUP(J1775,'Соответствия статей'!$A$2:$B$50,2,0)),\"Другое\")","v":""}]
[null,null,null,null,null,null,null,null,null,null,null,null,null,{"$f":"IFERROR(IF(A1776=\"\",\"\",VLOOKUP(J1776,'Соответствия статей'!$A$2:$B$50,2,0)),\"Другое\")","v":""}]
[null,null,null,null,null,null,null,null,null,null,null,null,null,{"$f":"IFERROR(IF(A1777=\"\",\"\",VLOOKUP(J1777,'Соответствия статей'!$A$2:$B$50,2,0)),\"Другое\")","v":""}]
[null,null,null,null,null,null,null,null,null,null,null,null,null,{"$f":"IFERROR(IF(A1778=\"\",\"\",VLOOKUP(J1778,'Соответствия статей'!$A$2:$B$50,2,0)),\"Другое\")","v":""}]
[null,null,null,null,null,null,null,null,null,null,null,null,null,{"$f":"IFERROR(IF(A1779=\"\",\"\",VLOOKUP(J1779,'Соответствия статей'!$A$2:$B$50,2,0)),\"Другое\")","v":""}]
[null,null,null,null,null,null,null,null,null,null,null,null,null,{"$f":"IFERROR(IF(A1780=\"\",\"\",VLOOKUP(J1780,'Соответствия статей'!$A$2:$B$50,2,0)),\"Другое\")","v":""}]
[null,null,null,null,null,null,null,null,null,null,null,null,null,{"$f":"IFERROR(IF(A1781=\"\",\"\",VLOOKUP(J1781,'Соответствия статей'!$A$2:$B$50,2,0)),\"Другое\")","v":""}]
[null,null,null,null,null,null,null,null,null,null,null,null,null,{"$f":"IFERROR(IF(A1782=\"\",\"\",VLOOKUP(J1782,'Соответствия статей'!$A$2:$B$50,2,0)),\"Другое\")","v":""}]
[null,null,null,null,null,null,null,null,null,null,null,null,null,{"$f":"IFERROR(IF(A1783=\"\",\"\",VLOOKUP(J1783,'Соответствия статей'!$A$2:$B$50,2,0)),\"Другое\")","v":""}]
[null,null,null,null,null,null,null,null,null,null,null,null,null,{"$f":"IFERROR(IF(A1784=\"\",\"\",VLOOKUP(J1784,'Соответствия статей'!$A$2:$B$50,2,0)),\"Другое\")","v":""}]
[null,null,null,null,null,null,null,null,null,null,null,null,null,{"$f":"IFERROR(IF(A1785=\"\",\"\",VLOOKUP(J1785,'Соответствия статей'!$A$2:$B$50,2,0)),\"Другое\")","v":""}]
[null,null,null,null,null,null,null,null,null,null,null,null,null,{"$f":"IFERROR(IF(A1786=\"\",\"\",VLOOKUP(J1786,'Соответствия статей'!$A$2:$B$50,2,0)),\"Другое\")","v":""}]
[null,null,null,null,null,null,null,null,null,null,null,null,null,{"$f":"IFERROR(IF(A1787=\"\",\"\",VLOOKUP(J1787,'Соответствия статей'!$A$2:$B$50,2,0)),\"Другое\")","v":""}]
[null,null,null,null,null,null,null,null,null,null,null,null,null,{"$f":"IFERROR(IF(A1788=\"\",\"\",VLOOKUP(J1788,'Соответствия статей'!$A$2:$B$50,2,0)),\"Другое\")","v":""}]
[null,null,null,null,null,null,null,null,null,null,null,null,null,{"$f":"IFERROR(IF(A1789=\"\",\"\",VLOOKUP(J1789,'Соответствия статей'!$A$2:$B$50,2,0)),\"Другое\")","v":""}]
[null,null,null,null,null,null,null,null,null,null,null,null,null,{"$f":"IFERROR(IF(A1790=\"\",\"\",VLOOKUP(J1790,'Соответствия статей'!$A$2:$B$50,2,0)),\"Другое\")","v":""}]
[null,null,null,null,null,null,null,null,null,null,null,null,null,{"$f":"IFERROR(IF(A1791=\"\",\"\",VLOOKUP(J1791,'Соответствия статей'!$A$2:$B$50,2,0)),\"Другое\")","v":""}]
[null,null,null,null,null,null,null,null,null,null,null,null,null,{"$f":"IFERROR(IF(A1792=\"\",\"\",VLOOKUP(J1792,'Соответствия статей'!$A$2:$B$50,2,0)),\"Другое\")","v":""}]
[null,null,null,null,null,null,null,null,null,null,null,null,null,{"$f":"IFERROR(IF(A1793=\"\",\"\",VLOOKUP(J1793,'Соответствия статей'!$A$2:$B$50,2,0)),\"Другое\")","v":""}]
[null,null,null,null,null,null,null,null,null,null,null,null,null,{"$f":"IFERROR(IF(A1794=\"\",\"\",VLOOKUP(J1794,'Соответствия статей'!$A$2:$B$50,2,0)),\"Другое\")","v":""}]
[null,null,null,null,null,null,null,null,null,null,null,null,null,{"$f":"IFERROR(IF(A1795=\"\",\"\",VLOOKUP(J1795,'Соответствия статей'!$A$2:$B$50,2,0)),\"Другое\")","v":""}]
[null,null,null,null,null,null,null,null,null,null,null,null,null,{"$f":"IFERROR(IF(A1796=\"\",\"\",VLOOKUP(J1796,'Соответствия статей'!$A$2:$B$50,2,0)),\"Другое\")","v":""}]
[null,null,null,null,null,null,null,null,null,null,null,null,null,{"$f":"IFERROR(IF(A1797=\"\",\"\",VLOOKUP(J1797,'Соответствия статей'!$A$2:$B$50,2,0)),\"Другое\")","v":""}]
[null,null,null,null,null,null,null,null,null,null,null,null,null,{"$f":"IFERROR(IF(A1798=\"\",\"\",VLOOKUP(J1798,'Соответствия статей'!$A$2:$B$50,2,0)),\"Другое\")","v":""}]
[null,null,null,null,null,null,null,null,null,null,null,null,null,{"$f":"IFERROR(IF(A1799=\"\",\"\",VLOOKUP(J1799,'Соответствия статей'!$A$2:$B$50,2,0)),\"Другое\")","v":""}]
[null,null,null,null,null,null,null,null,null,null,null,null,null,{"$f":"IFERROR(IF(A1800=\"\",\"\",VLOOKUP(J1800,'Соответствия статей'!$A$2:$B$50,2,0)),\"Другое\")","v":""}]
[null,null,null,null,null,null,null,null,null,null,null,null,null,{"$f":"IFERROR(IF(A1801=\"\",\"\",VLOOKUP(J1801,'Соответствия статей'!$A$2:$B$50,2,0)),\"Другое\")","v":""}]
[null,null,null,null,null,null,null,null,null,null,null,null,null,{"$f":"IFERROR(IF(A1802=\"\",\"\",VLOOKUP(J1802,'Соответствия статей'!$A$2:$B$50,2,0)),\"Другое\")","v":""}]
[null,null,null,null,null,null,null,null,null,null,null,null,null,{"$f":"IFERROR(IF(A1803=\"\",\"\",VLOOKUP(J1803,'Соответствия статей'!$A$2:$B$50,2,0)),\"Другое\")","v":""}]
[null,null,null,null,null,null,null,null,null,null,null,null,null,{"$f":"IFERROR(IF(A1804=\"\",\"\",VLOOKUP(J1804,'Соответствия статей'!$A$2:$B$50,2,0)),\"Другое\")","v":""}]
[null,null,null,null,null,null,null,null,null,null,null,null,null,{"$f":"IFERROR(IF(A1805=\"\",\"\",VLOOKUP(J1805,'Соответствия статей'!$A$2:$B$50,2,0)),\"Другое\")","v":""}]
[null,null,null,null,null,null,null,null,null,null,null,null,null,{"$f":"IFERROR(IF(A1806=\"\",\"\",VLOOKUP(J1806,'Соответствия статей'!$A$2:$B$50,2,0)),\"Другое\")","v":""}]
[null,null,null,null,null,null,null,null,null,null,null,null,null,{"$f":"IFERROR(IF(A1807=\"\",\"\",VLOOKUP(J1807,'Соответствия статей'!$A$2:$B$50,2,0)),\"Другое\")","v":""}]
[null,null,null,null,null,null,null,null,null,null,null,null,null,{"$f":"IFERROR(IF(A1808=\"\",\"\",VLOOKUP(J1808,'Соответствия статей'!$A$2:$B$50,2,0)),\"Другое\")","v":""}]
[null,null,null,null,null,null,null,null,null,null,null,null,null,{"$f":"IFERROR(IF(A1809=\"\",\"\",VLOOKUP(J1809,'Соответствия статей'!$A$2:$B$50,2,0)),\"Другое\")","v":""}]
[null,null,null,null,null,null,null,null,null,null,null,null,null,{"$f":"IFERROR(IF(A1810=\"\",\"\",VLOOKUP(J1810,'Соответствия статей'!$A$2:$B$50,2,0)),\"Другое\")","v":""}]
[null,null,null,null,null,null,null,null,null,null,null,null,null,{"$f":"IFERROR(IF(A1811=\"\",\"\",VLOOKUP(J1811,'Соответствия статей'!$A$2:$B$50,2,0)),\"Другое\")","v":""}]
[null,null,null,null,null,null,null,null,null,null,null,null,null,{"$f":"IFERROR(IF(A1812=\"\",\"\",VLOOKUP(J1812,'Соответствия статей'!$A$2:$B$50,2,0)),\"Другое\")","v":""}]
[null,null,null,null,null,null,null,null,null,null,null,null,null,{"$f":"IFERROR(IF(A1813=\"\",\"\",VLOOKUP(J1813,'Соответствия статей'!$A$2:$B$50,2,0)),\"Другое\")","v":""}]
[null,null,null,null,null,null,null,null,null,null,null,null,null,{"$f":"IFERROR(IF(A1814=\"\",\"\",VLOOKUP(J1814,'Соответствия статей'!$A$2:$B$50,2,0)),\"Другое\")","v":""}]
[null,null,null,null,null,null,null,null,null,null,null,null,null,{"$f":"IFERROR(IF(A1815=\"\",\"\",VLOOKUP(J1815,'Соответствия статей'!$A$2:$B$50,2,0)),\"Другое\")","v":""}]
[null,null,null,null,null,null,null,null,null,null,null,null,null,{"$f":"IFERROR(IF(A1816=\"\",\"\",VLOOKUP(J1816,'Соответствия статей'!$A$2:$B$50,2,0)),\"Другое\")","v":""}]
[null,null,null,null,null,null,null,null,null,null,null,null,null,{"$f":"IFERROR(IF(A1817=\"\",\"\",VLOOKUP(J1817,'Соответствия статей'!$A$2:$B$50,2,0)),\"Другое\")","v":""}]
[null,null,null,null,null,null,null,null,null,null,null,null,null,{"$f":"IFERROR(IF(A1818=\"\",\"\",VLOOKUP(J1818,'Соответствия статей'!$A$2:$B$50,2,0)),\"Другое\")","v":""}]
[null,null,null,null,null,null,null,null,null,null,null,null,null,{"$f":"IFERROR(IF(A1819=\"\",\"\",VLOOKUP(J1819,'Соответствия статей'!$A$2:$B$50,2,0)),\"Другое\")","v":""}]
[null,null,null,null,null,null,null,null,null,null,null,null,null,{"$f":"IFERROR(IF(A1820=\"\",\"\",VLOOKUP(J1820,'Соответствия статей'!$A$2:$B$50,2,0)),\"Другое\")","v":""}]
[null,null,null,null,null,null,null,null,null,null,null,null,null,{"$f":"IFERROR(IF(A1821=\"\",\"\",VLOOKUP(J1821,'Соответствия статей'!$A$2:$B$50,2,0)),\"Другое\")","v":""}]
[null,null,null,null,null,null,null,null,null,null,null,null,null,{"$f":"IFERROR(IF(A1822=\"\",\"\",VLOOKUP(J1822,'Соответствия статей'!$A$2:$B$50,2,0)),\"Другое\")","v":""}]
[null,null,null,null,null,null,null,null,null,null,null,null,null,{"$f":"IFERROR(IF(A1823=\"\",\"\",VLOOKUP(J1823,'Соответствия статей'!$A$2:$B$50,2,0)),\"Другое\")","v":""}]
[null,null,null,null,null,null,null,null,null,null,null,null,null,{"$f":"IFERROR(IF(A1824=\"\",\"\",VLOOKUP(J1824,'Соответствия статей'!$A$2:$B$50,2,0)),\"Другое\")","v":""}]
[null,null,null,null,null,null,null,null,null,null,null,null,null,{"$f":"IFERROR(IF(A1825=\"\",\"\",VLOOKUP(J1825,'Соответствия статей'!$A$2:$B$50,2,0)),\"Другое\")","v":""}]
[null,null,null,null,null,null,null,null,null,null,null,null,null,{"$f":"IFERROR(IF(A1826=\"\",\"\",VLOOKUP(J1826,'Соответствия статей'!$A$2:$B$50,2,0)),\"Другое\")","v":""}]
[null,null,null,null,null,null,null,null,null,null,null,null,null,{"$f":"IFERROR(IF(A1827=\"\",\"\",VLOOKUP(J1827,'Соответствия статей'!$A$2:$B$50,2,0)),\"Другое\")","v":""}]
[null,null,null,null,null,null,null,null,null,null,null,null,null,{"$f":"IFERROR(IF(A1828=\"\",\"\",VLOOKUP(J1828,'Соответствия статей'!$A$2:$B$50,2,0)),\"Другое\")","v":""}]
[null,null,null,null,null,null,null,null,null,null,null,null,null,{"$f":"IFERROR(IF(A1829=\"\",\"\",VLOOKUP(J1829,'Соответствия статей'!$A$2:$B$50,2,0)),\"Другое\")","v":""}]
[null,null,null,null,null,null,null,null,null,null,null,null,null,{"$f":"IFERROR(IF(A1830=\"\",\"\",VLOOKUP(J1830,'Соответствия статей'!$A$2:$B$50,2,0)),\"Другое\")","v":""}]
[null,null,null,null,null,null,null,null,null,null,null,null,null,{"$f":"IFERROR(IF(A1831=\"\",\"\",VLOOKUP(J1831,'Соответствия статей'!$A$2:$B$50,2,0)),\"Другое\")","v":""}]
[null,null,null,null,null,null,null,null,null,null,null,null,null,{"$f":"IFERROR(IF(A1832=\"\",\"\",VLOOKUP(J1832,'Соответствия статей'!$A$2:$B$50,2,0)),\"Другое\")","v":""}]
[null,null,null,null,null,null,null,null,null,null,null,null,null,{"$f":"IFERROR(IF(A1833=\"\",\"\",VLOOKUP(J1833,'Соответствия статей'!$A$2:$B$50,2,0)),\"Другое\")","v":""}]
[null,null,null,null,null,null,null,null,null,null,null,null,null,{"$f":"IFERROR(IF(A1834=\"\",\"\",VLOOKUP(J1834,'Соответствия статей'!$A$2:$B$50,2,0)),\"Другое\")","v":""}]
[null,null,null,null,null,null,null,null,null,null,null,null,null,{"$f":"IFERROR(IF(A1835=\"\",\"\",VLOOKUP(J1835,'Соответствия статей'!$A$2:$B$50,2,0)),\"Другое\")","v":""}]
[null,null,null,null,null,null,null,null,null,null,null,null,null,{"$f":"IFERROR(IF(A1836=\"\",\"\",VLOOKUP(J1836,'Соответствия статей'!$A$2:$B$50,2,0)),\"Другое\")","v":""}]
[null,null,null,null,null,null,null,null,null,null,null,null,null,{"$f":"IFERROR(IF(A1837=\"\",\"\",VLOOKUP(J1837,'Соответствия статей'!$A$2:$B$50,2,0)),\"Другое\")","v":""}]
[null,null,null,null,null,null,null,null,null,null,null,null,null,{"$f":"IFERROR(IF(A1838=\"\",\"\",VLOOKUP(J1838,'Соответствия статей'!$A$2:$B$50,2,0)),\"Другое\")","v":""}]
[null,null,null,null,null,null,null,null,null,null,null,null,null,{"$f":"IFERROR(IF(A1839=\"\",\"\",VLOOKUP(J1839,'Соответствия статей'!$A$2:$B$50,2,0)),\"Другое\")","v":""}]
[null,null,null,null,null,null,null,null,null,null,null,null,null,{"$f":"IFERROR(IF(A1840=\"\",\"\",VLOOKUP(J1840,'Соответствия статей'!$A$2:$B$50,2,0)),\"Другое\")","v":""}]
[null,null,null,null,null,null,null,null,null,null,null,null,null,{"$f":"IFERROR(IF(A1841=\"\",\"\",VLOOKUP(J1841,'Соответствия статей'!$A$2:$B$50,2,0)),\"Другое\")","v":""}]
[null,null,null,null,null,null,null,null,null,null,null,null,null,{"$f":"IFERROR(IF(A1842=\"\",\"\",VLOOKUP(J1842,'Соответствия статей'!$A$2:$B$50,2,0)),\"Другое\")","v":""}]
[null,null,null,null,null,null,null,null,null,null,null,null,null,{"$f":"IFERROR(IF(A1843=\"\",\"\",VLOOKUP(J1843,'Соответствия статей'!$A$2:$B$50,2,0)),\"Другое\")","v":""}]
[null,null,null,null,null,null,null,null,null,null,null,null,null,{"$f":"IFERROR(IF(A1844=\"\",\"\",VLOOKUP(J1844,'Соответствия статей'!$A$2:$B$50,2,0)),\"Другое\")","v":""}]
[null,null,null,null,null,null,null,null,null,null,null,null,null,{"$f":"IFERROR(IF(A1845=\"\",\"\",VLOOKUP(J1845,'Соответствия статей'!$A$2:$B$50,2,0)),\"Другое\")","v":""}]
[null,null,null,null,null,null,null,null,null,null,null,null,null,{"$f":"IFERROR(IF(A1846=\"\",\"\",VLOOKUP(J1846,'Соответствия статей'!$A$2:$B$50,2,0)),\"Другое\")","v":""}]
[null,null,null,null,null,null,null,null,null,null,null,null,null,{"$f":"IFERROR(IF(A1847=\"\",\"\",VLOOKUP(J1847,'Соответствия статей'!$A$2:$B$50,2,0)),\"Другое\")","v":""}]
[null,null,null,null,null,null,null,null,null,null,null,null,null,{"$f":"IFERROR(IF(A1848=\"\",\"\",VLOOKUP(J1848,'Соответствия статей'!$A$2:$B$50,2,0)),\"Другое\")","v":""}]
[null,null,null,null,null,null,null,null,null,null,null,null,null,{"$f":"IFERROR(IF(A1849=\"\",\"\",VLOOKUP(J1849,'Соответствия статей'!$A$2:$B$50,2,0)),\"Другое\")","v":""}]
[null,null,null,null,null,null,null,null,null,null,null,null,null,{"$f":"IFERROR(IF(A1850=\"\",\"\",VLOOKUP(J1850,'Соответствия статей'!$A$2:$B$50,2,0)),\"Другое\")","v":""}]
[null,null,null,null,null,null,null,null,null,null,null,null,null,{"$f":"IFERROR(IF(A1851=\"\",\"\",VLOOKUP(J1851,'Соответствия статей'!$A$2:$B$50,2,0)),\"Другое\")","v":""}]
[null,null,null,null,null,null,null,null,null,null,null,null,null,{"$f":"IFERROR(IF(A1852=\"\",\"\",VLOOKUP(J1852,'Соответствия статей'!$A$2:$B$50,2,0)),\"Другое\")","v":""}]
[null,null,null,null,null,null,null,null,null,null,null,null,null,{"$f":"IFERROR(IF(A1853=\"\",\"\",VLOOKUP(J1853,'Соответствия статей'!$A$2:$B$50,2,0)),\"Другое\")","v":""}]
[null,null,null,null,null,null,null,null,null,null,null,null,null,{"$f":"IFERROR(IF(A1854=\"\",\"\",VLOOKUP(J1854,'Соответствия статей'!$A$2:$B$50,2,0)),\"Другое\")","v":""}]
[null,null,null,null,null,null,null,null,null,null,null,null,null,{"$f":"IFERROR(IF(A1855=\"\",\"\",VLOOKUP(J1855,'Соответствия статей'!$A$2:$B$50,2,0)),\"Другое\")","v":""}]
[null,null,null,null,null,null,null,null,null,null,null,null,null,{"$f":"IFERROR(IF(A1856=\"\",\"\",VLOOKUP(J1856,'Соответствия статей'!$A$2:$B$50,2,0)),\"Другое\")","v":""}]
[null,null,null,null,null,null,null,null,null,null,null,null,null,{"$f":"IFERROR(IF(A1857=\"\",\"\",VLOOKUP(J1857,'Соответствия статей'!$A$2:$B$50,2,0)),\"Другое\")","v":""}]
[null,null,null,null,null,null,null,null,null,null,null,null,null,{"$f":"IFERROR(IF(A1858=\"\",\"\",VLOOKUP(J1858,'Соответствия статей'!$A$2:$B$50,2,0)),\"Другое\")","v":""}]
[null,null,null,null,null,null,null,null,null,null,null,null,null,{"$f":"IFERROR(IF(A1859=\"\",\"\",VLOOKUP(J1859,'Соответствия статей'!$A$2:$B$50,2,0)),\"Другое\")","v":""}]
[null,null,null,null,null,null,null,null,null,null,null,null,null,{"$f":"IFERROR(IF(A1860=\"\",\"\",VLOOKUP(J1860,'Соответствия статей'!$A$2:$B$50,2,0)),\"Другое\")","v":""}]
[null,null,null,null,null,null,null,null,null,null,null,null,null,{"$f":"IFERROR(IF(A1861=\"\",\"\",VLOOKUP(J1861,'Соответствия статей'!$A$2:$B$50,2,0)),\"Другое\")","v":""}]
[null,null,null,null,null,null,null,null,null,null,null,null,null,{"$f":"IFERROR(IF(A1862=\"\",\"\",VLOOKUP(J1862,'Соответствия статей'!$A$2:$B$50,2,0)),\"Другое\")","v":""}]
[null,null,null,null,null,null,null,null,null,null,null,null,null,{"$f":"IFERROR(IF(A1863=\"\",\"\",VLOOKUP(J1863,'Соответствия статей'!$A$2:$B$50,2,0)),\"Другое\")","v":""}]
[null,null,null,null,null,null,null,null,null,null,null,null,null,{"$f":"IFERROR(IF(A1864=\"\",\"\",VLOOKUP(J1864,'Соответствия статей'!$A$2:$B$50,2,0)),\"Другое\")","v":""}]
[null,null,null,null,null,null,null,null,null,null,null,null,null,{"$f":"IFERROR(IF(A1865=\"\",\"\",VLOOKUP(J1865,'Соответствия статей'!$A$2:$B$50,2,0)),\"Другое\")","v":""}]
[null,null,null,null,null,null,null,null,null,null,null,null,null,{"$f":"IFERROR(IF(A1866=\"\",\"\",VLOOKUP(J1866,'Соответствия статей'!$A$2:$B$50,2,0)),\"Другое\")","v":""}]
[null,null,null,null,null,null,null,null,null,null,null,null,null,{"$f":"IFERROR(IF(A1867=\"\",\"\",VLOOKUP(J1867,'Соответствия статей'!$A$2:$B$50,2,0)),\"Другое\")","v":""}]
[null,null,null,null,null,null,null,null,null,null,null,null,null,{"$f":"IFERROR(IF(A1868=\"\",\"\",VLOOKUP(J1868,'Соответствия статей'!$A$2:$B$50,2,0)),\"Другое\")","v":""}]
[null,null,null,null,null,null,null,null,null,null,null,null,null,{"$f":"IFERROR(IF(A1869=\"\",\"\",VLOOKUP(J1869,'Соответствия статей'!$A$2:$B$50,2,0)),\"Другое\")","v":""}]
[null,null,null,null,null,null,null,null,null,null,null,null,null,{"$f":"IFERROR(IF(A1870=\"\",\"\",VLOOKUP(J1870,'Соответствия статей'!$A$2:$B$50,2,0)),\"Другое\")","v":""}]
[null,null,null,null,null,null,null,null,null,null,null,null,null,{"$f":"IFERROR(IF(A1871=\"\",\"\",VLOOKUP(J1871,'Соответствия статей'!$A$2:$B$50,2,0)),\"Другое\")","v":""}]
[null,null,null,null,null,null,null,null,null,null,null,null,null,{"$f":"IFERROR(IF(A1872=\"\",\"\",VLOOKUP(J1872,'Соответствия статей'!$A$2:$B$50,2,0)),\"Другое\")","v":""}]
[null,null,null,null,null,null,null,null,null,null,null,null,null,{"$f":"IFERROR(IF(A1873=\"\",\"\",VLOOKUP(J1873,'Соответствия статей'!$A$2:$B$50,2,0)),\"Другое\")","v":""}]
[null,null,null,null,null,null,null,null,null,null,null,null,null,{"$f":"IFERROR(IF(A1874=\"\",\"\",VLOOKUP(J1874,'Соответствия статей'!$A$2:$B$50,2,0)),\"Другое\")","v":""}]
[null,null,null,null,null,null,null,null,null,null,null,null,null,{"$f":"IFERROR(IF(A1875=\"\",\"\",VLOOKUP(J1875,'Соответствия статей'!$A$2:$B$50,2,0)),\"Другое\")","v":""}]
[null,null,null,null,null,null,null,null,null,null,null,null,null,{"$f":"IFERROR(IF(A1876=\"\",\"\",VLOOKUP(J1876,'Соответствия статей'!$A$2:$B$50,2,0)),\"Другое\")","v":""}]
[null,null,null,null,null,null,null,null,null,null,null,null,null,{"$f":"IFERROR(IF(A1877=\"\",\"\",VLOOKUP(J1877,'Соответствия статей'!$A$2:$B$50,2,0)),\"Другое\")","v":""}]
[null,null,null,null,null,null,null,null,null,null,null,null,null,{"$f":"IFERROR(IF(A1878=\"\",\"\",VLOOKUP(J1878,'Соответствия статей'!$A$2:$B$50,2,0)),\"Другое\")","v":""}]
[null,null,null,null,null,null,null,null,null,null,null,null,null,{"$f":"IFERROR(IF(A1879=\"\",\"\",VLOOKUP(J1879,'Соответствия статей'!$A$2:$B$50,2,0)),\"Другое\")","v":""}]
[null,null,null,null,null,null,null,null,null,null,null,null,null,{"$f":"IFERROR(IF(A1880=\"\",\"\",VLOOKUP(J1880,'Соответствия статей'!$A$2:$B$50,2,0)),\"Другое\")","v":""}]
[null,null,null,null,null,null,null,null,null,null,null,null,null,{"$f":"IFERROR(IF(A1881=\"\",\"\",VLOOKUP(J1881,'Соответствия статей'!$A$2:$B$50,2,0)),\"Другое\")","v":""}]
[null,null,null,null,null,null,null,null,null,null,null,null,null,{"$f":"IFERROR(IF(A1882=\"\",\"\",VLOOKUP(J1882,'Соответствия статей'!$A$2:$B$50,2,0)),\"Другое\")","v":""}]
[null,null,null,null,null,null,null,null,null,null,null,null,null,{"$f":"IFERROR(IF(A1883=\"\",\"\",VLOOKUP(J1883,'Соответствия статей'!$A$2:$B$50,2,0)),\"Другое\")","v":""}]
[null,null,null,null,null,null,null,null,null,null,null,null,null,{"$f":"IFERROR(IF(A1884=\"\",\"\",VLOOKUP(J1884,'Соответствия статей'!$A$2:$B$50,2,0)),\"Другое\")","v":""}]
[null,null,null,null,null,null,null,null,null,null,null,null,null,{"$f":"IFERROR(IF(A1885=\"\",\"\",VLOOKUP(J1885,'Соответствия статей'!$A$2:$B$50,2,0)),\"Другое\")","v":""}]
[null,null,null,null,null,null,null,null,null,null,null,null,null,{"$f":"IFERROR(IF(A1886=\"\",\"\",VLOOKUP(J1886,'Соответствия статей'!$A$2:$B$50,2,0)),\"Другое\")","v":""}]
[null,null,null,null,null,null,null,null,null,null,null,null,null,{"$f":"IFERROR(IF(A1887=\"\",\"\",VLOOKUP(J1887,'Соответствия статей'!$A$2:$B$50,2,0)),\"Другое\")","v":""}]
[null,null,null,null,null,null,null,null,null,null,null,null,null,{"$f":"IFERROR(IF(A1888=\"\",\"\",VLOOKUP(J1888,'Соответствия статей'!$A$2:$B$50,2,0)),\"Другое\")","v":""}]
[null,null,null,null,null,null,null,null,null,null,null,null,null,{"$f":"IFERROR(IF(A1889=\"\",\"\",VLOOKUP(J1889,'Соответствия статей'!$A$2:$B$50,2,0)),\"Другое\")","v":""}]
[null,null,null,null,null,null,null,null,null,null,null,null,null,{"$f":"IFERROR(IF(A1890=\"\",\"\",VLOOKUP(J1890,'Соответствия статей'!$A$2:$B$50,2,0)),\"Другое\")","v":""}]
[null,null,null,null,null,null,null,null,null,null,null,null,null,{"$f":"IFERROR(IF(A1891=\"\",\"\",VLOOKUP(J1891,'Соответствия статей'!$A$2:$B$50,2,0)),\"Другое\")","v":""}]
[null,null,null,null,null,null,null,null,null,null,null,null,null,{"$f":"IFERROR(IF(A1892=\"\",\"\",VLOOKUP(J1892,'Соответствия статей'!$A$2:$B$50,2,0)),\"Другое\")","v":""}]
[null,null,null,null,null,null,null,null,null,null,null,null,null,{"$f":"IFERROR(IF(A1893=\"\",\"\",VLOOKUP(J1893,'Соответствия статей'!$A$2:$B$50,2,0)),\"Другое\")","v":""}]
[null,null,null,null,null,null,null,null,null,null,null,null,null,{"$f":"IFERROR(IF(A1894=\"\",\"\",VLOOKUP(J1894,'Соответствия статей'!$A$2:$B$50,2,0)),\"Другое\")","v":""}]
[null,null,null,null,null,null,null,null,null,null,null,null,null,{"$f":"IFERROR(IF(A1895=\"\",\"\",VLOOKUP(J1895,'Соответствия статей'!$A$2:$B$50,2,0)),\"Другое\")","v":""}]
[null,null,null,null,null,null,null,null,null,null,null,null,null,{"$f":"IFERROR(IF(A1896=\"\",\"\",VLOOKUP(J1896,'Соответствия статей'!$A$2:$B$50,2,0)),\"Другое\")","v":""}]
[null,null,null,null,null,null,null,null,null,null,null,null,null,{"$f":"IFERROR(IF(A1897=\"\",\"\",VLOOKUP(J1897,'Соответствия статей'!$A$2:$B$50,2,0)),\"Другое\")","v":""}]
[null,null,null,null,null,null,null,null,null,null,null,null,null,{"$f":"IFERROR(IF(A1898=\"\",\"\",VLOOKUP(J1898,'Соответствия статей'!$A$2:$B$50,2,0)),\"Другое\")","v":""}]
[null,null,null,null,null,null,null,null,null,null,null,null,null,{"$f":"IFERROR(IF(A1899=\"\",\"\",VLOOKUP(J1899,'Соответствия статей'!$A$2:$B$50,2,0)),\"Другое\")","v":""}]
[null,null,null,null,null,null,null,null,null,null,null,null,null,{"$f":"IFERROR(IF(A1900=\"\",\"\",VLOOKUP(J1900,'Соответствия статей'!$A$2:$B$50,2,0)),\"Другое\")","v":""}]
[null,null,null,null,null,null,null,null,null,null,null,null,null,{"$f":"IFERROR(IF(A1901=\"\",\"\",VLOOKUP(J1901,'Соответствия статей'!$A$2:$B$50,2,0)),\"Другое\")","v":""}]
[null,null,null,null,null,null,null,null,null,null,null,null,null,{"$f":"IFERROR(IF(A1902=\"\",\"\",VLOOKUP(J1902,'Соответствия статей'!$A$2:$B$50,2,0)),\"Другое\")","v":""}]
[null,null,null,null,null,null,null,null,null,null,null,null,null,{"$f":"IFERROR(IF(A1903=\"\",\"\",VLOOKUP(J1903,'Соответствия статей'!$A$2:$B$50,2,0)),\"Другое\")","v":""}]
[null,null,null,null,null,null,null,null,null,null,null,null,null,{"$f":"IFERROR(IF(A1904=\"\",\"\",VLOOKUP(J1904,'Соответствия статей'!$A$2:$B$50,2,0)),\"Другое\")","v":""}]
[null,null,null,null,null,null,null,null,null,null,null,null,null,{"$f":"IFERROR(IF(A1905=\"\",\"\",VLOOKUP(J1905,'Соответствия статей'!$A$2:$B$50,2,0)),\"Другое\")","v":""}]
[null,null,null,null,null,null,null,null,null,null,null,null,null,{"$f":"IFERROR(IF(A1906=\"\",\"\",VLOOKUP(J1906,'Соответствия статей'!$A$2:$B$50,2,0)),\"Другое\")","v":""}]
[null,null,null,null,null,null,null,null,null,null,null,null,null,{"$f":"IFERROR(IF(A1907=\"\",\"\",VLOOKUP(J1907,'Соответствия статей'!$A$2:$B$50,2,0)),\"Другое\")","v":""}]
[null,null,null,null,null,null,null,null,null,null,null,null,null,{"$f":"IFERROR(IF(A1908=\"\",\"\",VLOOKUP(J1908,'Соответствия статей'!$A$2:$B$50,2,0)),\"Другое\")","v":""}]
[null,null,null,null,null,null,null,null,null,null,null,null,null,{"$f":"IFERROR(IF(A1909=\"\",\"\",VLOOKUP(J1909,'Соответствия статей'!$A$2:$B$50,2,0)),\"Другое\")","v":""}]
[null,null,null,null,null,null,null,null,null,null,null,null,null,{"$f":"IFERROR(IF(A1910=\"\",\"\",VLOOKUP(J1910,'Соответствия статей'!$A$2:$B$50,2,0)),\"Другое\")","v":""}]
[null,null,null,null,null,null,null,null,null,null,null,null,null,{"$f":"IFERROR(IF(A1911=\"\",\"\",VLOOKUP(J1911,'Соответствия статей'!$A$2:$B$50,2,0)),\"Другое\")","v":""}]
[null,null,null,null,null,null,null,null,null,null,null,null,null,{"$f":"IFERROR(IF(A1912=\"\",\"\",VLOOKUP(J1912,'Соответствия статей'!$A$2:$B$50,2,0)),\"Другое\")","v":""}]
[null,null,null,null,null,null,null,null,null,null,null,null,null,{"$f":"IFERROR(IF(A1913=\"\",\"\",VLOOKUP(J1913,'Соответствия статей'!$A$2:$B$50,2,0)),\"Другое\")","v":""}]
[null,null,null,null,null,null,null,null,null,null,null,null,null,{"$f":"IFERROR(IF(A1914=\"\",\"\",VLOOKUP(J1914,'Соответствия статей'!$A$2:$B$50,2,0)),\"Другое\")","v":""}]
[null,null,null,null,null,null,null,null,null,null,null,null,null,{"$f":"IFERROR(IF(A1915=\"\",\"\",VLOOKUP(J1915,'Соответствия статей'!$A$2:$B$50,2,0)),\"Другое\")","v":""}]
[null,null,null,null,null,null,null,null,null,null,null,null,null,{"$f":"IFERROR(IF(A1916=\"\",\"\",VLOOKUP(J1916,'Соответствия статей'!$A$2:$B$50,2,0)),\"Другое\")","v":""}]
[null,null,null,null,null,null,null,null,null,null,null,null,null,{"$f":"IFERROR(IF(A1917=\"\",\"\",VLOOKUP(J1917,'Соответствия статей'!$A$2:$B$50,2,0)),\"Другое\")","v":""}]
[null,null,null,null,null,null,null,null,null,null,null,null,null,{"$f":"IFERROR(IF(A1918=\"\",\"\",VLOOKUP(J1918,'Соответствия статей'!$A$2:$B$50,2,0)),\"Другое\")","v":""}]
[null,null,null,null,null,null,null,null,null,null,null,null,null,{"$f":"IFERROR(IF(A1919=\"\",\"\",VLOOKUP(J1919,'Соответствия статей'!$A$2:$B$50,2,0)),\"Другое\")","v":""}]
[null,null,null,null,null,null,null,null,null,null,null,null,null,{"$f":"IFERROR(IF(A1920=\"\",\"\",VLOOKUP(J1920,'Соответствия статей'!$A$2:$B$50,2,0)),\"Другое\")","v":""}]
[null,null,null,null,null,null,null,null,null,null,null,null,null,{"$f":"IFERROR(IF(A1921=\"\",\"\",VLOOKUP(J1921,'Соответствия статей'!$A$2:$B$50,2,0)),\"Другое\")","v":""}]
[null,null,null,null,null,null,null,null,null,null,null,null,null,{"$f":"IFERROR(IF(A1922=\"\",\"\",VLOOKUP(J1922,'Соответствия статей'!$A$2:$B$50,2,0)),\"Другое\")","v":""}]
[null,null,null,null,null,null,null,null,null,null,null,null,null,{"$f":"IFERROR(IF(A1923=\"\",\"\",VLOOKUP(J1923,'Соответствия статей'!$A$2:$B$50,2,0)),\"Другое\")","v":""}]
[null,null,null,null,null,null,null,null,null,null,null,null,null,{"$f":"IFERROR(IF(A1924=\"\",\"\",VLOOKUP(J1924,'Соответствия статей'!$A$2:$B$50,2,0)),\"Другое\")","v":""}]
[null,null,null,null,null,null,null,null,null,null,null,null,null,{"$f":"IFERROR(IF(A1925=\"\",\"\",VLOOKUP(J1925,'Соответствия статей'!$A$2:$B$50,2,0)),\"Другое\")","v":""}]
[null,null,null,null,null,null,null,null,null,null,null,null,null,{"$f":"IFERROR(IF(A1926=\"\",\"\",VLOOKUP(J1926,'Соответствия статей'!$A$2:$B$50,2,0)),\"Другое\")","v":""}]
[null,null,null,null,null,null,null,null,null,null,null,null,null,{"$f":"IFERROR(IF(A1927=\"\",\"\",VLOOKUP(J1927,'Соответствия статей'!$A$2:$B$50,2,0)),\"Другое\")","v":""}]
[null,null,null,null,null,null,null,null,null,null,null,null,null,{"$f":"IFERROR(IF(A1928=\"\",\"\",VLOOKUP(J1928,'Соответствия статей'!$A$2:$B$50,2,0)),\"Другое\")","v":""}]
[null,null,null,null,null,null,null,null,null,null,null,null,null,{"$f":"IFERROR(IF(A1929=\"\",\"\",VLOOKUP(J1929,'Соответствия статей'!$A$2:$B$50,2,0)),\"Другое\")","v":""}]
[null,null,null,null,null,null,null,null,null,null,null,null,null,{"$f":"IFERROR(IF(A1930=\"\",\"\",VLOOKUP(J1930,'Соответствия статей'!$A$2:$B$50,2,0)),\"Другое\")","v":""}]
[null,null,null,null,null,null,null,null,null,null,null,null,null,{"$f":"IFERROR(IF(A1931=\"\",\"\",VLOOKUP(J1931,'Соответствия статей'!$A$2:$B$50,2,0)),\"Другое\")","v":""}]
[null,null,null,null,null,null,null,null,null,null,null,null,null,{"$f":"IFERROR(IF(A1932=\"\",\"\",VLOOKUP(J1932,'Соответствия статей'!$A$2:$B$50,2,0)),\"Другое\")","v":""}]
[null,null,null,null,null,null,null,null,null,null,null,null,null,{"$f":"IFERROR(IF(A1933=\"\",\"\",VLOOKUP(J1933,'Соответствия статей'!$A$2:$B$50,2,0)),\"Другое\")","v":""}]
[null,null,null,null,null,null,null,null,null,null,null,null,null,{"$f":"IFERROR(IF(A1934=\"\",\"\",VLOOKUP(J1934,'Соответствия статей'!$A$2:$B$50,2,0)),\"Другое\")","v":""}]
[null,null,null,null,null,null,null,null,null,null,null,null,null,{"$f":"IFERROR(IF(A1935=\"\",\"\",VLOOKUP(J1935,'Соответствия статей'!$A$2:$B$50,2,0)),\"Другое\")","v":""}]
[null,null,null,null,null,null,null,null,null,null,null,null,null,{"$f":"IFERROR(IF(A1936=\"\",\"\",VLOOKUP(J1936,'Соответствия статей'!$A$2:$B$50,2,0)),\"Другое\")","v":""}]
[null,null,null,null,null,null,null,null,null,null,null,null,null,{"$f":"IFERROR(IF(A1937=\"\",\"\",VLOOKUP(J1937,'Соответствия статей'!$A$2:$B$50,2,0)),\"Другое\")","v":""}]
[null,null,null,null,null,null,null,null,null,null,null,null,null,{"$f":"IFERROR(IF(A1938=\"\",\"\",VLOOKUP(J1938,'Соответствия статей'!$A$2:$B$50,2,0)),\"Другое\")","v":""}]
[null,null,null,null,null,null,null,null,null,null,null,null,null,{"$f":"IFERROR(IF(A1939=\"\",\"\",VLOOKUP(J1939,'Соответствия статей'!$A$2:$B$50,2,0)),\"Другое\")","v":""}]
[null,null,null,null,null,null,null,null,null,null,null,null,null,{"$f":"IFERROR(IF(A1940=\"\",\"\",VLOOKUP(J1940,'Соответствия статей'!$A$2:$B$50,2,0)),\"Другое\")","v":""}]
[null,null,null,null,null,null,null,null,null,null,null,null,null,{"$f":"IFERROR(IF(A1941=\"\",\"\",VLOOKUP(J1941,'Соответствия статей'!$A$2:$B$50,2,0)),\"Другое\")","v":""}]
[null,null,null,null,null,null,null,null,null,null,null,null,null,{"$f":"IFERROR(IF(A1942=\"\",\"\",VLOOKUP(J1942,'Соответствия статей'!$A$2:$B$50,2,0)),\"Другое\")","v":""}]
[null,null,null,null,null,null,null,null,null,null,null,null,null,{"$f":"IFERROR(IF(A1943=\"\",\"\",VLOOKUP(J1943,'Соответствия статей'!$A$2:$B$50,2,0)),\"Другое\")","v":""}]
[null,null,null,null,null,null,null,null,null,null,null,null,null,{"$f":"IFERROR(IF(A1944=\"\",\"\",VLOOKUP(J1944,'Соответствия статей'!$A$2:$B$50,2,0)),\"Другое\")","v":""}]
[null,null,null,null,null,null,null,null,null,null,null,null,null,{"$f":"IFERROR(IF(A1945=\"\",\"\",VLOOKUP(J1945,'Соответствия статей'!$A$2:$B$50,2,0)),\"Другое\")","v":""}]
[null,null,null,null,null,null,null,null,null,null,null,null,null,{"$f":"IFERROR(IF(A1946=\"\",\"\",VLOOKUP(J1946,'Соответствия статей'!$A$2:$B$50,2,0)),\"Другое\")","v":""}]
[null,null,null,null,null,null,null,null,null,null,null,null,null,{"$f":"IFERROR(IF(A1947=\"\",\"\",VLOOKUP(J1947,'Соответствия статей'!$A$2:$B$50,2,0)),\"Другое\")","v":""}]
[null,null,null,null,null,null,null,null,null,null,null,null,null,{"$f":"IFERROR(IF(A1948=\"\",\"\",VLOOKUP(J1948,'Соответствия статей'!$A$2:$B$50,2,0)),\"Другое\")","v":""}]
[null,null,null,null,null,null,null,null,null,null,null,null,null,{"$f":"IFERROR(IF(A1949=\"\",\"\",VLOOKUP(J1949,'Соответствия статей'!$A$2:$B$50,2,0)),\"Другое\")","v":""}]
[null,null,null,null,null,null,null,null,null,null,null,null,null,{"$f":"IFERROR(IF(A1950=\"\",\"\",VLOOKUP(J1950,'Соответствия статей'!$A$2:$B$50,2,0)),\"Другое\")","v":""}]
[null,null,null,null,null,null,null,null,null,null,null,null,null,{"$f":"IFERROR(IF(A1951=\"\",\"\",VLOOKUP(J1951,'Соответствия статей'!$A$2:$B$50,2,0)),\"Другое\")","v":""}]
[null,null,null,null,null,null,null,null,null,null,null,null,null,{"$f":"IFERROR(IF(A1952=\"\",\"\",VLOOKUP(J1952,'Соответствия статей'!$A$2:$B$50,2,0)),\"Другое\")","v":""}]
[null,null,null,null,null,null,null,null,null,null,null,null,null,{"$f":"IFERROR(IF(A1953=\"\",\"\",VLOOKUP(J1953,'Соответствия статей'!$A$2:$B$50,2,0)),\"Другое\")","v":""}]
[null,null,null,null,null,null,null,null,null,null,null,null,null,{"$f":"IFERROR(IF(A1954=\"\",\"\",VLOOKUP(J1954,'Соответствия статей'!$A$2:$B$50,2,0)),\"Другое\")","v":""}]
[null,null,null,null,null,null,null,null,null,null,null,null,null,{"$f":"IFERROR(IF(A1955=\"\",\"\",VLOOKUP(J1955,'Соответствия статей'!$A$2:$B$50,2,0)),\"Другое\")","v":""}]
[null,null,null,null,null,null,null,null,null,null,null,null,null,{"$f":"IFERROR(IF(A1956=\"\",\"\",VLOOKUP(J1956,'Соответствия статей'!$A$2:$B$50,2,0)),\"Другое\")","v":""}]
[null,null,null,null,null,null,null,null,null,null,null,null,null,{"$f":"IFERROR(IF(A1957=\"\",\"\",VLOOKUP(J1957,'Соответствия статей'!$A$2:$B$50,2,0)),\"Другое\")","v":""}]
[null,null,null,null,null,null,null,null,null,null,null,null,null,{"$f":"IFERROR(IF(A1958=\"\",\"\",VLOOKUP(J1958,'Соответствия статей'!$A$2:$B$50,2,0)),\"Другое\")","v":""}]
[null,null,null,null,null,null,null,null,null,null,null,null,null,{"$f":"IFERROR(IF(A1959=\"\",\"\",VLOOKUP(J1959,'Соответствия статей'!$A$2:$B$50,2,0)),\"Другое\")","v":""}]
[null,null,null,null,null,null,null,null,null,null,null,null,null,{"$f":"IFERROR(IF(A1960=\"\",\"\",VLOOKUP(J1960,'Соответствия статей'!$A$2:$B$50,2,0)),\"Другое\")","v":""}]
[null,null,null,null,null,null,null,null,null,null,null,null,null,{"$f":"IFERROR(IF(A1961=\"\",\"\",VLOOKUP(J1961,'Соответствия статей'!$A$2:$B$50,2,0)),\"Другое\")","v":""}]
[null,null,null,null,null,null,null,null,null,null,null,null,null,{"$f":"IFERROR(IF(A1962=\"\",\"\",VLOOKUP(J1962,'Соответствия статей'!$A$2:$B$50,2,0)),\"Другое\")","v":""}]
[null,null,null,null,null,null,null,null,null,null,null,null,null,{"$f":"IFERROR(IF(A1963=\"\",\"\",VLOOKUP(J1963,'Соответствия статей'!$A$2:$B$50,2,0)),\"Другое\")","v":""}]
[null,null,null,null,null,null,null,null,null,null,null,null,null,{"$f":"IFERROR(IF(A1964=\"\",\"\",VLOOKUP(J1964,'Соответствия статей'!$A$2:$B$50,2,0)),\"Другое\")","v":""}]
[null,null,null,null,null,null,null,null,null,null,null,null,null,{"$f":"IFERROR(IF(A1965=\"\",\"\",VLOOKUP(J1965,'Соответствия статей'!$A$2:$B$50,2,0)),\"Другое\")","v":""}]
[null,null,null,null,null,null,null,null,null,null,null,null,null,{"$f":"IFERROR(IF(A1966=\"\",\"\",VLOOKUP(J1966,'Соответствия статей'!$A$2:$B$50,2,0)),\"Другое\")","v":""}]
[null,null,null,null,null,null,null,null,null,null,null,null,null,{"$f":"IFERROR(IF(A1967=\"\",\"\",VLOOKUP(J1967,'Соответствия статей'!$A$2:$B$50,2,0)),\"Другое\")","v":""}]
[null,null,null,null,null,null,null,null,null,null,null,null,null,{"$f":"IFERROR(IF(A1968=\"\",\"\",VLOOKUP(J1968,'Соответствия статей'!$A$2:$B$50,2,0)),\"Другое\")","v":""}]
[null,null,null,null,null,null,null,null,null,null,null,null,null,{"$f":"IFERROR(IF(A1969=\"\",\"\",VLOOKUP(J1969,'Соответствия статей'!$A$2:$B$50,2,0)),\"Другое\")","v":""}]
[null,null,null,null,null,null,null,null,null,null,null,null,null,{"$f":"IFERROR(IF(A1970=\"\",\"\",VLOOKUP(J1970,'Соответствия статей'!$A$2:$B$50,2,0)),\"Другое\")","v":""}]
[null,null,null,null,null,null,null,null,null,null,null,null,null,{"$f":"IFERROR(IF(A1971=\"\",\"\",VLOOKUP(J1971,'Соответствия статей'!$A$2:$B$50,2,0)),\"Другое\")","v":""}]
[null,null,null,null,null,null,null,null,null,null,null,null,null,{"$f":"IFERROR(IF(A1972=\"\",\"\",VLOOKUP(J1972,'Соответствия статей'!$A$2:$B$50,2,0)),\"Другое\")","v":""}]
[null,null,null,null,null,null,null,null,null,null,null,null,null,{"$f":"IFERROR(IF(A1973=\"\",\"\",VLOOKUP(J1973,'Соответствия статей'!$A$2:$B$50,2,0)),\"Другое\")","v":""}]
[null,null,null,null,null,null,null,null,null,null,null,null,null,{"$f":"IFERROR(IF(A1974=\"\",\"\",VLOOKUP(J1974,'Соответствия статей'!$A$2:$B$50,2,0)),\"Другое\")","v":""}]
[null,null,null,null,null,null,null,null,null,null,null,null,null,{"$f":"IFERROR(IF(A1975=\"\",\"\",VLOOKUP(J1975,'Соответствия статей'!$A$2:$B$50,2,0)),\"Другое\")","v":""}]
[null,null,null,null,null,null,null,null,null,null,null,null,null,{"$f":"IFERROR(IF(A1976=\"\",\"\",VLOOKUP(J1976,'Соответствия статей'!$A$2:$B$50,2,0)),\"Другое\")","v":""}]
[null,null,null,null,null,null,null,null,null,null,null,null,null,{"$f":"IFERROR(IF(A1977=\"\",\"\",VLOOKUP(J1977,'Соответствия статей'!$A$2:$B$50,2,0)),\"Другое\")","v":""}]
[null,null,null,null,null,null,null,null,null,null,null,null,null,{"$f":"IFERROR(IF(A1978=\"\",\"\",VLOOKUP(J1978,'Соответствия статей'!$A$2:$B$50,2,0)),\"Другое\")","v":""}]
[null,null,null,null,null,null,null,null,null,null,null,null,null,{"$f":"IFERROR(IF(A1979=\"\",\"\",VLOOKUP(J1979,'Соответствия статей'!$A$2:$B$50,2,0)),\"Другое\")","v":""}]
[null,null,null,null,null,null,null,null,null,null,null,null,null,{"$f":"IFERROR(IF(A1980=\"\",\"\",VLOOKUP(J1980,'Соответствия статей'!$A$2:$B$50,2,0)),\"Другое\")","v":""}]
[null,null,null,null,null,null,null,null,null,null,null,null,null,{"$f":"IFERROR(IF(A1981=\"\",\"\",VLOOKUP(J1981,'Соответствия статей'!$A$2:$B$50,2,0)),\"Другое\")","v":""}]
[null,null,null,null,null,null,null,null,null,null,null,null,null,{"$f":"IFERROR(IF(A1982=\"\",\"\",VLOOKUP(J1982,'Соответствия статей'!$A$2:$B$50,2,0)),\"Другое\")","v":""}]
[null,null,null,null,null,null,null,null,null,null,null,null,null,{"$f":"IFERROR(IF(A1983=\"\",\"\",VLOOKUP(J1983,'Соответствия статей'!$A$2:$B$50,2,0)),\"Другое\")","v":""}]
[null,null,null,null,null,null,null,null,null,null,null,null,null,{"$f":"IFERROR(IF(A1984=\"\",\"\",VLOOKUP(J1984,'Соответствия статей'!$A$2:$B$50,2,0)),\"Другое\")","v":""}]
[null,null,null,null,null,null,null,null,null,null,null,null,null,{"$f":"IFERROR(IF(A1985=\"\",\"\",VLOOKUP(J1985,'Соответствия статей'!$A$2:$B$50,2,0)),\"Другое\")","v":""}]
[null,null,null,null,null,null,null,null,null,null,null,null,null,{"$f":"IFERROR(IF(A1986=\"\",\"\",VLOOKUP(J1986,'Соответствия статей'!$A$2:$B$50,2,0)),\"Другое\")","v":""}]
[null,null,null,null,null,null,null,null,null,null,null,null,null,{"$f":"IFERROR(IF(A1987=\"\",\"\",VLOOKUP(J1987,'Соответствия статей'!$A$2:$B$50,2,0)),\"Другое\")","v":""}]
[null,null,null,null,null,null,null,null,null,null,null,null,null,{"$f":"IFERROR(IF(A1988=\"\",\"\",VLOOKUP(J1988,'Соответствия статей'!$A$2:$B$50,2,0)),\"Другое\")","v":""}]
[null,null,null,null,null,null,null,null,null,null,null,null,null,{"$f":"IFERROR(IF(A1989=\"\",\"\",VLOOKUP(J1989,'Соответствия статей'!$A$2:$B$50,2,0)),\"Другое\")","v":""}]
[null,null,null,null,null,null,null,null,null,null,null,null,null,{"$f":"IFERROR(IF(A1990=\"\",\"\",VLOOKUP(J1990,'Соответствия статей'!$A$2:$B$50,2,0)),\"Другое\")","v":""}]
[null,null,null,null,null,null,null,null,null,null,null,null,null,{"$f":"IFERROR(IF(A1991=\"\",\"\",VLOOKUP(J1991,'Соответствия статей'!$A$2:$B$50,2,0)),\"Другое\")","v":""}]
[null,null,null,null,null,null,null,null,null,null,null,null,null,{"$f":"IFERROR(IF(A1992=\"\",\"\",VLOOKUP(J1992,'Соответствия статей'!$A$2:$B$50,2,0)),\"Другое\")","v":""}]
[null,null,null,null,null,null,null,null,null,null,null,null,null,{"$f":"IFERROR(IF(A1993=\"\",\"\",VLOOKUP(J1993,'Соответствия статей'!$A$2:$B$50,2,0)),\"Другое\")","v":""}]
[null,null,null,null,null,null,null,null,null,null,null,null,null,{"$f":"IFERROR(IF(A1994=\"\",\"\",VLOOKUP(J1994,'Соответствия статей'!$A$2:$B$50,2,0)),\"Другое\")","v":""}]
[null,null,null,null,null,null,null,null,null,null,null,null,null,{"$f":"IFERROR(IF(A1995=\"\",\"\",VLOOKUP(J1995,'Соответствия статей'!$A$2:$B$50,2,0)),\"Другое\")","v":""}]
[null,null,null,null,null,null,null,null,null,null,null,null,null,{"$f":"IFERROR(IF(A1996=\"\",\"\",VLOOKUP(J1996,'Соответствия статей'!$A$2:$B$50,2,0)),\"Другое\")","v":""}]
[null,null,null,null,null,null,null,null,null,null,null,null,null,{"$f":"IFERROR(IF(A1997=\"\",\"\",VLOOKUP(J1997,'Соответствия статей'!$A$2:$B$50,2,0)),\"Другое\")","v":""}]
[null,null,null,null,null,null,null,null,null,null,null,null,null,{"$f":"IFERROR(IF(A1998=\"\",\"\",VLOOKUP(J1998,'Соответствия статей'!$A$2:$B$50,2,0)),\"Другое\")","v":""}]
[null,null,null,null,null,null,null,null,null,null,null,null,null,{"$f":"IFERROR(IF(A1999=\"\",\"\",VLOOKUP(J1999,'Соответствия статей'!$A$2:$B$50,2,0)),\"Другое\")","v":""}]
[null,null,null,null,null,null,null,null,null,null,null,null,null,{"$f":"IFERROR(IF(A2000=\"\",\"\",VLOOKUP(J2000,'Соответствия статей'!$A$2:$B$50,2,0)),\"Другое\")","v":""}]
[null,null,null,null,null,null,null,null,null,null,null,null,null,{"$f":"IFERROR(IF(A2004=\"\",\"\",VLOOKUP(J2004,'Соответствия статей'!$A$2:$B$50,2,0)),\"Другое\")","v":""}]
[null,null,null,null,null,null,null,null,null,null,null,null,null,{"$f":"IFERROR(IF(A2011=\"\",\"\",VLOOKUP(J2011,'Соответствия статей'!$A$2:$B$50,2,0)),\"Другое\")","v":""}]
[null,null,null,null,null,null,null,null,null,null,null,null,null,{"$f":"IFERROR(IF(A2014=\"\",\"\",VLOOKUP(J2014,'Соответствия статей'!$A$2:$B$50,2,0)),\"Другое\")","v":""}]
[null,null,null,null,null,null,null,null,null,null,null,null,null,{"$f":"IFERROR(IF(A2020=\"\",\"\",VLOOKUP(J2020,'Соответствия статей'!$A$2:$B$50,2,0)),\"Другое\")","v":""}]
[null,null,null,null,null,null,null,null,null,null,null,null,null,{"$f":"IFERROR(IF(A2031=\"\",\"\",VLOOKUP(J2031,'Соответствия статей'!$A$2:$B$50,2,0)),\"Другое\")","v":""}]
[null,null,null,null,null,null,null,null,null,null,null,null,null,{"$f":"IFERROR(IF(A2034=\"\",\"\",VLOOKUP(J2034,'Соответствия статей'!$A$2:$B$50,2,0)),\"Другое\")","v":""}]
[null,null,null,null,null,null,null,null,null,null,null,null,null,{"$f":"IFERROR(IF(A2041=\"\",\"\",VLOOKUP(J2041,'Соответствия статей'!$A$2:$B$50,2,0)),\"Другое\")","v":""}]
[null,null,null,null,null,null,null,null,null,null,null,null,null,{"$f":"IFERROR(IF(A2046=\"\",\"\",VLOOKUP(J2046,'Соответствия статей'!$A$2:$B$50,2,0)),\"Другое\")","v":""}]
[null,null,null,null,null,null,null,null,null,null,null,null,null,{"$f":"IFERROR(IF(A2052=\"\",\"\",VLOOKUP(J2052,'Соответствия статей'!$A$2:$B$50,2,0)),\"Другое\")","v":""}]
[null,null,null,null,null,null,null,null,null,null,null,null,null,{"$f":"IFERROR(IF(A2061=\"\",\"\",VLOOKUP(J2061,'Соответствия статей'!$A$2:$B$50,2,0)),\"Другое\")","v":""}]
[null,null,null,null,null,null,null,null,null,null,null,null,null,{"$f":"IFERROR(IF(A2064=\"\",\"\",VLOOKUP(J2064,'Соответствия статей'!$A$2:$B$50,2,0)),\"Другое\")","v":""}]
[null,null,null,null,null,null,null,null,null,null,null,null,null,{"$f":"IFERROR(IF(A2069=\"\",\"\",VLOOKUP(J2069,'Соответствия статей'!$A$2:$B$50,2,0)),\"Другое\")","v":""}]
[null,null,null,null,null,null,null,null,null,null,null,null,null,{"$f":"IFERROR(IF(A2081=\"\",\"\",VLOOKUP(J2081,'Соответствия статей'!$A$2:$B$50,2,0)),\"Другое\")","v":""}]
[null,null,null,null,null,null,null,null,null,null,null,null,null,{"$f":"IFERROR(IF(A2084=\"\",\"\",VLOOKUP(J2084,'Соответствия статей'!$A$2:$B$50,2,0)),\"Другое\")","v":""}]
[null,null,null,null,null,null,null,null,null,null,null,null,null,{"$f":"IFERROR(IF(A2091=\"\",\"\",VLOOKUP(J2091,'Соответствия статей'!$A$2:$B$50,2,0)),\"Другое\")","v":""}]
[null,null,null,null,null,null,null,null,null,null,null,null,null,{"$f":"IFERROR(IF(A2095=\"\",\"\",VLOOKUP(J2095,'Соответствия статей'!$A$2:$B$50,2,0)),\"Другое\")","v":""}]
[null,null,null,null,null,null,null,null,null,null,null,null,null,{"$f":"IFERROR(IF(A2102=\"\",\"\",VLOOKUP(J2102,'Соответствия статей'!$A$2:$B$50,2,0)),\"Другое\")","v":""}]
[null,null,null,null,null,null,null,null,null,null,null,null,null,{"$f":"IFERROR(IF(A2111=\"\",\"\",VLOOKUP(J2111,'Соответствия статей'!$A$2:$B$50,2,0)),\"Другое\")","v":""}]
[null,null,null,null,null,null,null,null,null,null,null,null,null,{"$f":"IFERROR(IF(A2114=\"\",\"\",VLOOKUP(J2114,'Соответствия статей'!$A$2:$B$50,2,0)),\"Другое\")","v":""}]
[null,null,null,null,null,null,null,null,null,null,null,null,null,{"$f":"IFERROR(IF(A2125=\"\",\"\",VLOOKUP(J2125,'Соответствия статей'!$A$2:$B$50,2,0)),\"Другое\")","v":""}]
[null,null,null,null,null,null,null,null,null,null,null,null,null,{"$f":"IFERROR(IF(A2131=\"\",\"\",VLOOKUP(J2131,'Соответствия статей'!$A$2:$B$50,2,0)),\"Другое\")","v":""}]
[null,null,null,null,null,null,null,null,null,null,null,null,null,{"$f":"IFERROR(IF(A2132=\"\",\"\",VLOOKUP(J2132,'Соответствия статей'!$A$2:$B$50,2,0)),\"Другое\")","v":""}]
[null,null,null,null,null,null,null,null,null,null,null,null,null,{"$f":"IFERROR(IF(A2141=\"\",\"\",VLOOKUP(J2141,'Соответствия статей'!$A$2:$B$50,2,0)),\"Другое\")","v":""}]
[null,null,null,null,null,null,null,null,null,null,null,null,null,{"$f":"IFERROR(IF(A2144=\"\",\"\",VLOOKUP(J2144,'Соответствия статей'!$A$2:$B$50,2,0)),\"Другое\")","v":""}]
[null,null,null,null,null,null,null,null,null,null,null,null,null,{"$f":"IFERROR(IF(A2152=\"\",\"\",VLOOKUP(J2152,'Соответствия статей'!$A$2:$B$50,2,0)),\"Другое\")","v":""}]
[null,null,null,null,null,null,null,null,null,null,null,null,null,{"$f":"IFERROR(IF(A2161=\"\",\"\",VLOOKUP(J2161,'Соответствия статей'!$A$2:$B$50,2,0)),\"Другое\")","v":""}]
[null,null,null,null,null,null,null,null,null,null,null,null,null,{"$f":"IFERROR(IF(A2164=\"\",\"\",VLOOKUP(J2164,'Соответствия статей'!$A$2:$B$50,2,0)),\"Другое\")","v":""}]
[null,null,null,null,null,null,null,null,null,null,null,null,null,{"$f":"IFERROR(IF(A2174=\"\",\"\",VLOOKUP(J2174,'Соответствия статей'!$A$2:$B$50,2,0)),\"Другое\")","v":""}]
[null,null,null,null,null,null,null,null,null,null,null,null,null,{"$f":"IFERROR(IF(A2181=\"\",\"\",VLOOKUP(J2181,'Соответствия статей'!$A$2:$B$50,2,0)),\"Другое\")","v":""}]
[null,null,null,null,null,null,null,null,null,null,null,null,null,{"$f":"IFERROR(IF(A2182=\"\",\"\",VLOOKUP(J2182,'Соответствия статей'!$A$2:$B$50,2,0)),\"Другое\")","v":""}]
[null,null,null,null,null,null,null,null,null,null,null,null,null,{"$f":"IFERROR(IF(A2191=\"\",\"\",VLOOKUP(J2191,'Соответствия статей'!$A$2:$B$50,2,0)),\"Другое\")","v":""}]
[null,null,null,null,null,null,null,null,null,null,null,null,null,{"$f":"IFERROR(IF(A2200=\"\",\"\",VLOOKUP(J2200,'Соответствия статей'!$A$2:$B$50,2,0)),\"Другое\")","v":""}]
[null,null,null,null,null,null,null,null,null,null,null,null,null,{"$f":"IFERROR(IF(A2202=\"\",\"\",VLOOKUP(J2202,'Соответствия статей'!$A$2:$B$50,2,0)),\"Другое\")","v":""}]
[null,null,null,null,null,null,null,null,null,null,null,null,null,{"$f":"IFERROR(IF(A2211=\"\",\"\",VLOOKUP(J2211,'Соответствия статей'!$A$2:$B$50,2,0)),\"Другое\")","v":""}]
[null,null,null,null,null,null,null,null,null,null,null,null,null,{"$f":"IFERROR(IF(A2214=\"\",\"\",VLOOKUP(J2214,'Соответствия статей'!$A$2:$B$50,2,0)),\"Другое\")","v":""}]
[null,null,null,null,null,null,null,null,null,null,null,null,null,{"$f":"IFERROR(IF(A2223=\"\",\"\",VLOOKUP(J2223,'Соответствия статей'!$A$2:$B$50,2,0)),\"Другое\")","v":""}]
[null,null,null,null,null,null,null,null,null,null,null,null,null,{"$f":"IFERROR(IF(A2231=\"\",\"\",VLOOKUP(J2231,'Соответствия статей'!$A$2:$B$50,2,0)),\"Другое\")","v":""}]
[null,null,null,null,null,null,null,null,null,null,null,null,null,{"$f":"IFERROR(IF(A2232=\"\",\"\",VLOOKUP(J2232,'Соответствия статей'!$A$2:$B$50,2,0)),\"Другое\")","v":""}]
[null,null,null,null,null,null,null,null,null,null,null,null,null,{"$f":"IFERROR(IF(A2241=\"\",\"\",VLOOKUP(J2241,'Соответствия статей'!$A$2:$B$50,2,0)),\"Другое\")","v":""}]
[null,null,null,null,null,null,null,null,null,null,null,null,null,{"$f":"IFERROR(IF(A2249=\"\",\"\",VLOOKUP(J2249,'Соответствия статей'!$A$2:$B$50,2,0)),\"Другое\")","v":""}]
[null,null,null,null,null,null,null,null,null,null,null,null,null,{"$f":"IFERROR(IF(A2252=\"\",\"\",VLOOKUP(J2252,'Соответствия статей'!$A$2:$B$50,2,0)),\"Другое\")","v":""}]
[null,null,null,null,null,null,null,null,null,null,null,null,null,{"$f":"IFERROR(IF(A2261=\"\",\"\",VLOOKUP(J2261,'Соответствия статей'!$A$2:$B$50,2,0)),\"Другое\")","v":""}]
[null,null,null,null,null,null,null,null,null,null,null,null,null,{"$f":"IFERROR(IF(A2268=\"\",\"\",VLOOKUP(J2268,'Соответствия статей'!$A$2:$B$50,2,0)),\"Другое\")","v":""}]
[null,null,null,null,null,null,null,null,null,null,null,null,null,{"$f":"IFERROR(IF(A2272=\"\",\"\",VLOOKUP(J2272,'Соответствия статей'!$A$2:$B$50,2,0)),\"Другое\")","v":""}]
[null,null,null,null,null,null,null,null,null,null,null,null,null,{"$f":"IFERROR(IF(A2281=\"\",\"\",VLOOKUP(J2281,'Соответствия статей'!$A$2:$B$50,2,0)),\"Другое\")","v":""}]
[null,null,null,null,null,null,null,null,null,null,null,null,null,{"$f":"IFERROR(IF(A2282=\"\",\"\",VLOOKUP(J2282,'Соответствия статей'!$A$2:$B$50,2,0)),\"Другое\")","v":""}]
[null,null,null,null,null,null,null,null,null,null,null,null,null,{"$f":"IFERROR(IF(A2291=\"\",\"\",VLOOKUP(J2291,'Соответствия статей'!$A$2:$B$50,2,0)),\"Другое\")","v":""}]
[null,null,null,null,null,null,null,null,null,null,null,null,null,{"$f":"IFERROR(IF(A2298=\"\",\"\",VLOOKUP(J2298,'Соответствия статей'!$A$2:$B$50,2,0)),\"Другое\")","v":""}]
[null,null,null,null,null,null,null,null,null,null,null,null,null,{"$f":"IFERROR(IF(A2302=\"\",\"\",VLOOKUP(J2302,'Соответствия статей'!$A$2:$B$50,2,0)),\"Другое\")","v":""}]
[null,null,null,null,null,null,null,null,null,null,null,null,null,{"$f":"IFERROR(IF(A2311=\"\",\"\",VLOOKUP(J2311,'Соответствия статей'!$A$2:$B$50,2,0)),\"Другое\")","v":""}]
[null,null,null,null,null,null,null,null,null,null,null,null,null,{"$f":"IFERROR(IF(A2318=\"\",\"\",VLOOKUP(J2318,'Соответствия статей'!$A$2:$B$50,2,0)),\"Другое\")","v":""}]
[null,null,null,null,null,null,null,null,null,null,null,null,null,{"$f":"IFERROR(IF(A2321=\"\",\"\",VLOOKUP(J2321,'Соответствия статей'!$A$2:$B$50,2,0)),\"Другое\")","v":""}]
[null,null,null,null,null,null,null,null,null,null,null,null,null,{"$f":"IFERROR(IF(A2331=\"\",\"\",VLOOKUP(J2331,'Соответствия статей'!$A$2:$B$50,2,0)),\"Другое\")","v":""}]
[null,null,null,null,null,null,null,null,null,null,null,null,null,{"$f":"IFERROR(IF(A2332=\"\",\"\",VLOOKUP(J2332,'Соответствия статей'!$A$2:$B$50,2,0)),\"Другое\")","v":""}]
[null,null,null,null,null,null,null,null,null,null,null,null,null,{"$f":"IFERROR(IF(A2341=\"\",\"\",VLOOKUP(J2341,'Соответствия статей'!$A$2:$B$50,2,0)),\"Другое\")","v":""}]
[null,null,null,null,null,null,null,null,null,null,null,null,null,{"$f":"IFERROR(IF(A2344=\"\",\"\",VLOOKUP(J2344,'Соответствия статей'!$A$2:$B$50,2,0)),\"Другое\")","v":""}]
[null,null,null,null,null,null,null,null,null,null,null,null,null,{"$f":"IFERROR(IF(A2352=\"\",\"\",VLOOKUP(J2352,'Соответствия статей'!$A$2:$B$50,2,0)),\"Другое\")","v":""}]
[null,null,null,null,null,null,null,null,null,null,null,null,null,{"$f":"IFERROR(IF(A2361=\"\",\"\",VLOOKUP(J2361,'Соответствия статей'!$A$2:$B$50,2,0)),\"Другое\")","v":""}]
[null,null,null,null,null,null,null,null,null,null,null,null,null,{"$f":"IFERROR(IF(A2368=\"\",\"\",VLOOKUP(J2368,'Соответствия статей'!$A$2:$B$50,2,0)),\"Другое\")","v":""}]
[null,null,null,null,null,null,null,null,null,null,null,null,null,{"$f":"IFERROR(IF(A2370=\"\",\"\",VLOOKUP(J2370,'Соответствия статей'!$A$2:$B$50,2,0)),\"Другое\")","v":""}]
[null,null,null,null,null,null,null,null,null,null,null,null,null,{"$f":"IFERROR(IF(A2381=\"\",\"\",VLOOKUP(J2381,'Соответствия статей'!$A$2:$B$50,2,0)),\"Другое\")","v":""}]
[null,null,null,null,null,null,null,null,null,null,null,null,null,{"$f":"IFERROR(IF(A2382=\"\",\"\",VLOOKUP(J2382,'Соответствия статей'!$A$2:$B$50,2,0)),\"Другое\")","v":""}]
[null,null,null,null,null,null,null,null,null,null,null,null,null,{"$f":"IFERROR(IF(A2391=\"\",\"\",VLOOKUP(J2391,'Соответствия статей'!$A$2:$B$50,2,0)),\"Другое\")","v":""}]
[null,null,null,null,null,null,null,null,null,null,null,null,null,{"$f":"IFERROR(IF(A2400=\"\",\"\",VLOOKUP(J2400,'Соответствия статей'!$A$2:$B$50,2,0)),\"Другое\")","v":""}]
[null,null,null,null,null,null,null,null,null,null,null,null,null,{"$f":"IFERROR(IF(A2402=\"\",\"\",VLOOKUP(J2402,'Соответствия статей'!$A$2:$B$50,2,0)),\"Другое\")","v":""}]
[null,null,null,null,null,null,null,null,null,null,null,null,null,{"$f":"IFERROR(IF(A2411=\"\",\"\",VLOOKUP(J2411,'Соответствия статей'!$A$2:$B$50,2,0)),\"Другое\")","v":""}]
[null,null,null,null,null,null,null,null,null,null,null,null,null,{"$f":"IFERROR(IF(A2418=\"\",\"\",VLOOKUP(J2418,'Соответствия статей'!$A$2:$B$50,2,0)),\"Другое\")","v":""}]
[null,null,null,null,null,null,null,null,null,null,null,null,null,{"$f":"IFERROR(IF(A2419=\"\",\"\",VLOOKUP(J2419,'Соответствия статей'!$A$2:$B$50,2,0)),\"Другое\")","v":""}]
[null,null,null,null,null,null,null,null,null,null,null,null,null,{"$f":"IFERROR(IF(A2431=\"\",\"\",VLOOKUP(J2431,'Соответствия статей'!$A$2:$B$50,2,0)),\"Другое\")","v":""}]
[null,null,null,null,null,null,null,null,null,null,null,null,null,{"$f":"IFERROR(IF(A2432=\"\",\"\",VLOOKUP(J2432,'Соответствия статей'!$A$2:$B$50,2,0)),\"Другое\")","v":""}]
[null,null,null,null,null,null,null,null,null,null,null,null,null,{"$f":"IFERROR(IF(A2441=\"\",\"\",VLOOKUP(J2441,'Соответствия статей'!$A$2:$B$50,2,0)),\"Другое\")","v":""}]
[null,null,null,null,null,null,null,null,null,null,null,null,null,{"$f":"IFERROR(IF(A2449=\"\",\"\",VLOOKUP(J2449,'Соответствия статей'!$A$2:$B$50,2,0)),\"Другое\")","v":""}]
[null,null,null,null,null,null,null,null,null,null,null,null,null,{"$f":"IFERROR(IF(A2452=\"\",\"\",VLOOKUP(J2452,'Соответствия статей'!$A$2:$B$50,2,0)),\"Другое\")","v":""}]
[null,null,null,null,null,null,null,null,null,null,null,null,null,{"$f":"IFERROR(IF(A2461=\"\",\"\",VLOOKUP(J2461,'Соответствия статей'!$A$2:$B$50,2,0)),\"Другое\")","v":""}]
[null,null,null,null,null,null,null,null,null,null,null,null,null,{"$f":"IFERROR(IF(A2468=\"\",\"\",VLOOKUP(J2468,'Соответствия статей'!$A$2:$B$50,2,0)),\"Другое\")","v":""}]
[null,null,null,null,null,null,null,null,null,null,null,null,null,{"$f":"IFERROR(IF(A2475=\"\",\"\",VLOOKUP(J2475,'Соответствия статей'!$A$2:$B$50,2,0)),\"Другое\")","v":""}]
[null,null,null,null,null,null,null,null,null,null,null,null,null,{"$f":"IFERROR(IF(A2479=\"\",\"\",VLOOKUP(J2479,'Соответствия статей'!$A$2:$B$50,2,0)),\"Другое\")","v":""}]
[null,null,null,null,null,null,null,null,null,null,null,null,null,{"$f":"IFERROR(IF(A2482=\"\",\"\",VLOOKUP(J2482,'Соответствия статей'!$A$2:$B$50,2,0)),\"Другое\")","v":""}]
[null,null,null,null,null,null,null,null,null,null,null,null,null,{"$f":"IFERROR(IF(A2491=\"\",\"\",VLOOKUP(J2491,'Соответствия статей'!$A$2:$B$50,2,0)),\"Другое\")","v":""}]
[null,null,null,null,null,null,null,null,null,null,null,null,null,{"$f":"IFERROR(IF(A2498=\"\",\"\",VLOOKUP(J2498,'Соответствия статей'!$A$2:$B$50,2,0)),\"Другое\")","v":""}]
[null,null,null,null,null,null,null,null,null,null,null,null,null,{"$f":"IFERROR(IF(A2502=\"\",\"\",VLOOKUP(J2502,'Соответствия статей'!$A$2:$B$50,2,0)),\"Другое\")","v":""}]
[null,null,null,null,null,null,null,null,null,null,null,null,null,{"$f":"IFERROR(IF(A2511=\"\",\"\",VLOOKUP(J2511,'Соответствия статей'!$A$2:$B$50,2,0)),\"Другое\")","v":""}]
[null,null,null,null,null,null,null,null,null,null,null,null,null,{"$f":"IFERROR(IF(A2518=\"\",\"\",VLOOKUP(J2518,'Соответствия статей'!$A$2:$B$50,2,0)),\"Другое\")","v":""}]
[null,null,null,null,null,null,null,null,null,null,null,null,null,{"$f":"IFERROR(IF(A2524=\"\",\"\",VLOOKUP(J2524,'Соответствия статей'!$A$2:$B$50,2,0)),\"Другое\")","v":""}]
[null,null,null,null,null,null,null,null,null,null,null,null,null,{"$f":"IFERROR(IF(A2529=\"\",\"\",VLOOKUP(J2529,'Соответствия статей'!$A$2:$B$50,2,0)),\"Другое\")","v":""}]
[null,null,null,null,null,null,null,null,null,null,null,null,null,{"$f":"IFERROR(IF(A2532=\"\",\"\",VLOOKUP(J2532,'Соответствия статей'!$A$2:$B$50,2,0)),\"Другое\")","v":""}]
[null,null,null,null,null,null,null,null,null,null,null,null,null,{"$f":"IFERROR(IF(A2541=\"\",\"\",VLOOKUP(J2541,'Соответствия статей'!$A$2:$B$50,2,0)),\"Другое\")","v":""}]
[null,null,null,null,null,null,null,null,null,null,null,null,null,{"$f":"IFERROR(IF(A2547=\"\",\"\",VLOOKUP(J2547,'Соответствия статей'!$A$2:$B$50,2,0)),\"Другое\")","v":""}]
[null,null,null,null,null,null,null,null,null,null,null,null,null,{"$f":"IFERROR(IF(A2552=\"\",\"\",VLOOKUP(J2552,'Соответствия статей'!$A$2:$B$50,2,0)),\"Другое\")","v":""}]
[null,null,null,null,null,null,null,null,null,null,null,null,null,{"$f":"IFERROR(IF(A2561=\"\",\"\",VLOOKUP(J2561,'Соответствия статей'!$A$2:$B$50,2,0)),\"Другое\")","v":""}]
[null,null,null,null,null,null,null,null,null,null,null,null,null,{"$f":"IFERROR(IF(A2568=\"\",\"\",VLOOKUP(J2568,'Соответствия статей'!$A$2:$B$50,2,0)),\"Другое\")","v":""}]
[null,null,null,null,null,null,null,null,null,null,null,null,null,{"$f":"IFERROR(IF(A2573=\"\",\"\",VLOOKUP(J2573,'Соответствия статей'!$A$2:$B$50,2,0)),\"Другое\")","v":""}]
[null,null,null,null,null,null,null,null,null,null,null,null,null,{"$f":"IFERROR(IF(A2579=\"\",\"\",VLOOKUP(J2579,'Соответствия статей'!$A$2:$B$50,2,0)),\"Другое\")","v":""}]
[null,null,null,null,null,null,null,null,null,null,null,null,null,{"$f":"IFERROR(IF(A2582=\"\",\"\",VLOOKUP(J2582,'Соответствия статей'!$A$2:$B$50,2,0)),\"Другое\")","v":""}]
[null,null,null,null,null,null,null,null,null,null,null,null,null,{"$f":"IFERROR(IF(A2591=\"\",\"\",VLOOKUP(J2591,'Соответствия статей'!$A$2:$B$50,2,0)),\"Другое\")","v":""}]
[null,null,null,null,null,null,null,null,null,null,null,null,null,{"$f":"IFERROR(IF(A2596=\"\",\"\",VLOOKUP(J2596,'Соответствия статей'!$A$2:$B$50,2,0)),\"Другое\")","v":""}]
[null,null,null,null,null,null,null,null,null,null,null,null,null,{"$f":"IFERROR(IF(A2602=\"\",\"\",VLOOKUP(J2602,'Соответствия статей'!$A$2:$B$50,2,0)),\"Другое\")","v":""}]
[null,null,null,null,null,null,null,null,null,null,null,null,null,{"$f":"IFERROR(IF(A2609=\"\",\"\",VLOOKUP(J2609,'Соответствия статей'!$A$2:$B$50,2,0)),\"Другое\")","v":""}]
[null,null,null,null,null,null,null,null,null,null,null,null,null,{"$f":"IFERROR(IF(A2618=\"\",\"\",VLOOKUP(J2618,'Соответствия статей'!$A$2:$B$50,2,0)),\"Другое\")","v":""}]
[null,null,null,null,null,null,null,null,null,null,null,null,null,{"$f":"IFERROR(IF(A2622=\"\",\"\",VLOOKUP(J2622,'Соответствия статей'!$A$2:$B$50,2,0)),\"Другое\")","v":""}]
[null,null,null,null,null,null,null,null,null,null,null,null,null,{"$f":"IFERROR(IF(A2629=\"\",\"\",VLOOKUP(J2629,'Соответствия статей'!$A$2:$B$50,2,0)),\"Другое\")","v":""}]
[null,null,null,null,null,null,null,null,null,null,null,null,null,{"$f":"IFERROR(IF(A2632=\"\",\"\",VLOOKUP(J2632,'Соответствия статей'!$A$2:$B$50,2,0)),\"Другое\")","v":""}]
[null,null,null,null,null,null,null,null,null,null,null,null,null,{"$f":"IFERROR(IF(A2641=\"\",\"\",VLOOKUP(J2641,'Соответствия статей'!$A$2:$B$50,2,0)),\"Другое\")","v":""}]
[null,null,null,null,null,null,null,null,null,null,null,null,null,{"$f":"IFERROR(IF(A2645=\"\",\"\",VLOOKUP(J2645,'Соответствия статей'!$A$2:$B$50,2,0)),\"Другое\")","v":""}]
[null,null,null,null,null,null,null,null,null,null,null,null,null,{"$f":"IFERROR(IF(A2652=\"\",\"\",VLOOKUP(J2652,'Соответствия статей'!$A$2:$B$50,2,0)),\"Другое\")","v":""}]
[null,null,null,null,null,null,null,null,null,null,null,null,null,{"$f":"IFERROR(IF(A2659=\"\",\"\",VLOOKUP(J2659,'Соответствия статей'!$A$2:$B$50,2,0)),\"Другое\")","v":""}]
[null,null,null,null,null,null,null,null,null,null,null,null,null,{"$f":"IFERROR(IF(A2668=\"\",\"\",VLOOKUP(J2668,'Соответствия статей'!$A$2:$B$50,2,0)),\"Другое\")","v":""}]
[null,null,null,null,null,null,null,null,null,null,null,null,null,{"$f":"IFERROR(IF(A2671=\"\",\"\",VLOOKUP(J2671,'Соответствия статей'!$A$2:$B$50,2,0)),\"Другое\")","v":""}]
[null,null,null,null,null,null,null,null,null,null,null,null,null,{"$f":"IFERROR(IF(A2679=\"\",\"\",VLOOKUP(J2679,'Соответствия статей'!$A$2:$B$50,2,0)),\"Другое\")","v":""}]
[null,null,null,null,null,null,null,null,null,null,null,null,null,{"$f":"IFERROR(IF(A2682=\"\",\"\",VLOOKUP(J2682,'Соответствия статей'!$A$2:$B$50,2,0)),\"Другое\")","v":""}]
[null,null,null,null,null,null,null,null,null,null,null,null,null,{"$f":"IFERROR(IF(A2689=\"\",\"\",VLOOKUP(J2689,'Соответствия статей'!$A$2:$B$50,2,0)),\"Другое\")","v":""}]
[null,null,null,null,null,null,null,null,null,null,null,null,null,{"$f":"IFERROR(IF(A2694=\"\",\"\",VLOOKUP(J2694,'Соответствия статей'!$A$2:$B$50,2,0)),\"Другое\")","v":""}]
[null,null,null,null,null,null,null,null,null,null,null,null,null,{"$f":"IFERROR(IF(A2702=\"\",\"\",VLOOKUP(J2702,'Соответствия статей'!$A$2:$B$50,2,0)),\"Другое\")","v":""}]
[null,null,null,null,null,null,null,null,null,null,null,null,null,{"$f":"IFERROR(IF(A2709=\"\",\"\",VLOOKUP(J2709,'Соответствия статей'!$A$2:$B$50,2,0)),\"Другое\")","v":""}]
[null,null,null,null,null,null,null,null,null,null,null,null,null,{"$f":"IFERROR(IF(A2718=\"\",\"\",VLOOKUP(J2718,'Соответствия статей'!$A$2:$B$50,2,0)),\"Другое\")","v":""}]
[null,null,null,null,null,null,null,null,null,null,null,null,null,{"$f":"IFERROR(IF(A2720=\"\",\"\",VLOOKUP(J2720,'Соответствия статей'!$A$2:$B$50,2,0)),\"Другое\")","v":""}]
[null,null,null,null,null,null,null,null,null,null,null,null,null,{"$f":"IFERROR(IF(A2729=\"\",\"\",VLOOKUP(J2729,'Соответствия статей'!$A$2:$B$50,2,0)),\"Другое\")","v":""}]
[null,null,null,null,null,null,null,null,null,null,null,null,null,{"$f":"IFERROR(IF(A2732=\"\",\"\",VLOOKUP(J2732,'Соответствия статей'!$A$2:$B$50,2,0)),\"Другое\")","v":""}]
[null,null,null,null,null,null,null,null,null,null,null,null,null,{"$f":"IFERROR(IF(A2739=\"\",\"\",VLOOKUP(J2739,'Соответствия статей'!$A$2:$B$50,2,0)),\"Другое\")","v":""}]
[null,null,null,null,null,null,null,null,null,null,null,null,null,{"$f":"IFERROR(IF(A2750=\"\",\"\",VLOOKUP(J2750,'Соответствия статей'!$A$2:$B$50,2,0)),\"Другое\")","v":""}]
[null,null,null,null,null,null,null,null,null,null,null,null,null,{"$f":"IFERROR(IF(A2752=\"\",\"\",VLOOKUP(J2752,'Соответствия статей'!$A$2:$B$50,2,0)),\"Другое\")","v":""}]
[null,null,null,null,null,null,null,null,null,null,null,null,null,{"$f":"IFERROR(IF(A2759=\"\",\"\",VLOOKUP(J2759,'Соответствия статей'!$A$2:$B$50,2,0)),\"Другое\")","v":""}]
[null,null,null,null,null,null,null,null,null,null,null,null,null,{"$f":"IFERROR(IF(A2768=\"\",\"\",VLOOKUP(J2768,'Соответствия статей'!$A$2:$B$50,2,0)),\"Другое\")","v":""}]
[null,null,null,null,null,null,null,null,null,null,null,null,null,{"$f":"IFERROR(IF(A2769=\"\",\"\",VLOOKUP(J2769,'Соответствия статей'!$A$2:$B$50,2,0)),\"Другое\")","v":""}]
[null,null,null,null,null,null,null,null,null,null,null,null,null,{"$f":"IFERROR(IF(A2779=\"\",\"\",VLOOKUP(J2779,'Соответствия статей'!$A$2:$B$50,2,0)),\"Другое\")","v":""}]
[null,null,null,null,null,null,null,null,null,null,null,null,null,{"$f":"IFERROR(IF(A2782=\"\",\"\",VLOOKUP(J2782,'Соответствия статей'!$A$2:$B$50,2,0)),\"Другое\")","v":""}]
[null,null,null,null,null,null,null,null,null,null,null,null,null,{"$f":"IFERROR(IF(A2789=\"\",\"\",VLOOKUP(J2789,'Соответствия статей'!$A$2:$B$50,2,0)),\"Другое\")","v":""}]
[null,null,null,null,null,null,null,null,null,null,null,null,null,{"$f":"IFERROR(IF(A2799=\"\",\"\",VLOOKUP(J2799,'Соответствия статей'!$A$2:$B$50,2,0)),\"Другое\")","v":""}]
[null,null,null,null,null,null,null,null,null,null,null,null,null,{"$f":"IFERROR(IF(A2802=\"\",\"\",VLOOKUP(J2802,'Соответствия статей'!$A$2:$B$50,2,0)),\"Другое\")","v":""}]
[null,null,null,null,null,null,null,null,null,null,null,null,null,{"$f":"IFERROR(IF(A2809=\"\",\"\",VLOOKUP(J2809,'Соответствия статей'!$A$2:$B$50,2,0)),\"Другое\")","v":""}]
[null,null,null,null,null,null,null,null,null,null,null,null,null,{"$f":"IFERROR(IF(A2818=\"\",\"\",VLOOKUP(J2818,'Соответствия статей'!$A$2:$B$50,2,0)),\"Другое\")","v":""}]
[null,null,null,null,null,null,null,null,null,null,null,null,null,{"$f":"IFERROR(IF(A2822=\"\",\"\",VLOOKUP(J2822,'Соответствия статей'!$A$2:$B$50,2,0)),\"Другое\")","v":""}]
[null,null,null,null,null,null,null,null,null,null,null,null,null,{"$f":"IFERROR(IF(A2829=\"\",\"\",VLOOKUP(J2829,'Соответствия статей'!$A$2:$B$50,2,0)),\"Другое\")","v":""}]
[null,null,null,null,null,null,null,null,null,null,null,null,null,{"$f":"IFERROR(IF(A2832=\"\",\"\",VLOOKUP(J2832,'Соответствия статей'!$A$2:$B$50,2,0)),\"Другое\")","v":""}]
[null,null,null,null,null,null,null,null,null,null,null,null,null,{"$f":"IFERROR(IF(A2839=\"\",\"\",VLOOKUP(J2839,'Соответствия статей'!$A$2:$B$50,2,0)),\"Другое\")","v":""}]
[null,null,null,null,null,null,null,null,null,null,null,null,null,{"$f":"IFERROR(IF(A2848=\"\",\"\",VLOOKUP(J2848,'Соответствия статей'!$A$2:$B$50,2,0)),\"Другое\")","v":""}]
[null,null,null,null,null,null,null,null,null,null,null,null,null,{"$f":"IFERROR(IF(A2852=\"\",\"\",VLOOKUP(J2852,'Соответствия статей'!$A$2:$B$50,2,0)),\"Другое\")","v":""}]
[null,null,null,null,null,null,null,null,null,null,null,null,null,{"$f":"IFERROR(IF(A2859=\"\",\"\",VLOOKUP(J2859,'Соответствия статей'!$A$2:$B$50,2,0)),\"Другое\")","v":""}]
[null,null,null,null,null,null,null,null,null,null,null,null,null,{"$f":"IFERROR(IF(A2868=\"\",\"\",VLOOKUP(J2868,'Соответствия статей'!$A$2:$B$50,2,0)),\"Другое\")","v":""}]
[null,null,null,null,null,null,null,null,null,null,null,null,null,{"$f":"IFERROR(IF(A2871=\"\",\"\",VLOOKUP(J2871,'Соответствия статей'!$A$2:$B$50,2,0)),\"Другое\")","v":""}]
[null,null,null,null,null,null,null,null,null,null,null,null,null,{"$f":"IFERROR(IF(A2879=\"\",\"\",VLOOKUP(J2879,'Соответствия статей'!$A$2:$B$50,2,0)),\"Другое\")","v":""}]
[null,null,null,null,null,null,null,null,null,null,null,null,null,{"$f":"IFERROR(IF(A2882=\"\",\"\",VLOOKUP(J2882,'Соответствия статей'!$A$2:$B$50,2,0)),\"Другое\")","v":""}]
[null,null,null,null,null,null,null,null,null,null,null,null,null,{"$f":"IFERROR(IF(A2889=\"\",\"\",VLOOKUP(J2889,'Соответствия статей'!$A$2:$B$50,2,0)),\"Другое\")","v":""}]
[null,null,null,null,null,null,null,null,null,null,null,null,null,{"$f":"IFERROR(IF(A2897=\"\",\"\",VLOOKUP(J2897,'Соответствия статей'!$A$2:$B$50,2,0)),\"Другое\")","v":""}]
[null,null,null,null,null,null,null,null,null,null,null,null,null,{"$f":"IFERROR(IF(A2906=\"\",\"\",VLOOKUP(J2906,'Соответствия статей'!$A$2:$B$50,2,0)),\"Другое\")","v":""}]
[null,null,null,null,null,null,null,null,null,null,null,null,null,{"$f":"IFERROR(IF(A2909=\"\",\"\",VLOOKUP(J2909,'Соответствия статей'!$A$2:$B$50,2,0)),\"Другое\")","v":""}]
[null,null,null,null,null,null,null,null,null,null,null,null,null,{"$f":"IFERROR(IF(A2918=\"\",\"\",VLOOKUP(J2918,'Соответствия статей'!$A$2:$B$50,2,0)),\"Другое\")","v":""}]
[null,null,null,null,null,null,null,null,null,null,null,null,null,{"$f":"IFERROR(IF(A2920=\"\",\"\",VLOOKUP(J2920,'Соответствия статей'!$A$2:$B$50,2,0)),\"Другое\")","v":""}]
[null,null,null,null,null,null,null,null,null,null,null,null,null,{"$f":"IFERROR(IF(A2929=\"\",\"\",VLOOKUP(J2929,'Соответствия статей'!$A$2:$B$50,2,0)),\"Другое\")","v":""}]
[null,null,null,null,null,null,null,null,null,null,null,null,null,{"$f":"IFERROR(IF(A2932=\"\",\"\",VLOOKUP(J2932,'Соответствия статей'!$A$2:$B$50,2,0)),\"Другое\")","v":""}]
[null,null,null,null,null,null,null,null,null,null,null,null,null,{"$f":"IFERROR(IF(A2939=\"\",\"\",VLOOKUP(J2939,'Соответствия статей'!$A$2:$B$50,2,0)),\"Другое\")","v":""}]
[null,null,null,null,null,null,null,null,null,null,null,null,null,{"$f":"IFERROR(IF(A2946=\"\",\"\",VLOOKUP(J2946,'Соответствия статей'!$A$2:$B$50,2,0)),\"Другое\")","v":""}]
[null,null,null,null,null,null,null,null,null,null,null,null,null,{"$f":"IFERROR(IF(A2956=\"\",\"\",VLOOKUP(J2956,'Соответствия статей'!$A$2:$B$50,2,0)),\"Другое\")","v":""}]
[null,null,null,null,null,null,null,null,null,null,null,null,null,{"$f":"IFERROR(IF(A2959=\"\",\"\",VLOOKUP(J2959,'Соответствия статей'!$A$2:$B$50,2,0)),\"Другое\")","v":""}]
[null,null,null,null,null,null,null,null,null,null,null,null,null,{"$f":"IFERROR(IF(A2968=\"\",\"\",VLOOKUP(J2968,'Соответствия статей'!$A$2:$B$50,2,0)),\"Другое\")","v":""}]
[null,null,null,null,null,null,null,null,null,null,null,null,null,{"$f":"IFERROR(IF(A2969=\"\",\"\",VLOOKUP(J2969,'Соответствия статей'!$A$2:$B$50,2,0)),\"Другое\")","v":""}]
[null,null,null,null,null,null,null,null,null,null,null,null,null,{"$f":"IFERROR(IF(A2979=\"\",\"\",VLOOKUP(J2979,'Соответствия статей'!$A$2:$B$50,2,0)),\"Другое\")","v":""}]
[null,null,null,null,null,null,null,null,null,null,null,null,null,{"$f":"IFERROR(IF(A2982=\"\",\"\",VLOOKUP(J2982,'Соответствия статей'!$A$2:$B$50,2,0)),\"Другое\")","v":""}]
[null,null,null,null,null,null,null,null,null,null,null,null,null,{"$f":"IFERROR(IF(A2989=\"\",\"\",VLOOKUP(J2989,'Соответствия статей'!$A$2:$B$50,2,0)),\"Другое\")","v":""}]
[null,null,null,null,null,null,null,null,null,null,null,null,null,{"$f":"IFERROR(IF(A2995=\"\",\"\",VLOOKUP(J2995,'Соответствия статей'!$A$2:$B$50,2,0)),\"Другое\")","v":""}]
[null,null,null,null,null,null,null,null,null,null,null,null,null,{"$f":"IFERROR(IF(A3006=\"\",\"\",VLOOKUP(J3006,'Соответствия статей'!$A$2:$B$50,2,0)),\"Другое\")","v":""}]
[null,null,null,null,null,null,null,null,null,null,null,null,null,{"$f":"IFERROR(IF(A3009=\"\",\"\",VLOOKUP(J3009,'Соответствия статей'!$A$2:$B$50,2,0)),\"Другое\")","v":""}]
[null,null,null,null,null,null,null,null,null,null,null,null,null,{"$f":"IFERROR(IF(A3018=\"\",\"\",VLOOKUP(J3018,'Соответствия статей'!$A$2:$B$50,2,0)),\"Другое\")","v":""}]
[null,null,null,null,null,null,null,null,null,null,null,null,null,{"$f":"IFERROR(IF(A3025=\"\",\"\",VLOOKUP(J3025,'Соответствия статей'!$A$2:$B$50,2,0)),\"Другое\")","v":""}]
[null,null,null,null,null,null,null,null,null,null,null,null,null,{"$f":"IFERROR(IF(A3029=\"\",\"\",VLOOKUP(J3029,'Соответствия статей'!$A$2:$B$50,2,0)),\"Другое\")","v":""}]
[null,null,null,null,null,null,null,null,null,null,null,null,null,{"$f":"IFERROR(IF(A3036=\"\",\"\",VLOOKUP(J3036,'Соответствия статей'!$A$2:$B$50,2,0)),\"Другое\")","v":""}]
[null,null,null,null,null,null,null,null,null,null,null,null,null,{"$f":"IFERROR(IF(A3039=\"\",\"\",VLOOKUP(J3039,'Соответствия статей'!$A$2:$B$50,2,0)),\"Другое\")","v":""}]
[null,null,null,null,null,null,null,null,null,null,null,null,null,{"$f":"IFERROR(IF(A3044=\"\",\"\",VLOOKUP(J3044,'Соответствия статей'!$A$2:$B$50,2,0)),\"Другое\")","v":""}]
[null,null,null,null,null,null,null,null,null,null,null,null,null,{"$f":"IFERROR(IF(A3056=\"\",\"\",VLOOKUP(J3056,'Соответствия статей'!$A$2:$B$50,2,0)),\"Другое\")","v":""}]
[null,null,null,null,null,null,null,null,null,null,null,null,null,{"$f":"IFERROR(IF(A3059=\"\",\"\",VLOOKUP(J3059,'Соответствия статей'!$A$2:$B$50,2,0)),\"Другое\")","v":""}]
[null,null,null,null,null,null,null,null,null,null,null,null,null,{"$f":"IFERROR(IF(A3068=\"\",\"\",VLOOKUP(J3068,'Соответствия статей'!$A$2:$B$50,2,0)),\"Другое\")","v":""}]
[null,null,null,null,null,null,null,null,null,null,null,null,null,{"$f":"IFERROR(IF(A3074=\"\",\"\",VLOOKUP(J3074,'Соответствия статей'!$A$2:$B$50,2,0)),\"Другое\")","v":""}]
[null,null,null,null,null,null,null,null,null,null,null,null,null,{"$f":"IFERROR(IF(A3079=\"\",\"\",VLOOKUP(J3079,'Соответствия статей'!$A$2:$B$50,2,0)),\"Другое\")","v":""}]
[null,null,null,null,null,null,null,null,null,null,null,null,null,{"$f":"IFERROR(IF(A3086=\"\",\"\",VLOOKUP(J3086,'Соответствия статей'!$A$2:$B$50,2,0)),\"Другое\")","v":""}]
[null,null,null,null,null,null,null,null,null,null,null,null,null,{"$f":"IFERROR(IF(A3089=\"\",\"\",VLOOKUP(J3089,'Соответствия статей'!$A$2:$B$50,2,0)),\"Другое\")","v":""}]
[null,null,null,null,null,null,null,null,null,null,null,null,null,{"$f":"IFERROR(IF(A3100=\"\",\"\",VLOOKUP(J3100,'Соответствия статей'!$A$2:$B$50,2,0)),\"Другое\")","v":""}]
[null,null,null,null,null,null,null,null,null,null,null,null,null,{"$f":"IFERROR(IF(A3106=\"\",\"\",VLOOKUP(J3106,'Соответствия статей'!$A$2:$B$50,2,0)),\"Другое\")","v":""}]
[null,null,null,null,null,null,null,null,null,null,null,null,null,{"$f":"IFERROR(IF(A3109=\"\",\"\",VLOOKUP(J3109,'Соответствия статей'!$A$2:$B$50,2,0)),\"Другое\")","v":""}]
[null,null,null,null,null,null,null,null,null,null,null,null,null,{"$f":"IFERROR(IF(A3118=\"\",\"\",VLOOKUP(J3118,'Соответствия статей'!$A$2:$B$50,2,0)),\"Другое\")","v":""}]
[null,null,null,null,null,null,null,null,null,null,null,null,null,{"$f":"IFERROR(IF(A3123=\"\",\"\",VLOOKUP(J3123,'Соответствия статей'!$A$2:$B$50,2,0)),\"Другое\")","v":""}]
[null,null,null,null,null,null,null,null,null,null,null,null,null,{"$f":"IFERROR(IF(A3129=\"\",\"\",VLOOKUP(J3129,'Соответствия статей'!$A$2:$B$50,2,0)),\"Другое\")","v":""}]
[null,null,null,null,null,null,null,null,null,null,null,null,null,{"$f":"IFERROR(IF(A3136=\"\",\"\",VLOOKUP(J3136,'Соответствия статей'!$A$2:$B$50,2,0)),\"Другое\")","v":""}]
[null,null,null,null,null,null,null,null,null,null,null,null,null,{"$f":"IFERROR(IF(A3139=\"\",\"\",VLOOKUP(J3139,'Соответствия статей'!$A$2:$B$50,2,0)),\"Другое\")","v":""}]
[null,null,null,null,null,null,null,null,null,null,null,null,null,{"$f":"IFERROR(IF(A3149=\"\",\"\",VLOOKUP(J3149,'Соответствия статей'!$A$2:$B$50,2,0)),\"Другое\")","v":""}]
[null,null,null,null,null,null,null,null,null,null,null,null,null,{"$f":"IFERROR(IF(A3156=\"\",\"\",VLOOKUP(J3156,'Соответствия статей'!$A$2:$B$50,2,0)),\"Другое\")","v":""}]
[null,null,null,null,null,null,null,null,null,null,null,null,null,{"$f":"IFERROR(IF(A3159=\"\",\"\",VLOOKUP(J3159,'Соответствия статей'!$A$2:$B$50,2,0)),\"Другое\")","v":""}]
[null,null,null,null,null,null,null,null,null,null,null,null,null,{"$f":"IFERROR(IF(A3166=\"\",\"\",VLOOKUP(J3166,'Соответствия статей'!$A$2:$B$50,2,0)),\"Другое\")","v":""}]
[null,null,null,null,null,null,null,null,null,null,null,null,null,{"$f":"IFERROR(IF(A3172=\"\",\"\",VLOOKUP(J3172,'Соответствия статей'!$A$2:$B$50,2,0)),\"Другое\")","v":""}]
[null,null,null,null,null,null,null,null,null,null,null,null,null,{"$f":"IFERROR(IF(A3179=\"\",\"\",VLOOKUP(J3179,'Соответствия статей'!$A$2:$B$50,2,0)),\"Другое\")","v":""}]
[null,null,null,null,null,null,null,null,null,null,null,null,null,{"$f":"IFERROR(IF(A3186=\"\",\"\",VLOOKUP(J3186,'Соответствия статей'!$A$2:$B$50,2,0)),\"Другое\")","v":""}]
[null,null,null,null,null,null,null,null,null,null,null,null,null,{"$f":"IFERROR(IF(A3189=\"\",\"\",VLOOKUP(J3189,'Соответствия статей'!$A$2:$B$50,2,0)),\"Другое\")","v":""}]
[null,null,null,null,null,null,null,null,null,null,null,null,null,{"$f":"IFERROR(IF(A3198=\"\",\"\",VLOOKUP(J3198,'Соответствия статей'!$A$2:$B$50,2,0)),\"Другое\")","v":""}]
[null,null,null,null,null,null,null,null,null,null,null,null,null,{"$f":"IFERROR(IF(A3206=\"\",\"\",VLOOKUP(J3206,'Соответствия статей'!$A$2:$B$50,2,0)),\"Другое\")","v":""}]
[null,null,null,null,null,null,null,null,null,null,null,null,null,{"$f":"IFERROR(IF(A3209=\"\",\"\",VLOOKUP(J3209,'Соответствия статей'!$A$2:$B$50,2,0)),\"Другое\")","v":""}]
[null,null,null,null,null,null,null,null,null,null,null,null,null,{"$f":"IFERROR(IF(A3216=\"\",\"\",VLOOKUP(J3216,'Соответствия статей'!$A$2:$B$50,2,0)),\"Другое\")","v":""}]
[null,null,null,null,null,null,null,null,null,null,null,null,null,{"$f":"IFERROR(IF(A3221=\"\",\"\",VLOOKUP(J3221,'Соответствия статей'!$A$2:$B$50,2,0)),\"Другое\")","v":""}]
[null,null,null,null,null,null,null,null,null,null,null,null,null,{"$f":"IFERROR(IF(A3229=\"\",\"\",VLOOKUP(J3229,'Соответствия статей'!$A$2:$B$50,2,0)),\"Другое\")","v":""}]
[null,null,null,null,null,null,null,null,null,null,null,null,null,{"$f":"IFERROR(IF(A3236=\"\",\"\",VLOOKUP(J3236,'Соответствия статей'!$A$2:$B$50,2,0)),\"Другое\")","v":""}]
[null,null,null,null,null,null,null,null,null,null,null,null,null,{"$f":"IFERROR(IF(A3239=\"\",\"\",VLOOKUP(J3239,'Соответствия статей'!$A$2:$B$50,2,0)),\"Другое\")","v":""}]
[null,null,null,null,null,null,null,null,null,null,null,null,null,{"$f":"IFERROR(IF(A3244=\"\",\"\",VLOOKUP(J3244,'Соответствия статей'!$A$2:$B$50,2,0)),\"Другое\")","v":""}]
[null,null,null,null,null,null,null,null,null,null,null,null,null,{"$f":"IFERROR(IF(A3256=\"\",\"\",VLOOKUP(J3256,'Соответствия статей'!$A$2:$B$50,2,0)),\"Другое\")","v":""}]
[null,null,null,null,null,null,null,null,null,null,null,null,null,{"$f":"IFERROR(IF(A3259=\"\",\"\",VLOOKUP(J3259,'Соответствия статей'!$A$2:$B$50,2,0)),\"Другое\")","v":""}]
[null,null,null,null,null,null,null,null,null,null,null,null,null,{"$f":"IFERROR(IF(A3266=\"\",\"\",VLOOKUP(J3266,'Соответствия статей'!$A$2:$B$50,2,0)),\"Другое\")","v":""}]
[null,null,null,null,null,null,null,null,null,null,null,null,null,{"$f":"IFERROR(IF(A3270=\"\",\"\",VLOOKUP(J3270,'Соответствия статей'!$A$2:$B$50,2,0)),\"Другое\")","v":""}]
[null,null,null,null,null,null,null,null,null,null,null,null,null,{"$f":"IFERROR(IF(A3279=\"\",\"\",VLOOKUP(J3279,'Соответствия статей'!$A$2:$B$50,2,0)),\"Другое\")","v":""}]
[null,null,null,null,null,null,null,null,null,null,null,null,null,{"$f":"IFERROR(IF(A3286=\"\",\"\",VLOOKUP(J3286,'Соответствия статей'!$A$2:$B$50,2,0)),\"Другое\")","v":""}]
[null,null,null,null,null,null,null,null,null,null,null,null,null,{"$f":"IFERROR(IF(A3289=\"\",\"\",VLOOKUP(J3289,'Соответствия статей'!$A$2:$B$50,2,0)),\"Другое\")","v":""}]
[null,null,null,null,null,null,null,null,null,null,null,null,null,{"$f":"IFERROR(IF(A3300=\"\",\"\",VLOOKUP(J3300,'Соответствия статей'!$A$2:$B$50,2,0)),\"Другое\")","v":""}]
[null,null,null,null,null,null,null,null,null,null,null,null,null,{"$f":"IFERROR(IF(A3306=\"\",\"\",VLOOKUP(J3306,'Соответствия статей'!$A$2:$B$50,2,0)),\"Другое\")","v":""}]
[null,null,null,null,null,null,null,null,null,null,null,null,null,{"$f":"IFERROR(IF(A3309=\"\",\"\",VLOOKUP(J3309,'Соответствия статей'!$A$2:$B$50,2,0)),\"Другое\")","v":""}]
[null,null,null,null,null,null,null,null,null,null,null,null,null,{"$f":"IFERROR(IF(A3316=\"\",\"\",VLOOKUP(J3316,'Соответствия статей'!$A$2:$B$50,2,0)),\"Другое\")","v":""}]
[null,null,null,null,null,null,null,null,null,null,null,null,null,{"$f":"IFERROR(IF(A3319=\"\",\"\",VLOOKUP(J3319,'Соответствия статей'!$A$2:$B$50,2,0)),\"Другое\")","v":""}]
[null,null,null,null,null,null,null,null,null,null,null,null,null,{"$f":"IFERROR(IF(A3329=\"\",\"\",VLOOKUP(J3329,'Соответствия статей'!$A$2:$B$50,2,0)),\"Другое\")","v":""}]
[null,null,null,null,null,null,null,null,null,null,null,null,null,{"$f":"IFERROR(IF(A3336=\"\",\"\",VLOOKUP(J3336,'Соответствия статей'!$A$2:$B$50,2,0)),\"Другое\")","v":""}]
[null,null,null,null,null,null,null,null,null,null,null,null,null,{"$f":"IFERROR(IF(A3339=\"\",\"\",VLOOKUP(J3339,'Соответствия статей'!$A$2:$B$50,2,0)),\"Другое\")","v":""}]
[null,null,null,null,null,null,null,null,null,null,null,null,null,{"$f":"IFERROR(IF(A3349=\"\",\"\",VLOOKUP(J3349,'Соответствия статей'!$A$2:$B$50,2,0)),\"Другое\")","v":""}]
[null,null,null,null,null,null,null,null,null,null,null,null,null,{"$f":"IFERROR(IF(A3356=\"\",\"\",VLOOKUP(J3356,'Соответствия статей'!$A$2:$B$50,2,0)),\"Другое\")","v":""}]
[null,null,null,null,null,null,null,null,null,null,null,null,null,{"$f":"IFERROR(IF(A3359=\"\",\"\",VLOOKUP(J3359,'Соответствия статей'!$A$2:$B$50,2,0)),\"Другое\")","v":""}]
[null,null,null,null,null,null,null,null,null,null,null,null,null,{"$f":"IFERROR(IF(A3366=\"\",\"\",VLOOKUP(J3366,'Соответствия статей'!$A$2:$B$50,2,0)),\"Другое\")","v":""}]
[null,null,null,null,null,null,null,null,null,null,null,null,null,{"$f":"IFERROR(IF(A3375=\"\",\"\",VLOOKUP(J3375,'Соответствия статей'!$A$2:$B$50,2,0)),\"Другое\")","v":""}]
[null,null,null,null,null,null,null,null,null,null,null,null,null,{"$f":"IFERROR(IF(A3377=\"\",\"\",VLOOKUP(J3377,'Соответствия статей'!$A$2:$B$50,2,0)),\"Другое\")","v":""}]
[null,null,null,null,null,null,null,null,null,null,null,null,null,{"$f":"IFERROR(IF(A3386=\"\",\"\",VLOOKUP(J3386,'Соответствия статей'!$A$2:$B$50,2,0)),\"Другое\")","v":""}]
[null,null,null,null,null,null,null,null,null,null,null,null,null,{"$f":"IFERROR(IF(A3389=\"\",\"\",VLOOKUP(J3389,'Соответствия статей'!$A$2:$B$50,2,0)),\"Другое\")","v":""}]
[null,null,null,null,null,null,null,null,null,null,null,null,null,{"$f":"IFERROR(IF(A3398=\"\",\"\",VLOOKUP(J3398,'Соответствия статей'!$A$2:$B$50,2,0)),\"Другое\")","v":""}]
[null,null,null,null,null,null,null,null,null,null,null,null,null,{"$f":"IFERROR(IF(A3406=\"\",\"\",VLOOKUP(J3406,'Соответствия статей'!$A$2:$B$50,2,0)),\"Другое\")","v":""}]
[null,null,null,null,null,null,null,null,null,null,null,null,null,{"$f":"IFERROR(IF(A3409=\"\",\"\",VLOOKUP(J3409,'Соответствия статей'!$A$2:$B$50,2,0)),\"Другое\")","v":""}]
[null,null,null,null,null,null,null,null,null,null,null,null,null,{"$f":"IFERROR(IF(A3416=\"\",\"\",VLOOKUP(J3416,'Соответствия статей'!$A$2:$B$50,2,0)),\"Другое\")","v":""}]
[null,null,null,null,null,null,null,null,null,null,null,null,null,{"$f":"IFERROR(IF(A3424=\"\",\"\",VLOOKUP(J3424,'Соответствия статей'!$A$2:$B$50,2,0)),\"Другое\")","v":""}]
[null,null,null,null,null,null,null,null,null,null,null,null,null,{"$f":"IFERROR(IF(A3427=\"\",\"\",VLOOKUP(J3427,'Соответствия статей'!$A$2:$B$50,2,0)),\"Другое\")","v":""}]
[null,null,null,null,null,null,null,null,null,null,null,null,null,{"$f":"IFERROR(IF(A3436=\"\",\"\",VLOOKUP(J3436,'Соответствия статей'!$A$2:$B$50,2,0)),\"Другое\")","v":""}]
[null,null,null,null,null,null,null,null,null,null,null,null,null,{"$f":"IFERROR(IF(A3439=\"\",\"\",VLOOKUP(J3439,'Соответствия статей'!$A$2:$B$50,2,0)),\"Другое\")","v":""}]
[null,null,null,null,null,null,null,null,null,null,null,null,null,{"$f":"IFERROR(IF(A3447=\"\",\"\",VLOOKUP(J3447,'Соответствия статей'!$A$2:$B$50,2,0)),\"Другое\")","v":""}]
[null,null,null,null,null,null,null,null,null,null,null,null,null,{"$f":"IFERROR(IF(A3456=\"\",\"\",VLOOKUP(J3456,'Соответствия статей'!$A$2:$B$50,2,0)),\"Другое\")","v":""}]
[null,null,null,null,null,null,null,null,null,null,null,null,null,{"$f":"IFERROR(IF(A3459=\"\",\"\",VLOOKUP(J3459,'Соответствия статей'!$A$2:$B$50,2,0)),\"Другое\")","v":""}]
[null,null,null,null,null,null,null,null,null,null,null,null,null,{"$f":"IFERROR(IF(A3466=\"\",\"\",VLOOKUP(J3466,'Соответствия статей'!$A$2:$B$50,2,0)),\"Другое\")","v":""}]
[null,null,null,null,null,null,null,null,null,null,null,null,null,{"$f":"IFERROR(IF(A3473=\"\",\"\",VLOOKUP(J3473,'Соответствия статей'!$A$2:$B$50,2,0)),\"Другое\")","v":""}]
[null,null,null,null,null,null,null,null,null,null,null,null,null,{"$f":"IFERROR(IF(A3477=\"\",\"\",VLOOKUP(J3477,'Соответствия статей'!$A$2:$B$50,2,0)),\"Другое\")","v":""}]
[null,null,null,null,null,null,null,null,null,null,null,null,null,{"$f":"IFERROR(IF(A3486=\"\",\"\",VLOOKUP(J3486,'Соответствия статей'!$A$2:$B$50,2,0)),\"Другое\")","v":""}]
[null,null,null,null,null,null,null,null,null,null,null,null,null,{"$f":"IFERROR(IF(A3489=\"\",\"\",VLOOKUP(J3489,'Соответствия статей'!$A$2:$B$50,2,0)),\"Другое\")","v":""}]
[null,null,null,null,null,null,null,null,null,null,null,null,null,{"$f":"IFERROR(IF(A3496=\"\",\"\",VLOOKUP(J3496,'Соответствия статей'!$A$2:$B$50,2,0)),\"Другое\")","v":""}]
[null,null,null,null,null,null,null,null,null,null,null,null,null,{"$f":"IFERROR(IF(A3506=\"\",\"\",VLOOKUP(J3506,'Соответствия статей'!$A$2:$B$50,2,0)),\"Другое\")","v":""}]
[null,null,null,null,null,null,null,null,null,null,null,null,null,{"$f":"IFERROR(IF(A3507=\"\",\"\",VLOOKUP(J3507,'Соответствия статей'!$A$2:$B$50,2,0)),\"Другое\")","v":""}]
[null,null,null,null,null,null,null,null,null,null,null,null,null,{"$f":"IFERROR(IF(A3516=\"\",\"\",VLOOKUP(J3516,'Соответствия статей'!$A$2:$B$50,2,0)),\"Другое\")","v":""}]
[null,null,null,null,null,null,null,null,null,null,null,null,null,{"$f":"IFERROR(IF(A3522=\"\",\"\",VLOOKUP(J3522,'Соответствия статей'!$A$2:$B$50,2,0)),\"Другое\")","v":""}]
[null,null,null,null,null,null,null,null,null,null,null,null,null,{"$f":"IFERROR(IF(A3527=\"\",\"\",VLOOKUP(J3527,'Соответствия статей'!$A$2:$B$50,2,0)),\"Другое\")","v":""}]
[null,null,null,null,null,null,null,null,null,null,null,null,null,{"$f":"IFERROR(IF(A3536=\"\",\"\",VLOOKUP(J3536,'Соответствия статей'!$A$2:$B$50,2,0)),\"Другое\")","v":""}]
[null,null,null,null,null,null,null,null,null,null,null,null,null,{"$f":"IFERROR(IF(A3539=\"\",\"\",VLOOKUP(J3539,'Соответствия статей'!$A$2:$B$50,2,0)),\"Другое\")","v":""}]
[null,null,null,null,null,null,null,null,null,null,null,null,null,{"$f":"IFERROR(IF(A3545=\"\",\"\",VLOOKUP(J3545,'Соответствия статей'!$A$2:$B$50,2,0)),\"Другое\")","v":""}]
[null,null,null,null,null,null,null,null,null,null,null,null,null,{"$f":"IFERROR(IF(A3556=\"\",\"\",VLOOKUP(J3556,'Соответствия статей'!$A$2:$B$50,2,0)),\"Другое\")","v":""}]
[null,null,null,null,null,null,null,null,null,null,null,null,null,{"$f":"IFERROR(IF(A3557=\"\",\"\",VLOOKUP(J3557,'Соответствия статей'!$A$2:$B$50,2,0)),\"Другое\")","v":""}]
[null,null,null,null,null,null,null,null,null,null,null,null,null,{"$f":"IFERROR(IF(A3566=\"\",\"\",VLOOKUP(J3566,'Соответствия статей'!$A$2:$B$50,2,0)),\"Другое\")","v":""}]
[null,null,null,null,null,null,null,null,null,null,null,null,null,{"$f":"IFERROR(IF(A3571=\"\",\"\",VLOOKUP(J3571,'Соответствия статей'!$A$2:$B$50,2,0)),\"Другое\")","v":""}]
[null,null,null,null,null,null,null,null,null,null,null,null,null,{"$f":"IFERROR(IF(A3577=\"\",\"\",VLOOKUP(J3577,'Соответствия статей'!$A$2:$B$50,2,0)),\"Другое\")","v":""}]
[null,null,null,null,null,null,null,null,null,null,null,null,null,{"$f":"IFERROR(IF(A3586=\"\",\"\",VLOOKUP(J3586,'Соответствия статей'!$A$2:$B$50,2,0)),\"Другое\")","v":""}]
[null,null,null,null,null,null,null,null,null,null,null,null,null,{"$f":"IFERROR(IF(A3593=\"\",\"\",VLOOKUP(J3593,'Соответствия статей'!$A$2:$B$50,2,0)),\"Другое\")","v":""}]
[null,null,null,null,null,null,null,null,null,null,null,null,null,{"$f":"IFERROR(IF(A3594=\"\",\"\",VLOOKUP(J3594,'Соответствия статей'!$A$2:$B$50,2,0)),\"Другое\")","v":""}]
[null,null,null,null,null,null,null,null,null,null,null,null,null,{"$f":"IFERROR(IF(A3606=\"\",\"\",VLOOKUP(J3606,'Соответствия статей'!$A$2:$B$50,2,0)),\"Другое\")","v":""}]
[null,null,null,null,null,null,null,null,null,null,null,null,null,{"$f":"IFERROR(IF(A3607=\"\",\"\",VLOOKUP(J3607,'Соответствия статей'!$A$2:$B$50,2,0)),\"Другое\")","v":""}]
[null,null,null,null,null,null,null,null,null,null,null,null,null,{"$f":"IFERROR(IF(A3616=\"\",\"\",VLOOKUP(J3616,'Соответствия статей'!$A$2:$B$50,2,0)),\"Другое\")","v":""}]
[null,null,null,null,null,null,null,null,null,null,null,null,null,{"$f":"IFERROR(IF(A3620=\"\",\"\",VLOOKUP(J3620,'Соответствия статей'!$A$2:$B$50,2,0)),\"Другое\")","v":""}]
[null,null,null,null,null,null,null,null,null,null,null,null,null,{"$f":"IFERROR(IF(A3627=\"\",\"\",VLOOKUP(J3627,'Соответствия статей'!$A$2:$B$50,2,0)),\"Другое\")","v":""}]
[null,null,null,null,null,null,null,null,null,null,null,null,null,{"$f":"IFERROR(IF(A3636=\"\",\"\",VLOOKUP(J3636,'Соответствия статей'!$A$2:$B$50,2,0)),\"Другое\")","v":""}]
[null,null,null,null,null,null,null,null,null,null,null,null,null,{"$f":"IFERROR(IF(A3643=\"\",\"\",VLOOKUP(J3643,'Соответствия статей'!$A$2:$B$50,2,0)),\"Другое\")","v":""}]
[null,null,null,null,null,null,null,null,null,null,null,null,null,{"$f":"IFERROR(IF(A3650=\"\",\"\",VLOOKUP(J3650,'Соответствия статей'!$A$2:$B$50,2,0)),\"Другое\")","v":""}]
[null,null,null,null,null,null,null,null,null,null,null,null,null,{"$f":"IFERROR(IF(A3656=\"\",\"\",VLOOKUP(J3656,'Соответствия статей'!$A$2:$B$50,2,0)),\"Другое\")","v":""}]
[null,null,null,null,null,null,null,null,null,null,null,null,null,{"$f":"IFERROR(IF(A3657=\"\",\"\",VLOOKUP(J3657,'Соответствия статей'!$A$2:$B$50,2,0)),\"Другое\")","v":""}]
[null,null,null,null,null,null,null,null,null,null,null,null,null,{"$f":"IFERROR(IF(A3666=\"\",\"\",VLOOKUP(J3666,'Соответствия статей'!$A$2:$B$50,2,0)),\"Другое\")","v":""}]
[null,null,null,null,null,null,null,null,null,null,null,null,null,{"$f":"IFERROR(IF(A3669=\"\",\"\",VLOOKUP(J3669,'Соответствия статей'!$A$2:$B$50,2,0)),\"Другое\")","v":""}]
[null,null,null,null,null,null,null,null,null,null,null,null,null,{"$f":"IFERROR(IF(A3677=\"\",\"\",VLOOKUP(J3677,'Соответствия статей'!$A$2:$B$50,2,0)),\"Другое\")","v":""}]
[null,null,null,null,null,null,null,null,null,null,null,null,null,{"$f":"IFERROR(IF(A3686=\"\",\"\",VLOOKUP(J3686,'Соответствия статей'!$A$2:$B$50,2,0)),\"Другое\")","v":""}]
[null,null,null,null,null,null,null,null,null,null,null,null,null,{"$f":"IFERROR(IF(A3693=\"\",\"\",VLOOKUP(J3693,'Соответствия статей'!$A$2:$B$50,2,0)),\"Другое\")","v":""}]
[null,null,null,null,null,null,null,null,null,null,null,null,null,{"$f":"IFERROR(IF(A3699=\"\",\"\",VLOOKUP(J3699,'Соответствия статей'!$A$2:$B$50,2,0)),\"Другое\")","v":""}]
[null,null,null,null,null,null,null,null,null,null,null,null,null,{"$f":"IFERROR(IF(A3706=\"\",\"\",VLOOKUP(J3706,'Соответствия статей'!$A$2:$B$50,2,0)),\"Другое\")","v":""}]
[null,null,null,null,null,null,null,null,null,null,null,null,null,{"$f":"IFERROR(IF(A3707=\"\",\"\",VLOOKUP(J3707,'Соответствия статей'!$A$2:$B$50,2,0)),\"Другое\")","v":""}]
[null,null,null,null,null,null,null,null,null,null,null,null,null,{"$f":"IFERROR(IF(A3716=\"\",\"\",VLOOKUP(J3716,'Соответствия статей'!$A$2:$B$50,2,0)),\"Другое\")","v":""}]
[null,null,null,null,null,null,null,null,null,null,null,null,null,{"$f":"IFERROR(IF(A3722=\"\",\"\",VLOOKUP(J3722,'Соответствия статей'!$A$2:$B$50,2,0)),\"Другое\")","v":""}]
[null,null,null,null,null,null,null,null,null,null,null,null,null,{"$f":"IFERROR(IF(A3727=\"\",\"\",VLOOKUP(J3727,'Соответствия статей'!$A$2:$B$50,2,0)),\"Другое\")","v":""}]
[null,null,null,null,null,null,null,null,null,null,null,null,null,{"$f":"IFERROR(IF(A3736=\"\",\"\",VLOOKUP(J3736,'Соответствия статей'!$A$2:$B$50,2,0)),\"Другое\")","v":""}]
[null,null,null,null,null,null,null,null,null,null,null,null,null,{"$f":"IFERROR(IF(A3743=\"\",\"\",VLOOKUP(J3743,'Соответствия статей'!$A$2:$B$50,2,0)),\"Другое\")","v":""}]
[null,null,null,null,null,null,null,null,null,null,null,null,null,{"$f":"IFERROR(IF(A3748=\"\",\"\",VLOOKUP(J3748,'Соответствия статей'!$A$2:$B$50,2,0)),\"Другое\")","v":""}]
[null,null,null,null,null,null,null,null,null,null,null,null,null,{"$f":"IFERROR(IF(A3756=\"\",\"\",VLOOKUP(J3756,'Соответствия статей'!$A$2:$B$50,2,0)),\"Другое\")","v":""}]
[null,null,null,null,null,null,null,null,null,null,null,null,null,{"$f":"IFERROR(IF(A3757=\"\",\"\",VLOOKUP(J3757,'Соответствия статей'!$A$2:$B$50,2,0)),\"Другое\")","v":""}]
[null,null,null,null,null,null,null,null,null,null,null,null,null,{"$f":"IFERROR(IF(A3766=\"\",\"\",VLOOKUP(J3766,'Соответствия статей'!$A$2:$B$50,2,0)),\"Другое\")","v":""}]
[null,null,null,null,null,null,null,null,null,null,null,null,null,{"$f":"IFERROR(IF(A3771=\"\",\"\",VLOOKUP(J3771,'Соответствия статей'!$A$2:$B$50,2,0)),\"Другое\")","v":""}]
[null,null,null,null,null,null,null,null,null,null,null,null,null,{"$f":"IFERROR(IF(A3777=\"\",\"\",VLOOKUP(J3777,'Соответствия статей'!$A$2:$B$50,2,0)),\"Другое\")","v":""}]
[null,null,null,null,null,null,null,null,null,null,null,null,null,{"$f":"IFERROR(IF(A3786=\"\",\"\",VLOOKUP(J3786,'Соответствия статей'!$A$2:$B$50,2,0)),\"Другое\")","v":""}]
[null,null,null,null,null,null,null,null,null,null,null,null,null,{"$f":"IFERROR(IF(A3793=\"\",\"\",VLOOKUP(J3793,'Соответствия статей'!$A$2:$B$50,2,0)),\"Другое\")","v":""}]
[null,null,null,null,null,null,null,null,null,null,null,null,null,{"$f":"IFERROR(IF(A3797=\"\",\"\",VLOOKUP(J3797,'Соответствия статей'!$A$2:$B$50,2,0)),\"Другое\")","v":""}]
[null,null,null,null,null,null,null,null,null,null,null,null,null,{"$f":"IFERROR(IF(A3804=\"\",\"\",VLOOKUP(J3804,'Соответствия статей'!$A$2:$B$50,2,0)),\"Другое\")","v":""}]
[null,null,null,null,null,null,null,null,null,null,null,null,null,{"$f":"IFERROR(IF(A3807=\"\",\"\",VLOOKUP(J3807,'Соответствия статей'!$A$2:$B$50,2,0)),\"Другое\")","v":""}]
[null,null,null,null,null,null,null,null,null,null,null,null,null,{"$f":"IFERROR(IF(A3816=\"\",\"\",VLOOKUP(J3816,'Соответствия статей'!$A$2:$B$50,2,0)),\"Другое\")","v":""}]
[null,null,null,null,null,null,null,null,null,null,null,null,null,{"$f":"IFERROR(IF(A3820=\"\",\"\",VLOOKUP(J3820,'Соответствия статей'!$A$2:$B$50,2,0)),\"Другое\")","v":""}]
[null,null,null,null,null,null,null,null,null,null,null,null,null,{"$f":"IFERROR(IF(A3827=\"\",\"\",VLOOKUP(J3827,'Соответствия статей'!$A$2:$B$50,2,0)),\"Другое\")","v":""}]
[null,null,null,null,null,null,null,null,null,null,null,null,null,{"$f":"IFERROR(IF(A3836=\"\",\"\",VLOOKUP(J3836,'Соответствия статей'!$A$2:$B$50,2,0)),\"Другое\")","v":""}]
[null,null,null,null,null,null,null,null,null,null,null,null,null,{"$f":"IFERROR(IF(A3843=\"\",\"\",VLOOKUP(J3843,'Соответствия статей'!$A$2:$B$50,2,0)),\"Другое\")","v":""}]
[null,null,null,null,null,null,null,null,null,null,null,null,null,{"$f":"IFERROR(IF(A3846=\"\",\"\",VLOOKUP(J3846,'Соответствия статей'!$A$2:$B$50,2,0)),\"Другое\")","v":""}]
[null,null,null,null,null,null,null,null,null,null,null,null,null,{"$f":"IFERROR(IF(A3854=\"\",\"\",VLOOKUP(J3854,'Соответствия статей'!$A$2:$B$50,2,0)),\"Другое\")","v":""}]
[null,null,null,null,null,null,null,null,null,null,null,null,null,{"$f":"IFERROR(IF(A3857=\"\",\"\",VLOOKUP(J3857,'Соответствия статей'!$A$2:$B$50,2,0)),\"Другое\")","v":""}]
[null,null,null,null,null,null,null,null,null,null,null,null,null,{"$f":"IFERROR(IF(A3866=\"\",\"\",VLOOKUP(J3866,'Соответствия статей'!$A$2:$B$50,2,0)),\"Другое\")","v":""}]
[null,null,null,null,null,null,null,null,null,null,null,null,null,{"$f":"IFERROR(IF(A3869=\"\",\"\",VLOOKUP(J3869,'Соответствия статей'!$A$2:$B$50,2,0)),\"Другое\")","v":""}]
[null,null,null,null,null,null,null,null,null,null,null,null,null,{"$f":"IFERROR(IF(A3877=\"\",\"\",VLOOKUP(J3877,'Соответствия статей'!$A$2:$B$50,2,0)),\"Другое\")","v":""}]
[null,null,null,null,null,null,null,null,null,null,null,null,null,{"$f":"IFERROR(IF(A3886=\"\",\"\",VLOOKUP(J3886,'Соответствия статей'!$A$2:$B$50,2,0)),\"Другое\")","v":""}]
[null,null,null,null,null,null,null,null,null,null,null,null,null,{"$f":"IFERROR(IF(A3893=\"\",\"\",VLOOKUP(J3893,'Соответствия статей'!$A$2:$B$50,2,0)),\"Другое\")","v":""}]
[null,null,null,null,null,null,null,null,null,null,null,null,null,{"$f":"IFERROR(IF(A3895=\"\",\"\",VLOOKUP(J3895,'Соответствия статей'!$A$2:$B$50,2,0)),\"Другое\")","v":""}]
[null,null,null,null,null,null,null,null,null,null,null,null,null,{"$f":"IFERROR(IF(A3904=\"\",\"\",VLOOKUP(J3904,'Соответствия статей'!$A$2:$B$50,2,0)),\"Другое\")","v":""}]
[null,null,null,null,null,null,null,null,null,null,null,null,null,{"$f":"IFERROR(IF(A3907=\"\",\"\",VLOOKUP(J3907,'Соответствия статей'!$A$2:$B$50,2,0)),\"Другое\")","v":""}]
[null,null,null,null,null,null,null,null,null,null,null,null,null,{"$f":"IFERROR(IF(A3916=\"\",\"\",VLOOKUP(J3916,'Соответствия статей'!$A$2:$B$50,2,0)),\"Другое\")","v":""}]
[null,null,null,null,null,null,null,null,null,null,null,null,null,{"$f":"IFERROR(IF(A3925=\"\",\"\",VLOOKUP(J3925,'Соответствия статей'!$A$2:$B$50,2,0)),\"Другое\")","v":""}]
[null,null,null,null,null,null,null,null,null,null,null,null,null,{"$f":"IFERROR(IF(A3927=\"\",\"\",VLOOKUP(J3927,'Соответствия статей'!$A$2:$B$50,2,0)),\"Другое\")","v":""}]
[null,null,null,null,null,null,null,null,null,null,null,null,null,{"$f":"IFERROR(IF(A3934=\"\",\"\",VLOOKUP(J3934,'Соответствия статей'!$A$2:$B$50,2,0)),\"Другое\")","v":""}]
[null,null,null,null,null,null,null,null,null,null,null,null,null,{"$f":"IFERROR(IF(A3943=\"\",\"\",VLOOKUP(J3943,'Соответствия статей'!$A$2:$B$50,2,0)),\"Другое\")","v":""}]
[null,null,null,null,null,null,null,null,null,null,null,null,null,{"$f":"IFERROR(IF(A3944=\"\",\"\",VLOOKUP(J3944,'Соответствия статей'!$A$2:$B$50,2,0)),\"Другое\")","v":""}]
[null,null,null,null,null,null,null,null,null,null,null,null,null,{"$f":"IFERROR(IF(A3954=\"\",\"\",VLOOKUP(J3954,'Соответствия статей'!$A$2:$B$50,2,0)),\"Другое\")","v":""}]
[null,null,null,null,null,null,null,null,null,null,null,null,null,{"$f":"IFERROR(IF(A3957=\"\",\"\",VLOOKUP(J3957,'Соответствия статей'!$A$2:$B$50,2,0)),\"Другое\")","v":""}]
[null,null,null,null,null,null,null,null,null,null,null,null,null,{"$f":"IFERROR(IF(A3966=\"\",\"\",VLOOKUP(J3966,'Соответствия статей'!$A$2:$B$50,2,0)),\"Другое\")","v":""}]
[null,null,null,null,null,null,null,null,null,null,null,null,null,{"$f":"IFERROR(IF(A3974=\"\",\"\",VLOOKUP(J3974,'Соответствия статей'!$A$2:$B$50,2,0)),\"Другое\")","v":""}]
[null,null,null,null,null,null,null,null,null,null,null,null,null,{"$f":"IFERROR(IF(A3977=\"\",\"\",VLOOKUP(J3977,'Соответствия статей'!$A$2:$B$50,2,0)),\"Другое\")","v":""}]
[null,null,null,null,null,null,null,null,null,null,null,null,null,{"$f":"IFERROR(IF(A3984=\"\",\"\",VLOOKUP(J3984,'Соответствия статей'!$A$2:$B$50,2,0)),\"Другое\")","v":""}]
[null,null,null,null,null,null,null,null,null,null,null,null,null,{"$f":"IFERROR(IF(A3993=\"\",\"\",VLOOKUP(J3993,'Соответствия статей'!$A$2:$B$50,2,0)),\"Другое\")","v":""}]
[null,null,null,null,null,null,null,null,null,null,null,null,null,{"$f":"IFERROR(IF(A4000=\"\",\"\",VLOOKUP(J4000,'Соответствия статей'!$A$2:$B$50,2,0)),\"Другое\")","v":""}]
[null,null,null,null,null,null,null,null,null,null,null,null,null,{"$f":"IFERROR(IF(A4004=\"\",\"\",VLOOKUP(J4004,'Соответствия статей'!$A$2:$B$50,2,0)),\"Другое\")","v":""}]
[null,null,null,null,null,null,null,null,null,null,null,null,null,{"$f":"IFERROR(IF(A4007=\"\",\"\",VLOOKUP(J4007,'Соответствия статей'!$A$2:$B$50,2,0)),\"Другое\")","v":""}]
[null,null,null,null,null,null,null,null,null,null,null,null,null,{"$f":"IFERROR(IF(A4016=\"\",\"\",VLOOKUP(J4016,'Соответствия статей'!$A$2:$B$50,2,0)),\"Другое\")","v":""}]
[null,null,null,null,null,null,null,null,null,null,null,null,null,{"$f":"IFERROR(IF(A4023=\"\",\"\",VLOOKUP(J4023,'Соответствия статей'!$A$2:$B$50,2,0)),\"Другое\")","v":""}]
[null,null,null,null,null,null,null,null,null,null,null,null,null,{"$f":"IFERROR(IF(A4027=\"\",\"\",VLOOKUP(J4027,'Соответствия статей'!$A$2:$B$50,2,0)),\"Другое\")","v":""}]
[null,null,null,null,null,null,null,null,null,null,null,null,null,{"$f":"IFERROR(IF(A4034=\"\",\"\",VLOOKUP(J4034,'Соответствия статей'!$A$2:$B$50,2,0)),\"Другое\")","v":""}]
[null,null,null,null,null,null,null,null,null,null,null,null,null,{"$f":"IFERROR(IF(A4043=\"\",\"\",VLOOKUP(J4043,'Соответствия статей'!$A$2:$B$50,2,0)),\"Другое\")","v":""}]
[null,null,null,null,null,null,null,null,null,null,null,null,null,{"$f":"IFERROR(IF(A4049=\"\",\"\",VLOOKUP(J4049,'Соответствия статей'!$A$2:$B$50,2,0)),\"Другое\")","v":""}]
[null,null,null,null,null,null,null,null,null,null,null,null,null,{"$f":"IFERROR(IF(A4054=\"\",\"\",VLOOKUP(J4054,'Соответствия статей'!$A$2:$B$50,2,0)),\"Другое\")","v":""}]
[null,null,null,null,null,null,null,null,null,null,null,null,null,{"$f":"IFERROR(IF(A4057=\"\",\"\",VLOOKUP(J4057,'Соответствия статей'!$A$2:$B$50,2,0)),\"Другое\")","v":""}]
[null,null,null,null,null,null,null,null,null,null,null,null,null,{"$f":"IFERROR(IF(A4064=\"\",\"\",VLOOKUP(J4064,'Соответствия статей'!$A$2:$B$50,2,0)),\"Другое\")","v":""}]
[null,null,null,null,null,null,null,null,null,null,null,null,null,{"$f":"IFERROR(IF(A4072=\"\",\"\",VLOOKUP(J4072,'Соответствия статей'!$A$2:$B$50,2,0)),\"Другое\")","v":""}]
[null,null,null,null,null,null,null,null,null,null,null,null,null,{"$f":"IFERROR(IF(A4077=\"\",\"\",VLOOKUP(J4077,'Соответствия статей'!$A$2:$B$50,2,0)),\"Другое\")","v":""}]
[null,null,null,null,null,null,null,null,null,null,null,null,null,{"$f":"IFERROR(IF(A4084=\"\",\"\",VLOOKUP(J4084,'Соответствия статей'!$A$2:$B$50,2,0)),\"Другое\")","v":""}]
[null,null,null,null,null,null,null,null,null,null,null,null,null,{"$f":"IFERROR(IF(A4093=\"\",\"\",VLOOKUP(J4093,'Соответствия статей'!$A$2:$B$50,2,0)),\"Другое\")","v":""}]
[null,null,null,null,null,null,null,null,null,null,null,null,null,{"$f":"IFERROR(IF(A4098=\"\",\"\",VLOOKUP(J4098,'Соответствия статей'!$A$2:$B$50,2,0)),\"Другое\")","v":""}]
[null,null,null,null,null,null,null,null,null,null,null,null,null,{"$f":"IFERROR(IF(A4104=\"\",\"\",VLOOKUP(J4104,'Соответствия статей'!$A$2:$B$50,2,0)),\"Другое\")","v":""}]
[null,null,null,null,null,null,null,null,null,null,null,null,null,{"$f":"IFERROR(IF(A4107=\"\",\"\",VLOOKUP(J4107,'Соответствия статей'!$A$2:$B$50,2,0)),\"Другое\")","v":""}]
[null,null,null,null,null,null,null,null,null,null,null,null,null,{"$f":"IFERROR(IF(A4114=\"\",\"\",VLOOKUP(J4114,'Соответствия статей'!$A$2:$B$50,2,0)),\"Другое\")","v":""}]
[null,null,null,null,null,null,null,null,null,null,null,null,null,{"$f":"IFERROR(IF(A4121=\"\",\"\",VLOOKUP(J4121,'Соответствия статей'!$A$2:$B$50,2,0)),\"Другое\")","v":""}]
[null,null,null,null,null,null,null,null,null,null,null,null,null,{"$f":"IFERROR(IF(A4127=\"\",\"\",VLOOKUP(J4127,'Соответствия статей'!$A$2:$B$50,2,0)),\"Другое\")","v":""}]
[null,null,null,null,null,null,null,null,null,null,null,null,null,{"$f":"IFERROR(IF(A4134=\"\",\"\",VLOOKUP(J4134,'Соответствия статей'!$A$2:$B$50,2,0)),\"Другое\")","v":""}]
[null,null,null,null,null,null,null,null,null,null,null,null,null,{"$f":"IFERROR(IF(A4143=\"\",\"\",VLOOKUP(J4143,'Соответствия статей'!$A$2:$B$50,2,0)),\"Другое\")","v":""}]
[null,null,null,null,null,null,null,null,null,null,null,null,null,{"$f":"IFERROR(IF(A4144=\"\",\"\",VLOOKUP(J4144,'Соответствия статей'!$A$2:$B$50,2,0)),\"Другое\")","v":""}]
[null,null,null,null,null,null,null,null,null,null,null,null,null,{"$f":"IFERROR(IF(A4154=\"\",\"\",VLOOKUP(J4154,'Соответствия статей'!$A$2:$B$50,2,0)),\"Другое\")","v":""}]
[null,null,null,null,null,null,null,null,null,null,null,null,null,{"$f":"IFERROR(IF(A4157=\"\",\"\",VLOOKUP(J4157,'Соответствия статей'!$A$2:$B$50,2,0)),\"Другое\")","v":""}]
[null,null,null,null,null,null,null,null,null,null,null,null,null,{"$f":"IFERROR(IF(A4164=\"\",\"\",VLOOKUP(J4164,'Соответствия статей'!$A$2:$B$50,2,0)),\"Другое\")","v":""}]
[null,null,null,null,null,null,null,null,null,null,null,null,null,{"$f":"IFERROR(IF(A4170=\"\",\"\",VLOOKUP(J4170,'Соответствия статей'!$A$2:$B$50,2,0)),\"Другое\")","v":""}]
[null,null,null,null,null,null,null,null,null,null,null,null,null,{"$f":"IFERROR(IF(A4177=\"\",\"\",VLOOKUP(J4177,'Соответствия статей'!$A$2:$B$50,2,0)),\"Другое\")","v":""}]
[null,null,null,null,null,null,null,null,null,null,null,null,null,{"$f":"IFERROR(IF(A4184=\"\",\"\",VLOOKUP(J4184,'Соответствия статей'!$A$2:$B$50,2,0)),\"Другое\")","v":""}]
[null,null,null,null,null,null,null,null,null,null,null,null,null,{"$f":"IFERROR(IF(A4193=\"\",\"\",VLOOKUP(J4193,'Соответствия статей'!$A$2:$B$50,2,0)),\"Другое\")","v":""}]
[null,null,null,null,null,null,null,null,null,null,null,null,null,{"$f":"IFERROR(IF(A4200=\"\",\"\",VLOOKUP(J4200,'Соответствия статей'!$A$2:$B$50,2,0)),\"Другое\")","v":""}]
[null,null,null,null,null,null,null,null,null,null,null,null,null,{"$f":"IFERROR(IF(A4204=\"\",\"\",VLOOKUP(J4204,'Соответствия статей'!$A$2:$B$50,2,0)),\"Другое\")","v":""}]
[null,null,null,null,null,null,null,null,null,null,null,null,null,{"$f":"IFERROR(IF(A4207=\"\",\"\",VLOOKUP(J4207,'Соответствия статей'!$A$2:$B$50,2,0)),\"Другое\")","v":""}]
[null,null,null,null,null,null,null,null,null,null,null,null,null,{"$f":"IFERROR(IF(A4214=\"\",\"\",VLOOKUP(J4214,'Соответствия статей'!$A$2:$B$50,2,0)),\"Другое\")","v":""}]
[null,null,null,null,null,null,null,null,null,null,null,null,null,{"$f":"IFERROR(IF(A4219=\"\",\"\",VLOOKUP(J4219,'Соответствия статей'!$A$2:$B$50,2,0)),\"Другое\")","v":""}]
[null,null,null,null,null,null,null,null,null,null,null,null,null,{"$f":"IFERROR(IF(A4227=\"\",\"\",VLOOKUP(J4227,'Соответствия статей'!$A$2:$B$50,2,0)),\"Другое\")","v":""}]
[null,null,null,null,null,null,null,null,null,null,null,null,null,{"$f":"IFERROR(IF(A4234=\"\",\"\",VLOOKUP(J4234,'Соответствия статей'!$A$2:$B$50,2,0)),\"Другое\")","v":""}]
[null,null,null,null,null,null,null,null,null,null,null,null,null,{"$f":"IFERROR(IF(A4243=\"\",\"\",VLOOKUP(J4243,'Соответствия статей'!$A$2:$B$50,2,0)),\"Другое\")","v":""}]
[null,null,null,null,null,null,null,null,null,null,null,null,null,{"$f":"IFERROR(IF(A4249=\"\",\"\",VLOOKUP(J4249,'Соответствия статей'!$A$2:$B$50,2,0)),\"Другое\")","v":""}]
[null,null,null,null,null,null,null,null,null,null,null,null,null,{"$f":"IFERROR(IF(A4254=\"\",\"\",VLOOKUP(J4254,'Соответствия статей'!$A$2:$B$50,2,0)),\"Другое\")","v":""}]
[null,null,null,null,null,null,null,null,null,null,null,null,null,{"$f":"IFERROR(IF(A4257=\"\",\"\",VLOOKUP(J4257,'Соответствия статей'!$A$2:$B$50,2,0)),\"Другое\")","v":""}]
[null,null,null,null,null,null,null,null,null,null,null,null,null,{"$f":"IFERROR(IF(A4264=\"\",\"\",VLOOKUP(J4264,'Соответствия статей'!$A$2:$B$50,2,0)),\"Другое\")","v":""}]
[null,null,null,null,null,null,null,null,null,null,null,null,null,{"$f":"IFERROR(IF(A4275=\"\",\"\",VLOOKUP(J4275,'Соответствия статей'!$A$2:$B$50,2,0)),\"Другое\")","v":""}]
[null,null,null,null,null,null,null,null,null,null,null,null,null,{"$f":"IFERROR(IF(A4281=\"\",\"\",VLOOKUP(J4281,'Соответствия статей'!$A$2:$B$50,2,0)),\"Другое\")","v":""}]
[null,null,null,null,null,null,null,null,null,null,null,null,null,{"$f":"IFERROR(IF(A4284=\"\",\"\",VLOOKUP(J4284,'Соответствия статей'!$A$2:$B$50,2,0)),\"Другое\")","v":""}]
[null,null,null,null,null,null,null,null,null,null,null,null,null,{"$f":"IFERROR(IF(A4293=\"\",\"\",VLOOKUP(J4293,'Соответствия статей'!$A$2:$B$50,2,0)),\"Другое\")","v":""}]
[null,null,null,null,null,null,null,null,null,null,null,null,null,{"$f":"IFERROR(IF(A4298=\"\",\"\",VLOOKUP(J4298,'Соответствия статей'!$A$2:$B$50,2,0)),\"Другое\")","v":""}]
[null,null,null,null,null,null,null,null,null,null,null,null,null,{"$f":"IFERROR(IF(A4304=\"\",\"\",VLOOKUP(J4304,'Соответствия статей'!$A$2:$B$50,2,0)),\"Другое\")","v":""}]
[null,null,null,null,null,null,null,null,null,null,null,null,null,{"$f":"IFERROR(IF(A4307=\"\",\"\",VLOOKUP(J4307,'Соответствия статей'!$A$2:$B$50,2,0)),\"Другое\")","v":""}]
[null,null,null,null,null,null,null,null,null,null,null,null,null,{"$f":"IFERROR(IF(A4314=\"\",\"\",VLOOKUP(J4314,'Соответствия статей'!$A$2:$B$50,2,0)),\"Другое\")","v":""}]
[null,null,null,null,null,null,null,null,null,null,null,null,null,{"$f":"IFERROR(IF(A4324=\"\",\"\",VLOOKUP(J4324,'Соответствия статей'!$A$2:$B$50,2,0)),\"Другое\")","v":""}]
[null,null,null,null,null,null,null,null,null,null,null,null,null,{"$f":"IFERROR(IF(A4331=\"\",\"\",VLOOKUP(J4331,'Соответствия статей'!$A$2:$B$50,2,0)),\"Другое\")","v":""}]
[null,null,null,null,null,null,null,null,null,null,null,null,null,{"$f":"IFERROR(IF(A4334=\"\",\"\",VLOOKUP(J4334,'Соответствия статей'!$A$2:$B$50,2,0)),\"Другое\")","v":""}]
[null,null,null,null,null,null,null,null,null,null,null,null,null,{"$f":"IFERROR(IF(A4343=\"\",\"\",VLOOKUP(J4343,'Соответствия статей'!$A$2:$B$50,2,0)),\"Другое\")","v":""}]
[null,null,null,null,null,null,null,null,null,null,null,null,null,{"$f":"IFERROR(IF(A4347=\"\",\"\",VLOOKUP(J4347,'Соответствия статей'!$A$2:$B$50,2,0)),\"Другое\")","v":""}]
[null,null,null,null,null,null,null,null,null,null,null,null,null,{"$f":"IFERROR(IF(A4354=\"\",\"\",VLOOKUP(J4354,'Соответствия статей'!$A$2:$B$50,2,0)),\"Другое\")","v":""}]
[null,null,null,null,null,null,null,null,null,null,null,null,null,{"$f":"IFERROR(IF(A4361=\"\",\"\",VLOOKUP(J4361,'Соответствия статей'!$A$2:$B$50,2,0)),\"Другое\")","v":""}]
[null,null,null,null,null,null,null,null,null,null,null,null,null,{"$f":"IFERROR(IF(A4364=\"\",\"\",VLOOKUP(J4364,'Соответствия статей'!$A$2:$B$50,2,0)),\"Другое\")","v":""}]
[null,null,null,null,null,null,null,null,null,null,null,null,null,{"$f":"IFERROR(IF(A4373=\"\",\"\",VLOOKUP(J4373,'Соответствия статей'!$A$2:$B$50,2,0)),\"Другое\")","v":""}]
[null,null,null,null,null,null,null,null,null,null,null,null,null,{"$f":"IFERROR(IF(A4381=\"\",\"\",VLOOKUP(J4381,'Соответствия статей'!$A$2:$B$50,2,0)),\"Другое\")","v":""}]
[null,null,null,null,null,null,null,null,null,null,null,null,null,{"$f":"IFERROR(IF(A4384=\"\",\"\",VLOOKUP(J4384,'Соответствия статей'!$A$2:$B$50,2,0)),\"Другое\")","v":""}]
[null,null,null,null,null,null,null,null,null,null,null,null,null,{"$f":"IFERROR(IF(A4393=\"\",\"\",VLOOKUP(J4393,'Соответствия статей'!$A$2:$B$50,2,0)),\"Другое\")","v":""}]
[null,null,null,null,null,null,null,null,null,null,null,null,null,{"$f":"IFERROR(IF(A4396=\"\",\"\",VLOOKUP(J4396,'Соответствия статей'!$A$2:$B$50,2,0)),\"Другое\")","v":""}]
[null,null,null,null,null,null,null,null,null,null,null,null,null,{"$f":"IFERROR(IF(A4404=\"\",\"\",VLOOKUP(J4404,'Соответствия статей'!$A$2:$B$50,2,0)),\"Другое\")","v":""}]
[null,null,null,null,null,null,null,null,null,null,null,null,null,{"$f":"IFERROR(IF(A4411=\"\",\"\",VLOOKUP(J4411,'Соответствия статей'!$A$2:$B$50,2,0)),\"Другое\")","v":""}]
[null,null,null,null,null,null,null,null,null,null,null,null,null,{"$f":"IFERROR(IF(A4414=\"\",\"\",VLOOKUP(J4414,'Соответствия статей'!$A$2:$B$50,2,0)),\"Другое\")","v":""}]
[null,null,null,null,null,null,null,null,null,null,null,null,null,{"$f":"IFERROR(IF(A4422=\"\",\"\",VLOOKUP(J4422,'Соответствия статей'!$A$2:$B$50,2,0)),\"Другое\")","v":""}]
[null,null,null,null,null,null,null,null,null,null,null,null,null,{"$f":"IFERROR(IF(A4431=\"\",\"\",VLOOKUP(J4431,'Соответствия статей'!$A$2:$B$50,2,0)),\"Другое\")","v":""}]
[null,null,null,null,null,null,null,null,null,null,null,null,null,{"$f":"IFERROR(IF(A4434=\"\",\"\",VLOOKUP(J4434,'Соответствия статей'!$A$2:$B$50,2,0)),\"Другое\")","v":""}]
[null,null,null,null,null,null,null,null,null,null,null,null,null,{"$f":"IFERROR(IF(A4443=\"\",\"\",VLOOKUP(J4443,'Соответствия статей'!$A$2:$B$50,2,0)),\"Другое\")","v":""}]
[null,null,null,null,null,null,null,null,null,null,null,null,null,{"$f":"IFERROR(IF(A4445=\"\",\"\",VLOOKUP(J4445,'Соответствия статей'!$A$2:$B$50,2,0)),\"Другое\")","v":""}]
[null,null,null,null,null,null,null,null,null,null,null,null,null,{"$f":"IFERROR(IF(A4454=\"\",\"\",VLOOKUP(J4454,'Соответствия статей'!$A$2:$B$50,2,0)),\"Другое\")","v":""}]
[null,null,null,null,null,null,null,null,null,null,null,null,null,{"$f":"IFERROR(IF(A4461=\"\",\"\",VLOOKUP(J4461,'Соответствия статей'!$A$2:$B$50,2,0)),\"Другое\")","v":""}]
[null,null,null,null,null,null,null,null,null,null,null,null,null,{"$f":"IFERROR(IF(A4464=\"\",\"\",VLOOKUP(J4464,'Соответствия статей'!$A$2:$B$50,2,0)),\"Другое\")","v":""}]
[null,null,null,null,null,null,null,null,null,null,null,null,null,{"$f":"IFERROR(IF(A4471=\"\",\"\",VLOOKUP(J4471,'Соответствия статей'!$A$2:$B$50,2,0)),\"Другое\")","v":""}]
[null,null,null,null,null,null,null,null,null,null,null,null,null,{"$f":"IFERROR(IF(A4481=\"\",\"\",VLOOKUP(J4481,'Соответствия статей'!$A$2:$B$50,2,0)),\"Другое\")","v":""}]
[null,null,null,null,null,null,null,null,null,null,null,null,null,{"$f":"IFERROR(IF(A4484=\"\",\"\",VLOOKUP(J4484,'Соответствия статей'!$A$2:$B$50,2,0)),\"Другое\")","v":""}]
[null,null,null,null,null,null,null,null,null,null,null,null,null,{"$f":"IFERROR(IF(A4491=\"\",\"\",VLOOKUP(J4491,'Соответствия статей'!$A$2:$B$50,2,0)),\"Другое\")","v":""}]
[null,null,null,null,null,null,null,null,null,null,null,null,null,{"$f":"IFERROR(IF(A4494=\"\",\"\",VLOOKUP(J4494,'Соответствия статей'!$A$2:$B$50,2,0)),\"Другое\")","v":""}]
[null,null,null,null,null,null,null,null,null,null,null,null,null,{"$f":"IFERROR(IF(A4504=\"\",\"\",VLOOKUP(J4504,'Соответствия статей'!$A$2:$B$50,2,0)),\"Другое\")","v":""}]
[null,null,null,null,null,null,null,null,null,null,null,null,null,{"$f":"IFERROR(IF(A4511=\"\",\"\",VLOOKUP(J4511,'Соответствия статей'!$A$2:$B$50,2,0)),\"Другое\")","v":""}]
[null,null,null,null,null,null,null,null,null,null,null,null,null,{"$f":"IFERROR(IF(A4514=\"\",\"\",VLOOKUP(J4514,'Соответствия статей'!$A$2:$B$50,2,0)),\"Другое\")","v":""}]
[null,null,null,null,null,null,null,null,null,null,null,null,null,{"$f":"IFERROR(IF(A4520=\"\",\"\",VLOOKUP(J4520,'Соответствия статей'!$A$2:$B$50,2,0)),\"Другое\")","v":""}]
[null,null,null,null,null,null,null,null,null,null,null,null,null,{"$f":"IFERROR(IF(A4531=\"\",\"\",VLOOKUP(J4531,'Соответствия статей'!$A$2:$B$50,2,0)),\"Другое\")","v":""}]
[null,null,null,null,null,null,null,null,null,null,null,null,null,{"$f":"IFERROR(IF(A4534=\"\",\"\",VLOOKUP(J4534,'Соответствия статей'!$A$2:$B$50,2,0)),\"Другое\")","v":""}]
[null,null,null,null,null,null,null,null,null,null,null,null,null,{"$f":"IFERROR(IF(A4541=\"\",\"\",VLOOKUP(J4541,'Соответствия статей'!$A$2:$B$50,2,0)),\"Другое\")","v":""}]
[null,null,null,null,null,null,null,null,null,null,null,null,null,{"$f":"IFERROR(IF(A4550=\"\",\"\",VLOOKUP(J4550,'Соответствия статей'!$A$2:$B$50,2,0)),\"Другое\")","v":""}]
[null,null,null,null,null,null,null,null,null,null,null,null,null,{"$f":"IFERROR(IF(A4554=\"\",\"\",VLOOKUP(J4554,'Соответствия статей'!$A$2:$B$50,2,0)),\"Другое\")","v":""}]
[null,null,null,null,null,null,null,null,null,null,null,null,null,{"$f":"IFERROR(IF(A4561=\"\",\"\",VLOOKUP(J4561,'Соответствия статей'!$A$2:$B$50,2,0)),\"Другое\")","v":""}]
[null,null,null,null,null,null,null,null,null,null,null,null,null,{"$f":"IFERROR(IF(A4564=\"\",\"\",VLOOKUP(J4564,'Соответствия статей'!$A$2:$B$50,2,0)),\"Другое\")","v":""}]
[null,null,null,null,null,null,null,null,null,null,null,null,null,{"$f":"IFERROR(IF(A4569=\"\",\"\",VLOOKUP(J4569,'Соответствия статей'!$A$2:$B$50,2,0)),\"Другое\")","v":""}]
[null,null,null,null,null,null,null,null,null,null,null,null,null,{"$f":"IFERROR(IF(A4581=\"\",\"\",VLOOKUP(J4581,'Соответствия статей'!$A$2:$B$50,2,0)),\"Другое\")","v":""}]
[null,null,null,null,null,null,null,null,null,null,null,null,null,{"$f":"IFERROR(IF(A4584=\"\",\"\",VLOOKUP(J4584,'Соответствия статей'!$A$2:$B$50,2,0)),\"Другое\")","v":""}]
[null,null,null,null,null,null,null,null,null,null,null,null,null,{"$f":"IFERROR(IF(A4591=\"\",\"\",VLOOKUP(J4591,'Соответствия статей'!$A$2:$B$50,2,0)),\"Другое\")","v":""}]
[null,null,null,null,null,null,null,null,null,null,null,null,null,{"$f":"IFERROR(IF(A4599=\"\",\"\",VLOOKUP(J4599,'Соответствия статей'!$A$2:$B$50,2,0)),\"Другое\")","v":""}]
[null,null,null,null,null,null,null,null,null,null,null,null,null,{"$f":"IFERROR(IF(A4604=\"\",\"\",VLOOKUP(J4604,'Соответствия статей'!$A$2:$B$50,2,0)),\"Другое\")","v":""}]
[null,null,null,null,null,null,null,null,null,null,null,null,null,{"$f":"IFERROR(IF(A4611=\"\",\"\",VLOOKUP(J4611,'Соответствия статей'!$A$2:$B$50,2,0)),\"Другое\")","v":""}]
[null,null,null,null,null,null,null,null,null,null,null,null,null,{"$f":"IFERROR(IF(A4614=\"\",\"\",VLOOKUP(J4614,'Соответствия статей'!$A$2:$B$50,2,0)),\"Другое\")","v":""}]
[null,null,null,null,null,null,null,null,null,null,null,null,null,{"$f":"IFERROR(IF(A4622=\"\",\"\",VLOOKUP(J4622,'Соответствия статей'!$A$2:$B$50,2,0)),\"Другое\")","v":""}]
[null,null,null,null,null,null,null,null,null,null,null,null,null,{"$f":"IFERROR(IF(A4631=\"\",\"\",VLOOKUP(J4631,'Соответствия статей'!$A$2:$B$50,2,0)),\"Другое\")","v":""}]
[null,null,null,null,null,null,null,null,null,null,null,null,null,{"$f":"IFERROR(IF(A4634=\"\",\"\",VLOOKUP(J4634,'Соответствия статей'!$A$2:$B$50,2,0)),\"Другое\")","v":""}]
[null,null,null,null,null,null,null,null,null,null,null,null,null,{"$f":"IFERROR(IF(A4641=\"\",\"\",VLOOKUP(J4641,'Соответствия статей'!$A$2:$B$50,2,0)),\"Другое\")","v":""}]
[null,null,null,null,null,null,null,null,null,null,null,null,null,{"$f":"IFERROR(IF(A4648=\"\",\"\",VLOOKUP(J4648,'Соответствия статей'!$A$2:$B$50,2,0)),\"Другое\")","v":""}]
[null,null,null,null,null,null,null,null,null,null,null,null,null,{"$f":"IFERROR(IF(A4654=\"\",\"\",VLOOKUP(J4654,'Соответствия статей'!$A$2:$B$50,2,0)),\"Другое\")","v":""}]
[null,null,null,null,null,null,null,null,null,null,null,null,null,{"$f":"IFERROR(IF(A4661=\"\",\"\",VLOOKUP(J4661,'Соответствия статей'!$A$2:$B$50,2,0)),\"Другое\")","v":""}]
[null,null,null,null,null,null,null,null,null,null,null,null,null,{"$f":"IFERROR(IF(A4664=\"\",\"\",VLOOKUP(J4664,'Соответствия статей'!$A$2:$B$50,2,0)),\"Другое\")","v":""}]
[null,null,null,null,null,null,null,null,null,null,null,null,null,{"$f":"IFERROR(IF(A4671=\"\",\"\",VLOOKUP(J4671,'Соответствия статей'!$A$2:$B$50,2,0)),\"Другое\")","v":""}]
[null,null,null,null,null,null,null,null,null,null,null,null,null,{"$f":"IFERROR(IF(A4681=\"\",\"\",VLOOKUP(J4681,'Соответствия статей'!$A$2:$B$50,2,0)),\"Другое\")","v":""}]
[null,null,null,null,null,null,null,null,null,null,null,null,null,{"$f":"IFERROR(IF(A4684=\"\",\"\",VLOOKUP(J4684,'Соответствия статей'!$A$2:$B$50,2,0)),\"Другое\")","v":""}]
[null,null,null,null,null,null,null,null,null,null,null,null,null,{"$f":"IFERROR(IF(A4691=\"\",\"\",VLOOKUP(J4691,'Соответствия статей'!$A$2:$B$50,2,0)),\"Другое\")","v":""}]
[null,null,null,null,null,null,null,null,null,null,null,null,null,{"$f":"IFERROR(IF(A4697=\"\",\"\",VLOOKUP(J4697,'Соответствия статей'!$A$2:$B$50,2,0)),\"Другое\")","v":""}]
[null,null,null,null,null,null,null,null,null,null,null,null,null,{"$f":"IFERROR(IF(A4702=\"\",\"\",VLOOKUP(J4702,'Соответствия статей'!$A$2:$B$50,2,0)),\"Другое\")","v":""}]
[null,null,null,null,null,null,null,null,null,null,null,null,null,{"$f":"IFERROR(IF(A4711=\"\",\"\",VLOOKUP(J4711,'Соответствия статей'!$A$2:$B$50,2,0)),\"Другое\")","v":""}]
[null,null,null,null,null,null,null,null,null,null,null,null,null,{"$f":"IFERROR(IF(A4714=\"\",\"\",VLOOKUP(J4714,'Соответствия статей'!$A$2:$B$50,2,0)),\"Другое\")","v":""}]
[null,null,null,null,null,null,null,null,null,null,null,null,null,{"$f":"IFERROR(IF(A4720=\"\",\"\",VLOOKUP(J4720,'Соответствия статей'!$A$2:$B$50,2,0)),\"Другое\")","v":""}]
[null,null,null,null,null,null,null,null,null,null,null,null,null,{"$f":"IFERROR(IF(A4731=\"\",\"\",VLOOKUP(J4731,'Соответствия статей'!$A$2:$B$50,2,0)),\"Другое\")","v":""}]
[null,null,null,null,null,null,null,null,null,null,null,null,null,{"$f":"IFERROR(IF(A4734=\"\",\"\",VLOOKUP(J4734,'Соответствия статей'!$A$2:$B$50,2,0)),\"Другое\")","v":""}]
[null,null,null,null,null,null,null,null,null,null,null,null,null,{"$f":"IFERROR(IF(A4741=\"\",\"\",VLOOKUP(J4741,'Соответствия статей'!$A$2:$B$50,2,0)),\"Другое\")","v":""}]
[null,null,null,null,null,null,null,null,null,null,null,null,null,{"$f":"IFERROR(IF(A4746=\"\",\"\",VLOOKUP(J4746,'Соответствия статей'!$A$2:$B$50,2,0)),\"Другое\")","v":""}]
[null,null,null,null,null,null,null,null,null,null,null,null,null,{"$f":"IFERROR(IF(A4752=\"\",\"\",VLOOKUP(J4752,'Соответствия статей'!$A$2:$B$50,2,0)),\"Другое\")","v":""}]
[null,null,null,null,null,null,null,null,null,null,null,null,null,{"$f":"IFERROR(IF(A4761=\"\",\"\",VLOOKUP(J4761,'Соответствия статей'!$A$2:$B$50,2,0)),\"Другое\")","v":""}]
[null,null,null,null,null,null,null,null,null,null,null,null,null,{"$f":"IFERROR(IF(A4764=\"\",\"\",VLOOKUP(J4764,'Соответствия статей'!$A$2:$B$50,2,0)),\"Другое\")","v":""}]
[null,null,null,null,null,null,null,null,null,null,null,null,null,{"$f":"IFERROR(IF(A4769=\"\",\"\",VLOOKUP(J4769,'Соответствия статей'!$A$2:$B$50,2,0)),\"Другое\")","v":""}]
[null,null,null,null,null,null,null,null,null,null,null,null,null,{"$f":"IFERROR(IF(A4781=\"\",\"\",VLOOKUP(J4781,'Соответствия статей'!$A$2:$B$50,2,0)),\"Другое\")","v":""}]
[null,null,null,null,null,null,null,null,null,null,null,null,null,{"$f":"IFERROR(IF(A4784=\"\",\"\",VLOOKUP(J4784,'Соответствия статей'!$A$2:$B$50,2,0)),\"Другое\")","v":""}]
[null,null,null,null,null,null,null,null,null,null,null,null,null,{"$f":"IFERROR(IF(A4791=\"\",\"\",VLOOKUP(J4791,'Соответствия статей'!$A$2:$B$50,2,0)),\"Другое\")","v":""}]
[null,null,null,null,null,null,null,null,null,null,null,null,null,{"$f":"IFERROR(IF(A4795=\"\",\"\",VLOOKUP(J4795,'Соответствия статей'!$A$2:$B$50,2,0)),\"Другое\")","v":""}]
[null,null,null,null,null,null,null,null,null,null,null,null,null,{"$f":"IFERROR(IF(A4802=\"\",\"\",VLOOKUP(J4802,'Соответствия статей'!$A$2:$B$50,2,0)),\"Другое\")","v":""}]
[null,null,null,null,null,null,null,null,null,null,null,null,null,{"$f":"IFERROR(IF(A4811=\"\",\"\",VLOOKUP(J4811,'Соответствия статей'!$A$2:$B$50,2,0)),\"Другое\")","v":""}]
[null,null,null,null,null,null,null,null,null,null,null,null,null,{"$f":"IFERROR(IF(A4814=\"\",\"\",VLOOKUP(J4814,'Соответствия статей'!$A$2:$B$50,2,0)),\"Другое\")","v":""}]
[null,null,null,null,null,null,null,null,null,null,null,null,null,{"$f":"IFERROR(IF(A4825=\"\",\"\",VLOOKUP(J4825,'Соответствия статей'!$A$2:$B$50,2,0)),\"Другое\")","v":""}]
[null,null,null,null,null,null,null,null,null,null,null,null,null,{"$f":"IFERROR(IF(A4831=\"\",\"\",VLOOKUP(J4831,'Соответствия статей'!$A$2:$B$50,2,0)),\"Другое\")","v":""}]
[null,null,null,null,null,null,null,null,null,null,null,null,null,{"$f":"IFERROR(IF(A4832=\"\",\"\",VLOOKUP(J4832,'Соответствия статей'!$A$2:$B$50,2,0)),\"Другое\")","v":""}]
[null,null,null,null,null,null,null,null,null,null,null,null,null,{"$f":"IFERROR(IF(A4841=\"\",\"\",VLOOKUP(J4841,'Соответствия статей'!$A$2:$B$50,2,0)),\"Другое\")","v":""}]
[null,null,null,null,null,null,null,null,null,null,null,null,null,{"$f":"IFERROR(IF(A4844=\"\",\"\",VLOOKUP(J4844,'Соответствия статей'!$A$2:$B$50,2,0)),\"Другое\")","v":""}]
[null,null,null,null,null,null,null,null,null,null,null,null,null,{"$f":"IFERROR(IF(A4852=\"\",\"\",VLOOKUP(J4852,'Соответствия статей'!$A$2:$B$50,2,0)),\"Другое\")","v":""}]
[null,null,null,null,null,null,null,null,null,null,null,null,null,{"$f":"IFERROR(IF(A4861=\"\",\"\",VLOOKUP(J4861,'Соответствия статей'!$A$2:$B$50,2,0)),\"Другое\")","v":""}]
[null,null,null,null,null,null,null,null,null,null,null,null,null,{"$f":"IFERROR(IF(A4864=\"\",\"\",VLOOKUP(J4864,'Соответствия статей'!$A$2:$B$50,2,0)),\"Другое\")","v":""}]
[null,null,null,null,null,null,null,null,null,null,null,null,null,{"$f":"IFERROR(IF(A4874=\"\",\"\",VLOOKUP(J4874,'Соответствия статей'!$A$2:$B$50,2,0)),\"Другое\")","v":""}]
[null,null,null,null,null,null,null,null,null,null,null,null,null,{"$f":"IFERROR(IF(A4881=\"\",\"\",VLOOKUP(J4881,'Соответствия статей'!$A$2:$B$50,2,0)),\"Другое\")","v":""}]
[null,null,null,null,null,null,null,null,null,null,null,null,null,{"$f":"IFERROR(IF(A4882=\"\",\"\",VLOOKUP(J4882,'Соответствия статей'!$A$2:$B$50,2,0)),\"Другое\")","v":""}]
[null,null,null,null,null,null,null,null,null,null,null,null,null,{"$f":"IFERROR(IF(A4891=\"\",\"\",VLOOKUP(J4891,'Соответствия статей'!$A$2:$B$50,2,0)),\"Другое\")","v":""}]
[null,null,null,null,null,null,null,null,null,null,null,null,null,{"$f":"IFERROR(IF(A4900=\"\",\"\",VLOOKUP(J4900,'Соответствия статей'!$A$2:$B$50,2,0)),\"Другое\")","v":""}]
[null,null,null,null,null,null,null,null,null,null,null,null,null,{"$f":"IFERROR(IF(A4902=\"\",\"\",VLOOKUP(J4902,'Соответствия статей'!$A$2:$B$50,2,0)),\"Другое\")","v":""}]
[null,null,null,null,null,null,null,null,null,null,null,null,null,{"$f":"IFERROR(IF(A4911=\"\",\"\",VLOOKUP(J4911,'Соответствия статей'!$A$2:$B$50,2,0)),\"Другое\")","v":""}]
[null,null,null,null,null,null,null,null,null,null,null,null,null,{"$f":"IFERROR(IF(A4914=\"\",\"\",VLOOKUP(J4914,'Соответствия статей'!$A$2:$B$50,2,0)),\"Другое\")","v":""}]
[null,null,null,null,null,null,null,null,null,null,null,null,null,{"$f":"IFERROR(IF(A4923=\"\",\"\",VLOOKUP(J4923,'Соответствия статей'!$A$2:$B$50,2,0)),\"Другое\")","v":""}]
[null,null,null,null,null,null,null,null,null,null,null,null,null,{"$f":"IFERROR(IF(A4931=\"\",\"\",VLOOKUP(J4931,'Соответствия статей'!$A$2:$B$50,2,0)),\"Другое\")","v":""}]
[null,null,null,null,null,null,null,null,null,null,null,null,null,{"$f":"IFERROR(IF(A4932=\"\",\"\",VLOOKUP(J4932,'Соответствия статей'!$A$2:$B$50,2,0)),\"Другое\")","v":""}]
[null,null,null,null,null,null,null,null,null,null,null,null,null,{"$f":"IFERROR(IF(A4941=\"\",\"\",VLOOKUP(J4941,'Соответствия статей'!$A$2:$B$50,2,0)),\"Другое\")","v":""}]
[null,null,null,null,null,null,null,null,null,null,null,null,null,{"$f":"IFERROR(IF(A4949=\"\",\"\",VLOOKUP(J4949,'Соответствия статей'!$A$2:$B$50,2,0)),\"Другое\")","v":""}]
[null,null,null,null,null,null,null,null,null,null,null,null,null,{"$f":"IFERROR(IF(A4952=\"\",\"\",VLOOKUP(J4952,'Соответствия статей'!$A$2:$B$50,2,0)),\"Другое\")","v":""}]
[null,null,null,null,null,null,null,null,null,null,null,null,null,{"$f":"IFERROR(IF(A4961=\"\",\"\",VLOOKUP(J4961,'Соответствия статей'!$A$2:$B$50,2,0)),\"Другое\")","v":""}]
[null,null,null,null,null,null,null,null,null,null,null,null,null,{"$f":"IFERROR(IF(A4968=\"\",\"\",VLOOKUP(J4968,'Соответствия статей'!$A$2:$B$50,2,0)),\"Другое\")","v":""}]
[null,null,null,null,null,null,null,null,null,null,null,null,null,{"$f":"IFERROR(IF(A4972=\"\",\"\",VLOOKUP(J4972,'Соответствия статей'!$A$2:$B$50,2,0)),\"Другое\")","v":""}]
[null,null,null,null,null,null,null,null,null,null,null,null,null,{"$f":"IFERROR(IF(A4981=\"\",\"\",VLOOKUP(J4981,'Соответствия статей'!$A$2:$B$50,2,0)),\"Другое\")","v":""}]
[null,null,null,null,null,null,null,null,null,null,null,null,null,{"$f":"IFERROR(IF(A4982=\"\",\"\",VLOOKUP(J4982,'Соответствия статей'!$A$2:$B$50,2,0)),\"Другое\")","v":""}]
[null,null,null,null,null,null,null,null,null,null,null,null,null,{"$f":"IFERROR(IF(A4991=\"\",\"\",VLOOKUP(J4991,'Соответствия статей'!$A$2:$B$50,2,0)),\"Другое\")","v":""}]
[null,null,null,null,null,null,null,null,null,null,null,null,null,{"$f":"IFERROR(IF(A4998=\"\",\"\",VLOOKUP(J4998,'Соответствия статей'!$A$2:$B$50,2,0)),\"Другое\")","v":""}]
[null,null,null,null,null,null,null,null,null,null,null,null,null,{"$f":"IFERROR(IF(A5002=\"\",\"\",VLOOKUP(J5002,'Соответствия статей'!$A$2:$B$50,2,0)),\"Другое\")","v":""}]
[null,null,null,null,null,null,null,null,null,null,null,null,null,{"$f":"IFERROR(IF(A5011=\"\",\"\",VLOOKUP(J5011,'Соответствия статей'!$A$2:$B$50,2,0)),\"Другое\")","v":""}]
[null,null,null,null,null,null,null,null,null,null,null,null,null,{"$f":"IFERROR(IF(A5018=\"\",\"\",VLOOKUP(J5018,'Соответствия статей'!$A$2:$B$50,2,0)),\"Другое\")","v":""}]
[null,null,null,null,null,null,null,null,null,null,null,null,null,{"$f":"IFERROR(IF(A5021=\"\",\"\",VLOOKUP(J5021,'Соответствия статей'!$A$2:$B$50,2,0)),\"Другое\")","v":""}]
[null,null,null,null,null,null,null,null,null,null,null,null,null,{"$f":"IFERROR(IF(A5031=\"\",\"\",VLOOKUP(J5031,'Соответствия статей'!$A$2:$B$50,2,0)),\"Другое\")","v":""}]
[null,null,null,null,null,null,null,null,null,null,null,null,null,{"$f":"IFERROR(IF(A5032=\"\",\"\",VLOOKUP(J5032,'Соответствия статей'!$A$2:$B$50,2,0)),\"Другое\")","v":""}]
[null,null,null,null,null,null,null,null,null,null,null,null,null,{"$f":"IFERROR(IF(A5041=\"\",\"\",VLOOKUP(J5041,'Соответствия статей'!$A$2:$B$50,2,0)),\"Другое\")","v":""}]
[null,null,null,null,null,null,null,null,null,null,null,null,null,{"$f":"IFERROR(IF(A5044=\"\",\"\",VLOOKUP(J5044,'Соответствия статей'!$A$2:$B$50,2,0)),\"Другое\")","v":""}]
[null,null,null,null,null,null,null,null,null,null,null,null,null,{"$f":"IFERROR(IF(A5052=\"\",\"\",VLOOKUP(J5052,'Соответствия статей'!$A$2:$B$50,2,0)),\"Другое\")","v":""}]
[null,null,null,null,null,null,null,null,null,null,null,null,null,{"$f":"IFERROR(IF(A5061=\"\",\"\",VLOOKUP(J5061,'Соответствия статей'!$A$2:$B$50,2,0)),\"Другое\")","v":""}]
[null,null,null,null,null,null,null,null,null,null,null,null,null,{"$f":"IFERROR(IF(A5068=\"\",\"\",VLOOKUP(J5068,'Соответствия статей'!$A$2:$B$50,2,0)),\"Другое\")","v":""}]
[null,null,null,null,null,null,null,null,null,null,null,null,null,{"$f":"IFERROR(IF(A5070=\"\",\"\",VLOOKUP(J5070,'Соответствия статей'!$A$2:$B$50,2,0)),\"Другое\")","v":""}]
[null,null,null,null,null,null,null,null,null,null,null,null,null,{"$f":"IFERROR(IF(A5081=\"\",\"\",VLOOKUP(J5081,'Соответствия статей'!$A$2:$B$50,2,0)),\"Другое\")","v":""}]
[null,null,null,null,null,null,null,null,null,null,null,null,null,{"$f":"IFERROR(IF(A5082=\"\",\"\",VLOOKUP(J5082,'Соответствия статей'!$A$2:$B$50,2,0)),\"Другое\")","v":""}]
[null,null,null,null,null,null,null,null,null,null,null,null,null,{"$f":"IFERROR(IF(A5091=\"\",\"\",VLOOKUP(J5091,'Соответствия статей'!$A$2:$B$50,2,0)),\"Другое\")","v":""}]
[null,null,null,null,null,null,null,null,null,null,null,null,null,{"$f":"IFERROR(IF(A5100=\"\",\"\",VLOOKUP(J5100,'Соответствия статей'!$A$2:$B$50,2,0)),\"Другое\")","v":""}]
[null,null,null,null,null,null,null,null,null,null,null,null,null,{"$f":"IFERROR(IF(A5102=\"\",\"\",VLOOKUP(J5102,'Соответствия статей'!$A$2:$B$50,2,0)),\"Другое\")","v":""}]
[null,null,null,null,null,null,null,null,null,null,null,null,null,{"$f":"IFERROR(IF(A5111=\"\",\"\",VLOOKUP(J5111,'Соответствия статей'!$A$2:$B$50,2,0)),\"Другое\")","v":""}]
[null,null,null,null,null,null,null,null,null,null,null,null,null,{"$f":"IFERROR(IF(A5118=\"\",\"\",VLOOKUP(J5118,'Соответствия статей'!$A$2:$B$50,2,0)),\"Другое\")","v":""}]
[null,null,null,null,null,null,null,null,null,null,null,null,null,{"$f":"IFERROR(IF(A5119=\"\",\"\",VLOOKUP(J5119,'Соответствия статей'!$A$2:$B$50,2,0)),\"Другое\")","v":""}]
[null,null,null,null,null,null,null,null,null,null,null,null,null,{"$f":"IFERROR(IF(A5131=\"\",\"\",VLOOKUP(J5131,'Соответствия статей'!$A$2:$B$50,2,0)),\"Другое\")","v":""}]
[null,null,null,null,null,null,null,null,null,null,null,null,null,{"$f":"IFERROR(IF(A5132=\"\",\"\",VLOOKUP(J5132,'Соответствия статей'!$A$2:$B$50,2,0)),\"Другое\")","v":""}]
[null,null,null,null,null,null,null,null,null,null,null,null,null,{"$f":"IFERROR(IF(A5141=\"\",\"\",VLOOKUP(J5141,'Соответствия статей'!$A$2:$B$50,2,0)),\"Другое\")","v":""}]
[null,null,null,null,null,null,null,null,null,null,null,null,null,{"$f":"IFERROR(IF(A5149=\"\",\"\",VLOOKUP(J5149,'Соответствия статей'!$A$2:$B$50,2,0)),\"Другое\")","v":""}]
[null,null,null,null,null,null,null,null,null,null,null,null,null,{"$f":"IFERROR(IF(A5152=\"\",\"\",VLOOKUP(J5152,'Соответствия статей'!$A$2:$B$50,2,0)),\"Другое\")","v":""}]
[null,null,null,null,null,null,null,null,null,null,null,null,null,{"$f":"IFERROR(IF(A5161=\"\",\"\",VLOOKUP(J5161,'Соответствия статей'!$A$2:$B$50,2,0)),\"Другое\")","v":""}]
[null,null,null,null,null,null,null,null,null,null,null,null,null,{"$f":"IFERROR(IF(A5168=\"\",\"\",VLOOKUP(J5168,'Соответствия статей'!$A$2:$B$50,2,0)),\"Другое\")","v":""}]
[null,null,null,null,null,null,null,null,null,null,null,null,null,{"$f":"IFERROR(IF(A5175=\"\",\"\",VLOOKUP(J5175,'Соответствия статей'!$A$2:$B$50,2,0)),\"Другое\")","v":""}]
[null,null,null,null,null,null,null,null,null,null,null,null,null,{"$f":"IFERROR(IF(A5179=\"\",\"\",VLOOKUP(J5179,'Соответствия статей'!$A$2:$B$50,2,0)),\"Другое\")","v":""}]
[null,null,null,null,null,null,null,null,null,null,null,null,null,{"$f":"IFERROR(IF(A5182=\"\",\"\",VLOOKUP(J5182,'Соответствия статей'!$A$2:$B$50,2,0)),\"Другое\")","v":""}]
[null,null,null,null,null,null,null,null,null,null,null,null,null,{"$f":"IFERROR(IF(A5191=\"\",\"\",VLOOKUP(J5191,'Соответствия статей'!$A$2:$B$50,2,0)),\"Другое\")","v":""}]
[null,null,null,null,null,null,null,null,null,null,null,null,null,{"$f":"IFERROR(IF(A5198=\"\",\"\",VLOOKUP(J5198,'Соответствия статей'!$A$2:$B$50,2,0)),\"Другое\")","v":""}]
[null,null,null,null,null,null,null,null,null,null,null,null,null,{"$f":"IFERROR(IF(A5202=\"\",\"\",VLOOKUP(J5202,'Соответствия статей'!$A$2:$B$50,2,0)),\"Другое\")","v":""}]
[null,null,null,null,null,null,null,null,null,null,null,null,null,{"$f":"IFERROR(IF(A5211=\"\",\"\",VLOOKUP(J5211,'Соответствия статей'!$A$2:$B$50,2,0)),\"Другое\")","v":""}]
[null,null,null,null,null,null,null,null,null,null,null,null,null,{"$f":"IFERROR(IF(A5218=\"\",\"\",VLOOKUP(J5218,'Соответствия статей'!$A$2:$B$50,2,0)),\"Другое\")","v":""}]
[null,null,null,null,null,null,null,null,null,null,null,null,null,{"$f":"IFERROR(IF(A5224=\"\",\"\",VLOOKUP(J5224,'Соответствия статей'!$A$2:$B$50,2,0)),\"Другое\")","v":""}]
[null,null,null,null,null,null,null,null,null,null,null,null,null,{"$f":"IFERROR(IF(A5229=\"\",\"\",VLOOKUP(J5229,'Соответствия статей'!$A$2:$B$50,2,0)),\"Другое\")","v":""}]
[null,null,null,null,null,null,null,null,null,null,null,null,null,{"$f":"IFERROR(IF(A5232=\"\",\"\",VLOOKUP(J5232,'Соответствия статей'!$A$2:$B$50,2,0)),\"Другое\")","v":""}]
[null,null,null,null,null,null,null,null,null,null,null,null,null,{"$f":"IFERROR(IF(A5241=\"\",\"\",VLOOKUP(J5241,'Соответствия статей'!$A$2:$B$50,2,0)),\"Другое\")","v":""}]
[null,null,null,null,null,null,null,null,null,null,null,null,null,{"$f":"IFERROR(IF(A5247=\"\",\"\",VLOOKUP(J5247,'Соответствия статей'!$A$2:$B$50,2,0)),\"Другое\")","v":""}]
[null,null,null,null,null,null,null,null,null,null,null,null,null,{"$f":"IFERROR(IF(A5252=\"\",\"\",VLOOKUP(J5252,'Соответствия статей'!$A$2:$B$50,2,0)),\"Другое\")","v":""}]
[null,null,null,null,null,null,null,null,null,null,null,null,null,{"$f":"IFERROR(IF(A5259=\"\",\"\",VLOOKUP(J5259,'Соответствия статей'!$A$2:$B$50,2,0)),\"Другое\")","v":""}]
[null,null,null,null,null,null,null,null,null,null,null,null,null,{"$f":"IFERROR(IF(A5268=\"\",\"\",VLOOKUP(J5268,'Соответствия статей'!$A$2:$B$50,2,0)),\"Другое\")","v":""}]
[null,null,null,null,null,null,null,null,null,null,null,null,null,{"$f":"IFERROR(IF(A5273=\"\",\"\",VLOOKUP(J5273,'Соответствия статей'!$A$2:$B$50,2,0)),\"Другое\")","v":""}]
[null,null,null,null,null,null,null,null,null,null,null,null,null,{"$f":"IFERROR(IF(A5279=\"\",\"\",VLOOKUP(J5279,'Соответствия статей'!$A$2:$B$50,2,0)),\"Другое\")","v":""}]
[null,null,null,null,null,null,null,null,null,null,null,null,null,{"$f":"IFERROR(IF(A5282=\"\",\"\",VLOOKUP(J5282,'Соответствия статей'!$A$2:$B$50,2,0)),\"Другое\")","v":""}]
[null,null,null,null,null,null,null,null,null,null,null,null,null,{"$f":"IFERROR(IF(A5291=\"\",\"\",VLOOKUP(J5291,'Соответствия статей'!$A$2:$B$50,2,0)),\"Другое\")","v":""}]
[null,null,null,null,null,null,null,null,null,null,null,null,null,{"$f":"IFERROR(IF(A5296=\"\",\"\",VLOOKUP(J5296,'Соответствия статей'!$A$2:$B$50,2,0)),\"Другое\")","v":""}]
[null,null,null,null,null,null,null,null,null,null,null,null,null,{"$f":"IFERROR(IF(A5302=\"\",\"\",VLOOKUP(J5302,'Соответствия статей'!$A$2:$B$50,2,0)),\"Другое\")","v":""}]
[null,null,null,null,null,null,null,null,null,null,null,null,null,{"$f":"IFERROR(IF(A5309=\"\",\"\",VLOOKUP(J5309,'Соответствия статей'!$A$2:$B$50,2,0)),\"Другое\")","v":""}]
[null,null,null,null,null,null,null,null,null,null,null,null,null,{"$f":"IFERROR(IF(A5318=\"\",\"\",VLOOKUP(J5318,'Соответствия статей'!$A$2:$B$50,2,0)),\"Другое\")","v":""}]
[null,null,null,null,null,null,null,null,null,null,null,null,null,{"$f":"IFERROR(IF(A5322=\"\",\"\",VLOOKUP(J5322,'Соответствия статей'!$A$2:$B$50,2,0)),\"Другое\")","v":""}]
[null,null,null,null,null,null,null,null,null,null,null,null,null,{"$f":"IFERROR(IF(A5329=\"\",\"\",VLOOKUP(J5329,'Соответствия статей'!$A$2:$B$50,2,0)),\"Другое\")","v":""}]
[null,null,null,null,null,null,null,null,null,null,null,null,null,{"$f":"IFERROR(IF(A5332=\"\",\"\",VLOOKUP(J5332,'Соответствия статей'!$A$2:$B$50,2,0)),\"Другое\")","v":""}]
[null,null,null,null,null,null,null,null,null,null,null,null,null,{"$f":"IFERROR(IF(A5341=\"\",\"\",VLOOKUP(J5341,'Соответствия статей'!$A$2:$B$50,2,0)),\"Другое\")","v":""}]
[null,null,null,null,null,null,null,null,null,null,null,null,null,{"$f":"IFERROR(IF(A5345=\"\",\"\",VLOOKUP(J5345,'Соответствия статей'!$A$2:$B$50,2,0)),\"Другое\")","v":""}]
[null,null,null,null,null,null,null,null,null,null,null,null,null,{"$f":"IFERROR(IF(A5352=\"\",\"\",VLOOKUP(J5352,'Соответствия статей'!$A$2:$B$50,2,0)),\"Другое\")","v":""}]
[null,null,null,null,null,null,null,null,null,null,null,null,null,{"$f":"IFERROR(IF(A5359=\"\",\"\",VLOOKUP(J5359,'Соответствия статей'!$A$2:$B$50,2,0)),\"Другое\")","v":""}]
[null,null,null,null,null,null,null,null,null,null,null,null,null,{"$f":"IFERROR(IF(A5368=\"\",\"\",VLOOKUP(J5368,'Соответствия статей'!$A$2:$B$50,2,0)),\"Другое\")","v":""}]
[null,null,null,null,null,null,null,null,null,null,null,null,null,{"$f":"IFERROR(IF(A5371=\"\",\"\",VLOOKUP(J5371,'Соответствия статей'!$A$2:$B$50,2,0)),\"Другое\")","v":""}]
[null,null,null,null,null,null,null,null,null,null,null,null,null,{"$f":"IFERROR(IF(A5379=\"\",\"\",VLOOKUP(J5379,'Соответствия статей'!$A$2:$B$50,2,0)),\"Другое\")","v":""}]
[null,null,null,null,null,null,null,null,null,null,null,null,null,{"$f":"IFERROR(IF(A5382=\"\",\"\",VLOOKUP(J5382,'Соответствия статей'!$A$2:$B$50,2,0)),\"Другое\")","v":""}]
[null,null,null,null,null,null,null,null,null,null,null,null,null,{"$f":"IFERROR(IF(A5389=\"\",\"\",VLOOKUP(J5389,'Соответствия статей'!$A$2:$B$50,2,0)),\"Другое\")","v":""}]
[null,null,null,null,null,null,null,null,null,null,null,null,null,{"$f":"IFERROR(IF(A5394=\"\",\"\",VLOOKUP(J5394,'Соответствия статей'!$A$2:$B$50,2,0)),\"Другое\")","v":""}]
[null,null,null,null,null,null,null,null,null,null,null,null,null,{"$f":"IFERROR(IF(A5402=\"\",\"\",VLOOKUP(J5402,'Соответствия статей'!$A$2:$B$50,2,0)),\"Другое\")","v":""}]
[null,null,null,null,null,null,null,null,null,null,null,null,null,{"$f":"IFERROR(IF(A5409=\"\",\"\",VLOOKUP(J5409,'Соответствия статей'!$A$2:$B$50,2,0)),\"Другое\")","v":""}]
[null,null,null,null,null,null,null,null,null,null,null,null,null,{"$f":"IFERROR(IF(A5418=\"\",\"\",VLOOKUP(J5418,'Соответствия статей'!$A$2:$B$50,2,0)),\"Другое\")","v":""}]
[null,null,null,null,null,null,null,null,null,null,null,null,null,{"$f":"IFERROR(IF(A5420=\"\",\"\",VLOOKUP(J5420,'Соответствия статей'!$A$2:$B$50,2,0)),\"Другое\")","v":""}]
[null,null,null,null,null,null,null,null,null,null,null,null,null,{"$f":"IFERROR(IF(A5429=\"\",\"\",VLOOKUP(J5429,'Соответствия статей'!$A$2:$B$50,2,0)),\"Другое\")","v":""}]
[null,null,null,null,null,null,null,null,null,null,null,null,null,{"$f":"IFERROR(IF(A5432=\"\",\"\",VLOOKUP(J5432,'Соответствия статей'!$A$2:$B$50,2,0)),\"Другое\")","v":""}]
[null,null,null,null,null,null,null,null,null,null,null,null,null,{"$f":"IFERROR(IF(A5439=\"\",\"\",VLOOKUP(J5439,'Соответствия статей'!$A$2:$B$50,2,0)),\"Другое\")","v":""}]
[null,null,null,null,null,null,null,null,null,null,null,null,null,{"$f":"IFERROR(IF(A5450=\"\",\"\",VLOOKUP(J5450,'Соответствия статей'!$A$2:$B$50,2,0)),\"Другое\")","v":""}]
[null,null,null,null,null,null,null,null,null,null,null,null,null,{"$f":"IFERROR(IF(A5452=\"\",\"\",VLOOKUP(J5452,'Соответствия статей'!$A$2:$B$50,2,0)),\"Другое\")","v":""}]
[null,null,null,null,null,null,null,null,null,null,null,null,null,{"$f":"IFERROR(IF(A5459=\"\",\"\",VLOOKUP(J5459,'Соответствия статей'!$A$2:$B$50,2,0)),\"Другое\")","v":""}]
[null,null,null,null,null,null,null,null,null,null,null,null,null,{"$f":"IFERROR(IF(A5468=\"\",\"\",VLOOKUP(J5468,'Соответствия статей'!$A$2:$B$50,2,0)),\"Другое\")","v":""}]
[null,null,null,null,null,null,null,null,null,null,null,null,null,{"$f":"IFERROR(IF(A5469=\"\",\"\",VLOOKUP(J5469,'Соответствия статей'!$A$2:$B$50,2,0)),\"Другое\")","v":""}]
[null,null,null,null,null,null,null,null,null,null,null,null,null,{"$f":"IFERROR(IF(A5479=\"\",\"\",VLOOKUP(J5479,'Соответствия статей'!$A$2:$B$50,2,0)),\"Другое\")","v":""}]
[null,null,null,null,null,null,null,null,null,null,null,null,null,{"$f":"IFERROR(IF(A5482=\"\",\"\",VLOOKUP(J5482,'Соответствия статей'!$A$2:$B$50,2,0)),\"Другое\")","v":""}]
[null,null,null,null,null,null,null,null,null,null,null,null,null,{"$f":"IFERROR(IF(A5489=\"\",\"\",VLOOKUP(J5489,'Соответствия статей'!$A$2:$B$50,2,0)),\"Другое\")","v":""}]
[null,null,null,null,null,null,null,null,null,null,null,null,null,{"$f":"IFERROR(IF(A5499=\"\",\"\",VLOOKUP(J5499,'Соответствия статей'!$A$2:$B$50,2,0)),\"Другое\")","v":""}]
[null,null,null,null,null,null,null,null,null,null,null,null,null,{"$f":"IFERROR(IF(A5502=\"\",\"\",VLOOKUP(J5502,'Соответствия статей'!$A$2:$B$50,2,0)),\"Другое\")","v":""}]
[null,null,null,null,null,null,null,null,null,null,null,null,null,{"$f":"IFERROR(IF(A5509=\"\",\"\",VLOOKUP(J5509,'Соответствия статей'!$A$2:$B$50,2,0)),\"Другое\")","v":""}]
[null,null,null,null,null,null,null,null,null,null,null,null,null,{"$f":"IFERROR(IF(A5518=\"\",\"\",VLOOKUP(J5518,'Соответствия статей'!$A$2:$B$50,2,0)),\"Другое\")","v":""}]
[null,null,null,null,null,null,null,null,null,null,null,null,null,{"$f":"IFERROR(IF(A5522=\"\",\"\",VLOOKUP(J5522,'Соответствия статей'!$A$2:$B$50,2,0)),\"Другое\")","v":""}]
[null,null,null,null,null,null,null,null,null,null,null,null,null,{"$f":"IFERROR(IF(A5529=\"\",\"\",VLOOKUP(J5529,'Соответствия статей'!$A$2:$B$50,2,0)),\"Другое\")","v":""}]
[null,null,null,null,null,null,null,null,null,null,null,null,null,{"$f":"IFERROR(IF(A5532=\"\",\"\",VLOOKUP(J5532,'Соответствия статей'!$A$2:$B$50,2,0)),\"Другое\")","v":""}]
[null,null,null,null,null,null,null,null,null,null,null,null,null,{"$f":"IFERROR(IF(A5539=\"\",\"\",VLOOKUP(J5539,'Соответствия статей'!$A$2:$B$50,2,0)),\"Другое\")","v":""}]
[null,null,null,null,null,null,null,null,null,null,null,null,null,{"$f":"IFERROR(IF(A5548=\"\",\"\",VLOOKUP(J5548,'Соответствия статей'!$A$2:$B$50,2,0)),\"Другое\")","v":""}]
[null,null,null,null,null,null,null,null,null,null,null,null,null,{"$f":"IFERROR(IF(A5552=\"\",\"\",VLOOKUP(J5552,'Соответствия статей'!$A$2:$B$50,2,0)),\"Другое\")","v":""}]
[null,null,null,null,null,null,null,null,null,null,null,null,null,{"$f":"IFERROR(IF(A5559=\"\",\"\",VLOOKUP(J5559,'Соответствия статей'!$A$2:$B$50,2,0)),\"Другое\")","v":""}]
[null,null,null,null,null,null,null,null,null,null,null,null,null,{"$f":"IFERROR(IF(A5568=\"\",\"\",VLOOKUP(J5568,'Соответствия статей'!$A$2:$B$50,2,0)),\"Другое\")","v":""}]
[null,null,null,null,null,null,null,null,null,null,null,null,null,{"$f":"IFERROR(IF(A5571=\"\",\"\",VLOOKUP(J5571,'Соответствия статей'!$A$2:$B$50,2,0)),\"Другое\")","v":""}]
[null,null,null,null,null,null,null,null,null,null,null,null,null,{"$f":"IFERROR(IF(A5579=\"\",\"\",VLOOKUP(J5579,'Соответствия статей'!$A$2:$B$50,2,0)),\"Другое\")","v":""}]
[null,null,null,null,null,null,null,null,null,null,null,null,null,{"$f":"IFERROR(IF(A5582=\"\",\"\",VLOOKUP(J5582,'Соответствия статей'!$A$2:$B$50,2,0)),\"Другое\")","v":""}]
[null,null,null,null,null,null,null,null,null,null,null,null,null,{"$f":"IFERROR(IF(A5589=\"\",\"\",VLOOKUP(J5589,'Соответствия статей'!$A$2:$B$50,2,0)),\"Другое\")","v":""}]
[null,null,null,null,null,null,null,null,null,null,null,null,null,{"$f":"IFERROR(IF(A5597=\"\",\"\",VLOOKUP(J5597,'Соответствия статей'!$A$2:$B$50,2,0)),\"Другое\")","v":""}]
[null,null,null,null,null,null,null,null,null,null,null,null,null,{"$f":"IFERROR(IF(A5606=\"\",\"\",VLOOKUP(J5606,'Соответствия статей'!$A$2:$B$50,2,0)),\"Другое\")","v":""}]
[null,null,null,null,null,null,null,null,null,null,null,null,null,{"$f":"IFERROR(IF(A5609=\"\",\"\",VLOOKUP(J5609,'Соответствия статей'!$A$2:$B$50,2,0)),\"Другое\")","v":""}]
[null,null,null,null,null,null,null,null,null,null,null,null,null,{"$f":"IFERROR(IF(A5618=\"\",\"\",VLOOKUP(J5618,'Соответствия статей'!$A$2:$B$50,2,0)),\"Другое\")","v":""}]
[null,null,null,null,null,null,null,null,null,null,null,null,null,{"$f":"IFERROR(IF(A5620=\"\",\"\",VLOOKUP(J5620,'Соответствия статей'!$A$2:$B$50,2,0)),\"Другое\")","v":""}]
[null,null,null,null,null,null,null,null,null,null,null,null,null,{"$f":"IFERROR(IF(A5629=\"\",\"\",VLOOKUP(J5629,'Соответствия статей'!$A$2:$B$50,2,0)),\"Другое\")","v":""}]
[null,null,null,null,null,null,null,null,null,null,null,null,null,{"$f":"IFERROR(IF(A5632=\"\",\"\",VLOOKUP(J5632,'Соответствия статей'!$A$2:$B$50,2,0)),\"Другое\")","v":""}]
[null,null,null,null,null,null,null,null,null,null,null,null,null,{"$f":"IFERROR(IF(A5639=\"\",\"\",VLOOKUP(J5639,'Соответствия статей'!$A$2:$B$50,2,0)),\"Другое\")","v":""}]
[null,null,null,null,null,null,null,null,null,null,null,null,null,{"$f":"IFERROR(IF(A5646=\"\",\"\",VLOOKUP(J5646,'Соответствия статей'!$A$2:$B$50,2,0)),\"Другое\")","v":""}]
[null,null,null,null,null,null,null,null,null,null,null,null,null,{"$f":"IFERROR(IF(A5656=\"\",\"\",VLOOKUP(J5656,'Соответствия статей'!$A$2:$B$50,2,0)),\"Другое\")","v":""}]
[null,null,null,null,null,null,null,null,null,null,null,null,null,{"$f":"IFERROR(IF(A5659=\"\",\"\",VLOOKUP(J5659,'Соответствия статей'!$A$2:$B$50,2,0)),\"Другое\")","v":""}]
[null,null,null,null,null,null,null,null,null,null,null,null,null,{"$f":"IFERROR(IF(A5668=\"\",\"\",VLOOKUP(J5668,'Соответствия статей'!$A$2:$B$50,2,0)),\"Другое\")","v":""}]
[null,null,null,null,null,null,null,null,null,null,null,null,null,{"$f":"IFERROR(IF(A5669=\"\",\"\",VLOOKUP(J5669,'Соответствия статей'!$A$2:$B$50,2,0)),\"Другое\")","v":""}]
[null,null,null,null,null,null,null,null,null,null,null,null,null,{"$f":"IFERROR(IF(A5679=\"\",\"\",VLOOKUP(J5679,'Соответствия статей'!$A$2:$B$50,2,0)),\"Другое\")","v":""}]
[null,null,null,null,null,null,null,null,null,null,null,null,null,{"$f":"IFERROR(IF(A5682=\"\",\"\",VLOOKUP(J5682,'Соответствия статей'!$A$2:$B$50,2,0)),\"Другое\")","v":""}]
[null,null,null,null,null,null,null,null,null,null,null,null,null,{"$f":"IFERROR(IF(A5689=\"\",\"\",VLOOKUP(J5689,'Соответствия статей'!$A$2:$B$50,2,0)),\"Другое\")","v":""}]
[null,null,null,null,null,null,null,null,null,null,null,null,null,{"$f":"IFERROR(IF(A5695=\"\",\"\",VLOOKUP(J5695,'Соответствия статей'!$A$2:$B$50,2,0)),\"Другое\")","v":""}]
[null,null,null,null,null,null,null,null,null,null,null,null,null,{"$f":"IFERROR(IF(A5706=\"\",\"\",VLOOKUP(J5706,'Соответствия статей'!$A$2:$B$50,2,0)),\"Другое\")","v":""}]
[null,null,null,null,null,null,null,null,null,null,null,null,null,{"$f":"IFERROR(IF(A5709=\"\",\"\",VLOOKUP(J5709,'Соответствия статей'!$A$2:$B$50,2,0)),\"Другое\")","v":""}]
[null,null,null,null,null,null,null,null,null,null,null,null,null,{"$f":"IFERROR(IF(A5718=\"\",\"\",VLOOKUP(J5718,'Соответствия статей'!$A$2:$B$50,2,0)),\"Другое\")","v":""}]
[null,null,null,null,null,null,null,null,null,null,null,null,null,{"$f":"IFERROR(IF(A5725=\"\",\"\",VLOOKUP(J5725,'Соответствия статей'!$A$2:$B$50,2,0)),\"Другое\")","v":""}]
[null,null,null,null,null,null,null,null,null,null,null,null,null,{"$f":"IFERROR(IF(A5729=\"\",\"\",VLOOKUP(J5729,'Соответствия статей'!$A$2:$B$50,2,0)),\"Другое\")","v":""}]
[null,null,null,null,null,null,null,null,null,null,null,null,null,{"$f":"IFERROR(IF(A5736=\"\",\"\",VLOOKUP(J5736,'Соответствия статей'!$A$2:$B$50,2,0)),\"Другое\")","v":""}]
[null,null,null,null,null,null,null,null,null,null,null,null,null,{"$f":"IFERROR(IF(A5739=\"\",\"\",VLOOKUP(J5739,'Соответствия статей'!$A$2:$B$50,2,0)),\"Другое\")","v":""}]
[null,null,null,null,null,null,null,null,null,null,null,null,null,{"$f":"IFERROR(IF(A5744=\"\",\"\",VLOOKUP(J5744,'Соответствия статей'!$A$2:$B$50,2,0)),\"Другое\")","v":""}]
[null,null,null,null,null,null,null,null,null,null,null,null,null,{"$f":"IFERROR(IF(A5756=\"\",\"\",VLOOKUP(J5756,'Соответствия статей'!$A$2:$B$50,2,0)),\"Другое\")","v":""}]
[null,null,null,null,null,null,null,null,null,null,null,null,null,{"$f":"IFERROR(IF(A5759=\"\",\"\",VLOOKUP(J5759,'Соответствия статей'!$A$2:$B$50,2,0)),\"Другое\")","v":""}]
[null,null,null,null,null,null,null,null,null,null,null,null,null,{"$f":"IFERROR(IF(A5768=\"\",\"\",VLOOKUP(J5768,'Соответствия статей'!$A$2:$B$50,2,0)),\"Другое\")","v":""}]
[null,null,null,null,null,null,null,null,null,null,null,null,null,{"$f":"IFERROR(IF(A5774=\"\",\"\",VLOOKUP(J5774,'Соответствия статей'!$A$2:$B$50,2,0)),\"Другое\")","v":""}]
[null,null,null,null,null,null,null,null,null,null,null,null,null,{"$f":"IFERROR(IF(A5779=\"\",\"\",VLOOKUP(J5779,'Соответствия статей'!$A$2:$B$50,2,0)),\"Другое\")","v":""}]
[null,null,null,null,null,null,null,null,null,null,null,null,null,{"$f":"IFERROR(IF(A5786=\"\",\"\",VLOOKUP(J5786,'Соответствия статей'!$A$2:$B$50,2,0)),\"Другое\")","v":""}]
[null,null,null,null,null,null,null,null,null,null,null,null,null,{"$f":"IFERROR(IF(A5789=\"\",\"\",VLOOKUP(J5789,'Соответствия статей'!$A$2:$B$50,2,0)),\"Другое\")","v":""}]
[null,null,null,null,null,null,null,null,null,null,null,null,null,{"$f":"IFERROR(IF(A5800=\"\",\"\",VLOOKUP(J5800,'Соответствия статей'!$A$2:$B$50,2,0)),\"Другое\")","v":""}]
[null,null,null,null,null,null,null,null,null,null,null,null,null,{"$f":"IFERROR(IF(A5806=\"\",\"\",VLOOKUP(J5806,'Соответствия статей'!$A$2:$B$50,2,0)),\"Другое\")","v":""}]
[null,null,null,null,null,null,null,null,null,null,null,null,null,{"$f":"IFERROR(IF(A5809=\"\",\"\",VLOOKUP(J5809,'Соответствия статей'!$A$2:$B$50,2,0)),\"Другое\")","v":""}]
[null,null,null,null,null,null,null,null,null,null,null,null,null,{"$f":"IFERROR(IF(A5818=\"\",\"\",VLOOKUP(J5818,'Соответствия статей'!$A$2:$B$50,2,0)),\"Другое\")","v":""}]
[null,null,null,null,null,null,null,null,null,null,null,null,null,{"$f":"IFERROR(IF(A5823=\"\",\"\",VLOOKUP(J5823,'Соответствия статей'!$A$2:$B$50,2,0)),\"Другое\")","v":""}]
[null,null,null,null,null,null,null,null,null,null,null,null,null,{"$f":"IFERROR(IF(A5829=\"\",\"\",VLOOKUP(J5829,'Соответствия статей'!$A$2:$B$50,2,0)),\"Другое\")","v":""}]
[null,null,null,null,null,null,null,null,null,null,null,null,null,{"$f":"IFERROR(IF(A5836=\"\",\"\",VLOOKUP(J5836,'Соответствия статей'!$A$2:$B$50,2,0)),\"Другое\")","v":""}]
[null,null,null,null,null,null,null,null,null,null,null,null,null,{"$f":"IFERROR(IF(A5839=\"\",\"\",VLOOKUP(J5839,'Соответствия статей'!$A$2:$B$50,2,0)),\"Другое\")","v":""}]
[null,null,null,null,null,null,null,null,null,null,null,null,null,{"$f":"IFERROR(IF(A5849=\"\",\"\",VLOOKUP(J5849,'Соответствия статей'!$A$2:$B$50,2,0)),\"Другое\")","v":""}]
[null,null,null,null,null,null,null,null,null,null,null,null,null,{"$f":"IFERROR(IF(A5856=\"\",\"\",VLOOKUP(J5856,'Соответствия статей'!$A$2:$B$50,2,0)),\"Другое\")","v":""}]
[null,null,null,null,null,null,null,null,null,null,null,null,null,{"$f":"IFERROR(IF(A5859=\"\",\"\",VLOOKUP(J5859,'Соответствия статей'!$A$2:$B$50,2,0)),\"Другое\")","v":""}]
[null,null,null,null,null,null,null,null,null,null,null,null,null,{"$f":"IFERROR(IF(A5866=\"\",\"\",VLOOKUP(J5866,'Соответствия статей'!$A$2:$B$50,2,0)),\"Другое\")","v":""}]
[null,null,null,null,null,null,null,null,null,null,null,null,null,{"$f":"IFERROR(IF(A5872=\"\",\"\",VLOOKUP(J5872,'Соответствия статей'!$A$2:$B$50,2,0)),\"Другое\")","v":""}]
[null,null,null,null,null,null,null,null,null,null,null,null,null,{"$f":"IFERROR(IF(A5879=\"\",\"\",VLOOKUP(J5879,'Соответствия статей'!$A$2:$B$50,2,0)),\"Другое\")","v":""}]
[null,null,null,null,null,null,null,null,null,null,null,null,null,{"$f":"IFERROR(IF(A5886=\"\",\"\",VLOOKUP(J5886,'Соответствия статей'!$A$2:$B$50,2,0)),\"Другое\")","v":""}]
[null,null,null,null,null,null,null,null,null,null,null,null,null,{"$f":"IFERROR(IF(A5889=\"\",\"\",VLOOKUP(J5889,'Соответствия статей'!$A$2:$B$50,2,0)),\"Другое\")","v":""}]
[null,null,null,null,null,null,null,null,null,null,null,null,null,{"$f":"IFERROR(IF(A5898=\"\",\"\",VLOOKUP(J5898,'Соответствия статей'!$A$2:$B$50,2,0)),\"Другое\")","v":""}]
[null,null,null,null,null,null,null,null,null,null,null,null,null,{"$f":"IFERROR(IF(A5906=\"\",\"\",VLOOKUP(J5906,'Соответствия статей'!$A$2:$B$50,2,0)),\"Другое\")","v":""}]
[null,null,null,null,null,null,null,null,null,null,null,null,null,{"$f":"IFERROR(IF(A5909=\"\",\"\",VLOOKUP(J5909,'Соответствия статей'!$A$2:$B$50,2,0)),\"Другое\")","v":""}]
[null,null,null,null,null,null,null,null,null,null,null,null,null,{"$f":"IFERROR(IF(A5916=\"\",\"\",VLOOKUP(J5916,'Соответствия статей'!$A$2:$B$50,2,0)),\"Другое\")","v":""}]
[null,null,null,null,null,null,null,null,null,null,null,null,null,{"$f":"IFERROR(IF(A5921=\"\",\"\",VLOOKUP(J5921,'Соответствия статей'!$A$2:$B$50,2,0)),\"Другое\")","v":""}]
[null,null,null,null,null,null,null,null,null,null,null,null,null,{"$f":"IFERROR(IF(A5929=\"\",\"\",VLOOKUP(J5929,'Соответствия статей'!$A$2:$B$50,2,0)),\"Другое\")","v":""}]
[null,null,null,null,null,null,null,null,null,null,null,null,null,{"$f":"IFERROR(IF(A5936=\"\",\"\",VLOOKUP(J5936,'Соответствия статей'!$A$2:$B$50,2,0)),\"Другое\")","v":""}]
[null,null,null,null,null,null,null,null,null,null,null,null,null,{"$f":"IFERROR(IF(A5939=\"\",\"\",VLOOKUP(J5939,'Соответствия статей'!$A$2:$B$50,2,0)),\"Другое\")","v":""}]
[null,null,null,null,null,null,null,null,null,null,null,null,null,{"$f":"IFERROR(IF(A5944=\"\",\"\",VLOOKUP(J5944,'Соответствия статей'!$A$2:$B$50,2,0)),\"Другое\")","v":""}]
[null,null,null,null,null,null,null,null,null,null,null,null,null,{"$f":"IFERROR(IF(A5956=\"\",\"\",VLOOKUP(J5956,'Соответствия статей'!$A$2:$B$50,2,0)),\"Другое\")","v":""}]
[null,null,null,null,null,null,null,null,null,null,null,null,null,{"$f":"IFERROR(IF(A5959=\"\",\"\",VLOOKUP(J5959,'Соответствия статей'!$A$2:$B$50,2,0)),\"Другое\")","v":""}]
[null,null,null,null,null,null,null,null,null,null,null,null,null,{"$f":"IFERROR(IF(A5966=\"\",\"\",VLOOKUP(J5966,'Соответствия статей'!$A$2:$B$50,2,0)),\"Другое\")","v":""}]
[null,null,null,null,null,null,null,null,null,null,null,null,null,{"$f":"IFERROR(IF(A5970=\"\",\"\",VLOOKUP(J5970,'Соответствия статей'!$A$2:$B$50,2,0)),\"Другое\")","v":""}]
[null,null,null,null,null,null,null,null,null,null,null,null,null,{"$f":"IFERROR(IF(A5979=\"\",\"\",VLOOKUP(J5979,'Соответствия статей'!$A$2:$B$50,2,0)),\"Другое\")","v":""}]
[null,null,null,null,null,null,null,null,null,null,null,null,null,{"$f":"IFERROR(IF(A5986=\"\",\"\",VLOOKUP(J5986,'Соответствия статей'!$A$2:$B$50,2,0)),\"Другое\")","v":""}]
[null,null,null,null,null,null,null,null,null,null,null,null,null,{"$f":"IFERROR(IF(A5989=\"\",\"\",VLOOKUP(J5989,'Соответствия статей'!$A$2:$B$50,2,0)),\"Другое\")","v":""}]
[null,null,null,null,null,null,null,null,null,null,null,null,null,{"$f":"IFERROR(IF(A6000=\"\",\"\",VLOOKUP(J6000,'Соответствия статей'!$A$2:$B$50,2,0)),\"Другое\")","v":""}]
[null,null,null,null,null,null,null,null,null,null,null,null,null,{"$f":"IFERROR(IF(A6006=\"\",\"\",VLOOKUP(J6006,'Соответствия статей'!$A$2:$B$50,2,0)),\"Другое\")","v":""}]
[null,null,null,null,null,null,null,null,null,null,null,null,null,{"$f":"IFERROR(IF(A6009=\"\",\"\",VLOOKUP(J6009,'Соответствия статей'!$A$2:$B$50,2,0)),\"Другое\")","v":""}]
[null,null,null,null,null,null,null,null,null,null,null,null,null,{"$f":"IFERROR(IF(A6016=\"\",\"\",VLOOKUP(J6016,'Соответствия статей'!$A$2:$B$50,2,0)),\"Другое\")","v":""}]
[null,null,null,null,null,null,null,null,null,null,null,null,null,{"$f":"IFERROR(IF(A6019=\"\",\"\",VLOOKUP(J6019,'Соответствия статей'!$A$2:$B$50,2,0)),\"Другое\")","v":""}]
[null,null,null,null,null,null,null,null,null,null,null,null,null,{"$f":"IFERROR(IF(A6029=\"\",\"\",VLOOKUP(J6029,'Соответствия статей'!$A$2:$B$50,2,0)),\"Другое\")","v":""}]
[null,null,null,null,null,null,null,null,null,null,null,null,null,{"$f":"IFERROR(IF(A6036=\"\",\"\",VLOOKUP(J6036,'Соответствия статей'!$A$2:$B$50,2,0)),\"Другое\")","v":""}]
[null,null,null,null,null,null,null,null,null,null,null,null,null,{"$f":"IFERROR(IF(A6039=\"\",\"\",VLOOKUP(J6039,'Соответствия статей'!$A$2:$B$50,2,0)),\"Другое\")","v":""}]
[null,null,null,null,null,null,null,null,null,null,null,null,null,{"$f":"IFERROR(IF(A6049=\"\",\"\",VLOOKUP(J6049,'Соответствия статей'!$A$2:$B$50,2,0)),\"Другое\")","v":""}]
[null,null,null,null,null,null,null,null,null,null,null,null,null,{"$f":"IFERROR(IF(A6056=\"\",\"\",VLOOKUP(J6056,'Соответствия статей'!$A$2:$B$50,2,0)),\"Другое\")","v":""}]
[null,null,null,null,null,null,null,null,null,null,null,null,null,{"$f":"IFERROR(IF(A6059=\"\",\"\",VLOOKUP(J6059,'Соответствия статей'!$A$2:$B$50,2,0)),\"Другое\")","v":""}]
[null,null,null,null,null,null,null,null,null,null,null,null,null,{"$f":"IFERROR(IF(A6066=\"\",\"\",VLOOKUP(J6066,'Соответствия статей'!$A$2:$B$50,2,0)),\"Другое\")","v":""}]
[null,null,null,null,null,null,null,null,null,null,null,null,null,{"$f":"IFERROR(IF(A6075=\"\",\"\",VLOOKUP(J6075,'Соответствия статей'!$A$2:$B$50,2,0)),\"Другое\")","v":""}]
[null,null,null,null,null,null,null,null,null,null,null,null,null,{"$f":"IFERROR(IF(A6077=\"\",\"\",VLOOKUP(J6077,'Соответствия статей'!$A$2:$B$50,2,0)),\"Другое\")","v":""}]
[null,null,null,null,null,null,null,null,null,null,null,null,null,{"$f":"IFERROR(IF(A6086=\"\",\"\",VLOOKUP(J6086,'Соответствия статей'!$A$2:$B$50,2,0)),\"Другое\")","v":""}]
[null,null,null,null,null,null,null,null,null,null,null,null,null,{"$f":"IFERROR(IF(A6089=\"\",\"\",VLOOKUP(J6089,'Соответствия статей'!$A$2:$B$50,2,0)),\"Другое\")","v":""}]
[null,null,null,null,null,null,null,null,null,null,null,null,null,{"$f":"IFERROR(IF(A6098=\"\",\"\",VLOOKUP(J6098,'Соответствия статей'!$A$2:$B$50,2,0)),\"Другое\")","v":""}]
[null,null,null,null,null,null,null,null,null,null,null,null,null,{"$f":"IFERROR(IF(A6106=\"\",\"\",VLOOKUP(J6106,'Соответствия статей'!$A$2:$B$50,2,0)),\"Другое\")","v":""}]
[null,null,null,null,null,null,null,null,null,null,null,null,null,{"$f":"IFERROR(IF(A6109=\"\",\"\",VLOOKUP(J6109,'Соответствия статей'!$A$2:$B$50,2,0)),\"Другое\")","v":""}]
[null,null,null,null,null,null,null,null,null,null,null,null,null,{"$f":"IFERROR(IF(A6116=\"\",\"\",VLOOKUP(J6116,'Соответствия статей'!$A$2:$B$50,2,0)),\"Другое\")","v":""}]
[null,null,null,null,null,null,null,null,null,null,null,null,null,{"$f":"IFERROR(IF(A6124=\"\",\"\",VLOOKUP(J6124,'Соответствия статей'!$A$2:$B$50,2,0)),\"Другое\")","v":""}]
[null,null,null,null,null,null,null,null,null,null,null,null,null,{"$f":"IFERROR(IF(A6127=\"\",\"\",VLOOKUP(J6127,'Соответствия статей'!$A$2:$B$50,2,0)),\"Другое\")","v":""}]
[null,null,null,null,null,null,null,null,null,null,null,null,null,{"$f":"IFERROR(IF(A6136=\"\",\"\",VLOOKUP(J6136,'Соответствия статей'!$A$2:$B$50,2,0)),\"Другое\")","v":""}]
[null,null,null,null,null,null,null,null,null,null,null,null,null,{"$f":"IFERROR(IF(A6139=\"\",\"\",VLOOKUP(J6139,'Соответствия статей'!$A$2:$B$50,2,0)),\"Другое\")","v":""}]
[null,null,null,null,null,null,null,null,null,null,null,null,null,{"$f":"IFERROR(IF(A6147=\"\",\"\",VLOOKUP(J6147,'Соответствия статей'!$A$2:$B$50,2,0)),\"Другое\")","v":""}]
[null,null,null,null,null,null,null,null,null,null,null,null,null,{"$f":"IFERROR(IF(A6156=\"\",\"\",VLOOKUP(J6156,'Соответствия статей'!$A$2:$B$50,2,0)),\"Другое\")","v":""}]
[null,null,null,null,null,null,null,null,null,null,null,null,null,{"$f":"IFERROR(IF(A6157=\"\",\"\",VLOOKUP(J6157,'Соответствия статей'!$A$2:$B$50,2,0)),\"Другое\")","v":""}]
[null,null,null,null,null,null,null,null,null,null,null,null,null,{"$f":"IFERROR(IF(A6166=\"\",\"\",VLOOKUP(J6166,'Соответствия статей'!$A$2:$B$50,2,0)),\"Другое\")","v":""}]
[null,null,null,null,null,null,null,null,null,null,null,null,null,{"$f":"IFERROR(IF(A6173=\"\",\"\",VLOOKUP(J6173,'Соответствия статей'!$A$2:$B$50,2,0)),\"Другое\")","v":""}]
[null,null,null,null,null,null,null,null,null,null,null,null,null,{"$f":"IFERROR(IF(A6177=\"\",\"\",VLOOKUP(J6177,'Соответствия статей'!$A$2:$B$50,2,0)),\"Другое\")","v":""}]
[null,null,null,null,null,null,null,null,null,null,null,null,null,{"$f":"IFERROR(IF(A6186=\"\",\"\",VLOOKUP(J6186,'Соответствия статей'!$A$2:$B$50,2,0)),\"Другое\")","v":""}]
[null,null,null,null,null,null,null,null,null,null,null,null,null,{"$f":"IFERROR(IF(A6189=\"\",\"\",VLOOKUP(J6189,'Соответствия статей'!$A$2:$B$50,2,0)),\"Другое\")","v":""}]
[null,null,null,null,null,null,null,null,null,null,null,null,null,{"$f":"IFERROR(IF(A6196=\"\",\"\",VLOOKUP(J6196,'Соответствия статей'!$A$2:$B$50,2,0)),\"Другое\")","v":""}]
[null,null,null,null,null,null,null,null,null,null,null,null,null,{"$f":"IFERROR(IF(A6206=\"\",\"\",VLOOKUP(J6206,'Соответствия статей'!$A$2:$B$50,2,0)),\"Другое\")","v":""}]
[null,null,null,null,null,null,null,null,null,null,null,null,null,{"$f":"IFERROR(IF(A6207=\"\",\"\",VLOOKUP(J6207,'Соответствия статей'!$A$2:$B$50,2,0)),\"Другое\")","v":""}]
[null,null,null,null,null,null,null,null,null,null,null,null,null,{"$f":"IFERROR(IF(A6216=\"\",\"\",VLOOKUP(J6216,'Соответствия статей'!$A$2:$B$50,2,0)),\"Другое\")","v":""}]
[null,null,null,null,null,null,null,null,null,null,null,null,null,{"$f":"IFERROR(IF(A6222=\"\",\"\",VLOOKUP(J6222,'Соответствия статей'!$A$2:$B$50,2,0)),\"Другое\")","v":""}]
[null,null,null,null,null,null,null,null,null,null,null,null,null,{"$f":"IFERROR(IF(A6227=\"\",\"\",VLOOKUP(J6227,'Соответствия статей'!$A$2:$B$50,2,0)),\"Другое\")","v":""}]
[null,null,null,null,null,null,null,null,null,null,null,null,null,{"$f":"IFERROR(IF(A6236=\"\",\"\",VLOOKUP(J6236,'Соответствия статей'!$A$2:$B$50,2,0)),\"Другое\")","v":""}]
[null,null,null,null,null,null,null,null,null,null,null,null,null,{"$f":"IFERROR(IF(A6239=\"\",\"\",VLOOKUP(J6239,'Соответствия статей'!$A$2:$B$50,2,0)),\"Другое\")","v":""}]
[null,null,null,null,null,null,null,null,null,null,null,null,null,{"$f":"IFERROR(IF(A6245=\"\",\"\",VLOOKUP(J6245,'Соответствия статей'!$A$2:$B$50,2,0)),\"Другое\")","v":""}]
[null,null,null,null,null,null,null,null,null,null,null,null,null,{"$f":"IFERROR(IF(A6256=\"\",\"\",VLOOKUP(J6256,'Соответствия статей'!$A$2:$B$50,2,0)),\"Другое\")","v":""}]
[null,null,null,null,null,null,null,null,null,null,null,null,null,{"$f":"IFERROR(IF(A6257=\"\",\"\",VLOOKUP(J6257,'Соответствия статей'!$A$2:$B$50,2,0)),\"Другое\")","v":""}]
[null,null,null,null,null,null,null,null,null,null,null,null,null,{"$f":"IFERROR(IF(A6266=\"\",\"\",VLOOKUP(J6266,'Соответствия статей'!$A$2:$B$50,2,0)),\"Другое\")","v":""}]
[null,null,null,null,null,null,null,null,null,null,null,null,null,{"$f":"IFERROR(IF(A6271=\"\",\"\",VLOOKUP(J6271,'Соответствия статей'!$A$2:$B$50,2,0)),\"Другое\")","v":""}]
[null,null,null,null,null,null,null,null,null,null,null,null,null,{"$f":"IFERROR(IF(A6277=\"\",\"\",VLOOKUP(J6277,'Соответствия статей'!$A$2:$B$50,2,0)),\"Другое\")","v":""}]
[null,null,null,null,null,null,null,null,null,null,null,null,null,{"$f":"IFERROR(IF(A6286=\"\",\"\",VLOOKUP(J6286,'Соответствия статей'!$A$2:$B$50,2,0)),\"Другое\")","v":""}]
[null,null,null,null,null,null,null,null,null,null,null,null,null,{"$f":"IFERROR(IF(A6293=\"\",\"\",VLOOKUP(J6293,'Соответствия статей'!$A$2:$B$50,2,0)),\"Другое\")","v":""}]
[null,null,null,null,null,null,null,null,null,null,null,null,null,{"$f":"IFERROR(IF(A6294=\"\",\"\",VLOOKUP(J6294,'Соответствия статей'!$A$2:$B$50,2,0)),\"Другое\")","v":""}]
[null,null,null,null,null,null,null,null,null,null,null,null,null,{"$f":"IFERROR(IF(A6306=\"\",\"\",VLOOKUP(J6306,'Соответствия статей'!$A$2:$B$50,2,0)),\"Другое\")","v":""}]
[null,null,null,null,null,null,null,null,null,null,null,null,null,{"$f":"IFERROR(IF(A6307=\"\",\"\",VLOOKUP(J6307,'Соответствия статей'!$A$2:$B$50,2,0)),\"Другое\")","v":""}]
[null,null,null,null,null,null,null,null,null,null,null,null,null,{"$f":"IFERROR(IF(A6316=\"\",\"\",VLOOKUP(J6316,'Соответствия статей'!$A$2:$B$50,2,0)),\"Другое\")","v":""}]
[null,null,null,null,null,null,null,null,null,null,null,null,null,{"$f":"IFERROR(IF(A6320=\"\",\"\",VLOOKUP(J6320,'Соответствия статей'!$A$2:$B$50,2,0)),\"Другое\")","v":""}]
[null,null,null,null,null,null,null,null,null,null,null,null,null,{"$f":"IFERROR(IF(A6327=\"\",\"\",VLOOKUP(J6327,'Соответствия статей'!$A$2:$B$50,2,0)),\"Другое\")","v":""}]
[null,null,null,null,null,null,null,null,null,null,null,null,null,{"$f":"IFERROR(IF(A6336=\"\",\"\",VLOOKUP(J6336,'Соответствия статей'!$A$2:$B$50,2,0)),\"Другое\")","v":""}]
[null,null,null,null,null,null,null,null,null,null,null,null,null,{"$f":"IFERROR(IF(A6343=\"\",\"\",VLOOKUP(J6343,'Соответствия статей'!$A$2:$B$50,2,0)),\"Другое\")","v":""}]
[null,null,null,null,null,null,null,null,null,null,null,null,null,{"$f":"IFERROR(IF(A6350=\"\",\"\",VLOOKUP(J6350,'Соответствия статей'!$A$2:$B$50,2,0)),\"Другое\")","v":""}]
[null,null,null,null,null,null,null,null,null,null,null,null,null,{"$f":"IFERROR(IF(A6356=\"\",\"\",VLOOKUP(J6356,'Соответствия статей'!$A$2:$B$50,2,0)),\"Другое\")","v":""}]
[null,null,null,null,null,null,null,null,null,null,null,null,null,{"$f":"IFERROR(IF(A6357=\"\",\"\",VLOOKUP(J6357,'Соответствия статей'!$A$2:$B$50,2,0)),\"Другое\")","v":""}]
[null,null,null,null,null,null,null,null,null,null,null,null,null,{"$f":"IFERROR(IF(A6366=\"\",\"\",VLOOKUP(J6366,'Соответствия статей'!$A$2:$B$50,2,0)),\"Другое\")","v":""}]
[null,null,null,null,null,null,null,null,null,null,null,null,null,{"$f":"IFERROR(IF(A6369=\"\",\"\",VLOOKUP(J6369,'Соответствия статей'!$A$2:$B$50,2,0)),\"Другое\")","v":""}]
[null,null,null,null,null,null,null,null,null,null,null,null,null,{"$f":"IFERROR(IF(A6377=\"\",\"\",VLOOKUP(J6377,'Соответствия статей'!$A$2:$B$50,2,0)),\"Другое\")","v":""}]
[null,null,null,null,null,null,null,null,null,null,null,null,null,{"$f":"IFERROR(IF(A6386=\"\",\"\",VLOOKUP(J6386,'Соответствия статей'!$A$2:$B$50,2,0)),\"Другое\")","v":""}]
[null,null,null,null,null,null,null,null,null,null,null,null,null,{"$f":"IFERROR(IF(A6393=\"\",\"\",VLOOKUP(J6393,'Соответствия статей'!$A$2:$B$50,2,0)),\"Другое\")","v":""}]
[null,null,null,null,null,null,null,null,null,null,null,null,null,{"$f":"IFERROR(IF(A6399=\"\",\"\",VLOOKUP(J6399,'Соответствия статей'!$A$2:$B$50,2,0)),\"Другое\")","v":""}]
[null,null,null,null,null,null,null,null,null,null,null,null,null,{"$f":"IFERROR(IF(A6406=\"\",\"\",VLOOKUP(J6406,'Соответствия статей'!$A$2:$B$50,2,0)),\"Другое\")","v":""}]
[null,null,null,null,null,null,null,null,null,null,null,null,null,{"$f":"IFERROR(IF(A6407=\"\",\"\",VLOOKUP(J6407,'Соответствия статей'!$A$2:$B$50,2,0)),\"Другое\")","v":""}]
[null,null,null,null,null,null,null,null,null,null,null,null,null,{"$f":"IFERROR(IF(A6416=\"\",\"\",VLOOKUP(J6416,'Соответствия статей'!$A$2:$B$50,2,0)),\"Другое\")","v":""}]
[null,null,null,null,null,null,null,null,null,null,null,null,null,{"$f":"IFERROR(IF(A6422=\"\",\"\",VLOOKUP(J6422,'Соответствия статей'!$A$2:$B$50,2,0)),\"Другое\")","v":""}]
[null,null,null,null,null,null,null,null,null,null,null,null,null,{"$f":"IFERROR(IF(A6427=\"\",\"\",VLOOKUP(J6427,'Соответствия статей'!$A$2:$B$50,2,0)),\"Другое\")","v":""}]
[null,null,null,null,null,null,null,null,null,null,null,null,null,{"$f":"IFERROR(IF(A6436=\"\",\"\",VLOOKUP(J6436,'Соответствия статей'!$A$2:$B$50,2,0)),\"Другое\")","v":""}]
[null,null,null,null,null,null,null,null,null,null,null,null,null,{"$f":"IFERROR(IF(A6443=\"\",\"\",VLOOKUP(J6443,'Соответствия статей'!$A$2:$B$50,2,0)),\"Другое\")","v":""}]
[null,null,null,null,null,null,null,null,null,null,null,null,null,{"$f":"IFERROR(IF(A6448=\"\",\"\",VLOOKUP(J6448,'Соответствия статей'!$A$2:$B$50,2,0)),\"Другое\")","v":""}]
[null,null,null,null,null,null,null,null,null,null,null,null,null,{"$f":"IFERROR(IF(A6456=\"\",\"\",VLOOKUP(J6456,'Соответствия статей'!$A$2:$B$50,2,0)),\"Другое\")","v":""}]
[null,null,null,null,null,null,null,null,null,null,null,null,null,{"$f":"IFERROR(IF(A6457=\"\",\"\",VLOOKUP(J6457,'Соответствия статей'!$A$2:$B$50,2,0)),\"Другое\")","v":""}]
[null,null,null,null,null,null,null,null,null,null,null,null,null,{"$f":"IFERROR(IF(A6466=\"\",\"\",VLOOKUP(J6466,'Соответствия статей'!$A$2:$B$50,2,0)),\"Другое\")","v":""}]
[null,null,null,null,null,null,null,null,null,null,null,null,null,{"$f":"IFERROR(IF(A6471=\"\",\"\",VLOOKUP(J6471,'Соответствия статей'!$A$2:$B$50,2,0)),\"Другое\")","v":""}]
[null,null,null,null,null,null,null,null,null,null,null,null,null,{"$f":"IFERROR(IF(A6477=\"\",\"\",VLOOKUP(J6477,'Соответствия статей'!$A$2:$B$50,2,0)),\"Другое\")","v":""}]
[null,null,null,null,null,null,null,null,null,null,null,null,null,{"$f":"IFERROR(IF(A6486=\"\",\"\",VLOOKUP(J6486,'Соответствия статей'!$A$2:$B$50,2,0)),\"Другое\")","v":""}]
[null,null,null,null,null,null,null,null,null,null,null,null,null,{"$f":"IFERROR(IF(A6493=\"\",\"\",VLOOKUP(J6493,'Соответствия статей'!$A$2:$B$50,2,0)),\"Другое\")","v":""}]
[null,null,null,null,null,null,null,null,null,null,null,null,null,{"$f":"IFERROR(IF(A6497=\"\",\"\",VLOOKUP(J6497,'Соответствия статей'!$A$2:$B$50,2,0)),\"Другое\")","v":""}]
[null,null,null,null,null,null,null,null,null,null,null,null,null,{"$f":"IFERROR(IF(A6504=\"\",\"\",VLOOKUP(J6504,'Соответствия статей'!$A$2:$B$50,2,0)),\"Другое\")","v":""}]
[null,null,null,null,null,null,null,null,null,null,null,null,null,{"$f":"IFERROR(IF(A6507=\"\",\"\",VLOOKUP(J6507,'Соответствия статей'!$A$2:$B$50,2,0)),\"Другое\")","v":""}]
[null,null,null,null,null,null,null,null,null,null,null,null,null,{"$f":"IFERROR(IF(A6516=\"\",\"\",VLOOKUP(J6516,'Соответствия статей'!$A$2:$B$50,2,0)),\"Другое\")","v":""}]
[null,null,null,null,null,null,null,null,null,null,null,null,null,{"$f":"IFERROR(IF(A6520=\"\",\"\",VLOOKUP(J6520,'Соответствия статей'!$A$2:$B$50,2,0)),\"Другое\")","v":""}]
[null,null,null,null,null,null,null,null,null,null,null,null,null,{"$f":"IFERROR(IF(A6527=\"\",\"\",VLOOKUP(J6527,'Соответствия статей'!$A$2:$B$50,2,0)),\"Другое\")","v":""}]
[null,null,null,null,null,null,null,null,null,null,null,null,null,{"$f":"IFERROR(IF(A6536=\"\",\"\",VLOOKUP(J6536,'Соответствия статей'!$A$2:$B$50,2,0)),\"Другое\")","v":""}]
[null,null,null,null,null,null,null,null,null,null,null,null,null,{"$f":"IFERROR(IF(A6543=\"\",\"\",VLOOKUP(J6543,'Соответствия статей'!$A$2:$B$50,2,0)),\"Другое\")","v":""}]
[null,null,null,null,null,null,null,null,null,null,null,null,null,{"$f":"IFERROR(IF(A6546=\"\",\"\",VLOOKUP(J6546,'Соответствия статей'!$A$2:$B$50,2,0)),\"Другое\")","v":""}]
[null,null,null,null,null,null,null,null,null,null,null,null,null,{"$f":"IFERROR(IF(A6554=\"\",\"\",VLOOKUP(J6554,'Соответствия статей'!$A$2:$B$50,2,0)),\"Другое\")","v":""}]
[null,null,null,null,null,null,null,null,null,null,null,null,null,{"$f":"IFERROR(IF(A6557=\"\",\"\",VLOOKUP(J6557,'Соответствия статей'!$A$2:$B$50,2,0)),\"Другое\")","v":""}]
[null,null,null,null,null,null,null,null,null,null,null,null,null,{"$f":"IFERROR(IF(A6566=\"\",\"\",VLOOKUP(J6566,'Соответствия статей'!$A$2:$B$50,2,0)),\"Другое\")","v":""}]
[null,null,null,null,null,null,null,null,null,null,null,null,null,{"$f":"IFERROR(IF(A6569=\"\",\"\",VLOOKUP(J6569,'Соответствия статей'!$A$2:$B$50,2,0)),\"Другое\")","v":""}]
[null,null,null,null,null,null,null,null,null,null,null,null,null,{"$f":"IFERROR(IF(A6577=\"\",\"\",VLOOKUP(J6577,'Соответствия статей'!$A$2:$B$50,2,0)),\"Другое\")","v":""}]
[null,null,null,null,null,null,null,null,null,null,null,null,null,{"$f":"IFERROR(IF(A6586=\"\",\"\",VLOOKUP(J6586,'Соответствия статей'!$A$2:$B$50,2,0)),\"Другое\")","v":""}]
[null,null,null,null,null,null,null,null,null,null,null,null,null,{"$f":"IFERROR(IF(A6593=\"\",\"\",VLOOKUP(J6593,'Соответствия статей'!$A$2:$B$50,2,0)),\"Другое\")","v":""}]
[null,null,null,null,null,null,null,null,null,null,null,null,null,{"$f":"IFERROR(IF(A6595=\"\",\"\",VLOOKUP(J6595,'Соответствия статей'!$A$2:$B$50,2,0)),\"Другое\")","v":""}]
[null,null,null,null,null,null,null,null,null,null,null,null,null,{"$f":"IFERROR(IF(A6604=\"\",\"\",VLOOKUP(J6604,'Соответствия статей'!$A$2:$B$50,2,0)),\"Другое\")","v":""}]
[null,null,null,null,null,null,null,null,null,null,null,null,null,{"$f":"IFERROR(IF(A6607=\"\",\"\",VLOOKUP(J6607,'Соответствия статей'!$A$2:$B$50,2,0)),\"Другое\")","v":""}]
[null,null,null,null,null,null,null,null,null,null,null,null,null,{"$f":"IFERROR(IF(A6616=\"\",\"\",VLOOKUP(J6616,'Соответствия статей'!$A$2:$B$50,2,0)),\"Другое\")","v":""}]
[null,null,null,null,null,null,null,null,null,null,null,null,null,{"$f":"IFERROR(IF(A6625=\"\",\"\",VLOOKUP(J6625,'Соответствия статей'!$A$2:$B$50,2,0)),\"Другое\")","v":""}]
[null,null,null,null,null,null,null,null,null,null,null,null,null,{"$f":"IFERROR(IF(A6627=\"\",\"\",VLOOKUP(J6627,'Соответствия статей'!$A$2:$B$50,2,0)),\"Другое\")","v":""}]
[null,null,null,null,null,null,null,null,null,null,null,null,null,{"$f":"IFERROR(IF(A6634=\"\",\"\",VLOOKUP(J6634,'Соответствия статей'!$A$2:$B$50,2,0)),\"Другое\")","v":""}]
[null,null,null,null,null,null,null,null,null,null,null,null,null,{"$f":"IFERROR(IF(A6643=\"\",\"\",VLOOKUP(J6643,'Соответствия статей'!$A$2:$B$50,2,0)),\"Другое\")","v":""}]
[null,null,null,null,null,null,null,null,null,null,null,null,null,{"$f":"IFERROR(IF(A6644=\"\",\"\",VLOOKUP(J6644,'Соответствия статей'!$A$2:$B$50,2,0)),\"Другое\")","v":""}]
[null,null,null,null,null,null,null,null,null,null,null,null,null,{"$f":"IFERROR(IF(A6654=\"\",\"\",VLOOKUP(J6654,'Соответствия статей'!$A$2:$B$50,2,0)),\"Другое\")","v":""}]
[null,null,null,null,null,null,null,null,null,null,null,null,null,{"$f":"IFERROR(IF(A6657=\"\",\"\",VLOOKUP(J6657,'Соответствия статей'!$A$2:$B$50,2,0)),\"Другое\")","v":""}]
[null,null,null,null,null,null,null,null,null,null,null,null,null,{"$f":"IFERROR(IF(A6666=\"\",\"\",VLOOKUP(J6666,'Соответствия статей'!$A$2:$B$50,2,0)),\"Другое\")","v":""}]
[null,null,null,null,null,null,null,null,null,null,null,null,null,{"$f":"IFERROR(IF(A6674=\"\",\"\",VLOOKUP(J6674,'Соответствия статей'!$A$2:$B$50,2,0)),\"Другое\")","v":""}]
[null,null,null,null,null,null,null,null,null,null,null,null,null,{"$f":"IFERROR(IF(A6677=\"\",\"\",VLOOKUP(J6677,'Соответствия статей'!$A$2:$B$50,2,0)),\"Другое\")","v":""}]
[null,null,null,null,null,null,null,null,null,null,null,null,null,{"$f":"IFERROR(IF(A6684=\"\",\"\",VLOOKUP(J6684,'Соответствия статей'!$A$2:$B$50,2,0)),\"Другое\")","v":""}]
[null,null,null,null,null,null,null,null,null,null,null,null,null,{"$f":"IFERROR(IF(A6693=\"\",\"\",VLOOKUP(J6693,'Соответствия статей'!$A$2:$B$50,2,0)),\"Другое\")","v":""}]
[null,null,null,null,null,null,null,null,null,null,null,null,null,{"$f":"IFERROR(IF(A6700=\"\",\"\",VLOOKUP(J6700,'Соответствия статей'!$A$2:$B$50,2,0)),\"Другое\")","v":""}]
[null,null,null,null,null,null,null,null,null,null,null,null,null,{"$f":"IFERROR(IF(A6704=\"\",\"\",VLOOKUP(J6704,'Соответствия статей'!$A$2:$B$50,2,0)),\"Другое\")","v":""}]
[null,null,null,null,null,null,null,null,null,null,null,null,null,{"$f":"IFERROR(IF(A6707=\"\",\"\",VLOOKUP(J6707,'Соответствия статей'!$A$2:$B$50,2,0)),\"Другое\")","v":""}]
[null,null,null,null,null,null,null,null,null,null,null,null,null,{"$f":"IFERROR(IF(A6714=\"\",\"\",VLOOKUP(J6714,'Соответствия статей'!$A$2:$B$50,2,0)),\"Другое\")","v":""}]
[null,null,null,null,null,null,null,null,null,null,null,null,null,{"$f":"IFERROR(IF(A6723=\"\",\"\",VLOOKUP(J6723,'Соответствия статей'!$A$2:$B$50,2,0)),\"Другое\")","v":""}]
[null,null,null,null,null,null,null,null,null,null,null,null,null,{"$f":"IFERROR(IF(A6727=\"\",\"\",VLOOKUP(J6727,'Соответствия статей'!$A$2:$B$50,2,0)),\"Другое\")","v":""}]
[null,null,null,null,null,null,null,null,null,null,null,null,null,{"$f":"IFERROR(IF(A6734=\"\",\"\",VLOOKUP(J6734,'Соответствия статей'!$A$2:$B$50,2,0)),\"Другое\")","v":""}]
[null,null,null,null,null,null,null,null,null,null,null,null,null,{"$f":"IFERROR(IF(A6743=\"\",\"\",VLOOKUP(J6743,'Соответствия статей'!$A$2:$B$50,2,0)),\"Другое\")","v":""}]
[null,null,null,null,null,null,null,null,null,null,null,null,null,{"$f":"IFERROR(IF(A6749=\"\",\"\",VLOOKUP(J6749,'Соответствия статей'!$A$2:$B$50,2,0)),\"Другое\")","v":""}]
[null,null,null,null,null,null,null,null,null,null,null,null,null,{"$f":"IFERROR(IF(A6754=\"\",\"\",VLOOKUP(J6754,'Соответствия статей'!$A$2:$B$50,2,0)),\"Другое\")","v":""}]
[null,null,null,null,null,null,null,null,null,null,null,null,null,{"$f":"IFERROR(IF(A6757=\"\",\"\",VLOOKUP(J6757,'Соответствия статей'!$A$2:$B$50,2,0)),\"Другое\")","v":""}]
[null,null,null,null,null,null,null,null,null,null,null,null,null,{"$f":"IFERROR(IF(A6764=\"\",\"\",VLOOKUP(J6764,'Соответствия статей'!$A$2:$B$50,2,0)),\"Другое\")","v":""}]
[null,null,null,null,null,null,null,null,null,null,null,null,null,{"$f":"IFERROR(IF(A6772=\"\",\"\",VLOOKUP(J6772,'Соответствия статей'!$A$2:$B$50,2,0)),\"Другое\")","v":""}]
[null,null,null,null,null,null,null,null,null,null,null,null,null,{"$f":"IFERROR(IF(A6777=\"\",\"\",VLOOKUP(J6777,'Соответствия статей'!$A$2:$B$50,2,0)),\"Другое\")","v":""}]
[null,null,null,null,null,null,null,null,null,null,null,null,null,{"$f":"IFERROR(IF(A6784=\"\",\"\",VLOOKUP(J6784,'Соответствия статей'!$A$2:$B$50,2,0)),\"Другое\")","v":""}]
[null,null,null,null,null,null,null,null,null,null,null,null,null,{"$f":"IFERROR(IF(A6793=\"\",\"\",VLOOKUP(J6793,'Соответствия статей'!$A$2:$B$50,2,0)),\"Другое\")","v":""}]
[null,null,null,null,null,null,null,null,null,null,null,null,null,{"$f":"IFERROR(IF(A6798=\"\",\"\",VLOOKUP(J6798,'Соответствия статей'!$A$2:$B$50,2,0)),\"Другое\")","v":""}]
[null,null,null,null,null,null,null,null,null,null,null,null,null,{"$f":"IFERROR(IF(A6804=\"\",\"\",VLOOKUP(J6804,'Соответствия статей'!$A$2:$B$50,2,0)),\"Другое\")","v":""}]
[null,null,null,null,null,null,null,null,null,null,null,null,null,{"$f":"IFERROR(IF(A6807=\"\",\"\",VLOOKUP(J6807,'Соответствия статей'!$A$2:$B$50,2,0)),\"Другое\")","v":""}]
[null,null,null,null,null,null,null,null,null,null,null,null,null,{"$f":"IFERROR(IF(A6814=\"\",\"\",VLOOKUP(J6814,'Соответствия статей'!$A$2:$B$50,2,0)),\"Другое\")","v":""}]
[null,null,null,null,null,null,null,null,null,null,null,null,null,{"$f":"IFERROR(IF(A6821=\"\",\"\",VLOOKUP(J6821,'Соответствия статей'!$A$2:$B$50,2,0)),\"Другое\")","v":""}]
[null,null,null,null,null,null,null,null,null,null,null,null,null,{"$f":"IFERROR(IF(A6827=\"\",\"\",VLOOKUP(J6827,'Соответствия статей'!$A$2:$B$50,2,0)),\"Другое\")","v":""}]
[null,null,null,null,null,null,null,null,null,null,null,null,null,{"$f":"IFERROR(IF(A6834=\"\",\"\",VLOOKUP(J6834,'Соответствия статей'!$A$2:$B$50,2,0)),\"Другое\")","v":""}]
[null,null,null,null,null,null,null,null,null,null,null,null,null,{"$f":"IFERROR(IF(A6843=\"\",\"\",VLOOKUP(J6843,'Соответствия статей'!$A$2:$B$50,2,0)),\"Другое\")","v":""}]
[null,null,null,null,null,null,null,null,null,null,null,null,null,{"$f":"IFERROR(IF(A6844=\"\",\"\",VLOOKUP(J6844,'Соответствия статей'!$A$2:$B$50,2,0)),\"Другое\")","v":""}]
[null,null,null,null,null,null,null,null,null,null,null,null,null,{"$f":"IFERROR(IF(A6854=\"\",\"\",VLOOKUP(J6854,'Соответствия статей'!$A$2:$B$50,2,0)),\"Другое\")","v":""}]
[null,null,null,null,null,null,null,null,null,null,null,null,null,{"$f":"IFERROR(IF(A6857=\"\",\"\",VLOOKUP(J6857,'Соответствия статей'!$A$2:$B$50,2,0)),\"Другое\")","v":""}]
[null,null,null,null,null,null,null,null,null,null,null,null,null,{"$f":"IFERROR(IF(A6864=\"\",\"\",VLOOKUP(J6864,'Соответствия статей'!$A$2:$B$50,2,0)),\"Другое\")","v":""}]
[null,null,null,null,null,null,null,null,null,null,null,null,null,{"$f":"IFERROR(IF(A6870=\"\",\"\",VLOOKUP(J6870,'Соответствия статей'!$A$2:$B$50,2,0)),\"Другое\")","v":""}]
[null,null,null,null,null,null,null,null,null,null,null,null,null,{"$f":"IFERROR(IF(A6877=\"\",\"\",VLOOKUP(J6877,'Соответствия статей'!$A$2:$B$50,2,0)),\"Другое\")","v":""}]
[null,null,null,null,null,null,null,null,null,null,null,null,null,{"$f":"IFERROR(IF(A6884=\"\",\"\",VLOOKUP(J6884,'Соответствия статей'!$A$2:$B$50,2,0)),\"Другое\")","v":""}]
[null,null,null,null,null,null,null,null,null,null,null,null,null,{"$f":"IFERROR(IF(A6893=\"\",\"\",VLOOKUP(J6893,'Соответствия статей'!$A$2:$B$50,2,0)),\"Другое\")","v":""}]
[null,null,null,null,null,null,null,null,null,null,null,null,null,{"$f":"IFERROR(IF(A6900=\"\",\"\",VLOOKUP(J6900,'Соответствия статей'!$A$2:$B$50,2,0)),\"Другое\")","v":""}]
[null,null,null,null,null,null,null,null,null,null,null,null,null,{"$f":"IFERROR(IF(A6904=\"\",\"\",VLOOKUP(J6904,'Соответствия статей'!$A$2:$B$50,2,0)),\"Другое\")","v":""}]
[null,null,null,null,null,null,null,null,null,null,null,null,null,{"$f":"IFERROR(IF(A6907=\"\",\"\",VLOOKUP(J6907,'Соответствия статей'!$A$2:$B$50,2,0)),\"Другое\")","v":""}]
[null,null,null,null,null,null,null,null,null,null,null,null,null,{"$f":"IFERROR(IF(A6914=\"\",\"\",VLOOKUP(J6914,'Соответствия статей'!$A$2:$B$50,2,0)),\"Другое\")","v":""}]
[null,null,null,null,null,null,null,null,null,null,null,null,null,{"$f":"IFERROR(IF(A6919=\"\",\"\",VLOOKUP(J6919,'Соответствия статей'!$A$2:$B$50,2,0)),\"Другое\")","v":""}]
[null,null,null,null,null,null,null,null,null,null,null,null,null,{"$f":"IFERROR(IF(A6927=\"\",\"\",VLOOKUP(J6927,'Соответствия статей'!$A$2:$B$50,2,0)),\"Другое\")","v":""}]
[null,null,null,null,null,null,null,null,null,null,null,null,null,{"$f":"IFERROR(IF(A6934=\"\",\"\",VLOOKUP(J6934,'Соответствия статей'!$A$2:$B$50,2,0)),\"Другое\")","v":""}]
[null,null,null,null,null,null,null,null,null,null,null,null,null,{"$f":"IFERROR(IF(A6943=\"\",\"\",VLOOKUP(J6943,'Соответствия статей'!$A$2:$B$50,2,0)),\"Другое\")","v":""}]
[null,null,null,null,null,null,null,null,null,null,null,null,null,{"$f":"IFERROR(IF(A6949=\"\",\"\",VLOOKUP(J6949,'Соответствия статей'!$A$2:$B$50,2,0)),\"Другое\")","v":""}]
[null,null,null,null,null,null,null,null,null,null,null,null,null,{"$f":"IFERROR(IF(A6954=\"\",\"\",VLOOKUP(J6954,'Соответствия статей'!$A$2:$B$50,2,0)),\"Другое\")","v":""}]
[null,null,null,null,null,null,null,null,null,null,null,null,null,{"$f":"IFERROR(IF(A6957=\"\",\"\",VLOOKUP(J6957,'Соответствия статей'!$A$2:$B$50,2,0)),\"Другое\")","v":""}]
[null,null,null,null,null,null,null,null,null,null,null,null,null,{"$f":"IFERROR(IF(A6964=\"\",\"\",VLOOKUP(J6964,'Соответствия статей'!$A$2:$B$50,2,0)),\"Другое\")","v":""}]
[null,null,null,null,null,null,null,null,null,null,null,null,null,{"$f":"IFERROR(IF(A6975=\"\",\"\",VLOOKUP(J6975,'Соответствия статей'!$A$2:$B$50,2,0)),\"Другое\")","v":""}]
[null,null,null,null,null,null,null,null,null,null,null,null,null,{"$f":"IFERROR(IF(A6981=\"\",\"\",VLOOKUP(J6981,'Соответствия статей'!$A$2:$B$50,2,0)),\"Другое\")","v":""}]
[null,null,null,null,null,null,null,null,null,null,null,null,null,{"$f":"IFERROR(IF(A6984=\"\",\"\",VLOOKUP(J6984,'Соответствия статей'!$A$2:$B$50,2,0)),\"Другое\")","v":""}]
[null,null,null,null,null,null,null,null,null,null,null,null,null,{"$f":"IFERROR(IF(A6993=\"\",\"\",VLOOKUP(J6993,'Соответствия статей'!$A$2:$B$50,2,0)),\"Другое\")","v":""}]
[null,null,null,null,null,null,null,null,null,null,null,null,null,{"$f":"IFERROR(IF(A6998=\"\",\"\",VLOOKUP(J6998,'Соответствия статей'!$A$2:$B$50,2,0)),\"Другое\")","v":""}]
[null,null,null,null,null,null,null,null,null,null,null,null,null,{"$f":"IFERROR(IF(A7004=\"\",\"\",VLOOKUP(J7004,'Соответствия статей'!$A$2:$B$50,2,0)),\"Другое\")","v":""}]
[null,null,null,null,null,null,null,null,null,null,null,null,null,{"$f":"IFERROR(IF(A7007=\"\",\"\",VLOOKUP(J7007,'Соответствия статей'!$A$2:$B$50,2,0)),\"Другое\")","v":""}]
[null,null,null,null,null,null,null,null,null,null,null,null,null,{"$f":"IFERROR(IF(A7014=\"\",\"\",VLOOKUP(J7014,'Соответствия статей'!$A$2:$B$50,2,0)),\"Другое\")","v":""}]
[null,null,null,null,null,null,null,null,null,null,null,null,null,{"$f":"IFERROR(IF(A7024=\"\",\"\",VLOOKUP(J7024,'Соответствия статей'!$A$2:$B$50,2,0)),\"Другое\")","v":""}]
[null,null,null,null,null,null,null,null,null,null,null,null,null,{"$f":"IFERROR(IF(A7031=\"\",\"\",VLOOKUP(J7031,'Соответствия статей'!$A$2:$B$50,2,0)),\"Другое\")","v":""}]
[null,null,null,null,null,null,null,null,null,null,null,null,null,{"$f":"IFERROR(IF(A7034=\"\",\"\",VLOOKUP(J7034,'Соответствия статей'!$A$2:$B$50,2,0)),\"Другое\")","v":""}]
[null,null,null,null,null,null,null,null,null,null,null,null,null,{"$f":"IFERROR(IF(A7043=\"\",\"\",VLOOKUP(J7043,'Соответствия статей'!$A$2:$B$50,2,0)),\"Другое\")","v":""}]
[null,null,null,null,null,null,null,null,null,null,null,null,null,{"$f":"IFERROR(IF(A7047=\"\",\"\",VLOOKUP(J7047,'Соответствия статей'!$A$2:$B$50,2,0)),\"Другое\")","v":""}]
[null,null,null,null,null,null,null,null,null,null,null,null,null,{"$f":"IFERROR(IF(A7054=\"\",\"\",VLOOKUP(J7054,'Соответствия статей'!$A$2:$B$50,2,0)),\"Другое\")","v":""}]
[null,null,null,null,null,null,null,null,null,null,null,null,null,{"$f":"IFERROR(IF(A7061=\"\",\"\",VLOOKUP(J7061,'Соответствия статей'!$A$2:$B$50,2,0)),\"Другое\")","v":""}]
[null,null,null,null,null,null,null,null,null,null,null,null,null,{"$f":"IFERROR(IF(A7064=\"\",\"\",VLOOKUP(J7064,'Соответствия статей'!$A$2:$B$50,2,0)),\"Другое\")","v":""}]
[null,null,null,null,null,null,null,null,null,null,null,null,null,{"$f":"IFERROR(IF(A7073=\"\",\"\",VLOOKUP(J7073,'Соответствия статей'!$A$2:$B$50,2,0)),\"Другое\")","v":""}]
[null,null,null,null,null,null,null,null,null,null,null,null,null,{"$f":"IFERROR(IF(A7081=\"\",\"\",VLOOKUP(J7081,'Соответствия статей'!$A$2:$B$50,2,0)),\"Другое\")","v":""}]
[null,null,null,null,null,null,null,null,null,null,null,null,null,{"$f":"IFERROR(IF(A7084=\"\",\"\",VLOOKUP(J7084,'Соответствия статей'!$A$2:$B$50,2,0)),\"Другое\")","v":""}]
[null,null,null,null,null,null,null,null,null,null,null,null,null,{"$f":"IFERROR(IF(A7093=\"\",\"\",VLOOKUP(J7093,'Соответствия статей'!$A$2:$B$50,2,0)),\"Другое\")","v":""}]
[null,null,null,null,null,null,null,null,null,null,null,null,null,{"$f":"IFERROR(IF(A7096=\"\",\"\",VLOOKUP(J7096,'Соответствия статей'!$A$2:$B$50,2,0)),\"Другое\")","v":""}]
[null,null,null,null,null,null,null,null,null,null,null,null,null,{"$f":"IFERROR(IF(A7104=\"\",\"\",VLOOKUP(J7104,'Соответствия статей'!$A$2:$B$50,2,0)),\"Другое\")","v":""}]
[null,null,null,null,null,null,null,null,null,null,null,null,null,{"$f":"IFERROR(IF(A7111=\"\",\"\",VLOOKUP(J7111,'Соответствия статей'!$A$2:$B$50,2,0)),\"Другое\")","v":""}]
[null,null,null,null,null,null,null,null,null,null,null,null,null,{"$f":"IFERROR(IF(A7114=\"\",\"\",VLOOKUP(J7114,'Соответствия статей'!$A$2:$B$50,2,0)),\"Другое\")","v":""}]
[null,null,null,null,null,null,null,null,null,null,null,null,null,{"$f":"IFERROR(IF(A7122=\"\",\"\",VLOOKUP(J7122,'Соответствия статей'!$A$2:$B$50,2,0)),\"Другое\")","v":""}]
[null,null,null,null,null,null,null,null,null,null,null,null,null,{"$f":"IFERROR(IF(A7131=\"\",\"\",VLOOKUP(J7131,'Соответствия статей'!$A$2:$B$50,2,0)),\"Другое\")","v":""}]
[null,null,null,null,null,null,null,null,null,null,null,null,null,{"$f":"IFERROR(IF(A7134=\"\",\"\",VLOOKUP(J7134,'Соответствия статей'!$A$2:$B$50,2,0)),\"Другое\")","v":""}]
[null,null,null,null,null,null,null,null,null,null,null,null,null,{"$f":"IFERROR(IF(A7143=\"\",\"\",VLOOKUP(J7143,'Соответствия статей'!$A$2:$B$50,2,0)),\"Другое\")","v":""}]
[null,null,null,null,null,null,null,null,null,null,null,null,null,{"$f":"IFERROR(IF(A7145=\"\",\"\",VLOOKUP(J7145,'Соответствия статей'!$A$2:$B$50,2,0)),\"Другое\")","v":""}]
[null,null,null,null,null,null,null,null,null,null,null,null,null,{"$f":"IFERROR(IF(A7154=\"\",\"\",VLOOKUP(J7154,'Соответствия статей'!$A$2:$B$50,2,0)),\"Другое\")","v":""}]
[null,null,null,null,null,null,null,null,null,null,null,null,null,{"$f":"IFERROR(IF(A7161=\"\",\"\",VLOOKUP(J7161,'Соответствия статей'!$A$2:$B$50,2,0)),\"Другое\")","v":""}]
[null,null,null,null,null,null,null,null,null,null,null,null,null,{"$f":"IFERROR(IF(A7164=\"\",\"\",VLOOKUP(J7164,'Соответствия статей'!$A$2:$B$50,2,0)),\"Другое\")","v":""}]
[null,null,null,null,null,null,null,null,null,null,null,null,null,{"$f":"IFERROR(IF(A7171=\"\",\"\",VLOOKUP(J7171,'Соответствия статей'!$A$2:$B$50,2,0)),\"Другое\")","v":""}]
[null,null,null,null,null,null,null,null,null,null,null,null,null,{"$f":"IFERROR(IF(A7181=\"\",\"\",VLOOKUP(J7181,'Соответствия статей'!$A$2:$B$50,2,0)),\"Другое\")","v":""}]
[null,null,null,null,null,null,null,null,null,null,null,null,null,{"$f":"IFERROR(IF(A7184=\"\",\"\",VLOOKUP(J7184,'Соответствия статей'!$A$2:$B$50,2,0)),\"Другое\")","v":""}]
[null,null,null,null,null,null,null,null,null,null,null,null,null,{"$f":"IFERROR(IF(A7191=\"\",\"\",VLOOKUP(J7191,'Соответствия статей'!$A$2:$B$50,2,0)),\"Другое\")","v":""}]
[null,null,null,null,null,null,null,null,null,null,null,null,null,{"$f":"IFERROR(IF(A7194=\"\",\"\",VLOOKUP(J7194,'Соответствия статей'!$A$2:$B$50,2,0)),\"Другое\")","v":""}]
[null,null,null,null,null,null,null,null,null,null,null,null,null,{"$f":"IFERROR(IF(A7204=\"\",\"\",VLOOKUP(J7204,'Соответствия статей'!$A$2:$B$50,2,0)),\"Другое\")","v":""}]
[null,null,null,null,null,null,null,null,null,null,null,null,null,{"$f":"IFERROR(IF(A7211=\"\",\"\",VLOOKUP(J7211,'Соответствия статей'!$A$2:$B$50,2,0)),\"Другое\")","v":""}]
[null,null,null,null,null,null,null,null,null,null,null,null,null,{"$f":"IFERROR(IF(A7214=\"\",\"\",VLOOKUP(J7214,'Соответствия статей'!$A$2:$B$50,2,0)),\"Другое\")","v":""}]
[null,null,null,null,null,null,null,null,null,null,null,null,null,{"$f":"IFERROR(IF(A7220=\"\",\"\",VLOOKUP(J7220,'Соответствия статей'!$A$2:$B$50,2,0)),\"Другое\")","v":""}]
[null,null,null,null,null,null,null,null,null,null,null,null,null,{"$f":"IFERROR(IF(A7231=\"\",\"\",VLOOKUP(J7231,'Соответствия статей'!$A$2:$B$50,2,0)),\"Другое\")","v":""}]
[null,null,null,null,null,null,null,null,null,null,null,null,null,{"$f":"IFERROR(IF(A7234=\"\",\"\",VLOOKUP(J7234,'Соответствия статей'!$A$2:$B$50,2,0)),\"Другое\")","v":""}]
[null,null,null,null,null,null,null,null,null,null,null,null,null,{"$f":"IFERROR(IF(A7241=\"\",\"\",VLOOKUP(J7241,'Соответствия статей'!$A$2:$B$50,2,0)),\"Другое\")","v":""}]
[null,null,null,null,null,null,null,null,null,null,null,null,null,{"$f":"IFERROR(IF(A7250=\"\",\"\",VLOOKUP(J7250,'Соответствия статей'!$A$2:$B$50,2,0)),\"Другое\")","v":""}]
[null,null,null,null,null,null,null,null,null,null,null,null,null,{"$f":"IFERROR(IF(A7254=\"\",\"\",VLOOKUP(J7254,'Соответствия статей'!$A$2:$B$50,2,0)),\"Другое\")","v":""}]
[null,null,null,null,null,null,null,null,null,null,null,null,null,{"$f":"IFERROR(IF(A7261=\"\",\"\",VLOOKUP(J7261,'Соответствия статей'!$A$2:$B$50,2,0)),\"Другое\")","v":""}]
[null,null,null,null,null,null,null,null,null,null,null,null,null,{"$f":"IFERROR(IF(A7264=\"\",\"\",VLOOKUP(J7264,'Соответствия статей'!$A$2:$B$50,2,0)),\"Другое\")","v":""}]
[null,null,null,null,null,null,null,null,null,null,null,null,null,{"$f":"IFERROR(IF(A7269=\"\",\"\",VLOOKUP(J7269,'Соответствия статей'!$A$2:$B$50,2,0)),\"Другое\")","v":""}]
[null,null,null,null,null,null,null,null,null,null,null,null,null,{"$f":"IFERROR(IF(A7281=\"\",\"\",VLOOKUP(J7281,'Соответствия статей'!$A$2:$B$50,2,0)),\"Другое\")","v":""}]
[null,null,null,null,null,null,null,null,null,null,null,null,null,{"$f":"IFERROR(IF(A7284=\"\",\"\",VLOOKUP(J7284,'Соответствия статей'!$A$2:$B$50,2,0)),\"Другое\")","v":""}]
[null,null,null,null,null,null,null,null,null,null,null,null,null,{"$f":"IFERROR(IF(A7291=\"\",\"\",VLOOKUP(J7291,'Соответствия статей'!$A$2:$B$50,2,0)),\"Другое\")","v":""}]
[null,null,null,null,null,null,null,null,null,null,null,null,null,{"$f":"IFERROR(IF(A7299=\"\",\"\",VLOOKUP(J7299,'Соответствия статей'!$A$2:$B$50,2,0)),\"Другое\")","v":""}]
[null,null,null,null,null,null,null,null,null,null,null,null,null,{"$f":"IFERROR(IF(A7304=\"\",\"\",VLOOKUP(J7304,'Соответствия статей'!$A$2:$B$50,2,0)),\"Другое\")","v":""}]
[null,null,null,null,null,null,null,null,null,null,null,null,null,{"$f":"IFERROR(IF(A7311=\"\",\"\",VLOOKUP(J7311,'Соответствия статей'!$A$2:$B$50,2,0)),\"Другое\")","v":""}]
[null,null,null,null,null,null,null,null,null,null,null,null,null,{"$f":"IFERROR(IF(A7314=\"\",\"\",VLOOKUP(J7314,'Соответствия статей'!$A$2:$B$50,2,0)),\"Другое\")","v":""}]
[null,null,null,null,null,null,null,null,null,null,null,null,null,{"$f":"IFERROR(IF(A7322=\"\",\"\",VLOOKUP(J7322,'Соответствия статей'!$A$2:$B$50,2,0)),\"Другое\")","v":""}]
[null,null,null,null,null,null,null,null,null,null,null,null,null,{"$f":"IFERROR(IF(A7331=\"\",\"\",VLOOKUP(J7331,'Соответствия статей'!$A$2:$B$50,2,0)),\"Другое\")","v":""}]
[null,null,null,null,null,null,null,null,null,null,null,null,null,{"$f":"IFERROR(IF(A7334=\"\",\"\",VLOOKUP(J7334,'Соответствия статей'!$A$2:$B$50,2,0)),\"Другое\")","v":""}]
[null,null,null,null,null,null,null,null,null,null,null,null,null,{"$f":"IFERROR(IF(A7341=\"\",\"\",VLOOKUP(J7341,'Соответствия статей'!$A$2:$B$50,2,0)),\"Другое\")","v":""}]
[null,null,null,null,null,null,null,null,null,null,null,null,null,{"$f":"IFERROR(IF(A7348=\"\",\"\",VLOOKUP(J7348,'Соответствия статей'!$A$2:$B$50,2,0)),\"Другое\")","v":""}]
[null,null,null,null,null,null,null,null,null,null,null,null,null,{"$f":"IFERROR(IF(A7354=\"\",\"\",VLOOKUP(J7354,'Соответствия статей'!$A$2:$B$50,2,0)),\"Другое\")","v":""}]
[null,null,null,null,null,null,null,null,null,null,null,null,null,{"$f":"IFERROR(IF(A7361=\"\",\"\",VLOOKUP(J7361,'Соответствия статей'!$A$2:$B$50,2,0)),\"Другое\")","v":""}]
[null,null,null,null,null,null,null,null,null,null,null,null,null,{"$f":"IFERROR(IF(A7364=\"\",\"\",VLOOKUP(J7364,'Соответствия статей'!$A$2:$B$50,2,0)),\"Другое\")","v":""}]
[null,null,null,null,null,null,null,null,null,null,null,null,null,{"$f":"IFERROR(IF(A7371=\"\",\"\",VLOOKUP(J7371,'Соответствия статей'!$A$2:$B$50,2,0)),\"Другое\")","v":""}]
[null,null,null,null,null,null,null,null,null,null,null,null,null,{"$f":"IFERROR(IF(A7381=\"\",\"\",VLOOKUP(J7381,'Соответствия статей'!$A$2:$B$50,2,0)),\"Другое\")","v":""}]
[null,null,null,null,null,null,null,null,null,null,null,null,null,{"$f":"IFERROR(IF(A7384=\"\",\"\",VLOOKUP(J7384,'Соответствия статей'!$A$2:$B$50,2,0)),\"Другое\")","v":""}]
[null,null,null,null,null,null,null,null,null,null,null,null,null,{"$f":"IFERROR(IF(A7391=\"\",\"\",VLOOKUP(J7391,'Соответствия статей'!$A$2:$B$50,2,0)),\"Другое\")","v":""}]
[null,null,null,null,null,null,null,null,null,null,null,null,null,{"$f":"IFERROR(IF(A7397=\"\",\"\",VLOOKUP(J7397,'Соответствия статей'!$A$2:$B$50,2,0)),\"Другое\")","v":""}]
[null,null,null,null,null,null,null,null,null,null,null,null,null,{"$f":"IFERROR(IF(A7402=\"\",\"\",VLOOKUP(J7402,'Соответствия статей'!$A$2:$B$50,2,0)),\"Другое\")","v":""}]
[null,null,null,null,null,null,null,null,null,null,null,null,null,{"$f":"IFERROR(IF(A7411=\"\",\"\",VLOOKUP(J7411,'Соответствия статей'!$A$2:$B$50,2,0)),\"Другое\")","v":""}]
[null,null,null,null,null,null,null,null,null,null,null,null,null,{"$f":"IFERROR(IF(A7414=\"\",\"\",VLOOKUP(J7414,'Соответствия статей'!$A$2:$B$50,2,0)),\"Другое\")","v":""}]
[null,null,null,null,null,null,null,null,null,null,null,null,null,{"$f":"IFERROR(IF(A7420=\"\",\"\",VLOOKUP(J7420,'Соответствия статей'!$A$2:$B$50,2,0)),\"Другое\")","v":""}]
[null,null,null,null,null,null,null,null,null,null,null,null,null,{"$f":"IFERROR(IF(A7431=\"\",\"\",VLOOKUP(J7431,'Соответствия статей'!$A$2:$B$50,2,0)),\"Другое\")","v":""}]
[null,null,null,null,null,null,null,null,null,null,null,null,null,{"$f":"IFERROR(IF(A7434=\"\",\"\",VLOOKUP(J7434,'Соответствия статей'!$A$2:$B$50,2,0)),\"Другое\")","v":""}]
[null,null,null,null,null,null,null,null,null,null,null,null,null,{"$f":"IFERROR(IF(A7441=\"\",\"\",VLOOKUP(J7441,'Соответствия статей'!$A$2:$B$50,2,0)),\"Другое\")","v":""}]
[null,null,null,null,null,null,null,null,null,null,null,null,null,{"$f":"IFERROR(IF(A7446=\"\",\"\",VLOOKUP(J7446,'Соответствия статей'!$A$2:$B$50,2,0)),\"Другое\")","v":""}]
[null,null,null,null,null,null,null,null,null,null,null,null,null,{"$f":"IFERROR(IF(A7452=\"\",\"\",VLOOKUP(J7452,'Соответствия статей'!$A$2:$B$50,2,0)),\"Другое\")","v":""}]
[null,null,null,null,null,null,null,null,null,null,null,null,null,{"$f":"IFERROR(IF(A7461=\"\",\"\",VLOOKUP(J7461,'Соответствия статей'!$A$2:$B$50,2,0)),\"Другое\")","v":""}]
[null,null,null,null,null,null,null,null,null,null,null,null,null,{"$f":"IFERROR(IF(A7464=\"\",\"\",VLOOKUP(J7464,'Соответствия статей'!$A$2:$B$50,2,0)),\"Другое\")","v":""}]
[null,null,null,null,null,null,null,null,null,null,null,null,null,{"$f":"IFERROR(IF(A7469=\"\",\"\",VLOOKUP(J7469,'Соответствия статей'!$A$2:$B$50,2,0)),\"Другое\")","v":""}]
[null,null,null,null,null,null,null,null,null,null,null,null,null,{"$f":"IFERROR(IF(A7481=\"\",\"\",VLOOKUP(J7481,'Соответствия статей'!$A$2:$B$50,2,0)),\"Другое\")","v":""}]
[null,null,null,null,null,null,null,null,null,null,null,null,null,{"$f":"IFERROR(IF(A7484=\"\",\"\",VLOOKUP(J7484,'Соответствия статей'!$A$2:$B$50,2,0)),\"Другое\")","v":""}]
[null,null,null,null,null,null,null,null,null,null,null,null,null,{"$f":"IFERROR(IF(A7491=\"\",\"\",VLOOKUP(J7491,'Соответствия статей'!$A$2:$B$50,2,0)),\"Другое\")","v":""}]
[null,null,null,null,null,null,null,null,null,null,null,null,null,{"$f":"IFERROR(IF(A7495=\"\",\"\",VLOOKUP(J7495,'Соответствия статей'!$A$2:$B$50,2,0)),\"Другое\")","v":""}]
[null,null,null,null,null,null,null,null,null,null,null,null,null,{"$f":"IFERROR(IF(A7502=\"\",\"\",VLOOKUP(J7502,'Соответствия статей'!$A$2:$B$50,2,0)),\"Другое\")","v":""}]
[null,null,null,null,null,null,null,null,null,null,null,null,null,{"$f":"IFERROR(IF(A7511=\"\",\"\",VLOOKUP(J7511,'Соответствия статей'!$A$2:$B$50,2,0)),\"Другое\")","v":""}]
[null,null,null,null,null,null,null,null,null,null,null,null,null,{"$f":"IFERROR(IF(A7514=\"\",\"\",VLOOKUP(J7514,'Соответствия статей'!$A$2:$B$50,2,0)),\"Другое\")","v":""}]
[null,null,null,null,null,null,null,null,null,null,null,null,null,{"$f":"IFERROR(IF(A7525=\"\",\"\",VLOOKUP(J7525,'Соответствия статей'!$A$2:$B$50,2,0)),\"Другое\")","v":""}]
[null,null,null,null,null,null,null,null,null,null,null,null,null,{"$f":"IFERROR(IF(A7531=\"\",\"\",VLOOKUP(J7531,'Соответствия статей'!$A$2:$B$50,2,0)),\"Другое\")","v":""}]
[null,null,null,null,null,null,null,null,null,null,null,null,null,{"$f":"IFERROR(IF(A7532=\"\",\"\",VLOOKUP(J7532,'Соответствия статей'!$A$2:$B$50,2,0)),\"Другое\")","v":""}]
[null,null,null,null,null,null,null,null,null,null,null,null,null,{"$f":"IFERROR(IF(A7541=\"\",\"\",VLOOKUP(J7541,'Соответствия статей'!$A$2:$B$50,2,0)),\"Другое\")","v":""}]
[null,null,null,null,null,null,null,null,null,null,null,null,null,{"$f":"IFERROR(IF(A7544=\"\",\"\",VLOOKUP(J7544,'Соответствия статей'!$A$2:$B$50,2,0)),\"Другое\")","v":""}]
[null,null,null,null,null,null,null,null,null,null,null,null,null,{"$f":"IFERROR(IF(A7552=\"\",\"\",VLOOKUP(J7552,'Соответствия статей'!$A$2:$B$50,2,0)),\"Другое\")","v":""}]
[null,null,null,null,null,null,null,null,null,null,null,null,null,{"$f":"IFERROR(IF(A7561=\"\",\"\",VLOOKUP(J7561,'Соответствия статей'!$A$2:$B$50,2,0)),\"Другое\")","v":""}]
[null,null,null,null,null,null,null,null,null,null,null,null,null,{"$f":"IFERROR(IF(A7564=\"\",\"\",VLOOKUP(J7564,'Соответствия статей'!$A$2:$B$50,2,0)),\"Другое\")","v":""}]
[null,null,null,null,null,null,null,null,null,null,null,null,null,{"$f":"IFERROR(IF(A7574=\"\",\"\",VLOOKUP(J7574,'Соответствия статей'!$A$2:$B$50,2,0)),\"Другое\")","v":""}]
[null,null,null,null,null,null,null,null,null,null,null,null,null,{"$f":"IFERROR(IF(A7581=\"\",\"\",VLOOKUP(J7581,'Соответствия статей'!$A$2:$B$50,2,0)),\"Другое\")","v":""}]
[null,null,null,null,null,null,null,null,null,null,null,null,null,{"$f":"IFERROR(IF(A7582=\"\",\"\",VLOOKUP(J7582,'Соответствия статей'!$A$2:$B$50,2,0)),\"Другое\")","v":""}]
[null,null,null,null,null,null,null,null,null,null,null,null,null,{"$f":"IFERROR(IF(A7591=\"\",\"\",VLOOKUP(J7591,'Соответствия статей'!$A$2:$B$50,2,0)),\"Другое\")","v":""}]
[null,null,null,null,null,null,null,null,null,null,null,null,null,{"$f":"IFERROR(IF(A7600=\"\",\"\",VLOOKUP(J7600,'Соответствия статей'!$A$2:$B$50,2,0)),\"Другое\")","v":""}]
[null,null,null,null,null,null,null,null,null,null,null,null,null,{"$f":"IFERROR(IF(A7602=\"\",\"\",VLOOKUP(J7602,'Соответствия статей'!$A$2:$B$50,2,0)),\"Другое\")","v":""}]
[null,null,null,null,null,null,null,null,null,null,null,null,null,{"$f":"IFERROR(IF(A7611=\"\",\"\",VLOOKUP(J7611,'Соответствия статей'!$A$2:$B$50,2,0)),\"Другое\")","v":""}]
[null,null,null,null,null,null,null,null,null,null,null,null,null,{"$f":"IFERROR(IF(A7618=\"\",\"\",VLOOKUP(J7618,'Соответствия статей'!$A$2:$B$50,2,0)),\"Другое\")","v":""}]
[null,null,null,null,null,null,null,null,null,null,null,null,null,{"$f":"IFERROR(IF(A7623=\"\",\"\",VLOOKUP(J7623,'Соответствия статей'!$A$2:$B$50,2,0)),\"Другое\")","v":""}]
[null,null,null,null,null,null,null,null,null,null,null,null,null,{"$f":"IFERROR(IF(A7631=\"\",\"\",VLOOKUP(J7631,'Соответствия статей'!$A$2:$B$50,2,0)),\"Другое\")","v":""}]
[null,null,null,null,null,null,null,null,null,null,null,null,null,{"$f":"IFERROR(IF(A7632=\"\",\"\",VLOOKUP(J7632,'Соответствия статей'!$A$2:$B$50,2,0)),\"Другое\")","v":""}]
[null,null,null,null,null,null,null,null,null,null,null,null,null,{"$f":"IFERROR(IF(A7641=\"\",\"\",VLOOKUP(J7641,'Соответствия статей'!$A$2:$B$50,2,0)),\"Другое\")","v":""}]
[null,null,null,null,null,null,null,null,null,null,null,null,null,{"$f":"IFERROR(IF(A7649=\"\",\"\",VLOOKUP(J7649,'Соответствия статей'!$A$2:$B$50,2,0)),\"Другое\")","v":""}]
[null,null,null,null,null,null,null,null,null,null,null,null,null,{"$f":"IFERROR(IF(A7652=\"\",\"\",VLOOKUP(J7652,'Соответствия статей'!$A$2:$B$50,2,0)),\"Другое\")","v":""}]
[null,null,null,null,null,null,null,null,null,null,null,null,null,{"$f":"IFERROR(IF(A7661=\"\",\"\",VLOOKUP(J7661,'Соответствия статей'!$A$2:$B$50,2,0)),\"Другое\")","v":""}]
[null,null,null,null,null,null,null,null,null,null,null,null,null,{"$f":"IFERROR(IF(A7668=\"\",\"\",VLOOKUP(J7668,'Соответствия статей'!$A$2:$B$50,2,0)),\"Другое\")","v":""}]
[null,null,null,null,null,null,null,null,null,null,null,null,null,{"$f":"IFERROR(IF(A7672=\"\",\"\",VLOOKUP(J7672,'Соответствия статей'!$A$2:$B$50,2,0)),\"Другое\")","v":""}]
[null,null,null,null,null,null,null,null,null,null,null,null,null,{"$f":"IFERROR(IF(A7681=\"\",\"\",VLOOKUP(J7681,'Соответствия статей'!$A$2:$B$50,2,0)),\"Другое\")","v":""}]
[null,null,null,null,null,null,null,null,null,null,null,null,null,{"$f":"IFERROR(IF(A7682=\"\",\"\",VLOOKUP(J7682,'Соответствия статей'!$A$2:$B$50,2,0)),\"Другое\")","v":""}]
[null,null,null,null,null,null,null,null,null,null,null,null,null,{"$f":"IFERROR(IF(A7691=\"\",\"\",VLOOKUP(J7691,'Соответствия статей'!$A$2:$B$50,2,0)),\"Другое\")","v":""}]
[null,null,null,null,null,null,null,null,null,null,null,null,null,{"$f":"IFERROR(IF(A7698=\"\",\"\",VLOOKUP(J7698,'Соответствия статей'!$A$2:$B$50,2,0)),\"Другое\")","v":""}]
[null,null,null,null,null,null,null,null,null,null,null,null,null,{"$f":"IFERROR(IF(A7702=\"\",\"\",VLOOKUP(J7702,'Соответствия статей'!$A$2:$B$50,2,0)),\"Другое\")","v":""}]
[null,null,null,null,null,null,null,null,null,null,null,null,null,{"$f":"IFERROR(IF(A7711=\"\",\"\",VLOOKUP(J7711,'Соответствия статей'!$A$2:$B$50,2,0)),\"Другое\")","v":""}]
[null,null,null,null,null,null,null,null,null,null,null,null,null,{"$f":"IFERROR(IF(A7718=\"\",\"\",VLOOKUP(J7718,'Соответствия статей'!$A$2:$B$50,2,0)),\"Другое\")","v":""}]
[null,null,null,null,null,null,null,null,null,null,null,null,null,{"$f":"IFERROR(IF(A7721=\"\",\"\",VLOOKUP(J7721,'Соответствия статей'!$A$2:$B$50,2,0)),\"Другое\")","v":""}]
[null,null,null,null,null,null,null,null,null,null,null,null,null,{"$f":"IFERROR(IF(A7731=\"\",\"\",VLOOKUP(J7731,'Соответствия статей'!$A$2:$B$50,2,0)),\"Другое\")","v":""}]
[null,null,null,null,null,null,null,null,null,null,null,null,null,{"$f":"IFERROR(IF(A7732=\"\",\"\",VLOOKUP(J7732,'Соответствия статей'!$A$2:$B$50,2,0)),\"Другое\")","v":""}]
[null,null,null,null,null,null,null,null,null,null,null,null,null,{"$f":"IFERROR(IF(A7741=\"\",\"\",VLOOKUP(J7741,'Соответствия статей'!$A$2:$B$50,2,0)),\"Другое\")","v":""}]
[null,null,null,null,null,null,null,null,null,null,null,null,null,{"$f":"IFERROR(IF(A7744=\"\",\"\",VLOOKUP(J7744,'Соответствия статей'!$A$2:$B$50,2,0)),\"Другое\")","v":""}]
[null,null,null,null,null,null,null,null,null,null,null,null,null,{"$f":"IFERROR(IF(A7752=\"\",\"\",VLOOKUP(J7752,'Соответствия статей'!$A$2:$B$50,2,0)),\"Другое\")","v":""}]
[null,null,null,null,null,null,null,null,null,null,null,null,null,{"$f":"IFERROR(IF(A7761=\"\",\"\",VLOOKUP(J7761,'Соответствия статей'!$A$2:$B$50,2,0)),\"Другое\")","v":""}]
[null,null,null,null,null,null,null,null,null,null,null,null,null,{"$f":"IFERROR(IF(A7768=\"\",\"\",VLOOKUP(J7768,'Соответствия статей'!$A$2:$B$50,2,0)),\"Другое\")","v":""}]
[null,null,null,null,null,null,null,null,null,null,null,null,null,{"$f":"IFERROR(IF(A7770=\"\",\"\",VLOOKUP(J7770,'Соответствия статей'!$A$2:$B$50,2,0)),\"Другое\")","v":""}]
[null,null,null,null,null,null,null,null,null,null,null,null,null,{"$f":"IFERROR(IF(A7781=\"\",\"\",VLOOKUP(J7781,'Соответствия статей'!$A$2:$B$50,2,0)),\"Другое\")","v":""}]
[null,null,null,null,null,null,null,null,null,null,null,null,null,{"$f":"IFERROR(IF(A7782=\"\",\"\",VLOOKUP(J7782,'Соответствия статей'!$A$2:$B$50,2,0)),\"Другое\")","v":""}]
[null,null,null,null,null,null,null,null,null,null,null,null,null,{"$f":"IFERROR(IF(A7791=\"\",\"\",VLOOKUP(J7791,'Соответствия статей'!$A$2:$B$50,2,0)),\"Другое\")","v":""}]
[null,null,null,null,null,null,null,null,null,null,null,null,null,{"$f":"IFERROR(IF(A7800=\"\",\"\",VLOOKUP(J7800,'Соответствия статей'!$A$2:$B$50,2,0)),\"Другое\")","v":""}]
[null,null,null,null,null,null,null,null,null,null,null,null,null,{"$f":"IFERROR(IF(A7802=\"\",\"\",VLOOKUP(J7802,'Соответствия статей'!$A$2:$B$50,2,0)),\"Другое\")","v":""}]
[null,null,null,null,null,null,null,null,null,null,null,null,null,{"$f":"IFERROR(IF(A7811=\"\",\"\",VLOOKUP(J7811,'Соответствия статей'!$A$2:$B$50,2,0)),\"Другое\")","v":""}]
[null,null,null,null,null,null,null,null,null,null,null,null,null,{"$f":"IFERROR(IF(A7818=\"\",\"\",VLOOKUP(J7818,'Соответствия статей'!$A$2:$B$50,2,0)),\"Другое\")","v":""}]
[null,null,null,null,null,null,null,null,null,null,null,null,null,{"$f":"IFERROR(IF(A7819=\"\",\"\",VLOOKUP(J7819,'Соответствия статей'!$A$2:$B$50,2,0)),\"Другое\")","v":""}]
[null,null,null,null,null,null,null,null,null,null,null,null,null,{"$f":"IFERROR(IF(A7831=\"\",\"\",VLOOKUP(J7831,'Соответствия статей'!$A$2:$B$50,2,0)),\"Другое\")","v":""}]
[null,null,null,null,null,null,null,null,null,null,null,null,null,{"$f":"IFERROR(IF(A7832=\"\",\"\",VLOOKUP(J7832,'Соответствия статей'!$A$2:$B$50,2,0)),\"Другое\")","v":""}]
[null,null,null,null,null,null,null,null,null,null,null,null,null,{"$f":"IFERROR(IF(A7841=\"\",\"\",VLOOKUP(J7841,'Соответствия статей'!$A$2:$B$50,2,0)),\"Другое\")","v":""}]
[null,null,null,null,null,null,null,null,null,null,null,null,null,{"$f":"IFERROR(IF(A7849=\"\",\"\",VLOOKUP(J7849,'Соответствия статей'!$A$2:$B$50,2,0)),\"Другое\")","v":""}]
[null,null,null,null,null,null,null,null,null,null,null,null,null,{"$f":"IFERROR(IF(A7852=\"\",\"\",VLOOKUP(J7852,'Соответствия статей'!$A$2:$B$50,2,0)),\"Другое\")","v":""}]
[null,null,null,null,null,null,null,null,null,null,null,null,null,{"$f":"IFERROR(IF(A7861=\"\",\"\",VLOOKUP(J7861,'Соответствия статей'!$A$2:$B$50,2,0)),\"Другое\")","v":""}]
[null,null,null,null,null,null,null,null,null,null,null,null,null,{"$f":"IFERROR(IF(A7868=\"\",\"\",VLOOKUP(J7868,'Соответствия статей'!$A$2:$B$50,2,0)),\"Другое\")","v":""}]
[null,null,null,null,null,null,null,null,null,null,null,null,null,{"$f":"IFERROR(IF(A7875=\"\",\"\",VLOOKUP(J7875,'Соответствия статей'!$A$2:$B$50,2,0)),\"Другое\")","v":""}]
[null,null,null,null,null,null,null,null,null,null,null,null,null,{"$f":"IFERROR(IF(A7879=\"\",\"\",VLOOKUP(J7879,'Соответствия статей'!$A$2:$B$50,2,0)),\"Другое\")","v":""}]
[null,null,null,null,null,null,null,null,null,null,null,null,null,{"$f":"IFERROR(IF(A7882=\"\",\"\",VLOOKUP(J7882,'Соответствия статей'!$A$2:$B$50,2,0)),\"Другое\")","v":""}]
[null,null,null,null,null,null,null,null,null,null,null,null,null,{"$f":"IFERROR(IF(A7891=\"\",\"\",VLOOKUP(J7891,'Соответствия статей'!$A$2:$B$50,2,0)),\"Другое\")","v":""}]
[null,null,null,null,null,null,null,null,null,null,null,null,null,{"$f":"IFERROR(IF(A7898=\"\",\"\",VLOOKUP(J7898,'Соответствия статей'!$A$2:$B$50,2,0)),\"Другое\")","v":""}]
[null,null,null,null,null,null,null,null,null,null,null,null,null,{"$f":"IFERROR(IF(A7902=\"\",\"\",VLOOKUP(J7902,'Соответствия статей'!$A$2:$B$50,2,0)),\"Другое\")","v":""}]
[null,null,null,null,null,null,null,null,null,null,null,null,null,{"$f":"IFERROR(IF(A7911=\"\",\"\",VLOOKUP(J7911,'Соответствия статей'!$A$2:$B$50,2,0)),\"Другое\")","v":""}]
[null,null,null,null,null,null,null,null,null,null,null,null,null,{"$f":"IFERROR(IF(A7918=\"\",\"\",VLOOKUP(J7918,'Соответствия статей'!$A$2:$B$50,2,0)),\"Другое\")","v":""}]
[null,null,null,null,null,null,null,null,null,null,null,null,null,{"$f":"IFERROR(IF(A7924=\"\",\"\",VLOOKUP(J7924,'Соответствия статей'!$A$2:$B$50,2,0)),\"Другое\")","v":""}]
[null,null,null,null,null,null,null,null,null,null,null,null,null,{"$f":"IFERROR(IF(A7929=\"\",\"\",VLOOKUP(J7929,'Соответствия статей'!$A$2:$B$50,2,0)),\"Другое\")","v":""}]
[null,null,null,null,null,null,null,null,null,null,null,null,null,{"$f":"IFERROR(IF(A7932=\"\",\"\",VLOOKUP(J7932,'Соответствия статей'!$A$2:$B$50,2,0)),\"Другое\")","v":""}]
[null,null,null,null,null,null,null,null,null,null,null,null,null,{"$f":"IFERROR(IF(A7941=\"\",\"\",VLOOKUP(J7941,'Соответствия статей'!$A$2:$B$50,2,0)),\"Другое\")","v":""}]
[null,null,null,null,null,null,null,null,null,null,null,null,null,{"$f":"IFERROR(IF(A7947=\"\",\"\",VLOOKUP(J7947,'Соответствия статей'!$A$2:$B$50,2,0)),\"Другое\")","v":""}]
[null,null,null,null,null,null,null,null,null,null,null,null,null,{"$f":"IFERROR(IF(A7952=\"\",\"\",VLOOKUP(J7952,'Соответствия статей'!$A$2:$B$50,2,0)),\"Другое\")","v":""}]
[null,null,null,null,null,null,null,null,null,null,null,null,null,{"$f":"IFERROR(IF(A7959=\"\",\"\",VLOOKUP(J7959,'Соответствия статей'!$A$2:$B$50,2,0)),\"Другое\")","v":""}]
[null,null,null,null,null,null,null,null,null,null,null,null,null,{"$f":"IFERROR(IF(A7968=\"\",\"\",VLOOKUP(J7968,'Соответствия статей'!$A$2:$B$50,2,0)),\"Другое\")","v":""}]
[null,null,null,null,null,null,null,null,null,null,null,null,null,{"$f":"IFERROR(IF(A7973=\"\",\"\",VLOOKUP(J7973,'Соответствия статей'!$A$2:$B$50,2,0)),\"Другое\")","v":""}]
[null,null,null,null,null,null,null,null,null,null,null,null,null,{"$f":"IFERROR(IF(A7979=\"\",\"\",VLOOKUP(J7979,'Соответствия статей'!$A$2:$B$50,2,0)),\"Другое\")","v":""}]
[null,null,null,null,null,null,null,null,null,null,null,null,null,{"$f":"IFERROR(IF(A7982=\"\",\"\",VLOOKUP(J7982,'Соответствия статей'!$A$2:$B$50,2,0)),\"Другое\")","v":""}]
[null,null,null,null,null,null,null,null,null,null,null,null,null,{"$f":"IFERROR(IF(A7991=\"\",\"\",VLOOKUP(J7991,'Соответствия статей'!$A$2:$B$50,2,0)),\"Другое\")","v":""}]
[null,null,null,null,null,null,null,null,null,null,null,null,null,{"$f":"IFERROR(IF(A7996=\"\",\"\",VLOOKUP(J7996,'Соответствия статей'!$A$2:$B$50,2,0)),\"Другое\")","v":""}]
[null,null,null,null,null,null,null,null,null,null,null,null,null,{"$f":"IFERROR(IF(A8002=\"\",\"\",VLOOKUP(J8002,'Соответствия статей'!$A$2:$B$50,2,0)),\"Другое\")","v":""}]
[null,null,null,null,null,null,null,null,null,null,null,null,null,{"$f":"IFERROR(IF(A8009=\"\",\"\",VLOOKUP(J8009,'Соответствия статей'!$A$2:$B$50,2,0)),\"Другое\")","v":""}]
[null,null,null,null,null,null,null,null,null,null,null,null,null,{"$f":"IFERROR(IF(A8018=\"\",\"\",VLOOKUP(J8018,'Соответствия статей'!$A$2:$B$50,2,0)),\"Другое\")","v":""}]
[null,null,null,null,null,null,null,null,null,null,null,null,null,{"$f":"IFERROR(IF(A8022=\"\",\"\",VLOOKUP(J8022,'Соответствия статей'!$A$2:$B$50,2,0)),\"Другое\")","v":""}]
[null,null,null,null,null,null,null,null,null,null,null,null,null,{"$f":"IFERROR(IF(A8029=\"\",\"\",VLOOKUP(J8029,'Соответствия статей'!$A$2:$B$50,2,0)),\"Другое\")","v":""}]
[null,null,null,null,null,null,null,null,null,null,null,null,null,{"$f":"IFERROR(IF(A8032=\"\",\"\",VLOOKUP(J8032,'Соответствия статей'!$A$2:$B$50,2,0)),\"Другое\")","v":""}]
[null,null,null,null,null,null,null,null,null,null,null,null,null,{"$f":"IFERROR(IF(A8041=\"\",\"\",VLOOKUP(J8041,'Соответствия статей'!$A$2:$B$50,2,0)),\"Другое\")","v":""}]
[null,null,null,null,null,null,null,null,null,null,null,null,null,{"$f":"IFERROR(IF(A8045=\"\",\"\",VLOOKUP(J8045,'Соответствия статей'!$A$2:$B$50,2,0)),\"Другое\")","v":""}]
[null,null,null,null,null,null,null,null,null,null,null,null,null,{"$f":"IFERROR(IF(A8052=\"\",\"\",VLOOKUP(J8052,'Соответствия статей'!$A$2:$B$50,2,0)),\"Другое\")","v":""}]
[null,null,null,null,null,null,null,null,null,null,null,null,null,{"$f":"IFERROR(IF(A8059=\"\",\"\",VLOOKUP(J8059,'Соответствия статей'!$A$2:$B$50,2,0)),\"Другое\")","v":""}]
[null,null,null,null,null,null,null,null,null,null,null,null,null,{"$f":"IFERROR(IF(A8068=\"\",\"\",VLOOKUP(J8068,'Соответствия статей'!$A$2:$B$50,2,0)),\"Другое\")","v":""}]
[null,null,null,null,null,null,null,null,null,null,null,null,null,{"$f":"IFERROR(IF(A8071=\"\",\"\",VLOOKUP(J8071,'Соответствия статей'!$A$2:$B$50,2,0)),\"Другое\")","v":""}]
[null,null,null,null,null,null,null,null,null,null,null,null,null,{"$f":"IFERROR(IF(A8079=\"\",\"\",VLOOKUP(J8079,'Соответствия статей'!$A$2:$B$50,2,0)),\"Другое\")","v":""}]
[null,null,null,null,null,null,null,null,null,null,null,null,null,{"$f":"IFERROR(IF(A8082=\"\",\"\",VLOOKUP(J8082,'Соответствия статей'!$A$2:$B$50,2,0)),\"Другое\")","v":""}]
[null,null,null,null,null,null,null,null,null,null,null,null,null,{"$f":"IFERROR(IF(A8089=\"\",\"\",VLOOKUP(J8089,'Соответствия статей'!$A$2:$B$50,2,0)),\"Другое\")","v":""}]
[null,null,null,null,null,null,null,null,null,null,null,null,null,{"$f":"IFERROR(IF(A8094=\"\",\"\",VLOOKUP(J8094,'Соответствия статей'!$A$2:$B$50,2,0)),\"Другое\")","v":""}]
[null,null,null,null,null,null,null,null,null,null,null,null,null,{"$f":"IFERROR(IF(A8102=\"\",\"\",VLOOKUP(J8102,'Соответствия статей'!$A$2:$B$50,2,0)),\"Другое\")","v":""}]
[null,null,null,null,null,null,null,null,null,null,null,null,null,{"$f":"IFERROR(IF(A8109=\"\",\"\",VLOOKUP(J8109,'Соответствия статей'!$A$2:$B$50,2,0)),\"Другое\")","v":""}]
[null,null,null,null,null,null,null,null,null,null,null,null,null,{"$f":"IFERROR(IF(A8118=\"\",\"\",VLOOKUP(J8118,'Соответствия статей'!$A$2:$B$50,2,0)),\"Другое\")","v":""}]
[null,null,null,null,null,null,null,null,null,null,null,null,null,{"$f":"IFERROR(IF(A8120=\"\",\"\",VLOOKUP(J8120,'Соответствия статей'!$A$2:$B$50,2,0)),\"Другое\")","v":""}]
[null,null,null,null,null,null,null,null,null,null,null,null,null,{"$f":"IFERROR(IF(A8129=\"\",\"\",VLOOKUP(J8129,'Соответствия статей'!$A$2:$B$50,2,0)),\"Другое\")","v":""}]
[null,null,null,null,null,null,null,null,null,null,null,null,null,{"$f":"IFERROR(IF(A8132=\"\",\"\",VLOOKUP(J8132,'Соответствия статей'!$A$2:$B$50,2,0)),\"Другое\")","v":""}]
[null,null,null,null,null,null,null,null,null,null,null,null,null,{"$f":"IFERROR(IF(A8139=\"\",\"\",VLOOKUP(J8139,'Соответствия статей'!$A$2:$B$50,2,0)),\"Другое\")","v":""}]
[null,null,null,null,null,null,null,null,null,null,null,null,null,{"$f":"IFERROR(IF(A8150=\"\",\"\",VLOOKUP(J8150,'Соответствия статей'!$A$2:$B$50,2,0)),\"Другое\")","v":""}]
[null,null,null,null,null,null,null,null,null,null,null,null,null,{"$f":"IFERROR(IF(A8152=\"\",\"\",VLOOKUP(J8152,'Соответствия статей'!$A$2:$B$50,2,0)),\"Другое\")","v":""}]
[null,null,null,null,null,null,null,null,null,null,null,null,null,{"$f":"IFERROR(IF(A8159=\"\",\"\",VLOOKUP(J8159,'Соответствия статей'!$A$2:$B$50,2,0)),\"Другое\")","v":""}]
[null,null,null,null,null,null,null,null,null,null,null,null,null,{"$f":"IFERROR(IF(A8168=\"\",\"\",VLOOKUP(J8168,'Соответствия статей'!$A$2:$B$50,2,0)),\"Другое\")","v":""}]
[null,null,null,null,null,null,null,null,null,null,null,null,null,{"$f":"IFERROR(IF(A8173=\"\",\"\",VLOOKUP(J8173,'Соответствия статей'!$A$2:$B$50,2,0)),\"Другое\")","v":""}]
[null,null,null,null,null,null,null,null,null,null,null,null,null,{"$f":"IFERROR(IF(A8179=\"\",\"\",VLOOKUP(J8179,'Соответствия статей'!$A$2:$B$50,2,0)),\"Другое\")","v":""}]
[null,null,null,null,null,null,null,null,null,null,null,null,null,{"$f":"IFERROR(IF(A8182=\"\",\"\",VLOOKUP(J8182,'Соответствия статей'!$A$2:$B$50,2,0)),\"Другое\")","v":""}]
[null,null,null,null,null,null,null,null,null,null,null,null,null,{"$f":"IFERROR(IF(A8189=\"\",\"\",VLOOKUP(J8189,'Соответствия статей'!$A$2:$B$50,2,0)),\"Другое\")","v":""}]
[null,null,null,null,null,null,null,null,null,null,null,null,null,{"$f":"IFERROR(IF(A8199=\"\",\"\",VLOOKUP(J8199,'Соответствия статей'!$A$2:$B$50,2,0)),\"Другое\")","v":""}]
[null,null,null,null,null,null,null,null,null,null,null,null,null,{"$f":"IFERROR(IF(A8202=\"\",\"\",VLOOKUP(J8202,'Соответствия статей'!$A$2:$B$50,2,0)),\"Другое\")","v":""}]
[null,null,null,null,null,null,null,null,null,null,null,null,null,{"$f":"IFERROR(IF(A8209=\"\",\"\",VLOOKUP(J8209,'Соответствия статей'!$A$2:$B$50,2,0)),\"Другое\")","v":""}]
[null,null,null,null,null,null,null,null,null,null,null,null,null,{"$f":"IFERROR(IF(A8218=\"\",\"\",VLOOKUP(J8218,'Соответствия статей'!$A$2:$B$50,2,0)),\"Другое\")","v":""}]
[null,null,null,null,null,null,null,null,null,null,null,null,null,{"$f":"IFERROR(IF(A8222=\"\",\"\",VLOOKUP(J8222,'Соответствия статей'!$A$2:$B$50,2,0)),\"Другое\")","v":""}]
[null,null,null,null,null,null,null,null,null,null,null,null,null,{"$f":"IFERROR(IF(A8229=\"\",\"\",VLOOKUP(J8229,'Соответствия статей'!$A$2:$B$50,2,0)),\"Другое\")","v":""}]
[null,null,null,null,null,null,null,null,null,null,null,null,null,{"$f":"IFERROR(IF(A8232=\"\",\"\",VLOOKUP(J8232,'Соответствия статей'!$A$2:$B$50,2,0)),\"Другое\")","v":""}]
[null,null,null,null,null,null,null,null,null,null,null,null,null,{"$f":"IFERROR(IF(A8239=\"\",\"\",VLOOKUP(J8239,'Соответствия статей'!$A$2:$B$50,2,0)),\"Другое\")","v":""}]
[null,null,null,null,null,null,null,null,null,null,null,null,null,{"$f":"IFERROR(IF(A8248=\"\",\"\",VLOOKUP(J8248,'Соответствия статей'!$A$2:$B$50,2,0)),\"Другое\")","v":""}]
[null,null,null,null,null,null,null,null,null,null,null,null,null,{"$f":"IFERROR(IF(A8252=\"\",\"\",VLOOKUP(J8252,'Соответствия статей'!$A$2:$B$50,2,0)),\"Другое\")","v":""}]
[null,null,null,null,null,null,null,null,null,null,null,null,null,{"$f":"IFERROR(IF(A8259=\"\",\"\",VLOOKUP(J8259,'Соответствия статей'!$A$2:$B$50,2,0)),\"Другое\")","v":""}]
[null,null,null,null,null,null,null,null,null,null,null,null,null,{"$f":"IFERROR(IF(A8268=\"\",\"\",VLOOKUP(J8268,'Соответствия статей'!$A$2:$B$50,2,0)),\"Другое\")","v":""}]
[null,null,null,null,null,null,null,null,null,null,null,null,null,{"$f":"IFERROR(IF(A8271=\"\",\"\",VLOOKUP(J8271,'Соответствия статей'!$A$2:$B$50,2,0)),\"Другое\")","v":""}]
[null,null,null,null,null,null,null,null,null,null,null,null,null,{"$f":"IFERROR(IF(A8279=\"\",\"\",VLOOKUP(J8279,'Соответствия статей'!$A$2:$B$50,2,0)),\"Другое\")","v":""}]
[null,null,null,null,null,null,null,null,null,null,null,null,null,{"$f":"IFERROR(IF(A8282=\"\",\"\",VLOOKUP(J8282,'Соответствия статей'!$A$2:$B$50,2,0)),\"Другое\")","v":""}]
[null,null,null,null,null,null,null,null,null,null,null,null,null,{"$f":"IFERROR(IF(A8289=\"\",\"\",VLOOKUP(J8289,'Соответствия статей'!$A$2:$B$50,2,0)),\"Другое\")","v":""}]
[null,null,null,null,null,null,null,null,null,null,null,null,null,{"$f":"IFERROR(IF(A8297=\"\",\"\",VLOOKUP(J8297,'Соответствия статей'!$A$2:$B$50,2,0)),\"Другое\")","v":""}]
[null,null,null,null,null,null,null,null,null,null,null,null,null,{"$f":"IFERROR(IF(A8306=\"\",\"\",VLOOKUP(J8306,'Соответствия статей'!$A$2:$B$50,2,0)),\"Другое\")","v":""}]
[null,null,null,null,null,null,null,null,null,null,null,null,null,{"$f":"IFERROR(IF(A8309=\"\",\"\",VLOOKUP(J8309,'Соответствия статей'!$A$2:$B$50,2,0)),\"Другое\")","v":""}]
[null,null,null,null,null,null,null,null,null,null,null,null,null,{"$f":"IFERROR(IF(A8318=\"\",\"\",VLOOKUP(J8318,'Соответствия статей'!$A$2:$B$50,2,0)),\"Другое\")","v":""}]
[null,null,null,null,null,null,null,null,null,null,null,null,null,{"$f":"IFERROR(IF(A8320=\"\",\"\",VLOOKUP(J8320,'Соответствия статей'!$A$2:$B$50,2,0)),\"Другое\")","v":""}]
[null,null,null,null,null,null,null,null,null,null,null,null,null,{"$f":"IFERROR(IF(A8329=\"\",\"\",VLOOKUP(J8329,'Соответствия статей'!$A$2:$B$50,2,0)),\"Другое\")","v":""}]
[null,null,null,null,null,null,null,null,null,null,null,null,null,{"$f":"IFERROR(IF(A8332=\"\",\"\",VLOOKUP(J8332,'Соответствия статей'!$A$2:$B$50,2,0)),\"Другое\")","v":""}]
[null,null,null,null,null,null,null,null,null,null,null,null,null,{"$f":"IFERROR(IF(A8339=\"\",\"\",VLOOKUP(J8339,'Соответствия статей'!$A$2:$B$50,2,0)),\"Другое\")","v":""}]
[null,null,null,null,null,null,null,null,null,null,null,null,null,{"$f":"IFERROR(IF(A8346=\"\",\"\",VLOOKUP(J8346,'Соответствия статей'!$A$2:$B$50,2,0)),\"Другое\")","v":""}]
[null,null,null,null,null,null,null,null,null,null,null,null,null,{"$f":"IFERROR(IF(A8356=\"\",\"\",VLOOKUP(J8356,'Соответствия статей'!$A$2:$B$50,2,0)),\"Другое\")","v":""}]
[null,null,null,null,null,null,null,null,null,null,null,null,null,{"$f":"IFERROR(IF(A8359=\"\",\"\",VLOOKUP(J8359,'Соответствия статей'!$A$2:$B$50,2,0)),\"Другое\")","v":""}]
[null,null,null,null,null,null,null,null,null,null,null,null,null,{"$f":"IFERROR(IF(A8368=\"\",\"\",VLOOKUP(J8368,'Соответствия статей'!$A$2:$B$50,2,0)),\"Другое\")","v":""}]
[null,null,null,null,null,null,null,null,null,null,null,null,null,{"$f":"IFERROR(IF(A8369=\"\",\"\",VLOOKUP(J8369,'Соответствия статей'!$A$2:$B$50,2,0)),\"Другое\")","v":""}]
[null,null,null,null,null,null,null,null,null,null,null,null,null,{"$f":"IFERROR(IF(A8379=\"\",\"\",VLOOKUP(J8379,'Соответствия статей'!$A$2:$B$50,2,0)),\"Другое\")","v":""}]
[null,null,null,null,null,null,null,null,null,null,null,null,null,{"$f":"IFERROR(IF(A8382=\"\",\"\",VLOOKUP(J8382,'Соответствия статей'!$A$2:$B$50,2,0)),\"Другое\")","v":""}]
[null,null,null,null,null,null,null,null,null,null,null,null,null,{"$f":"IFERROR(IF(A8389=\"\",\"\",VLOOKUP(J8389,'Соответствия статей'!$A$2:$B$50,2,0)),\"Другое\")","v":""}]
[null,null,null,null,null,null,null,null,null,null,null,null,null,{"$f":"IFERROR(IF(A8395=\"\",\"\",VLOOKUP(J8395,'Соответствия статей'!$A$2:$B$50,2,0)),\"Другое\")","v":""}]
[null,null,null,null,null,null,null,null,null,null,null,null,null,{"$f":"IFERROR(IF(A8406=\"\",\"\",VLOOKUP(J8406,'Соответствия статей'!$A$2:$B$50,2,0)),\"Другое\")","v":""}]
[null,null,null,null,null,null,null,null,null,null,null,null,null,{"$f":"IFERROR(IF(A8409=\"\",\"\",VLOOKUP(J8409,'Соответствия статей'!$A$2:$B$50,2,0)),\"Другое\")","v":""}]
[null,null,null,null,null,null,null,null,null,null,null,null,null,{"$f":"IFERROR(IF(A8418=\"\",\"\",VLOOKUP(J8418,'Соответствия статей'!$A$2:$B$50,2,0)),\"Другое\")","v":""}]
[null,null,null,null,null,null,null,null,null,null,null,null,null,{"$f":"IFERROR(IF(A8425=\"\",\"\",VLOOKUP(J8425,'Соответствия статей'!$A$2:$B$50,2,0)),\"Другое\")","v":""}]
[null,null,null,null,null,null,null,null,null,null,null,null,null,{"$f":"IFERROR(IF(A8429=\"\",\"\",VLOOKUP(J8429,'Соответствия статей'!$A$2:$B$50,2,0)),\"Другое\")","v":""}]
[null,null,null,null,null,null,null,null,null,null,null,null,null,{"$f":"IFERROR(IF(A8436=\"\",\"\",VLOOKUP(J8436,'Соответствия статей'!$A$2:$B$50,2,0)),\"Другое\")","v":""}]
[null,null,null,null,null,null,null,null,null,null,null,null,null,{"$f":"IFERROR(IF(A8439=\"\",\"\",VLOOKUP(J8439,'Соответствия статей'!$A$2:$B$50,2,0)),\"Другое\")","v":""}]
[null,null,null,null,null,null,null,null,null,null,null,null,null,{"$f":"IFERROR(IF(A8444=\"\",\"\",VLOOKUP(J8444,'Соответствия статей'!$A$2:$B$50,2,0)),\"Другое\")","v":""}]
[null,null,null,null,null,null,null,null,null,null,null,null,null,{"$f":"IFERROR(IF(A8456=\"\",\"\",VLOOKUP(J8456,'Соответствия статей'!$A$2:$B$50,2,0)),\"Другое\")","v":""}]
[null,null,null,null,null,null,null,null,null,null,null,null,null,{"$f":"IFERROR(IF(A8459=\"\",\"\",VLOOKUP(J8459,'Соответствия статей'!$A$2:$B$50,2,0)),\"Другое\")","v":""}]
[null,null,null,null,null,null,null,null,null,null,null,null,null,{"$f":"IFERROR(IF(A8468=\"\",\"\",VLOOKUP(J8468,'Соответствия статей'!$A$2:$B$50,2,0)),\"Другое\")","v":""}]
[null,null,null,null,null,null,null,null,null,null,null,null,null,{"$f":"IFERROR(IF(A8474=\"\",\"\",VLOOKUP(J8474,'Соответствия статей'!$A$2:$B$50,2,0)),\"Другое\")","v":""}]
[null,null,null,null,null,null,null,null,null,null,null,null,null,{"$f":"IFERROR(IF(A8479=\"\",\"\",VLOOKUP(J8479,'Соответствия статей'!$A$2:$B$50,2,0)),\"Другое\")","v":""}]
[null,null,null,null,null,null,null,null,null,null,null,null,null,{"$f":"IFERROR(IF(A8486=\"\",\"\",VLOOKUP(J8486,'Соответствия статей'!$A$2:$B$50,2,0)),\"Другое\")","v":""}]
[null,null,null,null,null,null,null,null,null,null,null,null,null,{"$f":"IFERROR(IF(A8489=\"\",\"\",VLOOKUP(J8489,'Соответствия статей'!$A$2:$B$50,2,0)),\"Другое\")","v":""}]
[null,null,null,null,null,null,null,null,null,null,null,null,null,{"$f":"IFERROR(IF(A8500=\"\",\"\",VLOOKUP(J8500,'Соответствия статей'!$A$2:$B$50,2,0)),\"Другое\")","v":""}]
[null,null,null,null,null,null,null,null,null,null,null,null,null,{"$f":"IFERROR(IF(A8506=\"\",\"\",VLOOKUP(J8506,'Соответствия статей'!$A$2:$B$50,2,0)),\"Другое\")","v":""}]
[null,null,null,null,null,null,null,null,null,null,null,null,null,{"$f":"IFERROR(IF(A8509=\"\",\"\",VLOOKUP(J8509,'Соответствия статей'!$A$2:$B$50,2,0)),\"Другое\")","v":""}]
[null,null,null,null,null,null,null,null,null,null,null,null,null,{"$f":"IFERROR(IF(A8516=\"\",\"\",VLOOKUP(J8516,'Соответствия статей'!$A$2:$B$50,2,0)),\"Другое\")","v":""}]
[null,null,null,null,null,null,null,null,null,null,null,null,null,{"$f":"IFERROR(IF(A8523=\"\",\"\",VLOOKUP(J8523,'Соответствия статей'!$A$2:$B$50,2,0)),\"Другое\")","v":""}]
[null,null,null,null,null,null,null,null,null,null,null,null,null,{"$f":"IFERROR(IF(A8529=\"\",\"\",VLOOKUP(J8529,'Соответствия статей'!$A$2:$B$50,2,0)),\"Другое\")","v":""}]
[null,null,null,null,null,null,null,null,null,null,null,null,null,{"$f":"IFERROR(IF(A8536=\"\",\"\",VLOOKUP(J8536,'Соответствия статей'!$A$2:$B$50,2,0)),\"Другое\")","v":""}]
[null,null,null,null,null,null,null,null,null,null,null,null,null,{"$f":"IFERROR(IF(A8539=\"\",\"\",VLOOKUP(J8539,'Соответствия статей'!$A$2:$B$50,2,0)),\"Другое\")","v":""}]
[null,null,null,null,null,null,null,null,null,null,null,null,null,{"$f":"IFERROR(IF(A8549=\"\",\"\",VLOOKUP(J8549,'Соответствия статей'!$A$2:$B$50,2,0)),\"Другое\")","v":""}]
[null,null,null,null,null,null,null,null,null,null,null,null,null,{"$f":"IFERROR(IF(A8556=\"\",\"\",VLOOKUP(J8556,'Соответствия статей'!$A$2:$B$50,2,0)),\"Другое\")","v":""}]
[null,null,null,null,null,null,null,null,null,null,null,null,null,{"$f":"IFERROR(IF(A8559=\"\",\"\",VLOOKUP(J8559,'Соответствия статей'!$A$2:$B$50,2,0)),\"Другое\")","v":""}]
[null,null,null,null,null,null,null,null,null,null,null,null,null,{"$f":"IFERROR(IF(A8566=\"\",\"\",VLOOKUP(J8566,'Соответствия статей'!$A$2:$B$50,2,0)),\"Другое\")","v":""}]
[null,null,null,null,null,null,null,null,null,null,null,null,null,{"$f":"IFERROR(IF(A8572=\"\",\"\",VLOOKUP(J8572,'Соответствия статей'!$A$2:$B$50,2,0)),\"Другое\")","v":""}]
[null,null,null,null,null,null,null,null,null,null,null,null,null,{"$f":"IFERROR(IF(A8579=\"\",\"\",VLOOKUP(J8579,'Соответствия статей'!$A$2:$B$50,2,0)),\"Другое\")","v":""}]
[null,null,null,null,null,null,null,null,null,null,null,null,null,{"$f":"IFERROR(IF(A8586=\"\",\"\",VLOOKUP(J8586,'Соответствия статей'!$A$2:$B$50,2,0)),\"Другое\")","v":""}]
[null,null,null,null,null,null,null,null,null,null,null,null,null,{"$f":"IFERROR(IF(A8589=\"\",\"\",VLOOKUP(J8589,'Соответствия статей'!$A$2:$B$50,2,0)),\"Другое\")","v":""}]
[null,null,null,null,null,null,null,null,null,null,null,null,null,{"$f":"IFERROR(IF(A8598=\"\",\"\",VLOOKUP(J8598,'Соответствия статей'!$A$2:$B$50,2,0)),\"Другое\")","v":""}]
[null,null,null,null,null,null,null,null,null,null,null,null,null,{"$f":"IFERROR(IF(A8606=\"\",\"\",VLOOKUP(J8606,'Соответствия статей'!$A$2:$B$50,2,0)),\"Другое\")","v":""}]
[null,null,null,null,null,null,null,null,null,null,null,null,null,{"$f":"IFERROR(IF(A8609=\"\",\"\",VLOOKUP(J8609,'Соответствия статей'!$A$2:$B$50,2,0)),\"Другое\")","v":""}]
[null,null,null,null,null,null,null,null,null,null,null,null,null,{"$f":"IFERROR(IF(A8616=\"\",\"\",VLOOKUP(J8616,'Соответствия статей'!$A$2:$B$50,2,0)),\"Другое\")","v":""}]
[null,null,null,null,null,null,null,null,null,null,null,null,null,{"$f":"IFERROR(IF(A8621=\"\",\"\",VLOOKUP(J8621,'Соответствия статей'!$A$2:$B$50,2,0)),\"Другое\")","v":""}]
[null,null,null,null,null,null,null,null,null,null,null,null,null,{"$f":"IFERROR(IF(A8629=\"\",\"\",VLOOKUP(J8629,'Соответствия статей'!$A$2:$B$50,2,0)),\"Другое\")","v":""}]
[null,null,null,null,null,null,null,null,null,null,null,null,null,{"$f":"IFERROR(IF(A8636=\"\",\"\",VLOOKUP(J8636,'Соответствия статей'!$A$2:$B$50,2,0)),\"Другое\")","v":""}]
[null,null,null,null,null,null,null,null,null,null,null,null,null,{"$f":"IFERROR(IF(A8639=\"\",\"\",VLOOKUP(J8639,'Соответствия статей'!$A$2:$B$50,2,0)),\"Другое\")","v":""}]
[null,null,null,null,null,null,null,null,null,null,null,null,null,{"$f":"IFERROR(IF(A8644=\"\",\"\",VLOOKUP(J8644,'Соответствия статей'!$A$2:$B$50,2,0)),\"Другое\")","v":""}]
[null,null,null,null,null,null,null,null,null,null,null,null,null,{"$f":"IFERROR(IF(A8656=\"\",\"\",VLOOKUP(J8656,'Соответствия статей'!$A$2:$B$50,2,0)),\"Другое\")","v":""}]
[null,null,null,null,null,null,null,null,null,null,null,null,null,{"$f":"IFERROR(IF(A8659=\"\",\"\",VLOOKUP(J8659,'Соответствия статей'!$A$2:$B$50,2,0)),\"Другое\")","v":""}]
[null,null,null,null,null,null,null,null,null,null,null,null,null,{"$f":"IFERROR(IF(A8666=\"\",\"\",VLOOKUP(J8666,'Соответствия статей'!$A$2:$B$50,2,0)),\"Другое\")","v":""}]
[null,null,null,null,null,null,null,null,null,null,null,null,null,{"$f":"IFERROR(IF(A8670=\"\",\"\",VLOOKUP(J8670,'Соответствия статей'!$A$2:$B$50,2,0)),\"Другое\")","v":""}]
[null,null,null,null,null,null,null,null,null,null,null,null,null,{"$f":"IFERROR(IF(A8679=\"\",\"\",VLOOKUP(J8679,'Соответствия статей'!$A$2:$B$50,2,0)),\"Другое\")","v":""}]
[null,null,null,null,null,null,null,null,null,null,null,null,null,{"$f":"IFERROR(IF(A8686=\"\",\"\",VLOOKUP(J8686,'Соответствия статей'!$A$2:$B$50,2,0)),\"Другое\")","v":""}]
[null,null,null,null,null,null,null,null,null,null,null,null,null,{"$f":"IFERROR(IF(A8689=\"\",\"\",VLOOKUP(J8689,'Соответствия статей'!$A$2:$B$50,2,0)),\"Другое\")","v":""}]
[null,null,null,null,null,null,null,null,null,null,null,null,null,{"$f":"IFERROR(IF(A8700=\"\",\"\",VLOOKUP(J8700,'Соответствия статей'!$A$2:$B$50,2,0)),\"Другое\")","v":""}]
[null,null,null,null,null,null,null,null,null,null,null,null,null,{"$f":"IFERROR(IF(A8706=\"\",\"\",VLOOKUP(J8706,'Соответствия статей'!$A$2:$B$50,2,0)),\"Другое\")","v":""}]
[null,null,null,null,null,null,null,null,null,null,null,null,null,{"$f":"IFERROR(IF(A8709=\"\",\"\",VLOOKUP(J8709,'Соответствия статей'!$A$2:$B$50,2,0)),\"Другое\")","v":""}]
[null,null,null,null,null,null,null,null,null,null,null,null,null,{"$f":"IFERROR(IF(A8716=\"\",\"\",VLOOKUP(J8716,'Соответствия статей'!$A$2:$B$50,2,0)),\"Другое\")","v":""}]
[null,null,null,null,null,null,null,null,null,null,null,null,null,{"$f":"IFERROR(IF(A8719=\"\",\"\",VLOOKUP(J8719,'Соответствия статей'!$A$2:$B$50,2,0)),\"Другое\")","v":""}]
[null,null,null,null,null,null,null,null,null,null,null,null,null,{"$f":"IFERROR(IF(A8729=\"\",\"\",VLOOKUP(J8729,'Соответствия статей'!$A$2:$B$50,2,0)),\"Другое\")","v":""}]
[null,null,null,null,null,null,null,null,null,null,null,null,null,{"$f":"IFERROR(IF(A8736=\"\",\"\",VLOOKUP(J8736,'Соответствия статей'!$A$2:$B$50,2,0)),\"Другое\")","v":""}]
[null,null,null,null,null,null,null,null,null,null,null,null,null,{"$f":"IFERROR(IF(A8739=\"\",\"\",VLOOKUP(J8739,'Соответствия статей'!$A$2:$B$50,2,0)),\"Другое\")","v":""}]
[null,null,null,null,null,null,null,null,null,null,null,null,null,{"$f":"IFERROR(IF(A8749=\"\",\"\",VLOOKUP(J8749,'Соответствия статей'!$A$2:$B$50,2,0)),\"Другое\")","v":""}]
[null,null,null,null,null,null,null,null,null,null,null,null,null,{"$f":"IFERROR(IF(A8756=\"\",\"\",VLOOKUP(J8756,'Соответствия статей'!$A$2:$B$50,2,0)),\"Другое\")","v":""}]
[null,null,null,null,null,null,null,null,null,null,null,null,null,{"$f":"IFERROR(IF(A8759=\"\",\"\",VLOOKUP(J8759,'Соответствия статей'!$A$2:$B$50,2,0)),\"Другое\")","v":""}]
[null,null,null,null,null,null,null,null,null,null,null,null,null,{"$f":"IFERROR(IF(A8766=\"\",\"\",VLOOKUP(J8766,'Соответствия статей'!$A$2:$B$50,2,0)),\"Другое\")","v":""}]
[null,null,null,null,null,null,null,null,null,null,null,null,null,{"$f":"IFERROR(IF(A8775=\"\",\"\",VLOOKUP(J8775,'Соответствия статей'!$A$2:$B$50,2,0)),\"Другое\")","v":""}]
[null,null,null,null,null,null,null,null,null,null,null,null,null,{"$f":"IFERROR(IF(A8777=\"\",\"\",VLOOKUP(J8777,'Соответствия статей'!$A$2:$B$50,2,0)),\"Другое\")","v":""}]
[null,null,null,null,null,null,null,null,null,null,null,null,null,{"$f":"IFERROR(IF(A8786=\"\",\"\",VLOOKUP(J8786,'Соответствия статей'!$A$2:$B$50,2,0)),\"Другое\")","v":""}]
[null,null,null,null,null,null,null,null,null,null,null,null,null,{"$f":"IFERROR(IF(A8789=\"\",\"\",VLOOKUP(J8789,'Соответствия статей'!$A$2:$B$50,2,0)),\"Другое\")","v":""}]
[null,null,null,null,null,null,null,null,null,null,null,null,null,{"$f":"IFERROR(IF(A8798=\"\",\"\",VLOOKUP(J8798,'Соответствия статей'!$A$2:$B$50,2,0)),\"Другое\")","v":""}]
[null,null,null,null,null,null,null,null,null,null,null,null,null,{"$f":"IFERROR(IF(A8806=\"\",\"\",VLOOKUP(J8806,'Соответствия статей'!$A$2:$B$50,2,0)),\"Другое\")","v":""}]
[null,null,null,null,null,null,null,null,null,null,null,null,null,{"$f":"IFERROR(IF(A8809=\"\",\"\",VLOOKUP(J8809,'Соответствия статей'!$A$2:$B$50,2,0)),\"Другое\")","v":""}]
[null,null,null,null,null,null,null,null,null,null,null,null,null,{"$f":"IFERROR(IF(A8816=\"\",\"\",VLOOKUP(J8816,'Соответствия статей'!$A$2:$B$50,2,0)),\"Другое\")","v":""}]
[null,null,null,null,null,null,null,null,null,null,null,null,null,{"$f":"IFERROR(IF(A8824=\"\",\"\",VLOOKUP(J8824,'Соответствия статей'!$A$2:$B$50,2,0)),\"Другое\")","v":""}]
[null,null,null,null,null,null,null,null,null,null,null,null,null,{"$f":"IFERROR(IF(A8827=\"\",\"\",VLOOKUP(J8827,'Соответствия статей'!$A$2:$B$50,2,0)),\"Другое\")","v":""}]
[null,null,null,null,null,null,null,null,null,null,null,null,null,{"$f":"IFERROR(IF(A8836=\"\",\"\",VLOOKUP(J8836,'Соответствия статей'!$A$2:$B$50,2,0)),\"Другое\")","v":""}]
[null,null,null,null,null,null,null,null,null,null,null,null,null,{"$f":"IFERROR(IF(A8839=\"\",\"\",VLOOKUP(J8839,'Соответствия статей'!$A$2:$B$50,2,0)),\"Другое\")","v":""}]
[null,null,null,null,null,null,null,null,null,null,null,null,null,{"$f":"IFERROR(IF(A8847=\"\",\"\",VLOOKUP(J8847,'Соответствия статей'!$A$2:$B$50,2,0)),\"Другое\")","v":""}]
[null,null,null,null,null,null,null,null,null,null,null,null,null,{"$f":"IFERROR(IF(A8856=\"\",\"\",VLOOKUP(J8856,'Соответствия статей'!$A$2:$B$50,2,0)),\"Другое\")","v":""}]
[null,null,null,null,null,null,null,null,null,null,null,null,null,{"$f":"IFERROR(IF(A8857=\"\",\"\",VLOOKUP(J8857,'Соответствия статей'!$A$2:$B$50,2,0)),\"Другое\")","v":""}]
[null,null,null,null,null,null,null,null,null,null,null,null,null,{"$f":"IFERROR(IF(A8866=\"\",\"\",VLOOKUP(J8866,'Соответствия статей'!$A$2:$B$50,2,0)),\"Другое\")","v":""}]
[null,null,null,null,null,null,null,null,null,null,null,null,null,{"$f":"IFERROR(IF(A8873=\"\",\"\",VLOOKUP(J8873,'Соответствия статей'!$A$2:$B$50,2,0)),\"Другое\")","v":""}]
[null,null,null,null,null,null,null,null,null,null,null,null,null,{"$f":"IFERROR(IF(A8877=\"\",\"\",VLOOKUP(J8877,'Соответствия статей'!$A$2:$B$50,2,0)),\"Другое\")","v":""}]
[null,null,null,null,null,null,null,null,null,null,null,null,null,{"$f":"IFERROR(IF(A8886=\"\",\"\",VLOOKUP(J8886,'Соответствия статей'!$A$2:$B$50,2,0)),\"Другое\")","v":""}]
[null,null,null,null,null,null,null,null,null,null,null,null,null,{"$f":"IFERROR(IF(A8889=\"\",\"\",VLOOKUP(J8889,'Соответствия статей'!$A$2:$B$50,2,0)),\"Другое\")","v":""}]
[null,null,null,null,null,null,null,null,null,null,null,null,null,{"$f":"IFERROR(IF(A8896=\"\",\"\",VLOOKUP(J8896,'Соответствия статей'!$A$2:$B$50,2,0)),\"Другое\")","v":""}]
[null,null,null,null,null,null,null,null,null,null,null,null,null,{"$f":"IFERROR(IF(A8906=\"\",\"\",VLOOKUP(J8906,'Соответствия статей'!$A$2:$B$50,2,0)),\"Другое\")","v":""}]
[null,null,null,null,null,null,null,null,null,null,null,null,null,{"$f":"IFERROR(IF(A8907=\"\",\"\",VLOOKUP(J8907,'Соответствия статей'!$A$2:$B$50,2,0)),\"Другое\")","v":""}]
[null,null,null,null,null,null,null,null,null,null,null,null,null,{"$f":"IFERROR(IF(A8916=\"\",\"\",VLOOKUP(J8916,'Соответствия статей'!$A$2:$B$50,2,0)),\"Другое\")","v":""}]
[null,null,null,null,null,null,null,null,null,null,null,null,null,{"$f":"IFERROR(IF(A8922=\"\",\"\",VLOOKUP(J8922,'Соответствия статей'!$A$2:$B$50,2,0)),\"Другое\")","v":""}]
[null,null,null,null,null,null,null,null,null,null,null,null,null,{"$f":"IFERROR(IF(A8927=\"\",\"\",VLOOKUP(J8927,'Соответствия статей'!$A$2:$B$50,2,0)),\"Другое\")","v":""}]
[null,null,null,null,null,null,null,null,null,null,null,null,null,{"$f":"IFERROR(IF(A8936=\"\",\"\",VLOOKUP(J8936,'Соответствия статей'!$A$2:$B$50,2,0)),\"Другое\")","v":""}]
[null,null,null,null,null,null,null,null,null,null,null,null,null,{"$f":"IFERROR(IF(A8939=\"\",\"\",VLOOKUP(J8939,'Соответствия статей'!$A$2:$B$50,2,0)),\"Другое\")","v":""}]
[null,null,null,null,null,null,null,null,null,null,null,null,null,{"$f":"IFERROR(IF(A8945=\"\",\"\",VLOOKUP(J8945,'Соответствия статей'!$A$2:$B$50,2,0)),\"Другое\")","v":""}]
[null,null,null,null,null,null,null,null,null,null,null,null,null,{"$f":"IFERROR(IF(A8956=\"\",\"\",VLOOKUP(J8956,'Соответствия статей'!$A$2:$B$50,2,0)),\"Другое\")","v":""}]
[null,null,null,null,null,null,null,null,null,null,null,null,null,{"$f":"IFERROR(IF(A8957=\"\",\"\",VLOOKUP(J8957,'Соответствия статей'!$A$2:$B$50,2,0)),\"Другое\")","v":""}]
[null,null,null,null,null,null,null,null,null,null,null,null,null,{"$f":"IFERROR(IF(A8966=\"\",\"\",VLOOKUP(J8966,'Соответствия статей'!$A$2:$B$50,2,0)),\"Другое\")","v":""}]
[null,null,null,null,null,null,null,null,null,null,null,null,null,{"$f":"IFERROR(IF(A8971=\"\",\"\",VLOOKUP(J8971,'Соответствия статей'!$A$2:$B$50,2,0)),\"Другое\")","v":""}]
[null,null,null,null,null,null,null,null,null,null,null,null,null,{"$f":"IFERROR(IF(A8977=\"\",\"\",VLOOKUP(J8977,'Соответствия статей'!$A$2:$B$50,2,0)),\"Другое\")","v":""}]
[null,null,null,null,null,null,null,null,null,null,null,null,null,{"$f":"IFERROR(IF(A8986=\"\",\"\",VLOOKUP(J8986,'Соответствия статей'!$A$2:$B$50,2,0)),\"Другое\")","v":""}]
[null,null,null,null,null,null,null,null,null,null,null,null,null,{"$f":"IFERROR(IF(A8993=\"\",\"\",VLOOKUP(J8993,'Соответствия статей'!$A$2:$B$50,2,0)),\"Другое\")","v":""}]
[null,null,null,null,null,null,null,null,null,null,null,null,null,{"$f":"IFERROR(IF(A8994=\"\",\"\",VLOOKUP(J8994,'Соответствия статей'!$A$2:$B$50,2,0)),\"Другое\")","v":""}]
[null,null,null,null,null,null,null,null,null,null,null,null,null,{"$f":"IFERROR(IF(A9006=\"\",\"\",VLOOKUP(J9006,'Соответствия статей'!$A$2:$B$50,2,0)),\"Другое\")","v":""}]
[null,null,null,null,null,null,null,null,null,null,null,null,null,{"$f":"IFERROR(IF(A9007=\"\",\"\",VLOOKUP(J9007,'Соответствия статей'!$A$2:$B$50,2,0)),\"Другое\")","v":""}]
[null,null,null,null,null,null,null,null,null,null,null,null,null,{"$f":"IFERROR(IF(A9016=\"\",\"\",VLOOKUP(J9016,'Соответствия статей'!$A$2:$B$50,2,0)),\"Другое\")","v":""}]
[null,null,null,null,null,null,null,null,null,null,null,null,null,{"$f":"IFERROR(IF(A9020=\"\",\"\",VLOOKUP(J9020,'Соответствия статей'!$A$2:$B$50,2,0)),\"Другое\")","v":""}]
[null,null,null,null,null,null,null,null,null,null,null,null,null,{"$f":"IFERROR(IF(A9027=\"\",\"\",VLOOKUP(J9027,'Соответствия статей'!$A$2:$B$50,2,0)),\"Другое\")","v":""}]
[null,null,null,null,null,null,null,null,null,null,null,null,null,{"$f":"IFERROR(IF(A9036=\"\",\"\",VLOOKUP(J9036,'Соответствия статей'!$A$2:$B$50,2,0)),\"Другое\")","v":""}]
[null,null,null,null,null,null,null,null,null,null,null,null,null,{"$f":"IFERROR(IF(A9043=\"\",\"\",VLOOKUP(J9043,'Соответствия статей'!$A$2:$B$50,2,0)),\"Другое\")","v":""}]
[null,null,null,null,null,null,null,null,null,null,null,null,null,{"$f":"IFERROR(IF(A9050=\"\",\"\",VLOOKUP(J9050,'Соответствия статей'!$A$2:$B$50,2,0)),\"Другое\")","v":""}]
[null,null,null,null,null,null,null,null,null,null,null,null,null,{"$f":"IFERROR(IF(A9056=\"\",\"\",VLOOKUP(J9056,'Соответствия статей'!$A$2:$B$50,2,0)),\"Другое\")","v":""}]
[null,null,null,null,null,null,null,null,null,null,null,null,null,{"$f":"IFERROR(IF(A9057=\"\",\"\",VLOOKUP(J9057,'Соответствия статей'!$A$2:$B$50,2,0)),\"Другое\")","v":""}]
[null,null,null,null,null,null,null,null,null,null,null,null,null,{"$f":"IFERROR(IF(A9066=\"\",\"\",VLOOKUP(J9066,'Соответствия статей'!$A$2:$B$50,2,0)),\"Другое\")","v":""}]
[null,null,null,null,null,null,null,null,null,null,null,null,null,{"$f":"IFERROR(IF(A9073=\"\",\"\",VLOOKUP(J9073,'Соответствия статей'!$A$2:$B$50,2,0)),\"Другое\")","v":""}]
[null,null,null,null,null,null,null,null,null,null,null,null,null,{"$f":"IFERROR(IF(A9077=\"\",\"\",VLOOKUP(J9077,'Соответствия статей'!$A$2:$B$50,2,0)),\"Другое\")","v":""}]
[null,null,null,null,null,null,null,null,null,null,null,null,null,{"$f":"IFERROR(IF(A9086=\"\",\"\",VLOOKUP(J9086,'Соответствия статей'!$A$2:$B$50,2,0)),\"Другое\")","v":""}]
[null,null,null,null,null,null,null,null,null,null,null,null,null,{"$f":"IFERROR(IF(A9093=\"\",\"\",VLOOKUP(J9093,'Соответствия статей'!$A$2:$B$50,2,0)),\"Другое\")","v":""}]
[null,null,null,null,null,null,null,null,null,null,null,null,null,{"$f":"IFERROR(IF(A9099=\"\",\"\",VLOOKUP(J9099,'Соответствия статей'!$A$2:$B$50,2,0)),\"Другое\")","v":""}]
[null,null,null,null,null,null,null,null,null,null,null,null,null,{"$f":"IFERROR(IF(A9106=\"\",\"\",VLOOKUP(J9106,'Соответствия статей'!$A$2:$B$50,2,0)),\"Другое\")","v":""}]
[null,null,null,null,null,null,null,null,null,null,null,null,null,{"$f":"IFERROR(IF(A9107=\"\",\"\",VLOOKUP(J9107,'Соответствия статей'!$A$2:$B$50,2,0)),\"Другое\")","v":""}]
[null,null,null,null,null,null,null,null,null,null,null,null,null,{"$f":"IFERROR(IF(A9116=\"\",\"\",VLOOKUP(J9116,'Соответствия статей'!$A$2:$B$50,2,0)),\"Другое\")","v":""}]
[null,null,null,null,null,null,null,null,null,null,null,null,null,{"$f":"IFERROR(IF(A9122=\"\",\"\",VLOOKUP(J9122,'Соответствия статей'!$A$2:$B$50,2,0)),\"Другое\")","v":""}]
[null,null,null,null,null,null,null,null,null,null,null,null,null,{"$f":"IFERROR(IF(A9127=\"\",\"\",VLOOKUP(J9127,'Соответствия статей'!$A$2:$B$50,2,0)),\"Другое\")","v":""}]
[null,null,null,null,null,null,null,null,null,null,null,null,null,{"$f":"IFERROR(IF(A9136=\"\",\"\",VLOOKUP(J9136,'Соответствия статей'!$A$2:$B$50,2,0)),\"Другое\")","v":""}]
[null,null,null,null,null,null,null,null,null,null,null,null,null,{"$f":"IFERROR(IF(A9143=\"\",\"\",VLOOKUP(J9143,'Соответствия статей'!$A$2:$B$50,2,0)),\"Другое\")","v":""}]
[null,null,null,null,null,null,null,null,null,null,null,null,null,{"$f":"IFERROR(IF(A9148=\"\",\"\",VLOOKUP(J9148,'Соответствия статей'!$A$2:$B$50,2,0)),\"Другое\")","v":""}]
[null,null,null,null,null,null,null,null,null,null,null,null,null,{"$f":"IFERROR(IF(A9156=\"\",\"\",VLOOKUP(J9156,'Соответствия статей'!$A$2:$B$50,2,0)),\"Другое\")","v":""}]
[null,null,null,null,null,null,null,null,null,null,null,null,null,{"$f":"IFERROR(IF(A9157=\"\",\"\",VLOOKUP(J9157,'Соответствия статей'!$A$2:$B$50,2,0)),\"Другое\")","v":""}]
[null,null,null,null,null,null,null,null,null,null,null,null,null,{"$f":"IFERROR(IF(A9166=\"\",\"\",VLOOKUP(J9166,'Соответствия статей'!$A$2:$B$50,2,0)),\"Другое\")","v":""}]
[null,null,null,null,null,null,null,null,null,null,null,null,null,{"$f":"IFERROR(IF(A9171=\"\",\"\",VLOOKUP(J9171,'Соответствия статей'!$A$2:$B$50,2,0)),\"Другое\")","v":""}]
[null,null,null,null,null,null,null,null,null,null,null,null,null,{"$f":"IFERROR(IF(A9177=\"\",\"\",VLOOKUP(J9177,'Соответствия статей'!$A$2:$B$50,2,0)),\"Другое\")","v":""}]
[null,null,null,null,null,null,null,null,null,null,null,null,null,{"$f":"IFERROR(IF(A9186=\"\",\"\",VLOOKUP(J9186,'Соответствия статей'!$A$2:$B$50,2,0)),\"Другое\")","v":""}]
[null,null,null,null,null,null,null,null,null,null,null,null,null,{"$f":"IFERROR(IF(A9193=\"\",\"\",VLOOKUP(J9193,'Соответствия статей'!$A$2:$B$50,2,0)),\"Другое\")","v":""}]
[null,null,null,null,null,null,null,null,null,null,null,null,null,{"$f":"IFERROR(IF(A9197=\"\",\"\",VLOOKUP(J9197,'Соответствия статей'!$A$2:$B$50,2,0)),\"Другое\")","v":""}]
[null,null,null,null,null,null,null,null,null,null,null,null,null,{"$f":"IFERROR(IF(A9204=\"\",\"\",VLOOKUP(J9204,'Соответствия статей'!$A$2:$B$50,2,0)),\"Другое\")","v":""}]
[null,null,null,null,null,null,null,null,null,null,null,null,null,{"$f":"IFERROR(IF(A9207=\"\",\"\",VLOOKUP(J9207,'Соответствия статей'!$A$2:$B$50,2,0)),\"Другое\")","v":""}]
[null,null,null,null,null,null,null,null,null,null,null,null,null,{"$f":"IFERROR(IF(A9216=\"\",\"\",VLOOKUP(J9216,'Соответствия статей'!$A$2:$B$50,2,0)),\"Другое\")","v":""}]
[null,null,null,null,null,null,null,null,null,null,null,null,null,{"$f":"IFERROR(IF(A9220=\"\",\"\",VLOOKUP(J9220,'Соответствия статей'!$A$2:$B$50,2,0)),\"Другое\")","v":""}]
[null,null,null,null,null,null,null,null,null,null,null,null,null,{"$f":"IFERROR(IF(A9227=\"\",\"\",VLOOKUP(J9227,'Соответствия статей'!$A$2:$B$50,2,0)),\"Другое\")","v":""}]
[null,null,null,null,null,null,null,null,null,null,null,null,null,{"$f":"IFERROR(IF(A9236=\"\",\"\",VLOOKUP(J9236,'Соответствия статей'!$A$2:$B$50,2,0)),\"Другое\")","v":""}]
[null,null,null,null,null,null,null,null,null,null,null,null,null,{"$f":"IFERROR(IF(A9243=\"\",\"\",VLOOKUP(J9243,'Соответствия статей'!$A$2:$B$50,2,0)),\"Другое\")","v":""}]
[null,null,null,null,null,null,null,null,null,null,null,null,null,{"$f":"IFERROR(IF(A9246=\"\",\"\",VLOOKUP(J9246,'Соответствия статей'!$A$2:$B$50,2,0)),\"Другое\")","v":""}]
[null,null,null,null,null,null,null,null,null,null,null,null,null,{"$f":"IFERROR(IF(A9254=\"\",\"\",VLOOKUP(J9254,'Соответствия статей'!$A$2:$B$50,2,0)),\"Другое\")","v":""}]
[null,null,null,null,null,null,null,null,null,null,null,null,null,{"$f":"IFERROR(IF(A9257=\"\",\"\",VLOOKUP(J9257,'Соответствия статей'!$A$2:$B$50,2,0)),\"Другое\")","v":""}]
[null,null,null,null,null,null,null,null,null,null,null,null,null,{"$f":"IFERROR(IF(A9266=\"\",\"\",VLOOKUP(J9266,'Соответствия статей'!$A$2:$B$50,2,0)),\"Другое\")","v":""}]
[null,null,null,null,null,null,null,null,null,null,null,null,null,{"$f":"IFERROR(IF(A9269=\"\",\"\",VLOOKUP(J9269,'Соответствия статей'!$A$2:$B$50,2,0)),\"Другое\")","v":""}]
[null,null,null,null,null,null,null,null,null,null,null,null,null,{"$f":"IFERROR(IF(A9277=\"\",\"\",VLOOKUP(J9277,'Соответствия статей'!$A$2:$B$50,2,0)),\"Другое\")","v":""}]
[null,null,null,null,null,null,null,null,null,null,null,null,null,{"$f":"IFERROR(IF(A9286=\"\",\"\",VLOOKUP(J9286,'Соответствия статей'!$A$2:$B$50,2,0)),\"Другое\")","v":""}]
[null,null,null,null,null,null,null,null,null,null,null,null,null,{"$f":"IFERROR(IF(A9293=\"\",\"\",VLOOKUP(J9293,'Соответствия статей'!$A$2:$B$50,2,0)),\"Другое\")","v":""}]
[null,null,null,null,null,null,null,null,null,null,null,null,null,{"$f":"IFERROR(IF(A9295=\"\",\"\",VLOOKUP(J9295,'Соответствия статей'!$A$2:$B$50,2,0)),\"Другое\")","v":""}]
[null,null,null,null,null,null,null,null,null,null,null,null,null,{"$f":"IFERROR(IF(A9304=\"\",\"\",VLOOKUP(J9304,'Соответствия статей'!$A$2:$B$50,2,0)),\"Другое\")","v":""}]
[null,null,null,null,null,null,null,null,null,null,null,null,null,{"$f":"IFERROR(IF(A9307=\"\",\"\",VLOOKUP(J9307,'Соответствия статей'!$A$2:$B$50,2,0)),\"Другое\")","v":""}]
[null,null,null,null,null,null,null,null,null,null,null,null,null,{"$f":"IFERROR(IF(A9316=\"\",\"\",VLOOKUP(J9316,'Соответствия статей'!$A$2:$B$50,2,0)),\"Другое\")","v":""}]
[null,null,null,null,null,null,null,null,null,null,null,null,null,{"$f":"IFERROR(IF(A9325=\"\",\"\",VLOOKUP(J9325,'Соответствия статей'!$A$2:$B$50,2,0)),\"Другое\")","v":""}]
[null,null,null,null,null,null,null,null,null,null,null,null,null,{"$f":"IFERROR(IF(A9327=\"\",\"\",VLOOKUP(J9327,'Соответствия статей'!$A$2:$B$50,2,0)),\"Другое\")","v":""}]
[null,null,null,null,null,null,null,null,null,null,null,null,null,{"$f":"IFERROR(IF(A9334=\"\",\"\",VLOOKUP(J9334,'Соответствия статей'!$A$2:$B$50,2,0)),\"Другое\")","v":""}]
[null,null,null,null,null,null,null,null,null,null,null,null,null,{"$f":"IFERROR(IF(A9343=\"\",\"\",VLOOKUP(J9343,'Соответствия статей'!$A$2:$B$50,2,0)),\"Другое\")","v":""}]
[null,null,null,null,null,null,null,null,null,null,null,null,null,{"$f":"IFERROR(IF(A9344=\"\",\"\",VLOOKUP(J9344,'Соответствия статей'!$A$2:$B$50,2,0)),\"Другое\")","v":""}]
[null,null,null,null,null,null,null,null,null,null,null,null,null,{"$f":"IFERROR(IF(A9354=\"\",\"\",VLOOKUP(J9354,'Соответствия статей'!$A$2:$B$50,2,0)),\"Другое\")","v":""}]
[null,null,null,null,null,null,null,null,null,null,null,null,null,{"$f":"IFERROR(IF(A9357=\"\",\"\",VLOOKUP(J9357,'Соответствия статей'!$A$2:$B$50,2,0)),\"Другое\")","v":""}]
[null,null,null,null,null,null,null,null,null,null,null,null,null,{"$f":"IFERROR(IF(A9366=\"\",\"\",VLOOKUP(J9366,'Соответствия статей'!$A$2:$B$50,2,0)),\"Другое\")","v":""}]
[null,null,null,null,null,null,null,null,null,null,null,null,null,{"$f":"IFERROR(IF(A9374=\"\",\"\",VLOOKUP(J9374,'Соответствия статей'!$A$2:$B$50,2,0)),\"Другое\")","v":""}]
[null,null,null,null,null,null,null,null,null,null,null,null,null,{"$f":"IFERROR(IF(A9377=\"\",\"\",VLOOKUP(J9377,'Соответствия статей'!$A$2:$B$50,2,0)),\"Другое\")","v":""}]
[null,null,null,null,null,null,null,null,null,null,null,null,null,{"$f":"IFERROR(IF(A9384=\"\",\"\",VLOOKUP(J9384,'Соответствия статей'!$A$2:$B$50,2,0)),\"Другое\")","v":""}]
[null,null,null,null,null,null,null,null,null,null,null,null,null,{"$f":"IFERROR(IF(A9393=\"\",\"\",VLOOKUP(J9393,'Соответствия статей'!$A$2:$B$50,2,0)),\"Другое\")","v":""}]
[null,null,null,null,null,null,null,null,null,null,null,null,null,{"$f":"IFERROR(IF(A9400=\"\",\"\",VLOOKUP(J9400,'Соответствия статей'!$A$2:$B$50,2,0)),\"Другое\")","v":""}]
[null,null,null,null,null,null,null,null,null,null,null,null,null,{"$f":"IFERROR(IF(A9404=\"\",\"\",VLOOKUP(J9404,'Соответствия статей'!$A$2:$B$50,2,0)),\"Другое\")","v":""}]
[null,null,null,null,null,null,null,null,null,null,null,null,null,{"$f":"IFERROR(IF(A9407=\"\",\"\",VLOOKUP(J9407,'Соответствия статей'!$A$2:$B$50,2,0)),\"Другое\")","v":""}]
[null,null,null,null,null,null,null,null,null,null,null,null,null,{"$f":"IFERROR(IF(A9414=\"\",\"\",VLOOKUP(J9414,'Соответствия статей'!$A$2:$B$50,2,0)),\"Другое\")","v":""}]
[null,null,null,null,null,null,null,null,null,null,null,null,null,{"$f":"IFERROR(IF(A9423=\"\",\"\",VLOOKUP(J9423,'Соответствия статей'!$A$2:$B$50,2,0)),\"Другое\")","v":""}]
[null,null,null,null,null,null,null,null,null,null,null,null,null,{"$f":"IFERROR(IF(A9427=\"\",\"\",VLOOKUP(J9427,'Соответствия статей'!$A$2:$B$50,2,0)),\"Другое\")","v":""}]
[null,null,null,null,null,null,null,null,null,null,null,null,null,{"$f":"IFERROR(IF(A9434=\"\",\"\",VLOOKUP(J9434,'Соответствия статей'!$A$2:$B$50,2,0)),\"Другое\")","v":""}]
[null,null,null,null,null,null,null,null,null,null,null,null,null,{"$f":"IFERROR(IF(A9443=\"\",\"\",VLOOKUP(J9443,'Соответствия статей'!$A$2:$B$50,2,0)),\"Другое\")","v":""}]
[null,null,null,null,null,null,null,null,null,null,null,null,null,{"$f":"IFERROR(IF(A9449=\"\",\"\",VLOOKUP(J9449,'Соответствия статей'!$A$2:$B$50,2,0)),\"Другое\")","v":""}]
[null,null,null,null,null,null,null,null,null,null,null,null,null,{"$f":"IFERROR(IF(A9454=\"\",\"\",VLOOKUP(J9454,'Соответствия статей'!$A$2:$B$50,2,0)),\"Другое\")","v":""}]
[null,null,null,null,null,null,null,null,null,null,null,null,null,{"$f":"IFERROR(IF(A9457=\"\",\"\",VLOOKUP(J9457,'Соответствия статей'!$A$2:$B$50,2,0)),\"Другое\")","v":""}]
[null,null,null,null,null,null,null,null,null,null,null,null,null,{"$f":"IFERROR(IF(A9464=\"\",\"\",VLOOKUP(J9464,'Соответствия статей'!$A$2:$B$50,2,0)),\"Другое\")","v":""}]
[null,null,null,null,null,null,null,null,null,null,null,null,null,{"$f":"IFERROR(IF(A9472=\"\",\"\",VLOOKUP(J9472,'Соответствия статей'!$A$2:$B$50,2,0)),\"Другое\")","v":""}]
[null,null,null,null,null,null,null,null,null,null,null,null,null,{"$f":"IFERROR(IF(A9477=\"\",\"\",VLOOKUP(J9477,'Соответствия статей'!$A$2:$B$50,2,0)),\"Другое\")","v":""}]
[null,null,null,null,null,null,null,null,null,null,null,null,null,{"$f":"IFERROR(IF(A9484=\"\",\"\",VLOOKUP(J9484,'Соответствия статей'!$A$2:$B$50,2,0)),\"Другое\")","v":""}]
[null,null,null,null,null,null,null,null,null,null,null,null,null,{"$f":"IFERROR(IF(A9493=\"\",\"\",VLOOKUP(J9493,'Соответствия статей'!$A$2:$B$50,2,0)),\"Другое\")","v":""}]
[null,null,null,null,null,null,null,null,null,null,null,null,null,{"$f":"IFERROR(IF(A9498=\"\",\"\",VLOOKUP(J9498,'Соответствия статей'!$A$2:$B$50,2,0)),\"Другое\")","v":""}]
[null,null,null,null,null,null,null,null,null,null,null,null,null,{"$f":"IFERROR(IF(A9504=\"\",\"\",VLOOKUP(J9504,'Соответствия статей'!$A$2:$B$50,2,0)),\"Другое\")","v":""}]
[null,null,null,null,null,null,null,null,null,null,null,null,null,{"$f":"IFERROR(IF(A9507=\"\",\"\",VLOOKUP(J9507,'Соответствия статей'!$A$2:$B$50,2,0)),\"Другое\")","v":""}]
[null,null,null,null,null,null,null,null,null,null,null,null,null,{"$f":"IFERROR(IF(A9514=\"\",\"\",VLOOKUP(J9514,'Соответствия статей'!$A$2:$B$50,2,0)),\"Другое\")","v":""}]
[null,null,null,null,null,null,null,null,null,null,null,null,null,{"$f":"IFERROR(IF(A9521=\"\",\"\",VLOOKUP(J9521,'Соответствия статей'!$A$2:$B$50,2,0)),\"Другое\")","v":""}]
[null,null,null,null,null,null,null,null,null,null,null,null,null,{"$f":"IFERROR(IF(A9527=\"\",\"\",VLOOKUP(J9527,'Соответствия статей'!$A$2:$B$50,2,0)),\"Другое\")","v":""}]
[null,null,null,null,null,null,null,null,null,null,null,null,null,{"$f":"IFERROR(IF(A9534=\"\",\"\",VLOOKUP(J9534,'Соответствия статей'!$A$2:$B$50,2,0)),\"Другое\")","v":""}]
[null,null,null,null,null,null,null,null,null,null,null,null,null,{"$f":"IFERROR(IF(A9543=\"\",\"\",VLOOKUP(J9543,'Соответствия статей'!$A$2:$B$50,2,0)),\"Другое\")","v":""}]
[null,null,null,null,null,null,null,null,null,null,null,null,null,{"$f":"IFERROR(IF(A9544=\"\",\"\",VLOOKUP(J9544,'Соответствия статей'!$A$2:$B$50,2,0)),\"Другое\")","v":""}]
[null,null,null,null,null,null,null,null,null,null,null,null,null,{"$f":"IFERROR(IF(A9554=\"\",\"\",VLOOKUP(J9554,'Соответствия статей'!$A$2:$B$50,2,0)),\"Другое\")","v":""}]
[null,null,null,null,null,null,null,null,null,null,null,null,null,{"$f":"IFERROR(IF(A9557=\"\",\"\",VLOOKUP(J9557,'Соответствия статей'!$A$2:$B$50,2,0)),\"Другое\")","v":""}]
[null,null,null,null,null,null,null,null,null,null,null,null,null,{"$f":"IFERROR(IF(A9564=\"\",\"\",VLOOKUP(J9564,'Соответствия статей'!$A$2:$B$50,2,0)),\"Другое\")","v":""}]
[null,null,null,null,null,null,null,null,null,null,null,null,null,{"$f":"IFERROR(IF(A9570=\"\",\"\",VLOOKUP(J9570,'Соответствия статей'!$A$2:$B$50,2,0)),\"Другое\")","v":""}]
[null,null,null,null,null,null,null,null,null,null,null,null,null,{"$f":"IFERROR(IF(A9577=\"\",\"\",VLOOKUP(J9577,'Соответствия статей'!$A$2:$B$50,2,0)),\"Другое\")","v":""}]
[null,null,null,null,null,null,null,null,null,null,null,null,null,{"$f":"IFERROR(IF(A9584=\"\",\"\",VLOOKUP(J9584,'Соответствия статей'!$A$2:$B$50,2,0)),\"Другое\")","v":""}]
[null,null,null,null,null,null,null,null,null,null,null,null,null,{"$f":"IFERROR(IF(A9593=\"\",\"\",VLOOKUP(J9593,'Соответствия статей'!$A$2:$B$50,2,0)),\"Другое\")","v":""}]
[null,null,null,null,null,null,null,null,null,null,null,null,null,{"$f":"IFERROR(IF(A9600=\"\",\"\",VLOOKUP(J9600,'Соответствия статей'!$A$2:$B$50,2,0)),\"Другое\")","v":""}]
[null,null,null,null,null,null,null,null,null,null,null,null,null,{"$f":"IFERROR(IF(A9604=\"\",\"\",VLOOKUP(J9604,'Соответствия статей'!$A$2:$B$50,2,0)),\"Другое\")","v":""}]
[null,null,null,null,null,null,null,null,null,null,null,null,null,{"$f":"IFERROR(IF(A9607=\"\",\"\",VLOOKUP(J9607,'Соответствия статей'!$A$2:$B$50,2,0)),\"Другое\")","v":""}]
[null,null,null,null,null,null,null,null,null,null,null,null,null,{"$f":"IFERROR(IF(A9614=\"\",\"\",VLOOKUP(J9614,'Соответствия статей'!$A$2:$B$50,2,0)),\"Другое\")","v":""}]
[null,null,null,null,null,null,null,null,null,null,null,null,null,{"$f":"IFERROR(IF(A9619=\"\",\"\",VLOOKUP(J9619,'Соответствия статей'!$A$2:$B$50,2,0)),\"Другое\")","v":""}]
[null,null,null,null,null,null,null,null,null,null,null,null,null,{"$f":"IFERROR(IF(A9627=\"\",\"\",VLOOKUP(J9627,'Соответствия статей'!$A$2:$B$50,2,0)),\"Другое\")","v":""}]
[null,null,null,null,null,null,null,null,null,null,null,null,null,{"$f":"IFERROR(IF(A9634=\"\",\"\",VLOOKUP(J9634,'Соответствия статей'!$A$2:$B$50,2,0)),\"Другое\")","v":""}]
[null,null,null,null,null,null,null,null,null,null,null,null,null,{"$f":"IFERROR(IF(A9643=\"\",\"\",VLOOKUP(J9643,'Соответствия статей'!$A$2:$B$50,2,0)),\"Другое\")","v":""}]
[null,null,null,null,null,null,null,null,null,null,null,null,null,{"$f":"IFERROR(IF(A9649=\"\",\"\",VLOOKUP(J9649,'Соответствия статей'!$A$2:$B$50,2,0)),\"Другое\")","v":""}]
[null,null,null,null,null,null,null,null,null,null,null,null,null,{"$f":"IFERROR(IF(A9654=\"\",\"\",VLOOKUP(J9654,'Соответствия статей'!$A$2:$B$50,2,0)),\"Другое\")","v":""}]
[null,null,null,null,null,null,null,null,null,null,null,null,null,{"$f":"IFERROR(IF(A9657=\"\",\"\",VLOOKUP(J9657,'Соответствия статей'!$A$2:$B$50,2,0)),\"Другое\")","v":""}]
[null,null,null,null,null,null,null,null,null,null,null,null,null,{"$f":"IFERROR(IF(A9664=\"\",\"\",VLOOKUP(J9664,'Соответствия статей'!$A$2:$B$50,2,0)),\"Другое\")","v":""}]
[null,null,null,null,null,null,null,null,null,null,null,null,null,{"$f":"IFERROR(IF(A9675=\"\",\"\",VLOOKUP(J9675,'Соответствия статей'!$A$2:$B$50,2,0)),\"Другое\")","v":""}]
[null,null,null,null,null,null,null,null,null,null,null,null,null,{"$f":"IFERROR(IF(A9681=\"\",\"\",VLOOKUP(J9681,'Соответствия статей'!$A$2:$B$50,2,0)),\"Другое\")","v":""}]
[null,null,null,null,null,null,null,null,null,null,null,null,null,{"$f":"IFERROR(IF(A9684=\"\",\"\",VLOOKUP(J9684,'Соответствия статей'!$A$2:$B$50,2,0)),\"Другое\")","v":""}]
[null,null,null,null,null,null,null,null,null,null,null,null,null,{"$f":"IFERROR(IF(A9693=\"\",\"\",VLOOKUP(J9693,'Соответствия статей'!$A$2:$B$50,2,0)),\"Другое\")","v":""}]
[null,null,null,null,null,null,null,null,null,null,null,null,null,{"$f":"IFERROR(IF(A9698=\"\",\"\",VLOOKUP(J9698,'Соответствия статей'!$A$2:$B$50,2,0)),\"Другое\")","v":""}]
[null,null,null,null,null,null,null,null,null,null,null,null,null,{"$f":"IFERROR(IF(A9704=\"\",\"\",VLOOKUP(J9704,'Соответствия статей'!$A$2:$B$50,2,0)),\"Другое\")","v":""}]
[null,null,null,null,null,null,null,null,null,null,null,null,null,{"$f":"IFERROR(IF(A9707=\"\",\"\",VLOOKUP(J9707,'Соответствия статей'!$A$2:$B$50,2,0)),\"Другое\")","v":""}]
[null,null,null,null,null,null,null,null,null,null,null,null,null,{"$f":"IFERROR(IF(A9714=\"\",\"\",VLOOKUP(J9714,'Соответствия статей'!$A$2:$B$50,2,0)),\"Другое\")","v":""}]
[null,null,null,null,null,null,null,null,null,null,null,null,null,{"$f":"IFERROR(IF(A9724=\"\",\"\",VLOOKUP(J9724,'Соответствия статей'!$A$2:$B$50,2,0)),\"Другое\")","v":""}]
[null,null,null,null,null,null,null,null,null,null,null,null,null,{"$f":"IFERROR(IF(A9731=\"\",\"\",VLOOKUP(J9731,'Соответствия статей'!$A$2:$B$50,2,0)),\"Другое\")","v":""}]
[null,null,null,null,null,null,null,null,null,null,null,null,null,{"$f":"IFERROR(IF(A9734=\"\",\"\",VLOOKUP(J9734,'Соответствия статей'!$A$2:$B$50,2,0)),\"Другое\")","v":""}]
[null,null,null,null,null,null,null,null,null,null,null,null,null,{"$f":"IFERROR(IF(A9743=\"\",\"\",VLOOKUP(J9743,'Соответствия статей'!$A$2:$B$50,2,0)),\"Другое\")","v":""}]
[null,null,null,null,null,null,null,null,null,null,null,null,null,{"$f":"IFERROR(IF(A9747=\"\",\"\",VLOOKUP(J9747,'Соответствия статей'!$A$2:$B$50,2,0)),\"Другое\")","v":""}]
[null,null,null,null,null,null,null,null,null,null,null,null,null,{"$f":"IFERROR(IF(A9754=\"\",\"\",VLOOKUP(J9754,'Соответствия статей'!$A$2:$B$50,2,0)),\"Другое\")","v":""}]
[null,null,null,null,null,null,null,null,null,null,null,null,null,{"$f":"IFERROR(IF(A9761=\"\",\"\",VLOOKUP(J9761,'Соответствия статей'!$A$2:$B$50,2,0)),\"Другое\")","v":""}]
[null,null,null,null,null,null,null,null,null,null,null,null,null,{"$f":"IFERROR(IF(A9764=\"\",\"\",VLOOKUP(J9764,'Соответствия статей'!$A$2:$B$50,2,0)),\"Другое\")","v":""}]
[null,null,null,null,null,null,null,null,null,null,null,null,null,{"$f":"IFERROR(IF(A9773=\"\",\"\",VLOOKUP(J9773,'Соответствия статей'!$A$2:$B$50,2,0)),\"Другое\")","v":""}]
[null,null,null,null,null,null,null,null,null,null,null,null,null,{"$f":"IFERROR(IF(A9781=\"\",\"\",VLOOKUP(J9781,'Соответствия статей'!$A$2:$B$50,2,0)),\"Другое\")","v":""}]
[null,null,null,null,null,null,null,null,null,null,null,null,null,{"$f":"IFERROR(IF(A9784=\"\",\"\",VLOOKUP(J9784,'Соответствия статей'!$A$2:$B$50,2,0)),\"Другое\")","v":""}]
[null,null,null,null,null,null,null,null,null,null,null,null,null,{"$f":"IFERROR(IF(A9793=\"\",\"\",VLOOKUP(J9793,'Соответствия статей'!$A$2:$B$50,2,0)),\"Другое\")","v":""}]
[null,null,null,null,null,null,null,null,null,null,null,null,null,{"$f":"IFERROR(IF(A9796=\"\",\"\",VLOOKUP(J9796,'Соответствия статей'!$A$2:$B$50,2,0)),\"Другое\")","v":""}]
[null,null,null,null,null,null,null,null,null,null,null,null,null,{"$f":"IFERROR(IF(A9804=\"\",\"\",VLOOKUP(J9804,'Соответствия статей'!$A$2:$B$50,2,0)),\"Другое\")","v":""}]
[null,null,null,null,null,null,null,null,null,null,null,null,null,{"$f":"IFERROR(IF(A9811=\"\",\"\",VLOOKUP(J9811,'Соответствия статей'!$A$2:$B$50,2,0)),\"Другое\")","v":""}]
[null,null,null,null,null,null,null,null,null,null,null,null,null,{"$f":"IFERROR(IF(A9814=\"\",\"\",VLOOKUP(J9814,'Соответствия статей'!$A$2:$B$50,2,0)),\"Другое\")","v":""}]
[null,null,null,null,null,null,null,null,null,null,null,null,null,{"$f":"IFERROR(IF(A9822=\"\",\"\",VLOOKUP(J9822,'Соответствия статей'!$A$2:$B$50,2,0)),\"Другое\")","v":""}]
[null,null,null,null,null,null,null,null,null,null,null,null,null,{"$f":"IFERROR(IF(A9831=\"\",\"\",VLOOKUP(J9831,'Соответствия статей'!$A$2:$B$50,2,0)),\"Другое\")","v":""}]
[null,null,null,null,null,null,null,null,null,null,null,null,null,{"$f":"IFERROR(IF(A9834=\"\",\"\",VLOOKUP(J9834,'Соответствия статей'!$A$2:$B$50,2,0)),\"Другое\")","v":""}]
[null,null,null,null,null,null,null,null,null,null,null,null,null,{"$f":"IFERROR(IF(A9843=\"\",\"\",VLOOKUP(J9843,'Соответствия статей'!$A$2:$B$50,2,0)),\"Другое\")","v":""}]
[null,null,null,null,null,null,null,null,null,null,null,null,null,{"$f":"IFERROR(IF(A9845=\"\",\"\",VLOOKUP(J9845,'Соответствия статей'!$A$2:$B$50,2,0)),\"Другое\")","v":""}]
[null,null,null,null,null,null,null,null,null,null,null,null,null,{"$f":"IFERROR(IF(A9854=\"\",\"\",VLOOKUP(J9854,'Соответствия статей'!$A$2:$B$50,2,0)),\"Другое\")","v":""}]
[null,null,null,null,null,null,null,null,null,null,null,null,null,{"$f":"IFERROR(IF(A9861=\"\",\"\",VLOOKUP(J9861,'Соответствия статей'!$A$2:$B$50,2,0)),\"Другое\")","v":""}]
[null,null,null,null,null,null,null,null,null,null,null,null,null,{"$f":"IFERROR(IF(A9864=\"\",\"\",VLOOKUP(J9864,'Соответствия статей'!$A$2:$B$50,2,0)),\"Другое\")","v":""}]
[null,null,null,null,null,null,null,null,null,null,null,null,null,{"$f":"IFERROR(IF(A9871=\"\",\"\",VLOOKUP(J9871,'Соответствия статей'!$A$2:$B$50,2,0)),\"Другое\")","v":""}]
[null,null,null,null,null,null,null,null,null,null,null,null,null,{"$f":"IFERROR(IF(A9881=\"\",\"\",VLOOKUP(J9881,'Соответствия статей'!$A$2:$B$50,2,0)),\"Другое\")","v":""}]
[null,null,null,null,null,null,null,null,null,null,null,null,null,{"$f":"IFERROR(IF(A9884=\"\",\"\",VLOOKUP(J9884,'Соответствия статей'!$A$2:$B$50,2,0)),\"Другое\")","v":""}]
[null,null,null,null,null,null,null,null,null,null,null,null,null,{"$f":"IFERROR(IF(A9891=\"\",\"\",VLOOKUP(J9891,'Соответствия статей'!$A$2:$B$50,2,0)),\"Другое\")","v":""}]
[null,null,null,null,null,null,null,null,null,null,null,null,null,{"$f":"IFERROR(IF(A9894=\"\",\"\",VLOOKUP(J9894,'Соответствия статей'!$A$2:$B$50,2,0)),\"Другое\")","v":""}]
[null,null,null,null,null,null,null,null,null,null,null,null,null,{"$f":"IFERROR(IF(A9904=\"\",\"\",VLOOKUP(J9904,'Соответствия статей'!$A$2:$B$50,2,0)),\"Другое\")","v":""}]
[null,null,null,null,null,null,null,null,null,null,null,null,null,{"$f":"IFERROR(IF(A9911=\"\",\"\",VLOOKUP(J9911,'Соответствия статей'!$A$2:$B$50,2,0)),\"Другое\")","v":""}]
[null,null,null,null,null,null,null,null,null,null,null,null,null,{"$f":"IFERROR(IF(A9914=\"\",\"\",VLOOKUP(J9914,'Соответствия статей'!$A$2:$B$50,2,0)),\"Другое\")","v":""}]
[null,null,null,null,null,null,null,null,null,null,null,null,null,{"$f":"IFERROR(IF(A9920=\"\",\"\",VLOOKUP(J9920,'Соответствия статей'!$A$2:$B$50,2,0)),\"Другое\")","v":""}]
[null,null,null,null,null,null,null,null,null,null,null,null,null,{"$f":"IFERROR(IF(A9931=\"\",\"\",VLOOKUP(J9931,'Соответствия статей'!$A$2:$B$50,2,0)),\"Другое\")","v":""}]
[null,null,null,null,null,null,null,null,null,null,null,null,null,{"$f":"IFERROR(IF(A9934=\"\",\"\",VLOOKUP(J9934,'Соответствия статей'!$A$2:$B$50,2,0)),\"Другое\")","v":""}]
[null,null,null,null,null,null,null,null,null,null,null,null,null,{"$f":"IFERROR(IF(A9941=\"\",\"\",VLOOKUP(J9941,'Соответствия статей'!$A$2:$B$50,2,0)),\"Другое\")","v":""}]
[null,null,null,null,null,null,null,null,null,null,null,null,null,{"$f":"IFERROR(IF(A9950=\"\",\"\",VLOOKUP(J9950,'Соответствия статей'!$A$2:$B$50,2,0)),\"Другое\")","v":""}]
[null,null,null,null,null,null,null,null,null,null,null,null,null,{"$f":"IFERROR(IF(A9954=\"\",\"\",VLOOKUP(J9954,'Соответствия статей'!$A$2:$B$50,2,0)),\"Другое\")","v":""}]
[null,null,null,null,null,null,null,null,null,null,null,null,null,{"$f":"IFERROR(IF(A9961=\"\",\"\",VLOOKUP(J9961,'Соответствия статей'!$A$2:$B$50,2,0)),\"Другое\")","v":""}]
[null,null,null,null,null,null,null,null,null,null,null,null,null,{"$f":"IFERROR(IF(A9964=\"\",\"\",VLOOKUP(J9964,'Соответствия статей'!$A$2:$B$50,2,0)),\"Другое\")","v":""}]
[null,null,null,null,null,null,null,null,null,null,null,null,null,{"$f":"IFERROR(IF(A9973=\"\",\"\",VLOOKUP(J9973,'Соответствия статей'!$A$2:$B$50,2,0)),\"Другое\")","v":""}]
[null,null,null,null,null,null,null,null,null,null,null,null,null,{"$f":"IFERROR(IF(A9981=\"\",\"\",VLOOKUP(J9981,'Соответствия статей'!$A$2:$B$50,2,0)),\"Другое\")","v":""}]
[null,null,null,null,null,null,null,null,null,null,null,null,null,{"$f":"IFERROR(IF(A9984=\"\",\"\",VLOOKUP(J9984,'Соответствия статей'!$A$2:$B$50,2,0)),\"Другое\")","v":""}]
[null,null,null,null,null,null,null,null,null,null,null,null,null,{"$f":"IFERROR(IF(A9991=\"\",\"\",VLOOKUP(J9991,'Соответствия статей'!$A$2:$B$50,2,0)),\"Другое\")","v":""}]
[null,null,null,null,null,null,null,null,null,null,null,null,null,{"$f":"IFERROR(IF(A9999=\"\",\"\",VLOOKUP(J9999,'Соответствия статей'!$A$2:$B$50,2,0)),\"Другое\")","v":""}]
[null,null,null,null,null,null,null,null,null,null,null,null,null,{"$f":"IFERROR(IF(A10004=\"\",\"\",VLOOKUP(J10004,'Соответствия статей'!$A$2:$B$50,2,0)),\"Другое\")","v":""}]
[null,null,null,null,null,null,null,null,null,null,null,null,null,{"$f":"IFERROR(IF(A10011=\"\",\"\",VLOOKUP(J10011,'Соответствия статей'!$A$2:$B$50,2,0)),\"Другое\")","v":""}]
[null,null,null,null,null,null,null,null,null,null,null,null,null,{"$f":"IFERROR(IF(A10014=\"\",\"\",VLOOKUP(J10014,'Соответствия статей'!$A$2:$B$50,2,0)),\"Другое\")","v":""}]
[null,null,null,null,null,null,null,null,null,null,null,null,null,{"$f":"IFERROR(IF(A10022=\"\",\"\",VLOOKUP(J10022,'Соответствия статей'!$A$2:$B$50,2,0)),\"Другое\")","v":""}]
[null,null,null,null,null,null,null,null,null,null,null,null,null,{"$f":"IFERROR(IF(A10031=\"\",\"\",VLOOKUP(J10031,'Соответствия статей'!$A$2:$B$50,2,0)),\"Другое\")","v":""}]
[null,null,null,null,null,null,null,null,null,null,null,null,null,{"$f":"IFERROR(IF(A10034=\"\",\"\",VLOOKUP(J10034,'Соответствия статей'!$A$2:$B$50,2,0)),\"Другое\")","v":""}]
[null,null,null,null,null,null,null,null,null,null,null,null,null,{"$f":"IFERROR(IF(A10041=\"\",\"\",VLOOKUP(J10041,'Соответствия статей'!$A$2:$B$50,2,0)),\"Другое\")","v":""}]
[null,null,null,null,null,null,null,null,null,null,null,null,null,{"$f":"IFERROR(IF(A10048=\"\",\"\",VLOOKUP(J10048,'Соответствия статей'!$A$2:$B$50,2,0)),\"Другое\")","v":""}]
[null,null,null,null,null,null,null,null,null,null,null,null,null,{"$f":"IFERROR(IF(A10054=\"\",\"\",VLOOKUP(J10054,'Соответствия статей'!$A$2:$B$50,2,0)),\"Другое\")","v":""}]
[null,null,null,null,null,null,null,null,null,null,null,null,null,{"$f":"IFERROR(IF(A10061=\"\",\"\",VLOOKUP(J10061,'Соответствия статей'!$A$2:$B$50,2,0)),\"Другое\")","v":""}]
[null,null,null,null,null,null,null,null,null,null,null,null,null,{"$f":"IFERROR(IF(A10064=\"\",\"\",VLOOKUP(J10064,'Соответствия статей'!$A$2:$B$50,2,0)),\"Другое\")","v":""}]
[null,null,null,null,null,null,null,null,null,null,null,null,null,{"$f":"IFERROR(IF(A10071=\"\",\"\",VLOOKUP(J10071,'Соответствия статей'!$A$2:$B$50,2,0)),\"Другое\")","v":""}]
[null,null,null,null,null,null,null,null,null,null,null,null,null,{"$f":"IFERROR(IF(A10081=\"\",\"\",VLOOKUP(J10081,'Соответствия статей'!$A$2:$B$50,2,0)),\"Другое\")","v":""}]
[null,null,null,null,null,null,null,null,null,null,null,null,null,{"$f":"IFERROR(IF(A10084=\"\",\"\",VLOOKUP(J10084,'Соответствия статей'!$A$2:$B$50,2,0)),\"Другое\")","v":""}]
[null,null,null,null,null,null,null,null,null,null,null,null,null,{"$f":"IFERROR(IF(A10091=\"\",\"\",VLOOKUP(J10091,'Соответствия статей'!$A$2:$B$50,2,0)),\"Другое\")","v":""}]
[null,null,null,null,null,null,null,null,null,null,null,null,null,{"$f":"IFERROR(IF(A10097=\"\",\"\",VLOOKUP(J10097,'Соответствия статей'!$A$2:$B$50,2,0)),\"Другое\")","v":""}]
[null,null,null,null,null,null,null,null,null,null,null,null,null,{"$f":"IFERROR(IF(A10102=\"\",\"\",VLOOKUP(J10102,'Соответствия статей'!$A$2:$B$50,2,0)),\"Другое\")","v":""}]
[null,null,null,null,null,null,null,null,null,null,null,null,null,{"$f":"IFERROR(IF(A10111=\"\",\"\",VLOOKUP(J10111,'Соответствия статей'!$A$2:$B$50,2,0)),\"Другое\")","v":""}]
[null,null,null,null,null,null,null,null,null,null,null,null,null,{"$f":"IFERROR(IF(A10114=\"\",\"\",VLOOKUP(J10114,'Соответствия статей'!$A$2:$B$50,2,0)),\"Другое\")","v":""}]
[null,null,null,null,null,null,null,null,null,null,null,null,null,{"$f":"IFERROR(IF(A10120=\"\",\"\",VLOOKUP(J10120,'Соответствия статей'!$A$2:$B$50,2,0)),\"Другое\")","v":""}]
[null,null,null,null,null,null,null,null,null,null,null,null,null,{"$f":"IFERROR(IF(A10131=\"\",\"\",VLOOKUP(J10131,'Соответствия статей'!$A$2:$B$50,2,0)),\"Другое\")","v":""}]
[null,null,null,null,null,null,null,null,null,null,null,null,null,{"$f":"IFERROR(IF(A10134=\"\",\"\",VLOOKUP(J10134,'Соответствия статей'!$A$2:$B$50,2,0)),\"Другое\")","v":""}]
[null,null,null,null,null,null,null,null,null,null,null,null,null,{"$f":"IFERROR(IF(A10141=\"\",\"\",VLOOKUP(J10141,'Соответствия статей'!$A$2:$B$50,2,0)),\"Другое\")","v":""}]
[null,null,null,null,null,null,null,null,null,null,null,null,null,{"$f":"IFERROR(IF(A10146=\"\",\"\",VLOOKUP(J10146,'Соответствия статей'!$A$2:$B$50,2,0)),\"Другое\")","v":""}]
[null,null,null,null,null,null,null,null,null,null,null,null,null,{"$f":"IFERROR(IF(A10152=\"\",\"\",VLOOKUP(J10152,'Соответствия статей'!$A$2:$B$50,2,0)),\"Другое\")","v":""}]
[null,null,null,null,null,null,null,null,null,null,null,null,null,{"$f":"IFERROR(IF(A10161=\"\",\"\",VLOOKUP(J10161,'Соответствия статей'!$A$2:$B$50,2,0)),\"Другое\")","v":""}]
[null,null,null,null,null,null,null,null,null,null,null,null,null,{"$f":"IFERROR(IF(A10164=\"\",\"\",VLOOKUP(J10164,'Соответствия статей'!$A$2:$B$50,2,0)),\"Другое\")","v":""}]
[null,null,null,null,null,null,null,null,null,null,null,null,null,{"$f":"IFERROR(IF(A10169=\"\",\"\",VLOOKUP(J10169,'Соответствия статей'!$A$2:$B$50,2,0)),\"Другое\")","v":""}]
[null,null,null,null,null,null,null,null,null,null,null,null,null,{"$f":"IFERROR(IF(A10181=\"\",\"\",VLOOKUP(J10181,'Соответствия статей'!$A$2:$B$50,2,0)),\"Другое\")","v":""}]
[null,null,null,null,null,null,null,null,null,null,null,null,null,{"$f":"IFERROR(IF(A10184=\"\",\"\",VLOOKUP(J10184,'Соответствия статей'!$A$2:$B$50,2,0)),\"Другое\")","v":""}]
[null,null,null,null,null,null,null,null,null,null,null,null,null,{"$f":"IFERROR(IF(A10191=\"\",\"\",VLOOKUP(J10191,'Соответствия статей'!$A$2:$B$50,2,0)),\"Другое\")","v":""}]
[null,null,null,null,null,null,null,null,null,null,null,null,null,{"$f":"IFERROR(IF(A10195=\"\",\"\",VLOOKUP(J10195,'Соответствия статей'!$A$2:$B$50,2,0)),\"Другое\")","v":""}]
[null,null,null,null,null,null,null,null,null,null,null,null,null,{"$f":"IFERROR(IF(A10202=\"\",\"\",VLOOKUP(J10202,'Соответствия статей'!$A$2:$B$50,2,0)),\"Другое\")","v":""}]
[null,null,null,null,null,null,null,null,null,null,null,null,null,{"$f":"IFERROR(IF(A10211=\"\",\"\",VLOOKUP(J10211,'Соответствия статей'!$A$2:$B$50,2,0)),\"Другое\")","v":""}]
[null,null,null,null,null,null,null,null,null,null,null,null,null,{"$f":"IFERROR(IF(A10214=\"\",\"\",VLOOKUP(J10214,'Соответствия статей'!$A$2:$B$50,2,0)),\"Другое\")","v":""}]
[null,null,null,null,null,null,null,null,null,null,null,null,null,{"$f":"IFERROR(IF(A10225=\"\",\"\",VLOOKUP(J10225,'Соответствия статей'!$A$2:$B$50,2,0)),\"Другое\")","v":""}]
[null,null,null,null,null,null,null,null,null,null,null,null,null,{"$f":"IFERROR(IF(A10231=\"\",\"\",VLOOKUP(J10231,'Соответствия статей'!$A$2:$B$50,2,0)),\"Другое\")","v":""}]
[null,null,null,null,null,null,null,null,null,null,null,null,null,{"$f":"IFERROR(IF(A10232=\"\",\"\",VLOOKUP(J10232,'Соответствия статей'!$A$2:$B$50,2,0)),\"Другое\")","v":""}]
[null,null,null,null,null,null,null,null,null,null,null,null,null,{"$f":"IFERROR(IF(A10241=\"\",\"\",VLOOKUP(J10241,'Соответствия статей'!$A$2:$B$50,2,0)),\"Другое\")","v":""}]
[null,null,null,null,null,null,null,null,null,null,null,null,null,{"$f":"IFERROR(IF(A10244=\"\",\"\",VLOOKUP(J10244,'Соответствия статей'!$A$2:$B$50,2,0)),\"Другое\")","v":""}]
[null,null,null,null,null,null,null,null,null,null,null,null,null,{"$f":"IFERROR(IF(A10252=\"\",\"\",VLOOKUP(J10252,'Соответствия статей'!$A$2:$B$50,2,0)),\"Другое\")","v":""}]
[null,null,null,null,null,null,null,null,null,null,null,null,null,{"$f":"IFERROR(IF(A10261=\"\",\"\",VLOOKUP(J10261,'Соответствия статей'!$A$2:$B$50,2,0)),\"Другое\")","v":""}]
[null,null,null,null,null,null,null,null,null,null,null,null,null,{"$f":"IFERROR(IF(A10264=\"\",\"\",VLOOKUP(J10264,'Соответствия статей'!$A$2:$B$50,2,0)),\"Другое\")","v":""}]
[null,null,null,null,null,null,null,null,null,null,null,null,null,{"$f":"IFERROR(IF(A10274=\"\",\"\",VLOOKUP(J10274,'Соответствия статей'!$A$2:$B$50,2,0)),\"Другое\")","v":""}]
[null,null,null,null,null,null,null,null,null,null,null,null,null,{"$f":"IFERROR(IF(A10281=\"\",\"\",VLOOKUP(J10281,'Соответствия статей'!$A$2:$B$50,2,0)),\"Другое\")","v":""}]
[null,null,null,null,null,null,null,null,null,null,null,null,null,{"$f":"IFERROR(IF(A10282=\"\",\"\",VLOOKUP(J10282,'Соответствия статей'!$A$2:$B$50,2,0)),\"Другое\")","v":""}]
[null,null,null,null,null,null,null,null,null,null,null,null,null,{"$f":"IFERROR(IF(A10291=\"\",\"\",VLOOKUP(J10291,'Соответствия статей'!$A$2:$B$50,2,0)),\"Другое\")","v":""}]
[null,null,null,null,null,null,null,null,null,null,null,null,null,{"$f":"IFERROR(IF(A10300=\"\",\"\",VLOOKUP(J10300,'Соответствия статей'!$A$2:$B$50,2,0)),\"Другое\")","v":""}]
[null,null,null,null,null,null,null,null,null,null,null,null,null,{"$f":"IFERROR(IF(A10302=\"\",\"\",VLOOKUP(J10302,'Соответствия статей'!$A$2:$B$50,2,0)),\"Другое\")","v":""}]
[null,null,null,null,null,null,null,null,null,null,null,null,null,{"$f":"IFERROR(IF(A10311=\"\",\"\",VLOOKUP(J10311,'Соответствия статей'!$A$2:$B$50,2,0)),\"Другое\")","v":""}]
[null,null,null,null,null,null,null,null,null,null,null,null,null,{"$f":"IFERROR(IF(A10318=\"\",\"\",VLOOKUP(J10318,'Соответствия статей'!$A$2:$B$50,2,0)),\"Другое\")","v":""}]
[null,null,null,null,null,null,null,null,null,null,null,null,null,{"$f":"IFERROR(IF(A10323=\"\",\"\",VLOOKUP(J10323,'Соответствия статей'!$A$2:$B$50,2,0)),\"Другое\")","v":""}]
[null,null,null,null,null,null,null,null,null,null,null,null,null,{"$f":"IFERROR(IF(A10331=\"\",\"\",VLOOKUP(J10331,'Соответствия статей'!$A$2:$B$50,2,0)),\"Другое\")","v":""}]
[null,null,null,null,null,null,null,null,null,null,null,null,null,{"$f":"IFERROR(IF(A10332=\"\",\"\",VLOOKUP(J10332,'Соответствия статей'!$A$2:$B$50,2,0)),\"Другое\")","v":""}]
[null,null,null,null,null,null,null,null,null,null,null,null,null,{"$f":"IFERROR(IF(A10341=\"\",\"\",VLOOKUP(J10341,'Соответствия статей'!$A$2:$B$50,2,0)),\"Другое\")","v":""}]
[null,null,null,null,null,null,null,null,null,null,null,null,null,{"$f":"IFERROR(IF(A10349=\"\",\"\",VLOOKUP(J10349,'Соответствия статей'!$A$2:$B$50,2,0)),\"Другое\")","v":""}]
[null,null,null,null,null,null,null,null,null,null,null,null,null,{"$f":"IFERROR(IF(A10352=\"\",\"\",VLOOKUP(J10352,'Соответствия статей'!$A$2:$B$50,2,0)),\"Другое\")","v":""}]
[null,null,null,null,null,null,null,null,null,null,null,null,null,{"$f":"IFERROR(IF(A10361=\"\",\"\",VLOOKUP(J10361,'Соответствия статей'!$A$2:$B$50,2,0)),\"Другое\")","v":""}]
[null,null,null,null,null,null,null,null,null,null,null,null,null,{"$f":"IFERROR(IF(A10368=\"\",\"\",VLOOKUP(J10368,'Соответствия статей'!$A$2:$B$50,2,0)),\"Другое\")","v":""}]
[null,null,null,null,null,null,null,null,null,null,null,null,null,{"$f":"IFERROR(IF(A10372=\"\",\"\",VLOOKUP(J10372,'Соответствия статей'!$A$2:$B$50,2,0)),\"Другое\")","v":""}]
[null,null,null,null,null,null,null,null,null,null,null,null,null,{"$f":"IFERROR(IF(A10381=\"\",\"\",VLOOKUP(J10381,'Соответствия статей'!$A$2:$B$50,2,0)),\"Другое\")","v":""}]
[null,null,null,null,null,null,null,null,null,null,null,null,null,{"$f":"IFERROR(IF(A10382=\"\",\"\",VLOOKUP(J10382,'Соответствия статей'!$A$2:$B$50,2,0)),\"Другое\")","v":""}]
[null,null,null,null,null,null,null,null,null,null,null,null,null,{"$f":"IFERROR(IF(A10391=\"\",\"\",VLOOKUP(J10391,'Соответствия статей'!$A$2:$B$50,2,0)),\"Другое\")","v":""}]
[null,null,null,null,null,null,null,null,null,null,null,null,null,{"$f":"IFERROR(IF(A10398=\"\",\"\",VLOOKUP(J10398,'Соответствия статей'!$A$2:$B$50,2,0)),\"Другое\")","v":""}]
[null,null,null,null,null,null,null,null,null,null,null,null,null,{"$f":"IFERROR(IF(A10402=\"\",\"\",VLOOKUP(J10402,'Соответствия статей'!$A$2:$B$50,2,0)),\"Другое\")","v":""}]
[null,null,null,null,null,null,null,null,null,null,null,null,null,{"$f":"IFERROR(IF(A10411=\"\",\"\",VLOOKUP(J10411,'Соответствия статей'!$A$2:$B$50,2,0)),\"Другое\")","v":""}]
[null,null,null,null,null,null,null,null,null,null,null,null,null,{"$f":"IFERROR(IF(A10418=\"\",\"\",VLOOKUP(J10418,'Соответствия статей'!$A$2:$B$50,2,0)),\"Другое\")","v":""}]
[null,null,null,null,null,null,null,null,null,null,null,null,null,{"$f":"IFERROR(IF(A10421=\"\",\"\",VLOOKUP(J10421,'Соответствия статей'!$A$2:$B$50,2,0)),\"Другое\")","v":""}]
[null,null,null,null,null,null,null,null,null,null,null,null,null,{"$f":"IFERROR(IF(A10431=\"\",\"\",VLOOKUP(J10431,'Соответствия статей'!$A$2:$B$50,2,0)),\"Другое\")","v":""}]
[null,null,null,null,null,null,null,null,null,null,null,null,null,{"$f":"IFERROR(IF(A10432=\"\",\"\",VLOOKUP(J10432,'Соответствия статей'!$A$2:$B$50,2,0)),\"Другое\")","v":""}]
[null,null,null,null,null,null,null,null,null,null,null,null,null,{"$f":"IFERROR(IF(A10441=\"\",\"\",VLOOKUP(J10441,'Соответствия статей'!$A$2:$B$50,2,0)),\"Другое\")","v":""}]
[null,null,null,null,null,null,null,null,null,null,null,null,null,{"$f":"IFERROR(IF(A10444=\"\",\"\",VLOOKUP(J10444,'Соответствия статей'!$A$2:$B$50,2,0)),\"Другое\")","v":""}]
[null,null,null,null,null,null,null,null,null,null,null,null,null,{"$f":"IFERROR(IF(A10452=\"\",\"\",VLOOKUP(J10452,'Соответствия статей'!$A$2:$B$50,2,0)),\"Другое\")","v":""}]
[null,null,null,null,null,null,null,null,null,null,null,null,null,{"$f":"IFERROR(IF(A10461=\"\",\"\",VLOOKUP(J10461,'Соответствия статей'!$A$2:$B$50,2,0)),\"Другое\")","v":""}]
[null,null,null,null,null,null,null,null,null,null,null,null,null,{"$f":"IFERROR(IF(A10468=\"\",\"\",VLOOKUP(J10468,'Соответствия статей'!$A$2:$B$50,2,0)),\"Другое\")","v":""}]
[null,null,null,null,null,null,null,null,null,null,null,null,null,{"$f":"IFERROR(IF(A10470=\"\",\"\",VLOOKUP(J10470,'Соответствия статей'!$A$2:$B$50,2,0)),\"Другое\")","v":""}]
[null,null,null,null,null,null,null,null,null,null,null,null,null,{"$f":"IFERROR(IF(A10481=\"\",\"\",VLOOKUP(J10481,'Соответствия статей'!$A$2:$B$50,2,0)),\"Другое\")","v":""}]
[null,null,null,null,null,null,null,null,null,null,null,null,null,{"$f":"IFERROR(IF(A10482=\"\",\"\",VLOOKUP(J10482,'Соответствия статей'!$A$2:$B$50,2,0)),\"Другое\")","v":""}]
[null,null,null,null,null,null,null,null,null,null,null,null,null,{"$f":"IFERROR(IF(A10491=\"\",\"\",VLOOKUP(J10491,'Соответствия статей'!$A$2:$B$50,2,0)),\"Другое\")","v":""}]
[null,null,null,null,null,null,null,null,null,null,null,null,null,{"$f":"IFERROR(IF(A10500=\"\",\"\",VLOOKUP(J10500,'Соответствия статей'!$A$2:$B$50,2,0)),\"Другое\")","v":""}]
[null,null,null,null,null,null,null,null,null,null,null,null,null,{"$f":"IFERROR(IF(A10502=\"\",\"\",VLOOKUP(J10502,'Соответствия статей'!$A$2:$B$50,2,0)),\"Другое\")","v":""}]
[null,null,null,null,null,null,null,null,null,null,null,null,null,{"$f":"IFERROR(IF(A10511=\"\",\"\",VLOOKUP(J10511,'Соответствия статей'!$A$2:$B$50,2,0)),\"Другое\")","v":""}]
[null,null,null,null,null,null,null,null,null,null,null,null,null,{"$f":"IFERROR(IF(A10518=\"\",\"\",VLOOKUP(J10518,'Соответствия статей'!$A$2:$B$50,2,0)),\"Другое\")","v":""}]
[null,null,null,null,null,null,null,null,null,null,null,null,null,{"$f":"IFERROR(IF(A10519=\"\",\"\",VLOOKUP(J10519,'Соответствия статей'!$A$2:$B$50,2,0)),\"Другое\")","v":""}]
[null,null,null,null,null,null,null,null,null,null,null,null,null,{"$f":"IFERROR(IF(A10529=\"\",\"\",VLOOKUP(J10529,'Соответствия статей'!$A$2:$B$50,2,0)),\"Другое\")","v":""}]
[null,null,null,null,null,null,null,null,null,null,null,null,null,{"$f":"IFERROR(IF(A10532=\"\",\"\",VLOOKUP(J10532,'Соответствия статей'!$A$2:$B$50,2,0)),\"Другое\")","v":""}]
[null,null,null,null,null,null,null,null,null,null,null,null,null,{"$f":"IFERROR(IF(A10541=\"\",\"\",VLOOKUP(J10541,'Соответствия статей'!$A$2:$B$50,2,0)),\"Другое\")","v":""}]
[null,null,null,null,null,null,null,null,null,null,null,null,null,{"$f":"IFERROR(IF(A10549=\"\",\"\",VLOOKUP(J10549,'Соответствия статей'!$A$2:$B$50,2,0)),\"Другое\")","v":""}]
[null,null,null,null,null,null,null,null,null,null,null,null,null,{"$f":"IFERROR(IF(A10552=\"\",\"\",VLOOKUP(J10552,'Соответствия статей'!$A$2:$B$50,2,0)),\"Другое\")","v":""}]
[null,null,null,null,null,null,null,null,null,null,null,null,null,{"$f":"IFERROR(IF(A10561=\"\",\"\",VLOOKUP(J10561,'Соответствия статей'!$A$2:$B$50,2,0)),\"Другое\")","v":""}]
[null,null,null,null,null,null,null,null,null,null,null,null,null,{"$f":"IFERROR(IF(A10568=\"\",\"\",VLOOKUP(J10568,'Соответствия статей'!$A$2:$B$50,2,0)),\"Другое\")","v":""}]
[null,null,null,null,null,null,null,null,null,null,null,null,null,{"$f":"IFERROR(IF(A10575=\"\",\"\",VLOOKUP(J10575,'Соответствия статей'!$A$2:$B$50,2,0)),\"Другое\")","v":""}]
[null,null,null,null,null,null,null,null,null,null,null,null,null,{"$f":"IFERROR(IF(A10579=\"\",\"\",VLOOKUP(J10579,'Соответствия статей'!$A$2:$B$50,2,0)),\"Другое\")","v":""}]
[null,null,null,null,null,null,null,null,null,null,null,null,null,{"$f":"IFERROR(IF(A10582=\"\",\"\",VLOOKUP(J10582,'Соответствия статей'!$A$2:$B$50,2,0)),\"Другое\")","v":""}]
[null,null,null,null,null,null,null,null,null,null,null,null,null,{"$f":"IFERROR(IF(A10591=\"\",\"\",VLOOKUP(J10591,'Соответствия статей'!$A$2:$B$50,2,0)),\"Другое\")","v":""}]
[null,null,null,null,null,null,null,null,null,null,null,null,null,{"$f":"IFERROR(IF(A10598=\"\",\"\",VLOOKUP(J10598,'Соответствия статей'!$A$2:$B$50,2,0)),\"Другое\")","v":""}]
[null,null,null,null,null,null,null,null,null,null,null,null,null,{"$f":"IFERROR(IF(A10602=\"\",\"\",VLOOKUP(J10602,'Соответствия статей'!$A$2:$B$50,2,0)),\"Другое\")","v":""}]
[null,null,null,null,null,null,null,null,null,null,null,null,null,{"$f":"IFERROR(IF(A10611=\"\",\"\",VLOOKUP(J10611,'Соответствия статей'!$A$2:$B$50,2,0)),\"Другое\")","v":""}]
[null,null,null,null,null,null,null,null,null,null,null,null,null,{"$f":"IFERROR(IF(A10618=\"\",\"\",VLOOKUP(J10618,'Соответствия статей'!$A$2:$B$50,2,0)),\"Другое\")","v":""}]
[null,null,null,null,null,null,null,null,null,null,null,null,null,{"$f":"IFERROR(IF(A10624=\"\",\"\",VLOOKUP(J10624,'Соответствия статей'!$A$2:$B$50,2,0)),\"Другое\")","v":""}]
[null,null,null,null,null,null,null,null,null,null,null,null,null,{"$f":"IFERROR(IF(A10629=\"\",\"\",VLOOKUP(J10629,'Соответствия статей'!$A$2:$B$50,2,0)),\"Другое\")","v":""}]
[null,null,null,null,null,null,null,null,null,null,null,null,null,{"$f":"IFERROR(IF(A10632=\"\",\"\",VLOOKUP(J10632,'Соответствия статей'!$A$2:$B$50,2,0)),\"Другое\")","v":""}]
[null,null,null,null,null,null,null,null,null,null,null,null,null,{"$f":"IFERROR(IF(A10641=\"\",\"\",VLOOKUP(J10641,'Соответствия статей'!$A$2:$B$50,2,0)),\"Другое\")","v":""}]
[null,null,null,null,null,null,null,null,null,null,null,null,null,{"$f":"IFERROR(IF(A10647=\"\",\"\",VLOOKUP(J10647,'Соответствия статей'!$A$2:$B$50,2,0)),\"Другое\")","v":""}]
[null,null,null,null,null,null,null,null,null,null,null,null,null,{"$f":"IFERROR(IF(A10652=\"\",\"\",VLOOKUP(J10652,'Соответствия статей'!$A$2:$B$50,2,0)),\"Другое\")","v":""}]
[null,null,null,null,null,null,null,null,null,null,null,null,null,{"$f":"IFERROR(IF(A10659=\"\",\"\",VLOOKUP(J10659,'Соответствия статей'!$A$2:$B$50,2,0)),\"Другое\")","v":""}]
[null,null,null,null,null,null,null,null,null,null,null,null,null,{"$f":"IFERROR(IF(A10668=\"\",\"\",VLOOKUP(J10668,'Соответствия статей'!$A$2:$B$50,2,0)),\"Другое\")","v":""}]
[null,null,null,null,null,null,null,null,null,null,null,null,null,{"$f":"IFERROR(IF(A10673=\"\",\"\",VLOOKUP(J10673,'Соответствия статей'!$A$2:$B$50,2,0)),\"Другое\")","v":""}]
[null,null,null,null,null,null,null,null,null,null,null,null,null,{"$f":"IFERROR(IF(A10679=\"\",\"\",VLOOKUP(J10679,'Соответствия статей'!$A$2:$B$50,2,0)),\"Другое\")","v":""}]
[null,null,null,null,null,null,null,null,null,null,null,null,null,{"$f":"IFERROR(IF(A10682=\"\",\"\",VLOOKUP(J10682,'Соответствия статей'!$A$2:$B$50,2,0)),\"Другое\")","v":""}]
[null,null,null,null,null,null,null,null,null,null,null,null,null,{"$f":"IFERROR(IF(A10691=\"\",\"\",VLOOKUP(J10691,'Соответствия статей'!$A$2:$B$50,2,0)),\"Другое\")","v":""}]
[null,null,null,null,null,null,null,null,null,null,null,null,null,{"$f":"IFERROR(IF(A10696=\"\",\"\",VLOOKUP(J10696,'Соответствия статей'!$A$2:$B$50,2,0)),\"Другое\")","v":""}]
[null,null,null,null,null,null,null,null,null,null,null,null,null,{"$f":"IFERROR(IF(A10702=\"\",\"\",VLOOKUP(J10702,'Соответствия статей'!$A$2:$B$50,2,0)),\"Другое\")","v":""}]
[null,null,null,null,null,null,null,null,null,null,null,null,null,{"$f":"IFERROR(IF(A10709=\"\",\"\",VLOOKUP(J10709,'Соответствия статей'!$A$2:$B$50,2,0)),\"Другое\")","v":""}]
[null,null,null,null,null,null,null,null,null,null,null,null,null,{"$f":"IFERROR(IF(A10718=\"\",\"\",VLOOKUP(J10718,'Соответствия статей'!$A$2:$B$50,2,0)),\"Другое\")","v":""}]
[null,null,null,null,null,null,null,null,null,null,null,null,null,{"$f":"IFERROR(IF(A10722=\"\",\"\",VLOOKUP(J10722,'Соответствия статей'!$A$2:$B$50,2,0)),\"Другое\")","v":""}]
[null,null,null,null,null,null,null,null,null,null,null,null,null,{"$f":"IFERROR(IF(A10729=\"\",\"\",VLOOKUP(J10729,'Соответствия статей'!$A$2:$B$50,2,0)),\"Другое\")","v":""}]
[null,null,null,null,null,null,null,null,null,null,null,null,null,{"$f":"IFERROR(IF(A10732=\"\",\"\",VLOOKUP(J10732,'Соответствия статей'!$A$2:$B$50,2,0)),\"Другое\")","v":""}]
[null,null,null,null,null,null,null,null,null,null,null,null,null,{"$f":"IFERROR(IF(A10741=\"\",\"\",VLOOKUP(J10741,'Соответствия статей'!$A$2:$B$50,2,0)),\"Другое\")","v":""}]
[null,null,null,null,null,null,null,null,null,null,null,null,null,{"$f":"IFERROR(IF(A10745=\"\",\"\",VLOOKUP(J10745,'Соответствия статей'!$A$2:$B$50,2,0)),\"Другое\")","v":""}]
[null,null,null,null,null,null,null,null,null,null,null,null,null,{"$f":"IFERROR(IF(A10752=\"\",\"\",VLOOKUP(J10752,'Соответствия статей'!$A$2:$B$50,2,0)),\"Другое\")","v":""}]
[null,null,null,null,null,null,null,null,null,null,null,null,null,{"$f":"IFERROR(IF(A10759=\"\",\"\",VLOOKUP(J10759,'Соответствия статей'!$A$2:$B$50,2,0)),\"Другое\")","v":""}]
[null,null,null,null,null,null,null,null,null,null,null,null,null,{"$f":"IFERROR(IF(A10768=\"\",\"\",VLOOKUP(J10768,'Соответствия статей'!$A$2:$B$50,2,0)),\"Другое\")","v":""}]
[null,null,null,null,null,null,null,null,null,null,null,null,null,{"$f":"IFERROR(IF(A10771=\"\",\"\",VLOOKUP(J10771,'Соответствия статей'!$A$2:$B$50,2,0)),\"Другое\")","v":""}]
[null,null,null,null,null,null,null,null,null,null,null,null,null,{"$f":"IFERROR(IF(A10779=\"\",\"\",VLOOKUP(J10779,'Соответствия статей'!$A$2:$B$50,2,0)),\"Другое\")","v":""}]
[null,null,null,null,null,null,null,null,null,null,null,null,null,{"$f":"IFERROR(IF(A10782=\"\",\"\",VLOOKUP(J10782,'Соответствия статей'!$A$2:$B$50,2,0)),\"Другое\")","v":""}]
[null,null,null,null,null,null,null,null,null,null,null,null,null,{"$f":"IFERROR(IF(A10789=\"\",\"\",VLOOKUP(J10789,'Соответствия статей'!$A$2:$B$50,2,0)),\"Другое\")","v":""}]
[null,null,null,null,null,null,null,null,null,null,null,null,null,{"$f":"IFERROR(IF(A10794=\"\",\"\",VLOOKUP(J10794,'Соответствия статей'!$A$2:$B$50,2,0)),\"Другое\")","v":""}]
[null,null,null,null,null,null,null,null,null,null,null,null,null,{"$f":"IFERROR(IF(A10802=\"\",\"\",VLOOKUP(J10802,'Соответствия статей'!$A$2:$B$50,2,0)),\"Другое\")","v":""}]
[null,null,null,null,null,null,null,null,null,null,null,null,null,{"$f":"IFERROR(IF(A10809=\"\",\"\",VLOOKUP(J10809,'Соответствия статей'!$A$2:$B$50,2,0)),\"Другое\")","v":""}]
[null,null,null,null,null,null,null,null,null,null,null,null,null,{"$f":"IFERROR(IF(A10818=\"\",\"\",VLOOKUP(J10818,'Соответствия статей'!$A$2:$B$50,2,0)),\"Другое\")","v":""}]
[null,null,null,null,null,null,null,null,null,null,null,null,null,{"$f":"IFERROR(IF(A10820=\"\",\"\",VLOOKUP(J10820,'Соответствия статей'!$A$2:$B$50,2,0)),\"Другое\")","v":""}]
[null,null,null,null,null,null,null,null,null,null,null,null,null,{"$f":"IFERROR(IF(A10829=\"\",\"\",VLOOKUP(J10829,'Соответствия статей'!$A$2:$B$50,2,0)),\"Другое\")","v":""}]
[null,null,null,null,null,null,null,null,null,null,null,null,null,{"$f":"IFERROR(IF(A10832=\"\",\"\",VLOOKUP(J10832,'Соответствия статей'!$A$2:$B$50,2,0)),\"Другое\")","v":""}]
[null,null,null,null,null,null,null,null,null,null,null,null,null,{"$f":"IFERROR(IF(A10839=\"\",\"\",VLOOKUP(J10839,'Соответствия статей'!$A$2:$B$50,2,0)),\"Другое\")","v":""}]
[null,null,null,null,null,null,null,null,null,null,null,null,null,{"$f":"IFERROR(IF(A10850=\"\",\"\",VLOOKUP(J10850,'Соответствия статей'!$A$2:$B$50,2,0)),\"Другое\")","v":""}]
[null,null,null,null,null,null,null,null,null,null,null,null,null,{"$f":"IFERROR(IF(A10852=\"\",\"\",VLOOKUP(J10852,'Соответствия статей'!$A$2:$B$50,2,0)),\"Другое\")","v":""}]
[null,null,null,null,null,null,null,null,null,null,null,null,null,{"$f":"IFERROR(IF(A10859=\"\",\"\",VLOOKUP(J10859,'Соответствия статей'!$A$2:$B$50,2,0)),\"Другое\")","v":""}]
[null,null,null,null,null,null,null,null,null,null,null,null,null,{"$f":"IFERROR(IF(A10868=\"\",\"\",VLOOKUP(J10868,'Соответствия статей'!$A$2:$B$50,2,0)),\"Другое\")","v":""}]
[null,null,null,null,null,null,null,null,null,null,null,null,null,{"$f":"IFERROR(IF(A10873=\"\",\"\",VLOOKUP(J10873,'Соответствия статей'!$A$2:$B$50,2,0)),\"Другое\")","v":""}]
[null,null,null,null,null,null,null,null,null,null,null,null,null,{"$f":"IFERROR(IF(A10879=\"\",\"\",VLOOKUP(J10879,'Соответствия статей'!$A$2:$B$50,2,0)),\"Другое\")","v":""}]
[null,null,null,null,null,null,null,null,null,null,null,null,null,{"$f":"IFERROR(IF(A10882=\"\",\"\",VLOOKUP(J10882,'Соответствия статей'!$A$2:$B$50,2,0)),\"Другое\")","v":""}]
[null,null,null,null,null,null,null,null,null,null,null,null,null,{"$f":"IFERROR(IF(A10889=\"\",\"\",VLOOKUP(J10889,'Соответствия статей'!$A$2:$B$50,2,0)),\"Другое\")","v":""}]
[null,null,null,null,null,null,null,null,null,null,null,null,null,{"$f":"IFERROR(IF(A10899=\"\",\"\",VLOOKUP(J10899,'Соответствия статей'!$A$2:$B$50,2,0)),\"Другое\")","v":""}]
[null,null,null,null,null,null,null,null,null,null,null,null,null,{"$f":"IFERROR(IF(A10902=\"\",\"\",VLOOKUP(J10902,'Соответствия статей'!$A$2:$B$50,2,0)),\"Другое\")","v":""}]
[null,null,null,null,null,null,null,null,null,null,null,null,null,{"$f":"IFERROR(IF(A10909=\"\",\"\",VLOOKUP(J10909,'Соответствия статей'!$A$2:$B$50,2,0)),\"Другое\")","v":""}]
[null,null,null,null,null,null,null,null,null,null,null,null,null,{"$f":"IFERROR(IF(A10918=\"\",\"\",VLOOKUP(J10918,'Соответствия статей'!$A$2:$B$50,2,0)),\"Другое\")","v":""}]
[null,null,null,null,null,null,null,null,null,null,null,null,null,{"$f":"IFERROR(IF(A10922=\"\",\"\",VLOOKUP(J10922,'Соответствия статей'!$A$2:$B$50,2,0)),\"Другое\")","v":""}]
[null,null,null,null,null,null,null,null,null,null,null,null,null,{"$f":"IFERROR(IF(A10929=\"\",\"\",VLOOKUP(J10929,'Соответствия статей'!$A$2:$B$50,2,0)),\"Другое\")","v":""}]
[null,null,null,null,null,null,null,null,null,null,null,null,null,{"$f":"IFERROR(IF(A10932=\"\",\"\",VLOOKUP(J10932,'Соответствия статей'!$A$2:$B$50,2,0)),\"Другое\")","v":""}]
[null,null,null,null,null,null,null,null,null,null,null,null,null,{"$f":"IFERROR(IF(A10939=\"\",\"\",VLOOKUP(J10939,'Соответствия статей'!$A$2:$B$50,2,0)),\"Другое\")","v":""}]
[null,null,null,null,null,null,null,null,null,null,null,null,null,{"$f":"IFERROR(IF(A10948=\"\",\"\",VLOOKUP(J10948,'Соответствия статей'!$A$2:$B$50,2,0)),\"Другое\")","v":""}]
[null,null,null,null,null,null,null,null,null,null,null,null,null,{"$f":"IFERROR(IF(A10952=\"\",\"\",VLOOKUP(J10952,'Соответствия статей'!$A$2:$B$50,2,0)),\"Другое\")","v":""}]
[null,null,null,null,null,null,null,null,null,null,null,null,null,{"$f":"IFERROR(IF(A10959=\"\",\"\",VLOOKUP(J10959,'Соответствия статей'!$A$2:$B$50,2,0)),\"Другое\")","v":""}]
[null,null,null,null,null,null,null,null,null,null,null,null,null,{"$f":"IFERROR(IF(A10968=\"\",\"\",VLOOKUP(J10968,'Соответствия статей'!$A$2:$B$50,2,0)),\"Другое\")","v":""}]
[null,null,null,null,null,null,null,null,null,null,null,null,null,{"$f":"IFERROR(IF(A10971=\"\",\"\",VLOOKUP(J10971,'Соответствия статей'!$A$2:$B$50,2,0)),\"Другое\")","v":""}]
[null,null,null,null,null,null,null,null,null,null,null,null,null,{"$f":"IFERROR(IF(A10979=\"\",\"\",VLOOKUP(J10979,'Соответствия статей'!$A$2:$B$50,2,0)),\"Другое\")","v":""}]
[null,null,null,null,null,null,null,null,null,null,null,null,null,{"$f":"IFERROR(IF(A10982=\"\",\"\",VLOOKUP(J10982,'Соответствия статей'!$A$2:$B$50,2,0)),\"Другое\")","v":""}]
[null,null,null,null,null,null,null,null,null,null,null,null,null,{"$f":"IFERROR(IF(A10989=\"\",\"\",VLOOKUP(J10989,'Соответствия статей'!$A$2:$B$50,2,0)),\"Другое\")","v":""}]
[null,null,null,null,null,null,null,null,null,null,null,null,null,{"$f":"IFERROR(IF(A10997=\"\",\"\",VLOOKUP(J10997,'Соответствия статей'!$A$2:$B$50,2,0)),\"Другое\")","v":""}]
[null,null,null,null,null,null,null,null,null,null,null,null,null,{"$f":"IFERROR(IF(A11006=\"\",\"\",VLOOKUP(J11006,'Соответствия статей'!$A$2:$B$50,2,0)),\"Другое\")","v":""}]
[null,null,null,null,null,null,null,null,null,null,null,null,null,{"$f":"IFERROR(IF(A11009=\"\",\"\",VLOOKUP(J11009,'Соответствия статей'!$A$2:$B$50,2,0)),\"Другое\")","v":""}]
[null,null,null,null,null,null,null,null,null,null,null,null,null,{"$f":"IFERROR(IF(A11018=\"\",\"\",VLOOKUP(J11018,'Соответствия статей'!$A$2:$B$50,2,0)),\"Другое\")","v":""}]
[null,null,null,null,null,null,null,null,null,null,null,null,null,{"$f":"IFERROR(IF(A11020=\"\",\"\",VLOOKUP(J11020,'Соответствия статей'!$A$2:$B$50,2,0)),\"Другое\")","v":""}]
[null,null,null,null,null,null,null,null,null,null,null,null,null,{"$f":"IFERROR(IF(A11029=\"\",\"\",VLOOKUP(J11029,'Соответствия статей'!$A$2:$B$50,2,0)),\"Другое\")","v":""}]
[null,null,null,null,null,null,null,null,null,null,null,null,null,{"$f":"IFERROR(IF(A11032=\"\",\"\",VLOOKUP(J11032,'Соответствия статей'!$A$2:$B$50,2,0)),\"Другое\")","v":""}]
[null,null,null,null,null,null,null,null,null,null,null,null,null,{"$f":"IFERROR(IF(A11039=\"\",\"\",VLOOKUP(J11039,'Соответствия статей'!$A$2:$B$50,2,0)),\"Другое\")","v":""}]
[null,null,null,null,null,null,null,null,null,null,null,null,null,{"$f":"IFERROR(IF(A11046=\"\",\"\",VLOOKUP(J11046,'Соответствия статей'!$A$2:$B$50,2,0)),\"Другое\")","v":""}]
[null,null,null,null,null,null,null,null,null,null,null,null,null,{"$f":"IFERROR(IF(A11056=\"\",\"\",VLOOKUP(J11056,'Соответствия статей'!$A$2:$B$50,2,0)),\"Другое\")","v":""}]
[null,null,null,null,null,null,null,null,null,null,null,null,null,{"$f":"IFERROR(IF(A11059=\"\",\"\",VLOOKUP(J11059,'Соответствия статей'!$A$2:$B$50,2,0)),\"Другое\")","v":""}]
[null,null,null,null,null,null,null,null,null,null,null,null,null,{"$f":"IFERROR(IF(A11068=\"\",\"\",VLOOKUP(J11068,'Соответствия статей'!$A$2:$B$50,2,0)),\"Другое\")","v":""}]
[null,null,null,null,null,null,null,null,null,null,null,null,null,{"$f":"IFERROR(IF(A11069=\"\",\"\",VLOOKUP(J11069,'Соответствия статей'!$A$2:$B$50,2,0)),\"Другое\")","v":""}]
[null,null,null,null,null,null,null,null,null,null,null,null,null,{"$f":"IFERROR(IF(A11079=\"\",\"\",VLOOKUP(J11079,'Соответствия статей'!$A$2:$B$50,2,0)),\"Другое\")","v":""}]
[null,null,null,null,null,null,null,null,null,null,null,null,null,{"$f":"IFERROR(IF(A11082=\"\",\"\",VLOOKUP(J11082,'Соответствия статей'!$A$2:$B$50,2,0)),\"Другое\")","v":""}]
[null,null,null,null,null,null,null,null,null,null,null,null,null,{"$f":"IFERROR(IF(A11089=\"\",\"\",VLOOKUP(J11089,'Соответствия статей'!$A$2:$B$50,2,0)),\"Другое\")","v":""}]
[null,null,null,null,null,null,null,null,null,null,null,null,null,{"$f":"IFERROR(IF(A11095=\"\",\"\",VLOOKUP(J11095,'Соответствия статей'!$A$2:$B$50,2,0)),\"Другое\")","v":""}]
[null,null,null,null,null,null,null,null,null,null,null,null,null,{"$f":"IFERROR(IF(A11106=\"\",\"\",VLOOKUP(J11106,'Соответствия статей'!$A$2:$B$50,2,0)),\"Другое\")","v":""}]
[null,null,null,null,null,null,null,null,null,null,null,null,null,{"$f":"IFERROR(IF(A11109=\"\",\"\",VLOOKUP(J11109,'Соответствия статей'!$A$2:$B$50,2,0)),\"Другое\")","v":""}]
[null,null,null,null,null,null,null,null,null,null,null,null,null,{"$f":"IFERROR(IF(A11118=\"\",\"\",VLOOKUP(J11118,'Соответствия статей'!$A$2:$B$50,2,0)),\"Другое\")","v":""}]
[null,null,null,null,null,null,null,null,null,null,null,null,null,{"$f":"IFERROR(IF(A11125=\"\",\"\",VLOOKUP(J11125,'Соответствия статей'!$A$2:$B$50,2,0)),\"Другое\")","v":""}]
[null,null,null,null,null,null,null,null,null,null,null,null,null,{"$f":"IFERROR(IF(A11129=\"\",\"\",VLOOKUP(J11129,'Соответствия статей'!$A$2:$B$50,2,0)),\"Другое\")","v":""}]
[null,null,null,null,null,null,null,null,null,null,null,null,null,{"$f":"IFERROR(IF(A11136=\"\",\"\",VLOOKUP(J11136,'Соответствия статей'!$A$2:$B$50,2,0)),\"Другое\")","v":""}]
[null,null,null,null,null,null,null,null,null,null,null,null,null,{"$f":"IFERROR(IF(A11139=\"\",\"\",VLOOKUP(J11139,'Соответствия статей'!$A$2:$B$50,2,0)),\"Другое\")","v":""}]
[null,null,null,null,null,null,null,null,null,null,null,null,null,{"$f":"IFERROR(IF(A11144=\"\",\"\",VLOOKUP(J11144,'Соответствия статей'!$A$2:$B$50,2,0)),\"Другое\")","v":""}]
[null,null,null,null,null,null,null,null,null,null,null,null,null,{"$f":"IFERROR(IF(A11156=\"\",\"\",VLOOKUP(J11156,'Соответствия статей'!$A$2:$B$50,2,0)),\"Другое\")","v":""}]
[null,null,null,null,null,null,null,null,null,null,null,null,null,{"$f":"IFERROR(IF(A11159=\"\",\"\",VLOOKUP(J11159,'Соответствия статей'!$A$2:$B$50,2,0)),\"Другое\")","v":""}]
[null,null,null,null,null,null,null,null,null,null,null,null,null,{"$f":"IFERROR(IF(A11168=\"\",\"\",VLOOKUP(J11168,'Соответствия статей'!$A$2:$B$50,2,0)),\"Другое\")","v":""}]
[null,null,null,null,null,null,null,null,null,null,null,null,null,{"$f":"IFERROR(IF(A11174=\"\",\"\",VLOOKUP(J11174,'Соответствия статей'!$A$2:$B$50,2,0)),\"Другое\")","v":""}]
[null,null,null,null,null,null,null,null,null,null,null,null,null,{"$f":"IFERROR(IF(A11179=\"\",\"\",VLOOKUP(J11179,'Соответствия статей'!$A$2:$B$50,2,0)),\"Другое\")","v":""}]
[null,null,null,null,null,null,null,null,null,null,null,null,null,{"$f":"IFERROR(IF(A11186=\"\",\"\",VLOOKUP(J11186,'Соответствия статей'!$A$2:$B$50,2,0)),\"Другое\")","v":""}]
[null,null,null,null,null,null,null,null,null,null,null,null,null,{"$f":"IFERROR(IF(A11189=\"\",\"\",VLOOKUP(J11189,'Соответствия статей'!$A$2:$B$50,2,0)),\"Другое\")","v":""}]
[null,null,null,null,null,null,null,null,null,null,null,null,null,{"$f":"IFERROR(IF(A11200=\"\",\"\",VLOOKUP(J11200,'Соответствия статей'!$A$2:$B$50,2,0)),\"Другое\")","v":""}]
[null,null,null,null,null,null,null,null,null,null,null,null,null,{"$f":"IFERROR(IF(A11206=\"\",\"\",VLOOKUP(J11206,'Соответствия статей'!$A$2:$B$50,2,0)),\"Другое\")","v":""}]
[null,null,null,null,null,null,null,null,null,null,null,null,null,{"$f":"IFERROR(IF(A11209=\"\",\"\",VLOOKUP(J11209,'Соответствия статей'!$A$2:$B$50,2,0)),\"Другое\")","v":""}]
[null,null,null,null,null,null,null,null,null,null,null,null,null,{"$f":"IFERROR(IF(A11216=\"\",\"\",VLOOKUP(J11216,'Соответствия статей'!$A$2:$B$50,2,0)),\"Другое\")","v":""}]
[null,null,null,null,null,null,null,null,null,null,null,null,null,{"$f":"IFERROR(IF(A11223=\"\",\"\",VLOOKUP(J11223,'Соответствия статей'!$A$2:$B$50,2,0)),\"Другое\")","v":""}]
[null,null,null,null,null,null,null,null,null,null,null,null,null,{"$f":"IFERROR(IF(A11229=\"\",\"\",VLOOKUP(J11229,'Соответствия статей'!$A$2:$B$50,2,0)),\"Другое\")","v":""}]
[null,null,null,null,null,null,null,null,null,null,null,null,null,{"$f":"IFERROR(IF(A11236=\"\",\"\",VLOOKUP(J11236,'Соответствия статей'!$A$2:$B$50,2,0)),\"Другое\")","v":""}]
[null,null,null,null,null,null,null,null,null,null,null,null,null,{"$f":"IFERROR(IF(A11239=\"\",\"\",VLOOKUP(J11239,'Соответствия статей'!$A$2:$B$50,2,0)),\"Другое\")","v":""}]
[null,null,null,null,null,null,null,null,null,null,null,null,null,{"$f":"IFERROR(IF(A11249=\"\",\"\",VLOOKUP(J11249,'Соответствия статей'!$A$2:$B$50,2,0)),\"Другое\")","v":""}]
[null,null,null,null,null,null,null,null,null,null,null,null,null,{"$f":"IFERROR(IF(A11256=\"\",\"\",VLOOKUP(J11256,'Соответствия статей'!$A$2:$B$50,2,0)),\"Другое\")","v":""}]
[null,null,null,null,null,null,null,null,null,null,null,null,null,{"$f":"IFERROR(IF(A11259=\"\",\"\",VLOOKUP(J11259,'Соответствия статей'!$A$2:$B$50,2,0)),\"Другое\")","v":""}]
[null,null,null,null,null,null,null,null,null,null,null,null,null,{"$f":"IFERROR(IF(A11266=\"\",\"\",VLOOKUP(J11266,'Соответствия статей'!$A$2:$B$50,2,0)),\"Другое\")","v":""}]
[null,null,null,null,null,null,null,null,null,null,null,null,null,{"$f":"IFERROR(IF(A11272=\"\",\"\",VLOOKUP(J11272,'Соответствия статей'!$A$2:$B$50,2,0)),\"Другое\")","v":""}]
[null,null,null,null,null,null,null,null,null,null,null,null,null,{"$f":"IFERROR(IF(A11279=\"\",\"\",VLOOKUP(J11279,'Соответствия статей'!$A$2:$B$50,2,0)),\"Другое\")","v":""}]
[null,null,null,null,null,null,null,null,null,null,null,null,null,{"$f":"IFERROR(IF(A11286=\"\",\"\",VLOOKUP(J11286,'Соответствия статей'!$A$2:$B$50,2,0)),\"Другое\")","v":""}]
[null,null,null,null,null,null,null,null,null,null,null,null,null,{"$f":"IFERROR(IF(A11289=\"\",\"\",VLOOKUP(J11289,'Соответствия статей'!$A$2:$B$50,2,0)),\"Другое\")","v":""}]
[null,null,null,null,null,null,null,null,null,null,null,null,null,{"$f":"IFERROR(IF(A11298=\"\",\"\",VLOOKUP(J11298,'Соответствия статей'!$A$2:$B$50,2,0)),\"Другое\")","v":""}]
[null,null,null,null,null,null,null,null,null,null,null,null,null,{"$f":"IFERROR(IF(A11306=\"\",\"\",VLOOKUP(J11306,'Соответствия статей'!$A$2:$B$50,2,0)),\"Другое\")","v":""}]
[null,null,null,null,null,null,null,null,null,null,null,null,null,{"$f":"IFERROR(IF(A11309=\"\",\"\",VLOOKUP(J11309,'Соответствия статей'!$A$2:$B$50,2,0)),\"Другое\")","v":""}]
[null,null,null,null,null,null,null,null,null,null,null,null,null,{"$f":"IFERROR(IF(A11316=\"\",\"\",VLOOKUP(J11316,'Соответствия статей'!$A$2:$B$50,2,0)),\"Другое\")","v":""}]
[null,null,null,null,null,null,null,null,null,null,null,null,null,{"$f":"IFERROR(IF(A11321=\"\",\"\",VLOOKUP(J11321,'Соответствия статей'!$A$2:$B$50,2,0)),\"Другое\")","v":""}]
[null,null,null,null,null,null,null,null,null,null,null,null,null,{"$f":"IFERROR(IF(A11329=\"\",\"\",VLOOKUP(J11329,'Соответствия статей'!$A$2:$B$50,2,0)),\"Другое\")","v":""}]
[null,null,null,null,null,null,null,null,null,null,null,null,null,{"$f":"IFERROR(IF(A11336=\"\",\"\",VLOOKUP(J11336,'Соответствия статей'!$A$2:$B$50,2,0)),\"Другое\")","v":""}]
[null,null,null,null,null,null,null,null,null,null,null,null,null,{"$f":"IFERROR(IF(A11339=\"\",\"\",VLOOKUP(J11339,'Соответствия статей'!$A$2:$B$50,2,0)),\"Другое\")","v":""}]
[null,null,null,null,null,null,null,null,null,null,null,null,null,{"$f":"IFERROR(IF(A11344=\"\",\"\",VLOOKUP(J11344,'Соответствия статей'!$A$2:$B$50,2,0)),\"Другое\")","v":""}]
[null,null,null,null,null,null,null,null,null,null,null,null,null,{"$f":"IFERROR(IF(A11356=\"\",\"\",VLOOKUP(J11356,'Соответствия статей'!$A$2:$B$50,2,0)),\"Другое\")","v":""}]
[null,null,null,null,null,null,null,null,null,null,null,null,null,{"$f":"IFERROR(IF(A11359=\"\",\"\",VLOOKUP(J11359,'Соответствия статей'!$A$2:$B$50,2,0)),\"Другое\")","v":""}]
[null,null,null,null,null,null,null,null,null,null,null,null,null,{"$f":"IFERROR(IF(A11366=\"\",\"\",VLOOKUP(J11366,'Соответствия статей'!$A$2:$B$50,2,0)),\"Другое\")","v":""}]
[null,null,null,null,null,null,null,null,null,null,null,null,null,{"$f":"IFERROR(IF(A11370=\"\",\"\",VLOOKUP(J11370,'Соответствия статей'!$A$2:$B$50,2,0)),\"Другое\")","v":""}]
[null,null,null,null,null,null,null,null,null,null,null,null,null,{"$f":"IFERROR(IF(A11379=\"\",\"\",VLOOKUP(J11379,'Соответствия статей'!$A$2:$B$50,2,0)),\"Другое\")","v":""}]
[null,null,null,null,null,null,null,null,null,null,null,null,null,{"$f":"IFERROR(IF(A11386=\"\",\"\",VLOOKUP(J11386,'Соответствия статей'!$A$2:$B$50,2,0)),\"Другое\")","v":""}]
[null,null,null,null,null,null,null,null,null,null,null,null,null,{"$f":"IFERROR(IF(A11389=\"\",\"\",VLOOKUP(J11389,'Соответствия статей'!$A$2:$B$50,2,0)),\"Другое\")","v":""}]
[null,null,null,null,null,null,null,null,null,null,null,null,null,{"$f":"IFERROR(IF(A11400=\"\",\"\",VLOOKUP(J11400,'Соответствия статей'!$A$2:$B$50,2,0)),\"Другое\")","v":""}]
[null,null,null,null,null,null,null,null,null,null,null,null,null,{"$f":"IFERROR(IF(A11406=\"\",\"\",VLOOKUP(J11406,'Соответствия статей'!$A$2:$B$50,2,0)),\"Другое\")","v":""}]
[null,null,null,null,null,null,null,null,null,null,null,null,null,{"$f":"IFERROR(IF(A11409=\"\",\"\",VLOOKUP(J11409,'Соответствия статей'!$A$2:$B$50,2,0)),\"Другое\")","v":""}]
[null,null,null,null,null,null,null,null,null,null,null,null,null,{"$f":"IFERROR(IF(A11416=\"\",\"\",VLOOKUP(J11416,'Соответствия статей'!$A$2:$B$50,2,0)),\"Другое\")","v":""}]
[null,null,null,null,null,null,null,null,null,null,null,null,null,{"$f":"IFERROR(IF(A11419=\"\",\"\",VLOOKUP(J11419,'Соответствия статей'!$A$2:$B$50,2,0)),\"Другое\")","v":""}]
[null,null,null,null,null,null,null,null,null,null,null,null,null,{"$f":"IFERROR(IF(A11427=\"\",\"\",VLOOKUP(J11427,'Соответствия статей'!$A$2:$B$50,2,0)),\"Другое\")","v":""}]
[null,null,null,null,null,null,null,null,null,null,null,null,null,{"$f":"IFERROR(IF(A11436=\"\",\"\",VLOOKUP(J11436,'Соответствия статей'!$A$2:$B$50,2,0)),\"Другое\")","v":""}]
[null,null,null,null,null,null,null,null,null,null,null,null,null,{"$f":"IFERROR(IF(A11439=\"\",\"\",VLOOKUP(J11439,'Соответствия статей'!$A$2:$B$50,2,0)),\"Другое\")","v":""}]
[null,null,null,null,null,null,null,null,null,null,null,null,null,{"$f":"IFERROR(IF(A11449=\"\",\"\",VLOOKUP(J11449,'Соответствия статей'!$A$2:$B$50,2,0)),\"Другое\")","v":""}]
[null,null,null,null,null,null,null,null,null,null,null,null,null,{"$f":"IFERROR(IF(A11456=\"\",\"\",VLOOKUP(J11456,'Соответствия статей'!$A$2:$B$50,2,0)),\"Другое\")","v":""}]
[null,null,null,null,null,null,null,null,null,null,null,null,null,{"$f":"IFERROR(IF(A11459=\"\",\"\",VLOOKUP(J11459,'Соответствия статей'!$A$2:$B$50,2,0)),\"Другое\")","v":""}]
[null,null,null,null,null,null,null,null,null,null,null,null,null,{"$f":"IFERROR(IF(A11466=\"\",\"\",VLOOKUP(J11466,'Соответствия статей'!$A$2:$B$50,2,0)),\"Другое\")","v":""}]
[null,null,null,null,null,null,null,null,null,null,null,null,null,{"$f":"IFERROR(IF(A11475=\"\",\"\",VLOOKUP(J11475,'Соответствия статей'!$A$2:$B$50,2,0)),\"Другое\")","v":""}]
[null,null,null,null,null,null,null,null,null,null,null,null,null,{"$f":"IFERROR(IF(A11477=\"\",\"\",VLOOKUP(J11477,'Соответствия статей'!$A$2:$B$50,2,0)),\"Другое\")","v":""}]
[null,null,null,null,null,null,null,null,null,null,null,null,null,{"$f":"IFERROR(IF(A11486=\"\",\"\",VLOOKUP(J11486,'Соответствия статей'!$A$2:$B$50,2,0)),\"Другое\")","v":""}]
[null,null,null,null,null,null,null,null,null,null,null,null,null,{"$f":"IFERROR(IF(A11489=\"\",\"\",VLOOKUP(J11489,'Соответствия статей'!$A$2:$B$50,2,0)),\"Другое\")","v":""}]
[null,null,null,null,null,null,null,null,null,null,null,null,null,{"$f":"IFERROR(IF(A11498=\"\",\"\",VLOOKUP(J11498,'Соответствия статей'!$A$2:$B$50,2,0)),\"Другое\")","v":""}]
[null,null,null,null,null,null,null,null,null,null,null,null,null,{"$f":"IFERROR(IF(A11506=\"\",\"\",VLOOKUP(J11506,'Соответствия статей'!$A$2:$B$50,2,0)),\"Другое\")","v":""}]
[null,null,null,null,null,null,null,null,null,null,null,null,null,{"$f":"IFERROR(IF(A11509=\"\",\"\",VLOOKUP(J11509,'Соответствия статей'!$A$2:$B$50,2,0)),\"Другое\")","v":""}]
[null,null,null,null,null,null,null,null,null,null,null,null,null,{"$f":"IFERROR(IF(A11516=\"\",\"\",VLOOKUP(J11516,'Соответствия статей'!$A$2:$B$50,2,0)),\"Другое\")","v":""}]
[null,null,null,null,null,null,null,null,null,null,null,null,null,{"$f":"IFERROR(IF(A11524=\"\",\"\",VLOOKUP(J11524,'Соответствия статей'!$A$2:$B$50,2,0)),\"Другое\")","v":""}]
[null,null,null,null,null,null,null,null,null,null,null,null,null,{"$f":"IFERROR(IF(A11527=\"\",\"\",VLOOKUP(J11527,'Соответствия статей'!$A$2:$B$50,2,0)),\"Другое\")","v":""}]
[null,null,null,null,null,null,null,null,null,null,null,null,null,{"$f":"IFERROR(IF(A11536=\"\",\"\",VLOOKUP(J11536,'Соответствия статей'!$A$2:$B$50,2,0)),\"Другое\")","v":""}]
[null,null,null,null,null,null,null,null,null,null,null,null,null,{"$f":"IFERROR(IF(A11539=\"\",\"\",VLOOKUP(J11539,'Соответствия статей'!$A$2:$B$50,2,0)),\"Другое\")","v":""}]
[null,null,null,null,null,null,null,null,null,null,null,null,null,{"$f":"IFERROR(IF(A11547=\"\",\"\",VLOOKUP(J11547,'Соответствия статей'!$A$2:$B$50,2,0)),\"Другое\")","v":""}]
[null,null,null,null,null,null,null,null,null,null,null,null,null,{"$f":"IFERROR(IF(A11556=\"\",\"\",VLOOKUP(J11556,'Соответствия статей'!$A$2:$B$50,2,0)),\"Другое\")","v":""}]
[null,null,null,null,null,null,null,null,null,null,null,null,null,{"$f":"IFERROR(IF(A11557=\"\",\"\",VLOOKUP(J11557,'Соответствия статей'!$A$2:$B$50,2,0)),\"Другое\")","v":""}]
[null,null,null,null,null,null,null,null,null,null,null,null,null,{"$f":"IFERROR(IF(A11566=\"\",\"\",VLOOKUP(J11566,'Соответствия статей'!$A$2:$B$50,2,0)),\"Другое\")","v":""}]
[null,null,null,null,null,null,null,null,null,null,null,null,null,{"$f":"IFERROR(IF(A11573=\"\",\"\",VLOOKUP(J11573,'Соответствия статей'!$A$2:$B$50,2,0)),\"Другое\")","v":""}]
[null,null,null,null,null,null,null,null,null,null,null,null,null,{"$f":"IFERROR(IF(A11577=\"\",\"\",VLOOKUP(J11577,'Соответствия статей'!$A$2:$B$50,2,0)),\"Другое\")","v":""}]
[null,null,null,null,null,null,null,null,null,null,null,null,null,{"$f":"IFERROR(IF(A11586=\"\",\"\",VLOOKUP(J11586,'Соответствия статей'!$A$2:$B$50,2,0)),\"Другое\")","v":""}]
[null,null,null,null,null,null,null,null,null,null,null,null,null,{"$f":"IFERROR(IF(A11589=\"\",\"\",VLOOKUP(J11589,'Соответствия статей'!$A$2:$B$50,2,0)),\"Другое\")","v":""}]
[null,null,null,null,null,null,null,null,null,null,null,null,null,{"$f":"IFERROR(IF(A11596=\"\",\"\",VLOOKUP(J11596,'Соответствия статей'!$A$2:$B$50,2,0)),\"Другое\")","v":""}]
[null,null,null,null,null,null,null,null,null,null,null,null,null,{"$f":"IFERROR(IF(A11606=\"\",\"\",VLOOKUP(J11606,'Соответствия статей'!$A$2:$B$50,2,0)),\"Другое\")","v":""}]
[null,null,null,null,null,null,null,null,null,null,null,null,null,{"$f":"IFERROR(IF(A11607=\"\",\"\",VLOOKUP(J11607,'Соответствия статей'!$A$2:$B$50,2,0)),\"Другое\")","v":""}]
[null,null,null,null,null,null,null,null,null,null,null,null,null,{"$f":"IFERROR(IF(A11616=\"\",\"\",VLOOKUP(J11616,'Соответствия статей'!$A$2:$B$50,2,0)),\"Другое\")","v":""}]
[null,null,null,null,null,null,null,null,null,null,null,null,null,{"$f":"IFERROR(IF(A11622=\"\",\"\",VLOOKUP(J11622,'Соответствия статей'!$A$2:$B$50,2,0)),\"Другое\")","v":""}]
[null,null,null,null,null,null,null,null,null,null,null,null,null,{"$f":"IFERROR(IF(A11627=\"\",\"\",VLOOKUP(J11627,'Соответствия статей'!$A$2:$B$50,2,0)),\"Другое\")","v":""}]
[null,null,null,null,null,null,null,null,null,null,null,null,null,{"$f":"IFERROR(IF(A11636=\"\",\"\",VLOOKUP(J11636,'Соответствия статей'!$A$2:$B$50,2,0)),\"Другое\")","v":""}]
[null,null,null,null,null,null,null,null,null,null,null,null,null,{"$f":"IFERROR(IF(A11639=\"\",\"\",VLOOKUP(J11639,'Соответствия статей'!$A$2:$B$50,2,0)),\"Другое\")","v":""}]
[null,null,null,null,null,null,null,null,null,null,null,null,null,{"$f":"IFERROR(IF(A11645=\"\",\"\",VLOOKUP(J11645,'Соответствия статей'!$A$2:$B$50,2,0)),\"Другое\")","v":""}]
[null,null,null,null,null,null,null,null,null,null,null,null,null,{"$f":"IFERROR(IF(A11656=\"\",\"\",VLOOKUP(J11656,'Соответствия статей'!$A$2:$B$50,2,0)),\"Другое\")","v":""}]
[null,null,null,null,null,null,null,null,null,null,null,null,null,{"$f":"IFERROR(IF(A11657=\"\",\"\",VLOOKUP(J11657,'Соответствия статей'!$A$2:$B$50,2,0)),\"Другое\")","v":""}]
[null,null,null,null,null,null,null,null,null,null,null,null,null,{"$f":"IFERROR(IF(A11666=\"\",\"\",VLOOKUP(J11666,'Соответствия статей'!$A$2:$B$50,2,0)),\"Другое\")","v":""}]
[null,null,null,null,null,null,null,null,null,null,null,null,null,{"$f":"IFERROR(IF(A11671=\"\",\"\",VLOOKUP(J11671,'Соответствия статей'!$A$2:$B$50,2,0)),\"Другое\")","v":""}]
[null,null,null,null,null,null,null,null,null,null,null,null,null,{"$f":"IFERROR(IF(A11677=\"\",\"\",VLOOKUP(J11677,'Соответствия статей'!$A$2:$B$50,2,0)),\"Другое\")","v":""}]
[null,null,null,null,null,null,null,null,null,null,null,null,null,{"$f":"IFERROR(IF(A11686=\"\",\"\",VLOOKUP(J11686,'Соответствия статей'!$A$2:$B$50,2,0)),\"Другое\")","v":""}]
[null,null,null,null,null,null,null,null,null,null,null,null,null,{"$f":"IFERROR(IF(A11693=\"\",\"\",VLOOKUP(J11693,'Соответствия статей'!$A$2:$B$50,2,0)),\"Другое\")","v":""}]
[null,null,null,null,null,null,null,null,null,null,null,null,null,{"$f":"IFERROR(IF(A11694=\"\",\"\",VLOOKUP(J11694,'Соответствия статей'!$A$2:$B$50,2,0)),\"Другое\")","v":""}]
[null,null,null,null,null,null,null,null,null,null,null,null,null,{"$f":"IFERROR(IF(A11706=\"\",\"\",VLOOKUP(J11706,'Соответствия статей'!$A$2:$B$50,2,0)),\"Другое\")","v":""}]
[null,null,null,null,null,null,null,null,null,null,null,null,null,{"$f":"IFERROR(IF(A11707=\"\",\"\",VLOOKUP(J11707,'Соответствия статей'!$A$2:$B$50,2,0)),\"Другое\")","v":""}]
[null,null,null,null,null,null,null,null,null,null,null,null,null,{"$f":"IFERROR(IF(A11716=\"\",\"\",VLOOKUP(J11716,'Соответствия статей'!$A$2:$B$50,2,0)),\"Другое\")","v":""}]
[null,null,null,null,null,null,null,null,null,null,null,null,null,{"$f":"IFERROR(IF(A11720=\"\",\"\",VLOOKUP(J11720,'Соответствия статей'!$A$2:$B$50,2,0)),\"Другое\")","v":""}]
[null,null,null,null,null,null,null,null,null,null,null,null,null,{"$f":"IFERROR(IF(A11727=\"\",\"\",VLOOKUP(J11727,'Соответствия статей'!$A$2:$B$50,2,0)),\"Другое\")","v":""}]
[null,null,null,null,null,null,null,null,null,null,null,null,null,{"$f":"IFERROR(IF(A11736=\"\",\"\",VLOOKUP(J11736,'Соответствия статей'!$A$2:$B$50,2,0)),\"Другое\")","v":""}]
[null,null,null,null,null,null,null,null,null,null,null,null,null,{"$f":"IFERROR(IF(A11743=\"\",\"\",VLOOKUP(J11743,'Соответствия статей'!$A$2:$B$50,2,0)),\"Другое\")","v":""}]
[null,null,null,null,null,null,null,null,null,null,null,null,null,{"$f":"IFERROR(IF(A11750=\"\",\"\",VLOOKUP(J11750,'Соответствия статей'!$A$2:$B$50,2,0)),\"Другое\")","v":""}]
[null,null,null,null,null,null,null,null,null,null,null,null,null,{"$f":"IFERROR(IF(A11756=\"\",\"\",VLOOKUP(J11756,'Соответствия статей'!$A$2:$B$50,2,0)),\"Другое\")","v":""}]
[null,null,null,null,null,null,null,null,null,null,null,null,null,{"$f":"IFERROR(IF(A11757=\"\",\"\",VLOOKUP(J11757,'Соответствия статей'!$A$2:$B$50,2,0)),\"Другое\")","v":""}]
[null,null,null,null,null,null,null,null,null,null,null,null,null,{"$f":"IFERROR(IF(A11766=\"\",\"\",VLOOKUP(J11766,'Соответствия статей'!$A$2:$B$50,2,0)),\"Другое\")","v":""}]
[null,null,null,null,null,null,null,null,null,null,null,null,null,{"$f":"IFERROR(IF(A11773=\"\",\"\",VLOOKUP(J11773,'Соответствия статей'!$A$2:$B$50,2,0)),\"Другое\")","v":""}]
[null,null,null,null,null,null,null,null,null,null,null,null,null,{"$f":"IFERROR(IF(A11777=\"\",\"\",VLOOKUP(J11777,'Соответствия статей'!$A$2:$B$50,2,0)),\"Другое\")","v":""}]
[null,null,null,null,null,null,null,null,null,null,null,null,null,{"$f":"IFERROR(IF(A11786=\"\",\"\",VLOOKUP(J11786,'Соответствия статей'!$A$2:$B$50,2,0)),\"Другое\")","v":""}]
[null,null,null,null,null,null,null,null,null,null,null,null,null,{"$f":"IFERROR(IF(A11793=\"\",\"\",VLOOKUP(J11793,'Соответствия статей'!$A$2:$B$50,2,0)),\"Другое\")","v":""}]
[null,null,null,null,null,null,null,null,null,null,null,null,null,{"$f":"IFERROR(IF(A11799=\"\",\"\",VLOOKUP(J11799,'Соответствия статей'!$A$2:$B$50,2,0)),\"Другое\")","v":""}]
[null,null,null,null,null,null,null,null,null,null,null,null,null,{"$f":"IFERROR(IF(A11806=\"\",\"\",VLOOKUP(J11806,'Соответствия статей'!$A$2:$B$50,2,0)),\"Другое\")","v":""}]
[null,null,null,null,null,null,null,null,null,null,null,null,null,{"$f":"IFERROR(IF(A11807=\"\",\"\",VLOOKUP(J11807,'Соответствия статей'!$A$2:$B$50,2,0)),\"Другое\")","v":""}]
[null,null,null,null,null,null,null,null,null,null,null,null,null,{"$f":"IFERROR(IF(A11816=\"\",\"\",VLOOKUP(J11816,'Соответствия статей'!$A$2:$B$50,2,0)),\"Другое\")","v":""}]
[null,null,null,null,null,null,null,null,null,null,null,null,null,{"$f":"IFERROR(IF(A11822=\"\",\"\",VLOOKUP(J11822,'Соответствия статей'!$A$2:$B$50,2,0)),\"Другое\")","v":""}]
[null,null,null,null,null,null,null,null,null,null,null,null,null,{"$f":"IFERROR(IF(A11827=\"\",\"\",VLOOKUP(J11827,'Соответствия статей'!$A$2:$B$50,2,0)),\"Другое\")","v":""}]
[null,null,null,null,null,null,null,null,null,null,null,null,null,{"$f":"IFERROR(IF(A11836=\"\",\"\",VLOOKUP(J11836,'Соответствия статей'!$A$2:$B$50,2,0)),\"Другое\")","v":""}]
[null,null,null,null,null,null,null,null,null,null,null,null,null,{"$f":"IFERROR(IF(A11843=\"\",\"\",VLOOKUP(J11843,'Соответствия статей'!$A$2:$B$50,2,0)),\"Другое\")","v":""}]
[null,null,null,null,null,null,null,null,null,null,null,null,null,{"$f":"IFERROR(IF(A11848=\"\",\"\",VLOOKUP(J11848,'Соответствия статей'!$A$2:$B$50,2,0)),\"Другое\")","v":""}]
[null,null,null,null,null,null,null,null,null,null,null,null,null,{"$f":"IFERROR(IF(A11856=\"\",\"\",VLOOKUP(J11856,'Соответствия статей'!$A$2:$B$50,2,0)),\"Другое\")","v":""}]
[null,null,null,null,null,null,null,null,null,null,null,null,null,{"$f":"IFERROR(IF(A11857=\"\",\"\",VLOOKUP(J11857,'Соответствия статей'!$A$2:$B$50,2,0)),\"Другое\")","v":""}]
[null,null,null,null,null,null,null,null,null,null,null,null,null,{"$f":"IFERROR(IF(A11866=\"\",\"\",VLOOKUP(J11866,'Соответствия статей'!$A$2:$B$50,2,0)),\"Другое\")","v":""}]
[null,null,null,null,null,null,null,null,null,null,null,null,null,{"$f":"IFERROR(IF(A11871=\"\",\"\",VLOOKUP(J11871,'Соответствия статей'!$A$2:$B$50,2,0)),\"Другое\")","v":""}]
[null,null,null,null,null,null,null,null,null,null,null,null,null,{"$f":"IFERROR(IF(A11877=\"\",\"\",VLOOKUP(J11877,'Соответствия статей'!$A$2:$B$50,2,0)),\"Другое\")","v":""}]
[null,null,null,null,null,null,null,null,null,null,null,null,null,{"$f":"IFERROR(IF(A11886=\"\",\"\",VLOOKUP(J11886,'Соответствия статей'!$A$2:$B$50,2,0)),\"Другое\")","v":""}]
[null,null,null,null,null,null,null,null,null,null,null,null,null,{"$f":"IFERROR(IF(A11893=\"\",\"\",VLOOKUP(J11893,'Соответствия статей'!$A$2:$B$50,2,0)),\"Другое\")","v":""}]
[null,null,null,null,null,null,null,null,null,null,null,null,null,{"$f":"IFERROR(IF(A11897=\"\",\"\",VLOOKUP(J11897,'Соответствия статей'!$A$2:$B$50,2,0)),\"Другое\")","v":""}]
[null,null,null,null,null,null,null,null,null,null,null,null,null,{"$f":"IFERROR(IF(A11904=\"\",\"\",VLOOKUP(J11904,'Соответствия статей'!$A$2:$B$50,2,0)),\"Другое\")","v":""}]
[null,null,null,null,null,null,null,null,null,null,null,null,null,{"$f":"IFERROR(IF(A11907=\"\",\"\",VLOOKUP(J11907,'Соответствия статей'!$A$2:$B$50,2,0)),\"Другое\")","v":""}]
[null,null,null,null,null,null,null,null,null,null,null,null,null,{"$f":"IFERROR(IF(A11916=\"\",\"\",VLOOKUP(J11916,'Соответствия статей'!$A$2:$B$50,2,0)),\"Другое\")","v":""}]
[null,null,null,null,null,null,null,null,null,null,null,null,null,{"$f":"IFERROR(IF(A11920=\"\",\"\",VLOOKUP(J11920,'Соответствия статей'!$A$2:$B$50,2,0)),\"Другое\")","v":""}]
[null,null,null,null,null,null,null,null,null,null,null,null,null,{"$f":"IFERROR(IF(A11927=\"\",\"\",VLOOKUP(J11927,'Соответствия статей'!$A$2:$B$50,2,0)),\"Другое\")","v":""}]
[null,null,null,null,null,null,null,null,null,null,null,null,null,{"$f":"IFERROR(IF(A11936=\"\",\"\",VLOOKUP(J11936,'Соответствия статей'!$A$2:$B$50,2,0)),\"Другое\")","v":""}]
[null,null,null,null,null,null,null,null,null,null,null,null,null,{"$f":"IFERROR(IF(A11943=\"\",\"\",VLOOKUP(J11943,'Соответствия статей'!$A$2:$B$50,2,0)),\"Другое\")","v":""}]
[null,null,null,null,null,null,null,null,null,null,null,null,null,{"$f":"IFERROR(IF(A11946=\"\",\"\",VLOOKUP(J11946,'Соответствия статей'!$A$2:$B$50,2,0)),\"Другое\")","v":""}]
[null,null,null,null,null,null,null,null,null,null,null,null,null,{"$f":"IFERROR(IF(A11954=\"\",\"\",VLOOKUP(J11954,'Соответствия статей'!$A$2:$B$50,2,0)),\"Другое\")","v":""}]
[null,null,null,null,null,null,null,null,null,null,null,null,null,{"$f":"IFERROR(IF(A11957=\"\",\"\",VLOOKUP(J11957,'Соответствия статей'!$A$2:$B$50,2,0)),\"Другое\")","v":""}]
[null,null,null,null,null,null,null,null,null,null,null,null,null,{"$f":"IFERROR(IF(A11966=\"\",\"\",VLOOKUP(J11966,'Соответствия статей'!$A$2:$B$50,2,0)),\"Другое\")","v":""}]
[null,null,null,null,null,null,null,null,null,null,null,null,null,{"$f":"IFERROR(IF(A11969=\"\",\"\",VLOOKUP(J11969,'Соответствия статей'!$A$2:$B$50,2,0)),\"Другое\")","v":""}]
[null,null,null,null,null,null,null,null,null,null,null,null,null,{"$f":"IFERROR(IF(A11977=\"\",\"\",VLOOKUP(J11977,'Соответствия статей'!$A$2:$B$50,2,0)),\"Другое\")","v":""}]
[null,null,null,null,null,null,null,null,null,null,null,null,null,{"$f":"IFERROR(IF(A11986=\"\",\"\",VLOOKUP(J11986,'Соответствия статей'!$A$2:$B$50,2,0)),\"Другое\")","v":""}]
[null,null,null,null,null,null,null,null,null,null,null,null,null,{"$f":"IFERROR(IF(A11993=\"\",\"\",VLOOKUP(J11993,'Соответствия статей'!$A$2:$B$50,2,0)),\"Другое\")","v":""}]
[null,null,null,null,null,null,null,null,null,null,null,null,null,{"$f":"IFERROR(IF(A11995=\"\",\"\",VLOOKUP(J11995,'Соответствия статей'!$A$2:$B$50,2,0)),\"Другое\")","v":""}]
[null,null,null,null,null,null,null,null,null,null,null,null,null,{"$f":"IFERROR(IF(A12004=\"\",\"\",VLOOKUP(J12004,'Соответствия статей'!$A$2:$B$50,2,0)),\"Другое\")","v":""}]
[null,null,null,null,null,null,null,null,null,null,null,null,null,{"$f":"IFERROR(IF(A12007=\"\",\"\",VLOOKUP(J12007,'Соответствия статей'!$A$2:$B$50,2,0)),\"Другое\")","v":""}]
[null,null,null,null,null,null,null,null,null,null,null,null,null,{"$f":"IFERROR(IF(A12016=\"\",\"\",VLOOKUP(J12016,'Соответствия статей'!$A$2:$B$50,2,0)),\"Другое\")","v":""}]
[null,null,null,null,null,null,null,null,null,null,null,null,null,{"$f":"IFERROR(IF(A12025=\"\",\"\",VLOOKUP(J12025,'Соответствия статей'!$A$2:$B$50,2,0)),\"Другое\")","v":""}]
[null,null,null,null,null,null,null,null,null,null,null,null,null,{"$f":"IFERROR(IF(A12027=\"\",\"\",VLOOKUP(J12027,'Соответствия статей'!$A$2:$B$50,2,0)),\"Другое\")","v":""}]
[null,null,null,null,null,null,null,null,null,null,null,null,null,{"$f":"IFERROR(IF(A12034=\"\",\"\",VLOOKUP(J12034,'Соответствия статей'!$A$2:$B$50,2,0)),\"Другое\")","v":""}]
[null,null,null,null,null,null,null,null,null,null,null,null,null,{"$f":"IFERROR(IF(A12043=\"\",\"\",VLOOKUP(J12043,'Соответствия статей'!$A$2:$B$50,2,0)),\"Другое\")","v":""}]
[null,null,null,null,null,null,null,null,null,null,null,null,null,{"$f":"IFERROR(IF(A12044=\"\",\"\",VLOOKUP(J12044,'Соответствия статей'!$A$2:$B$50,2,0)),\"Другое\")","v":""}]
[null,null,null,null,null,null,null,null,null,null,null,null,null,{"$f":"IFERROR(IF(A12054=\"\",\"\",VLOOKUP(J12054,'Соответствия статей'!$A$2:$B$50,2,0)),\"Другое\")","v":""}]
[null,null,null,null,null,null,null,null,null,null,null,null,null,{"$f":"IFERROR(IF(A12057=\"\",\"\",VLOOKUP(J12057,'Соответствия статей'!$A$2:$B$50,2,0)),\"Другое\")","v":""}]
[null,null,null,null,null,null,null,null,null,null,null,null,null,{"$f":"IFERROR(IF(A12066=\"\",\"\",VLOOKUP(J12066,'Соответствия статей'!$A$2:$B$50,2,0)),\"Другое\")","v":""}]
[null,null,null,null,null,null,null,null,null,null,null,null,null,{"$f":"IFERROR(IF(A12074=\"\",\"\",VLOOKUP(J12074,'Соответствия статей'!$A$2:$B$50,2,0)),\"Другое\")","v":""}]
[null,null,null,null,null,null,null,null,null,null,null,null,null,{"$f":"IFERROR(IF(A12077=\"\",\"\",VLOOKUP(J12077,'Соответствия статей'!$A$2:$B$50,2,0)),\"Другое\")","v":""}]
[null,null,null,null,null,null,null,null,null,null,null,null,null,{"$f":"IFERROR(IF(A12084=\"\",\"\",VLOOKUP(J12084,'Соответствия статей'!$A$2:$B$50,2,0)),\"Другое\")","v":""}]
[null,null,null,null,null,null,null,null,null,null,null,null,null,{"$f":"IFERROR(IF(A12093=\"\",\"\",VLOOKUP(J12093,'Соответствия статей'!$A$2:$B$50,2,0)),\"Другое\")","v":""}]
[null,null,null,null,null,null,null,null,null,null,null,null,null,{"$f":"IFERROR(IF(A12100=\"\",\"\",VLOOKUP(J12100,'Соответствия статей'!$A$2:$B$50,2,0)),\"Другое\")","v":""}]
[null,null,null,null,null,null,null,null,null,null,null,null,null,{"$f":"IFERROR(IF(A12104=\"\",\"\",VLOOKUP(J12104,'Соответствия статей'!$A$2:$B$50,2,0)),\"Другое\")","v":""}]
[null,null,null,null,null,null,null,null,null,null,null,null,null,{"$f":"IFERROR(IF(A12107=\"\",\"\",VLOOKUP(J12107,'Соответствия статей'!$A$2:$B$50,2,0)),\"Другое\")","v":""}]
[null,null,null,null,null,null,null,null,null,null,null,null,null,{"$f":"IFERROR(IF(A12114=\"\",\"\",VLOOKUP(J12114,'Соответствия статей'!$A$2:$B$50,2,0)),\"Другое\")","v":""}]
[null,null,null,null,null,null,null,null,null,null,null,null,null,{"$f":"IFERROR(IF(A12123=\"\",\"\",VLOOKUP(J12123,'Соответствия статей'!$A$2:$B$50,2,0)),\"Другое\")","v":""}]
[null,null,null,null,null,null,null,null,null,null,null,null,null,{"$f":"IFERROR(IF(A12127=\"\",\"\",VLOOKUP(J12127,'Соответствия статей'!$A$2:$B$50,2,0)),\"Другое\")","v":""}]
[null,null,null,null,null,null,null,null,null,null,null,null,null,{"$f":"IFERROR(IF(A12134=\"\",\"\",VLOOKUP(J12134,'Соответствия статей'!$A$2:$B$50,2,0)),\"Другое\")","v":""}]
[null,null,null,null,null,null,null,null,null,null,null,null,null,{"$f":"IFERROR(IF(A12143=\"\",\"\",VLOOKUP(J12143,'Соответствия статей'!$A$2:$B$50,2,0)),\"Другое\")","v":""}]
[null,null,null,null,null,null,null,null,null,null,null,null,null,{"$f":"IFERROR(IF(A12149=\"\",\"\",VLOOKUP(J12149,'Соответствия статей'!$A$2:$B$50,2,0)),\"Другое\")","v":""}]
[null,null,null,null,null,null,null,null,null,null,null,null,null,{"$f":"IFERROR(IF(A12154=\"\",\"\",VLOOKUP(J12154,'Соответствия статей'!$A$2:$B$50,2,0)),\"Другое\")","v":""}]
[null,null,null,null,null,null,null,null,null,null,null,null,null,{"$f":"IFERROR(IF(A12157=\"\",\"\",VLOOKUP(J12157,'Соответствия статей'!$A$2:$B$50,2,0)),\"Другое\")","v":""}]
[null,null,null,null,null,null,null,null,null,null,null,null,null,{"$f":"IFERROR(IF(A12164=\"\",\"\",VLOOKUP(J12164,'Соответствия статей'!$A$2:$B$50,2,0)),\"Другое\")","v":""}]
[null,null,null,null,null,null,null,null,null,null,null,null,null,{"$f":"IFERROR(IF(A12172=\"\",\"\",VLOOKUP(J12172,'Соответствия статей'!$A$2:$B$50,2,0)),\"Другое\")","v":""}]
[null,null,null,null,null,null,null,null,null,null,null,null,null,{"$f":"IFERROR(IF(A12177=\"\",\"\",VLOOKUP(J12177,'Соответствия статей'!$A$2:$B$50,2,0)),\"Другое\")","v":""}]
[null,null,null,null,null,null,null,null,null,null,null,null,null,{"$f":"IFERROR(IF(A12184=\"\",\"\",VLOOKUP(J12184,'Соответствия статей'!$A$2:$B$50,2,0)),\"Другое\")","v":""}]
[null,null,null,null,null,null,null,null,null,null,null,null,null,{"$f":"IFERROR(IF(A12193=\"\",\"\",VLOOKUP(J12193,'Соответствия статей'!$A$2:$B$50,2,0)),\"Другое\")","v":""}]
[null,null,null,null,null,null,null,null,null,null,null,null,null,{"$f":"IFERROR(IF(A12198=\"\",\"\",VLOOKUP(J12198,'Соответствия статей'!$A$2:$B$50,2,0)),\"Другое\")","v":""}]
[null,null,null,null,null,null,null,null,null,null,null,null,null,{"$f":"IFERROR(IF(A12204=\"\",\"\",VLOOKUP(J12204,'Соответствия статей'!$A$2:$B$50,2,0)),\"Другое\")","v":""}]
[null,null,null,null,null,null,null,null,null,null,null,null,null,{"$f":"IFERROR(IF(A12207=\"\",\"\",VLOOKUP(J12207,'Соответствия статей'!$A$2:$B$50,2,0)),\"Другое\")","v":""}]
[null,null,null,null,null,null,null,null,null,null,null,null,null,{"$f":"IFERROR(IF(A12214=\"\",\"\",VLOOKUP(J12214,'Соответствия статей'!$A$2:$B$50,2,0)),\"Другое\")","v":""}]
[null,null,null,null,null,null,null,null,null,null,null,null,null,{"$f":"IFERROR(IF(A12221=\"\",\"\",VLOOKUP(J12221,'Соответствия статей'!$A$2:$B$50,2,0)),\"Другое\")","v":""}]
[null,null,null,null,null,null,null,null,null,null,null,null,null,{"$f":"IFERROR(IF(A12227=\"\",\"\",VLOOKUP(J12227,'Соответствия статей'!$A$2:$B$50,2,0)),\"Другое\")","v":""}]
[null,null,null,null,null,null,null,null,null,null,null,null,null,{"$f":"IFERROR(IF(A12234=\"\",\"\",VLOOKUP(J12234,'Соответствия статей'!$A$2:$B$50,2,0)),\"Другое\")","v":""}]
[null,null,null,null,null,null,null,null,null,null,null,null,null,{"$f":"IFERROR(IF(A12243=\"\",\"\",VLOOKUP(J12243,'Соответствия статей'!$A$2:$B$50,2,0)),\"Другое\")","v":""}]
[null,null,null,null,null,null,null,null,null,null,null,null,null,{"$f":"IFERROR(IF(A12244=\"\",\"\",VLOOKUP(J12244,'Соответствия статей'!$A$2:$B$50,2,0)),\"Другое\")","v":""}]
[null,null,null,null,null,null,null,null,null,null,null,null,null,{"$f":"IFERROR(IF(A12254=\"\",\"\",VLOOKUP(J12254,'Соответствия статей'!$A$2:$B$50,2,0)),\"Другое\")","v":""}]
[null,null,null,null,null,null,null,null,null,null,null,null,null,{"$f":"IFERROR(IF(A12257=\"\",\"\",VLOOKUP(J12257,'Соответствия статей'!$A$2:$B$50,2,0)),\"Другое\")","v":""}]
[null,null,null,null,null,null,null,null,null,null,null,null,null,{"$f":"IFERROR(IF(A12264=\"\",\"\",VLOOKUP(J12264,'Соответствия статей'!$A$2:$B$50,2,0)),\"Другое\")","v":""}]
[null,null,null,null,null,null,null,null,null,null,null,null,null,{"$f":"IFERROR(IF(A12270=\"\",\"\",VLOOKUP(J12270,'Соответствия статей'!$A$2:$B$50,2,0)),\"Другое\")","v":""}]
[null,null,null,null,null,null,null,null,null,null,null,null,null,{"$f":"IFERROR(IF(A12277=\"\",\"\",VLOOKUP(J12277,'Соответствия статей'!$A$2:$B$50,2,0)),\"Другое\")","v":""}]
[null,null,null,null,null,null,null,null,null,null,null,null,null,{"$f":"IFERROR(IF(A12284=\"\",\"\",VLOOKUP(J12284,'Соответствия статей'!$A$2:$B$50,2,0)),\"Другое\")","v":""}]
[null,null,null,null,null,null,null,null,null,null,null,null,null,{"$f":"IFERROR(IF(A12293=\"\",\"\",VLOOKUP(J12293,'Соответствия статей'!$A$2:$B$50,2,0)),\"Другое\")","v":""}]
[null,null,null,null,null,null,null,null,null,null,null,null,null,{"$f":"IFERROR(IF(A12300=\"\",\"\",VLOOKUP(J12300,'Соответствия статей'!$A$2:$B$50,2,0)),\"Другое\")","v":""}]
[null,null,null,null,null,null,null,null,null,null,null,null,null,{"$f":"IFERROR(IF(A12304=\"\",\"\",VLOOKUP(J12304,'Соответствия статей'!$A$2:$B$50,2,0)),\"Другое\")","v":""}]
[null,null,null,null,null,null,null,null,null,null,null,null,null,{"$f":"IFERROR(IF(A12307=\"\",\"\",VLOOKUP(J12307,'Соответствия статей'!$A$2:$B$50,2,0)),\"Другое\")","v":""}]
[null,null,null,null,null,null,null,null,null,null,null,null,null,{"$f":"IFERROR(IF(A12314=\"\",\"\",VLOOKUP(J12314,'Соответствия статей'!$A$2:$B$50,2,0)),\"Другое\")","v":""}]
[null,null,null,null,null,null,null,null,null,null,null,null,null,{"$f":"IFERROR(IF(A12319=\"\",\"\",VLOOKUP(J12319,'Соответствия статей'!$A$2:$B$50,2,0)),\"Другое\")","v":""}]
[null,null,null,null,null,null,null,null,null,null,null,null,null,{"$f":"IFERROR(IF(A12331=\"\",\"\",VLOOKUP(J12331,'Соответствия статей'!$A$2:$B$50,2,0)),\"Другое\")","v":""}]
[null,null,null,null,null,null,null,null,null,null,null,null,null,{"$f":"IFERROR(IF(A12334=\"\",\"\",VLOOKUP(J12334,'Соответствия статей'!$A$2:$B$50,2,0)),\"Другое\")","v":""}]
[null,null,null,null,null,null,null,null,null,null,null,null,null,{"$f":"IFERROR(IF(A12343=\"\",\"\",VLOOKUP(J12343,'Соответствия статей'!$A$2:$B$50,2,0)),\"Другое\")","v":""}]
[null,null,null,null,null,null,null,null,null,null,null,null,null,{"$f":"IFERROR(IF(A12349=\"\",\"\",VLOOKUP(J12349,'Соответствия статей'!$A$2:$B$50,2,0)),\"Другое\")","v":""}]
[null,null,null,null,null,null,null,null,null,null,null,null,null,{"$f":"IFERROR(IF(A12354=\"\",\"\",VLOOKUP(J12354,'Соответствия статей'!$A$2:$B$50,2,0)),\"Другое\")","v":""}]
[null,null,null,null,null,null,null,null,null,null,null,null,null,{"$f":"IFERROR(IF(A12357=\"\",\"\",VLOOKUP(J12357,'Соответствия статей'!$A$2:$B$50,2,0)),\"Другое\")","v":""}]
[null,null,null,null,null,null,null,null,null,null,null,null,null,{"$f":"IFERROR(IF(A12364=\"\",\"\",VLOOKUP(J12364,'Соответствия статей'!$A$2:$B$50,2,0)),\"Другое\")","v":""}]
[null,null,null,null,null,null,null,null,null,null,null,null,null,{"$f":"IFERROR(IF(A12375=\"\",\"\",VLOOKUP(J12375,'Соответствия статей'!$A$2:$B$50,2,0)),\"Другое\")","v":""}]
[null,null,null,null,null,null,null,null,null,null,null,null,null,{"$f":"IFERROR(IF(A12381=\"\",\"\",VLOOKUP(J12381,'Соответствия статей'!$A$2:$B$50,2,0)),\"Другое\")","v":""}]
[null,null,null,null,null,null,null,null,null,null,null,null,null,{"$f":"IFERROR(IF(A12384=\"\",\"\",VLOOKUP(J12384,'Соответствия статей'!$A$2:$B$50,2,0)),\"Другое\")","v":""}]
[null,null,null,null,null,null,null,null,null,null,null,null,null,{"$f":"IFERROR(IF(A12393=\"\",\"\",VLOOKUP(J12393,'Соответствия статей'!$A$2:$B$50,2,0)),\"Другое\")","v":""}]
[null,null,null,null,null,null,null,null,null,null,null,null,null,{"$f":"IFERROR(IF(A12398=\"\",\"\",VLOOKUP(J12398,'Соответствия статей'!$A$2:$B$50,2,0)),\"Другое\")","v":""}]
[null,null,null,null,null,null,null,null,null,null,null,null,null,{"$f":"IFERROR(IF(A12404=\"\",\"\",VLOOKUP(J12404,'Соответствия статей'!$A$2:$B$50,2,0)),\"Другое\")","v":""}]
[null,null,null,null,null,null,null,null,null,null,null,null,null,{"$f":"IFERROR(IF(A12407=\"\",\"\",VLOOKUP(J12407,'Соответствия статей'!$A$2:$B$50,2,0)),\"Другое\")","v":""}]
[null,null,null,null,null,null,null,null,null,null,null,null,null,{"$f":"IFERROR(IF(A12414=\"\",\"\",VLOOKUP(J12414,'Соответствия статей'!$A$2:$B$50,2,0)),\"Другое\")","v":""}]
[null,null,null,null,null,null,null,null,null,null,null,null,null,{"$f":"IFERROR(IF(A12424=\"\",\"\",VLOOKUP(J12424,'Соответствия статей'!$A$2:$B$50,2,0)),\"Другое\")","v":""}]
[null,null,null,null,null,null,null,null,null,null,null,null,null,{"$f":"IFERROR(IF(A12431=\"\",\"\",VLOOKUP(J12431,'Соответствия статей'!$A$2:$B$50,2,0)),\"Другое\")","v":""}]
[null,null,null,null,null,null,null,null,null,null,null,null,null,{"$f":"IFERROR(IF(A12434=\"\",\"\",VLOOKUP(J12434,'Соответствия статей'!$A$2:$B$50,2,0)),\"Другое\")","v":""}]
[null,null,null,null,null,null,null,null,null,null,null,null,null,{"$f":"IFERROR(IF(A12443=\"\",\"\",VLOOKUP(J12443,'Соответствия статей'!$A$2:$B$50,2,0)),\"Другое\")","v":""}]
[null,null,null,null,null,null,null,null,null,null,null,null,null,{"$f":"IFERROR(IF(A12447=\"\",\"\",VLOOKUP(J12447,'Соответствия статей'!$A$2:$B$50,2,0)),\"Другое\")","v":""}]
[null,null,null,null,null,null,null,null,null,null,null,null,null,{"$f":"IFERROR(IF(A12454=\"\",\"\",VLOOKUP(J12454,'Соответствия статей'!$A$2:$B$50,2,0)),\"Другое\")","v":""}]
[null,null,null,null,null,null,null,null,null,null,null,null,null,{"$f":"IFERROR(IF(A12461=\"\",\"\",VLOOKUP(J12461,'Соответствия статей'!$A$2:$B$50,2,0)),\"Другое\")","v":""}]
[null,null,null,null,null,null,null,null,null,null,null,null,null,{"$f":"IFERROR(IF(A12464=\"\",\"\",VLOOKUP(J12464,'Соответствия статей'!$A$2:$B$50,2,0)),\"Другое\")","v":""}]
[null,null,null,null,null,null,null,null,null,null,null,null,null,{"$f":"IFERROR(IF(A12473=\"\",\"\",VLOOKUP(J12473,'Соответствия статей'!$A$2:$B$50,2,0)),\"Другое\")","v":""}]
[null,null,null,null,null,null,null,null,null,null,null,null,null,{"$f":"IFERROR(IF(A12481=\"\",\"\",VLOOKUP(J12481,'Соответствия статей'!$A$2:$B$50,2,0)),\"Другое\")","v":""}]
[null,null,null,null,null,null,null,null,null,null,null,null,null,{"$f":"IFERROR(IF(A12484=\"\",\"\",VLOOKUP(J12484,'Соответствия статей'!$A$2:$B$50,2,0)),\"Другое\")","v":""}]
[null,null,null,null,null,null,null,null,null,null,null,null,null,{"$f":"IFERROR(IF(A12493=\"\",\"\",VLOOKUP(J12493,'Соответствия статей'!$A$2:$B$50,2,0)),\"Другое\")","v":""}]
[null,null,null,null,null,null,null,null,null,null,null,null,null,{"$f":"IFERROR(IF(A12496=\"\",\"\",VLOOKUP(J12496,'Соответствия статей'!$A$2:$B$50,2,0)),\"Другое\")","v":""}]
[null,null,null,null,null,null,null,null,null,null,null,null,null,{"$f":"IFERROR(IF(A12504=\"\",\"\",VLOOKUP(J12504,'Соответствия статей'!$A$2:$B$50,2,0)),\"Другое\")","v":""}]
[null,null,null,null,null,null,null,null,null,null,null,null,null,{"$f":"IFERROR(IF(A12511=\"\",\"\",VLOOKUP(J12511,'Соответствия статей'!$A$2:$B$50,2,0)),\"Другое\")","v":""}]
[null,null,null,null,null,null,null,null,null,null,null,null,null,{"$f":"IFERROR(IF(A12514=\"\",\"\",VLOOKUP(J12514,'Соответствия статей'!$A$2:$B$50,2,0)),\"Другое\")","v":""}]
[null,null,null,null,null,null,null,null,null,null,null,null,null,{"$f":"IFERROR(IF(A12522=\"\",\"\",VLOOKUP(J12522,'Соответствия статей'!$A$2:$B$50,2,0)),\"Другое\")","v":""}]
[null,null,null,null,null,null,null,null,null,null,null,null,null,{"$f":"IFERROR(IF(A12531=\"\",\"\",VLOOKUP(J12531,'Соответствия статей'!$A$2:$B$50,2,0)),\"Другое\")","v":""}]
[null,null,null,null,null,null,null,null,null,null,null,null,null,{"$f":"IFERROR(IF(A12534=\"\",\"\",VLOOKUP(J12534,'Соответствия статей'!$A$2:$B$50,2,0)),\"Другое\")","v":""}]
[null,null,null,null,null,null,null,null,null,null,null,null,null,{"$f":"IFERROR(IF(A12543=\"\",\"\",VLOOKUP(J12543,'Соответствия статей'!$A$2:$B$50,2,0)),\"Другое\")","v":""}]
[null,null,null,null,null,null,null,null,null,null,null,null,null,{"$f":"IFERROR(IF(A12545=\"\",\"\",VLOOKUP(J12545,'Соответствия статей'!$A$2:$B$50,2,0)),\"Другое\")","v":""}]
[null,null,null,null,null,null,null,null,null,null,null,null,null,{"$f":"IFERROR(IF(A12554=\"\",\"\",VLOOKUP(J12554,'Соответствия статей'!$A$2:$B$50,2,0)),\"Другое\")","v":""}]
[null,null,null,null,null,null,null,null,null,null,null,null,null,{"$f":"IFERROR(IF(A12561=\"\",\"\",VLOOKUP(J12561,'Соответствия статей'!$A$2:$B$50,2,0)),\"Другое\")","v":""}]
[null,null,null,null,null,null,null,null,null,null,null,null,null,{"$f":"IFERROR(IF(A12564=\"\",\"\",VLOOKUP(J12564,'Соответствия статей'!$A$2:$B$50,2,0)),\"Другое\")","v":""}]
[null,null,null,null,null,null,null,null,null,null,null,null,null,{"$f":"IFERROR(IF(A12571=\"\",\"\",VLOOKUP(J12571,'Соответствия статей'!$A$2:$B$50,2,0)),\"Другое\")","v":""}]
[null,null,null,null,null,null,null,null,null,null,null,null,null,{"$f":"IFERROR(IF(A12581=\"\",\"\",VLOOKUP(J12581,'Соответствия статей'!$A$2:$B$50,2,0)),\"Другое\")","v":""}]
[null,null,null,null,null,null,null,null,null,null,null,null,null,{"$f":"IFERROR(IF(A12584=\"\",\"\",VLOOKUP(J12584,'Соответствия статей'!$A$2:$B$50,2,0)),\"Другое\")","v":""}]
[null,null,null,null,null,null,null,null,null,null,null,null,null,{"$f":"IFERROR(IF(A12591=\"\",\"\",VLOOKUP(J12591,'Соответствия статей'!$A$2:$B$50,2,0)),\"Другое\")","v":""}]
[null,null,null,null,null,null,null,null,null,null,null,null,null,{"$f":"IFERROR(IF(A12594=\"\",\"\",VLOOKUP(J12594,'Соответствия статей'!$A$2:$B$50,2,0)),\"Другое\")","v":""}]
[null,null,null,null,null,null,null,null,null,null,null,null,null,{"$f":"IFERROR(IF(A12604=\"\",\"\",VLOOKUP(J12604,'Соответствия статей'!$A$2:$B$50,2,0)),\"Другое\")","v":""}]
[null,null,null,null,null,null,null,null,null,null,null,null,null,{"$f":"IFERROR(IF(A12611=\"\",\"\",VLOOKUP(J12611,'Соответствия статей'!$A$2:$B$50,2,0)),\"Другое\")","v":""}]
[null,null,null,null,null,null,null,null,null,null,null,null,null,{"$f":"IFERROR(IF(A12614=\"\",\"\",VLOOKUP(J12614,'Соответствия статей'!$A$2:$B$50,2,0)),\"Другое\")","v":""}]
[null,null,null,null,null,null,null,null,null,null,null,null,null,{"$f":"IFERROR(IF(A12620=\"\",\"\",VLOOKUP(J12620,'Соответствия статей'!$A$2:$B$50,2,0)),\"Другое\")","v":""}]
[null,null,null,null,null,null,null,null,null,null,null,null,null,{"$f":"IFERROR(IF(A12631=\"\",\"\",VLOOKUP(J12631,'Соответствия статей'!$A$2:$B$50,2,0)),\"Другое\")","v":""}]
[null,null,null,null,null,null,null,null,null,null,null,null,null,{"$f":"IFERROR(IF(A12634=\"\",\"\",VLOOKUP(J12634,'Соответствия статей'!$A$2:$B$50,2,0)),\"Другое\")","v":""}]
[null,null,null,null,null,null,null,null,null,null,null,null,null,{"$f":"IFERROR(IF(A12641=\"\",\"\",VLOOKUP(J12641,'Соответствия статей'!$A$2:$B$50,2,0)),\"Другое\")","v":""}]
[null,null,null,null,null,null,null,null,null,null,null,null,null,{"$f":"IFERROR(IF(A12650=\"\",\"\",VLOOKUP(J12650,'Соответствия статей'!$A$2:$B$50,2,0)),\"Другое\")","v":""}]
[null,null,null,null,null,null,null,null,null,null,null,null,null,{"$f":"IFERROR(IF(A12654=\"\",\"\",VLOOKUP(J12654,'Соответствия статей'!$A$2:$B$50,2,0)),\"Другое\")","v":""}]
[null,null,null,null,null,null,null,null,null,null,null,null,null,{"$f":"IFERROR(IF(A12661=\"\",\"\",VLOOKUP(J12661,'Соответствия статей'!$A$2:$B$50,2,0)),\"Другое\")","v":""}]
[null,null,null,null,null,null,null,null,null,null,null,null,null,{"$f":"IFERROR(IF(A12664=\"\",\"\",VLOOKUP(J12664,'Соответствия статей'!$A$2:$B$50,2,0)),\"Другое\")","v":""}]
[null,null,null,null,null,null,null,null,null,null,null,null,null,{"$f":"IFERROR(IF(A12673=\"\",\"\",VLOOKUP(J12673,'Соответствия статей'!$A$2:$B$50,2,0)),\"Другое\")","v":""}]
[null,null,null,null,null,null,null,null,null,null,null,null,null,{"$f":"IFERROR(IF(A12681=\"\",\"\",VLOOKUP(J12681,'Соответствия статей'!$A$2:$B$50,2,0)),\"Другое\")","v":""}]
[null,null,null,null,null,null,null,null,null,null,null,null,null,{"$f":"IFERROR(IF(A12684=\"\",\"\",VLOOKUP(J12684,'Соответствия статей'!$A$2:$B$50,2,0)),\"Другое\")","v":""}]
[null,null,null,null,null,null,null,null,null,null,null,null,null,{"$f":"IFERROR(IF(A12691=\"\",\"\",VLOOKUP(J12691,'Соответствия статей'!$A$2:$B$50,2,0)),\"Другое\")","v":""}]
[null,null,null,null,null,null,null,null,null,null,null,null,null,{"$f":"IFERROR(IF(A12699=\"\",\"\",VLOOKUP(J12699,'Соответствия статей'!$A$2:$B$50,2,0)),\"Другое\")","v":""}]
[null,null,null,null,null,null,null,null,null,null,null,null,null,{"$f":"IFERROR(IF(A12704=\"\",\"\",VLOOKUP(J12704,'Соответствия статей'!$A$2:$B$50,2,0)),\"Другое\")","v":""}]
[null,null,null,null,null,null,null,null,null,null,null,null,null,{"$f":"IFERROR(IF(A12711=\"\",\"\",VLOOKUP(J12711,'Соответствия статей'!$A$2:$B$50,2,0)),\"Другое\")","v":""}]
[null,null,null,null,null,null,null,null,null,null,null,null,null,{"$f":"IFERROR(IF(A12714=\"\",\"\",VLOOKUP(J12714,'Соответствия статей'!$A$2:$B$50,2,0)),\"Другое\")","v":""}]
[null,null,null,null,null,null,null,null,null,null,null,null,null,{"$f":"IFERROR(IF(A12722=\"\",\"\",VLOOKUP(J12722,'Соответствия статей'!$A$2:$B$50,2,0)),\"Другое\")","v":""}]
[null,null,null,null,null,null,null,null,null,null,null,null,null,{"$f":"IFERROR(IF(A12731=\"\",\"\",VLOOKUP(J12731,'Соответствия статей'!$A$2:$B$50,2,0)),\"Другое\")","v":""}]
[null,null,null,null,null,null,null,null,null,null,null,null,null,{"$f":"IFERROR(IF(A12734=\"\",\"\",VLOOKUP(J12734,'Соответствия статей'!$A$2:$B$50,2,0)),\"Другое\")","v":""}]
[null,null,null,null,null,null,null,null,null,null,null,null,null,{"$f":"IFERROR(IF(A12741=\"\",\"\",VLOOKUP(J12741,'Соответствия статей'!$A$2:$B$50,2,0)),\"Другое\")","v":""}]
[null,null,null,null,null,null,null,null,null,null,null,null,null,{"$f":"IFERROR(IF(A12748=\"\",\"\",VLOOKUP(J12748,'Соответствия статей'!$A$2:$B$50,2,0)),\"Другое\")","v":""}]
[null,null,null,null,null,null,null,null,null,null,null,null,null,{"$f":"IFERROR(IF(A12754=\"\",\"\",VLOOKUP(J12754,'Соответствия статей'!$A$2:$B$50,2,0)),\"Другое\")","v":""}]
[null,null,null,null,null,null,null,null,null,null,null,null,null,{"$f":"IFERROR(IF(A12761=\"\",\"\",VLOOKUP(J12761,'Соответствия статей'!$A$2:$B$50,2,0)),\"Другое\")","v":""}]
[null,null,null,null,null,null,null,null,null,null,null,null,null,{"$f":"IFERROR(IF(A12764=\"\",\"\",VLOOKUP(J12764,'Соответствия статей'!$A$2:$B$50,2,0)),\"Другое\")","v":""}]
[null,null,null,null,null,null,null,null,null,null,null,null,null,{"$f":"IFERROR(IF(A12771=\"\",\"\",VLOOKUP(J12771,'Соответствия статей'!$A$2:$B$50,2,0)),\"Другое\")","v":""}]
[null,null,null,null,null,null,null,null,null,null,null,null,null,{"$f":"IFERROR(IF(A12781=\"\",\"\",VLOOKUP(J12781,'Соответствия статей'!$A$2:$B$50,2,0)),\"Другое\")","v":""}]
[null,null,null,null,null,null,null,null,null,null,null,null,null,{"$f":"IFERROR(IF(A12784=\"\",\"\",VLOOKUP(J12784,'Соответствия статей'!$A$2:$B$50,2,0)),\"Другое\")","v":""}]
[null,null,null,null,null,null,null,null,null,null,null,null,null,{"$f":"IFERROR(IF(A12791=\"\",\"\",VLOOKUP(J12791,'Соответствия статей'!$A$2:$B$50,2,0)),\"Другое\")","v":""}]
[null,null,null,null,null,null,null,null,null,null,null,null,null,{"$f":"IFERROR(IF(A12797=\"\",\"\",VLOOKUP(J12797,'Соответствия статей'!$A$2:$B$50,2,0)),\"Другое\")","v":""}]
[null,null,null,null,null,null,null,null,null,null,null,null,null,{"$f":"IFERROR(IF(A12802=\"\",\"\",VLOOKUP(J12802,'Соответствия статей'!$A$2:$B$50,2,0)),\"Другое\")","v":""}]
[null,null,null,null,null,null,null,null,null,null,null,null,null,{"$f":"IFERROR(IF(A12811=\"\",\"\",VLOOKUP(J12811,'Соответствия статей'!$A$2:$B$50,2,0)),\"Другое\")","v":""}]
[null,null,null,null,null,null,null,null,null,null,null,null,null,{"$f":"IFERROR(IF(A12814=\"\",\"\",VLOOKUP(J12814,'Соответствия статей'!$A$2:$B$50,2,0)),\"Другое\")","v":""}]
[null,null,null,null,null,null,null,null,null,null,null,null,null,{"$f":"IFERROR(IF(A12820=\"\",\"\",VLOOKUP(J12820,'Соответствия статей'!$A$2:$B$50,2,0)),\"Другое\")","v":""}]
[null,null,null,null,null,null,null,null,null,null,null,null,null,{"$f":"IFERROR(IF(A12831=\"\",\"\",VLOOKUP(J12831,'Соответствия статей'!$A$2:$B$50,2,0)),\"Другое\")","v":""}]
[null,null,null,null,null,null,null,null,null,null,null,null,null,{"$f":"IFERROR(IF(A12834=\"\",\"\",VLOOKUP(J12834,'Соответствия статей'!$A$2:$B$50,2,0)),\"Другое\")","v":""}]
[null,null,null,null,null,null,null,null,null,null,null,null,null,{"$f":"IFERROR(IF(A12841=\"\",\"\",VLOOKUP(J12841,'Соответствия статей'!$A$2:$B$50,2,0)),\"Другое\")","v":""}]
[null,null,null,null,null,null,null,null,null,null,null,null,null,{"$f":"IFERROR(IF(A12846=\"\",\"\",VLOOKUP(J12846,'Соответствия статей'!$A$2:$B$50,2,0)),\"Другое\")","v":""}]
[null,null,null,null,null,null,null,null,null,null,null,null,null,{"$f":"IFERROR(IF(A12852=\"\",\"\",VLOOKUP(J12852,'Соответствия статей'!$A$2:$B$50,2,0)),\"Другое\")","v":""}]
[null,null,null,null,null,null,null,null,null,null,null,null,null,{"$f":"IFERROR(IF(A12861=\"\",\"\",VLOOKUP(J12861,'Соответствия статей'!$A$2:$B$50,2,0)),\"Другое\")","v":""}]
[null,null,null,null,null,null,null,null,null,null,null,null,null,{"$f":"IFERROR(IF(A12864=\"\",\"\",VLOOKUP(J12864,'Соответствия статей'!$A$2:$B$50,2,0)),\"Другое\")","v":""}]
[null,null,null,null,null,null,null,null,null,null,null,null,null,{"$f":"IFERROR(IF(A12869=\"\",\"\",VLOOKUP(J12869,'Соответствия статей'!$A$2:$B$50,2,0)),\"Другое\")","v":""}]
[null,null,null,null,null,null,null,null,null,null,null,null,null,{"$f":"IFERROR(IF(A12881=\"\",\"\",VLOOKUP(J12881,'Соответствия статей'!$A$2:$B$50,2,0)),\"Другое\")","v":""}]
[null,null,null,null,null,null,null,null,null,null,null,null,null,{"$f":"IFERROR(IF(A12882=\"\",\"\",VLOOKUP(J12882,'Соответствия статей'!$A$2:$B$50,2,0)),\"Другое\")","v":""}]
[null,null,null,null,null,null,null,null,null,null,null,null,null,{"$f":"IFERROR(IF(A12891=\"\",\"\",VLOOKUP(J12891,'Соответствия статей'!$A$2:$B$50,2,0)),\"Другое\")","v":""}]
[null,null,null,null,null,null,null,null,null,null,null,null,null,{"$f":"IFERROR(IF(A12895=\"\",\"\",VLOOKUP(J12895,'Соответствия статей'!$A$2:$B$50,2,0)),\"Другое\")","v":""}]
[null,null,null,null,null,null,null,null,null,null,null,null,null,{"$f":"IFERROR(IF(A12902=\"\",\"\",VLOOKUP(J12902,'Соответствия статей'!$A$2:$B$50,2,0)),\"Другое\")","v":""}]
[null,null,null,null,null,null,null,null,null,null,null,null,null,{"$f":"IFERROR(IF(A12911=\"\",\"\",VLOOKUP(J12911,'Соответствия статей'!$A$2:$B$50,2,0)),\"Другое\")","v":""}]
[null,null,null,null,null,null,null,null,null,null,null,null,null,{"$f":"IFERROR(IF(A12914=\"\",\"\",VLOOKUP(J12914,'Соответствия статей'!$A$2:$B$50,2,0)),\"Другое\")","v":""}]
[null,null,null,null,null,null,null,null,null,null,null,null,null,{"$f":"IFERROR(IF(A12925=\"\",\"\",VLOOKUP(J12925,'Соответствия статей'!$A$2:$B$50,2,0)),\"Другое\")","v":""}]
[null,null,null,null,null,null,null,null,null,null,null,null,null,{"$f":"IFERROR(IF(A12931=\"\",\"\",VLOOKUP(J12931,'Соответствия статей'!$A$2:$B$50,2,0)),\"Другое\")","v":""}]
[null,null,null,null,null,null,null,null,null,null,null,null,null,{"$f":"IFERROR(IF(A12932=\"\",\"\",VLOOKUP(J12932,'Соответствия статей'!$A$2:$B$50,2,0)),\"Другое\")","v":""}]
[null,null,null,null,null,null,null,null,null,null,null,null,null,{"$f":"IFERROR(IF(A12941=\"\",\"\",VLOOKUP(J12941,'Соответствия статей'!$A$2:$B$50,2,0)),\"Другое\")","v":""}]
[null,null,null,null,null,null,null,null,null,null,null,null,null,{"$f":"IFERROR(IF(A12944=\"\",\"\",VLOOKUP(J12944,'Соответствия статей'!$A$2:$B$50,2,0)),\"Другое\")","v":""}]
[null,null,null,null,null,null,null,null,null,null,null,null,null,{"$f":"IFERROR(IF(A12952=\"\",\"\",VLOOKUP(J12952,'Соответствия статей'!$A$2:$B$50,2,0)),\"Другое\")","v":""}]
[null,null,null,null,null,null,null,null,null,null,null,null,null,{"$f":"IFERROR(IF(A12961=\"\",\"\",VLOOKUP(J12961,'Соответствия статей'!$A$2:$B$50,2,0)),\"Другое\")","v":""}]
[null,null,null,null,null,null,null,null,null,null,null,null,null,{"$f":"IFERROR(IF(A12964=\"\",\"\",VLOOKUP(J12964,'Соответствия статей'!$A$2:$B$50,2,0)),\"Другое\")","v":""}]
[null,null,null,null,null,null,null,null,null,null,null,null,null,{"$f":"IFERROR(IF(A12974=\"\",\"\",VLOOKUP(J12974,'Соответствия статей'!$A$2:$B$50,2,0)),\"Другое\")","v":""}]
[null,null,null,null,null,null,null,null,null,null,null,null,null,{"$f":"IFERROR(IF(A12981=\"\",\"\",VLOOKUP(J12981,'Соответствия статей'!$A$2:$B$50,2,0)),\"Другое\")","v":""}]
[null,null,null,null,null,null,null,null,null,null,null,null,null,{"$f":"IFERROR(IF(A12982=\"\",\"\",VLOOKUP(J12982,'Соответствия статей'!$A$2:$B$50,2,0)),\"Другое\")","v":""}]
[null,null,null,null,null,null,null,null,null,null,null,null,null,{"$f":"IFERROR(IF(A12991=\"\",\"\",VLOOKUP(J12991,'Соответствия статей'!$A$2:$B$50,2,0)),\"Другое\")","v":""}]
[null,null,null,null,null,null,null,null,null,null,null,null,null,{"$f":"IFERROR(IF(A13000=\"\",\"\",VLOOKUP(J13000,'Соответствия статей'!$A$2:$B$50,2,0)),\"Другое\")","v":""}]
[null,null,null,null,null,null,null,null,null,null,null,null,null,{"$f":"IFERROR(IF(A13002=\"\",\"\",VLOOKUP(J13002,'Соответствия статей'!$A$2:$B$50,2,0)),\"Другое\")","v":""}]
[null,null,null,null,null,null,null,null,null,null,null,null,null,{"$f":"IFERROR(IF(A13011=\"\",\"\",VLOOKUP(J13011,'Соответствия статей'!$A$2:$B$50,2,0)),\"Другое\")","v":""}]
[null,null,null,null,null,null,null,null,null,null,null,null,null,{"$f":"IFERROR(IF(A13018=\"\",\"\",VLOOKUP(J13018,'Соответствия статей'!$A$2:$B$50,2,0)),\"Другое\")","v":""}]
[null,null,null,null,null,null,null,null,null,null,null,null,null,{"$f":"IFERROR(IF(A13023=\"\",\"\",VLOOKUP(J13023,'Соответствия статей'!$A$2:$B$50,2,0)),\"Другое\")","v":""}]
[null,null,null,null,null,null,null,null,null,null,null,null,null,{"$f":"IFERROR(IF(A13031=\"\",\"\",VLOOKUP(J13031,'Соответствия статей'!$A$2:$B$50,2,0)),\"Другое\")","v":""}]
[null,null,null,null,null,null,null,null,null,null,null,null,null,{"$f":"IFERROR(IF(A13032=\"\",\"\",VLOOKUP(J13032,'Соответствия статей'!$A$2:$B$50,2,0)),\"Другое\")","v":""}]
[null,null,null,null,null,null,null,null,null,null,null,null,null,{"$f":"IFERROR(IF(A13041=\"\",\"\",VLOOKUP(J13041,'Соответствия статей'!$A$2:$B$50,2,0)),\"Другое\")","v":""}]
[null,null,null,null,null,null,null,null,null,null,null,null,null,{"$f":"IFERROR(IF(A13049=\"\",\"\",VLOOKUP(J13049,'Соответствия статей'!$A$2:$B$50,2,0)),\"Другое\")","v":""}]
[null,null,null,null,null,null,null,null,null,null,null,null,null,{"$f":"IFERROR(IF(A13052=\"\",\"\",VLOOKUP(J13052,'Соответствия статей'!$A$2:$B$50,2,0)),\"Другое\")","v":""}]
[null,null,null,null,null,null,null,null,null,null,null,null,null,{"$f":"IFERROR(IF(A13061=\"\",\"\",VLOOKUP(J13061,'Соответствия статей'!$A$2:$B$50,2,0)),\"Другое\")","v":""}]
[null,null,null,null,null,null,null,null,null,null,null,null,null,{"$f":"IFERROR(IF(A13068=\"\",\"\",VLOOKUP(J13068,'Соответствия статей'!$A$2:$B$50,2,0)),\"Другое\")","v":""}]
[null,null,null,null,null,null,null,null,null,null,null,null,null,{"$f":"IFERROR(IF(A13072=\"\",\"\",VLOOKUP(J13072,'Соответствия статей'!$A$2:$B$50,2,0)),\"Другое\")","v":""}]
[null,null,null,null,null,null,null,null,null,null,null,null,null,{"$f":"IFERROR(IF(A13081=\"\",\"\",VLOOKUP(J13081,'Соответствия статей'!$A$2:$B$50,2,0)),\"Другое\")","v":""}]
[null,null,null,null,null,null,null,null,null,null,null,null,null,{"$f":"IFERROR(IF(A13082=\"\",\"\",VLOOKUP(J13082,'Соответствия статей'!$A$2:$B$50,2,0)),\"Другое\")","v":""}]
[null,null,null,null,null,null,null,null,null,null,null,null,null,{"$f":"IFERROR(IF(A13091=\"\",\"\",VLOOKUP(J13091,'Соответствия статей'!$A$2:$B$50,2,0)),\"Другое\")","v":""}]
[null,null,null,null,null,null,null,null,null,null,null,null,null,{"$f":"IFERROR(IF(A13098=\"\",\"\",VLOOKUP(J13098,'Соответствия статей'!$A$2:$B$50,2,0)),\"Другое\")","v":""}]
[null,null,null,null,null,null,null,null,null,null,null,null,null,{"$f":"IFERROR(IF(A13102=\"\",\"\",VLOOKUP(J13102,'Соответствия статей'!$A$2:$B$50,2,0)),\"Другое\")","v":""}]
[null,null,null,null,null,null,null,null,null,null,null,null,null,{"$f":"IFERROR(IF(A13111=\"\",\"\",VLOOKUP(J13111,'Соответствия статей'!$A$2:$B$50,2,0)),\"Другое\")","v":""}]
[null,null,null,null,null,null,null,null,null,null,null,null,null,{"$f":"IFERROR(IF(A13118=\"\",\"\",VLOOKUP(J13118,'Соответствия статей'!$A$2:$B$50,2,0)),\"Другое\")","v":""}]
[null,null,null,null,null,null,null,null,null,null,null,null,null,{"$f":"IFERROR(IF(A13121=\"\",\"\",VLOOKUP(J13121,'Соответствия статей'!$A$2:$B$50,2,0)),\"Другое\")","v":""}]
[null,null,null,null,null,null,null,null,null,null,null,null,null,{"$f":"IFERROR(IF(A13131=\"\",\"\",VLOOKUP(J13131,'Соответствия статей'!$A$2:$B$50,2,0)),\"Другое\")","v":""}]
[null,null,null,null,null,null,null,null,null,null,null,null,null,{"$f":"IFERROR(IF(A13132=\"\",\"\",VLOOKUP(J13132,'Соответствия статей'!$A$2:$B$50,2,0)),\"Другое\")","v":""}]
[null,null,null,null,null,null,null,null,null,null,null,null,null,{"$f":"IFERROR(IF(A13141=\"\",\"\",VLOOKUP(J13141,'Соответствия статей'!$A$2:$B$50,2,0)),\"Другое\")","v":""}]
[null,null,null,null,null,null,null,null,null,null,null,null,null,{"$f":"IFERROR(IF(A13144=\"\",\"\",VLOOKUP(J13144,'Соответствия статей'!$A$2:$B$50,2,0)),\"Другое\")","v":""}]
[null,null,null,null,null,null,null,null,null,null,null,null,null,{"$f":"IFERROR(IF(A13152=\"\",\"\",VLOOKUP(J13152,'Соответствия статей'!$A$2:$B$50,2,0)),\"Другое\")","v":""}]
[null,null,null,null,null,null,null,null,null,null,null,null,null,{"$f":"IFERROR(IF(A13161=\"\",\"\",VLOOKUP(J13161,'Соответствия статей'!$A$2:$B$50,2,0)),\"Другое\")","v":""}]
[null,null,null,null,null,null,null,null,null,null,null,null,null,{"$f":"IFERROR(IF(A13168=\"\",\"\",VLOOKUP(J13168,'Соответствия статей'!$A$2:$B$50,2,0)),\"Другое\")","v":""}]
[null,null,null,null,null,null,null,null,null,null,null,null,null,{"$f":"IFERROR(IF(A13170=\"\",\"\",VLOOKUP(J13170,'Соответствия статей'!$A$2:$B$50,2,0)),\"Другое\")","v":""}]
[null,null,null,null,null,null,null,null,null,null,null,null,null,{"$f":"IFERROR(IF(A13181=\"\",\"\",VLOOKUP(J13181,'Соответствия статей'!$A$2:$B$50,2,0)),\"Другое\")","v":""}]
[null,null,null,null,null,null,null,null,null,null,null,null,null,{"$f":"IFERROR(IF(A13182=\"\",\"\",VLOOKUP(J13182,'Соответствия статей'!$A$2:$B$50,2,0)),\"Другое\")","v":""}]
[null,null,null,null,null,null,null,null,null,null,null,null,null,{"$f":"IFERROR(IF(A13191=\"\",\"\",VLOOKUP(J13191,'Соответствия статей'!$A$2:$B$50,2,0)),\"Другое\")","v":""}]
[null,null,null,null,null,null,null,null,null,null,null,null,null,{"$f":"IFERROR(IF(A13200=\"\",\"\",VLOOKUP(J13200,'Соответствия статей'!$A$2:$B$50,2,0)),\"Другое\")","v":""}]
[null,null,null,null,null,null,null,null,null,null,null,null,null,{"$f":"IFERROR(IF(A13202=\"\",\"\",VLOOKUP(J13202,'Соответствия статей'!$A$2:$B$50,2,0)),\"Другое\")","v":""}]
[null,null,null,null,null,null,null,null,null,null,null,null,null,{"$f":"IFERROR(IF(A13211=\"\",\"\",VLOOKUP(J13211,'Соответствия статей'!$A$2:$B$50,2,0)),\"Другое\")","v":""}]
[null,null,null,null,null,null,null,null,null,null,null,null,null,{"$f":"IFERROR(IF(A13218=\"\",\"\",VLOOKUP(J13218,'Соответствия статей'!$A$2:$B$50,2,0)),\"Другое\")","v":""}]
[null,null,null,null,null,null,null,null,null,null,null,null,null,{"$f":"IFERROR(IF(A13219=\"\",\"\",VLOOKUP(J13219,'Соответствия статей'!$A$2:$B$50,2,0)),\"Другое\")","v":""}]
[null,null,null,null,null,null,null,null,null,null,null,null,null,{"$f":"IFERROR(IF(A13229=\"\",\"\",VLOOKUP(J13229,'Соответствия статей'!$A$2:$B$50,2,0)),\"Другое\")","v":""}]
[null,null,null,null,null,null,null,null,null,null,null,null,null,{"$f":"IFERROR(IF(A13232=\"\",\"\",VLOOKUP(J13232,'Соответствия статей'!$A$2:$B$50,2,0)),\"Другое\")","v":""}]
[null,null,null,null,null,null,null,null,null,null,null,null,null,{"$f":"IFERROR(IF(A13241=\"\",\"\",VLOOKUP(J13241,'Соответствия статей'!$A$2:$B$50,2,0)),\"Другое\")","v":""}]
[null,null,null,null,null,null,null,null,null,null,null,null,null,{"$f":"IFERROR(IF(A13249=\"\",\"\",VLOOKUP(J13249,'Соответствия статей'!$A$2:$B$50,2,0)),\"Другое\")","v":""}]
[null,null,null,null,null,null,null,null,null,null,null,null,null,{"$f":"IFERROR(IF(A13252=\"\",\"\",VLOOKUP(J13252,'Соответствия статей'!$A$2:$B$50,2,0)),\"Другое\")","v":""}]
[null,null,null,null,null,null,null,null,null,null,null,null,null,{"$f":"IFERROR(IF(A13261=\"\",\"\",VLOOKUP(J13261,'Соответствия статей'!$A$2:$B$50,2,0)),\"Другое\")","v":""}]
[null,null,null,null,null,null,null,null,null,null,null,null,null,{"$f":"IFERROR(IF(A13268=\"\",\"\",VLOOKUP(J13268,'Соответствия статей'!$A$2:$B$50,2,0)),\"Другое\")","v":""}]
[null,null,null,null,null,null,null,null,null,null,null,null,null,{"$f":"IFERROR(IF(A13275=\"\",\"\",VLOOKUP(J13275,'Соответствия статей'!$A$2:$B$50,2,0)),\"Другое\")","v":""}]
[null,null,null,null,null,null,null,null,null,null,null,null,null,{"$f":"IFERROR(IF(A13279=\"\",\"\",VLOOKUP(J13279,'Соответствия статей'!$A$2:$B$50,2,0)),\"Другое\")","v":""}]
[null,null,null,null,null,null,null,null,null,null,null,null,null,{"$f":"IFERROR(IF(A13282=\"\",\"\",VLOOKUP(J13282,'Соответствия статей'!$A$2:$B$50,2,0)),\"Другое\")","v":""}]
[null,null,null,null,null,null,null,null,null,null,null,null,null,{"$f":"IFERROR(IF(A13291=\"\",\"\",VLOOKUP(J13291,'Соответствия статей'!$A$2:$B$50,2,0)),\"Другое\")","v":""}]
[null,null,null,null,null,null,null,null,null,null,null,null,null,{"$f":"IFERROR(IF(A13298=\"\",\"\",VLOOKUP(J13298,'Соответствия статей'!$A$2:$B$50,2,0)),\"Другое\")","v":""}]
[null,null,null,null,null,null,null,null,null,null,null,null,null,{"$f":"IFERROR(IF(A13302=\"\",\"\",VLOOKUP(J13302,'Соответствия статей'!$A$2:$B$50,2,0)),\"Другое\")","v":""}]
[null,null,null,null,null,null,null,null,null,null,null,null,null,{"$f":"IFERROR(IF(A13311=\"\",\"\",VLOOKUP(J13311,'Соответствия статей'!$A$2:$B$50,2,0)),\"Другое\")","v":""}]
[null,null,null,null,null,null,null,null,null,null,null,null,null,{"$f":"IFERROR(IF(A13318=\"\",\"\",VLOOKUP(J13318,'Соответствия статей'!$A$2:$B$50,2,0)),\"Другое\")","v":""}]
[null,null,null,null,null,null,null,null,null,null,null,null,null,{"$f":"IFERROR(IF(A13324=\"\",\"\",VLOOKUP(J13324,'Соответствия статей'!$A$2:$B$50,2,0)),\"Другое\")","v":""}]
[null,null,null,null,null,null,null,null,null,null,null,null,null,{"$f":"IFERROR(IF(A13329=\"\",\"\",VLOOKUP(J13329,'Соответствия статей'!$A$2:$B$50,2,0)),\"Другое\")","v":""}]
[null,null,null,null,null,null,null,null,null,null,null,null,null,{"$f":"IFERROR(IF(A13332=\"\",\"\",VLOOKUP(J13332,'Соответствия статей'!$A$2:$B$50,2,0)),\"Другое\")","v":""}]
[null,null,null,null,null,null,null,null,null,null,null,null,null,{"$f":"IFERROR(IF(A13341=\"\",\"\",VLOOKUP(J13341,'Соответствия статей'!$A$2:$B$50,2,0)),\"Другое\")","v":""}]
[null,null,null,null,null,null,null,null,null,null,null,null,null,{"$f":"IFERROR(IF(A13347=\"\",\"\",VLOOKUP(J13347,'Соответствия статей'!$A$2:$B$50,2,0)),\"Другое\")","v":""}]
[null,null,null,null,null,null,null,null,null,null,null,null,null,{"$f":"IFERROR(IF(A13352=\"\",\"\",VLOOKUP(J13352,'Соответствия статей'!$A$2:$B$50,2,0)),\"Другое\")","v":""}]
[null,null,null,null,null,null,null,null,null,null,null,null,null,{"$f":"IFERROR(IF(A13359=\"\",\"\",VLOOKUP(J13359,'Соответствия статей'!$A$2:$B$50,2,0)),\"Другое\")","v":""}]
[null,null,null,null,null,null,null,null,null,null,null,null,null,{"$f":"IFERROR(IF(A13368=\"\",\"\",VLOOKUP(J13368,'Соответствия статей'!$A$2:$B$50,2,0)),\"Другое\")","v":""}]
[null,null,null,null,null,null,null,null,null,null,null,null,null,{"$f":"IFERROR(IF(A13373=\"\",\"\",VLOOKUP(J13373,'Соответствия статей'!$A$2:$B$50,2,0)),\"Другое\")","v":""}]
[null,null,null,null,null,null,null,null,null,null,null,null,null,{"$f":"IFERROR(IF(A13379=\"\",\"\",VLOOKUP(J13379,'Соответствия статей'!$A$2:$B$50,2,0)),\"Другое\")","v":""}]
[null,null,null,null,null,null,null,null,null,null,null,null,null,{"$f":"IFERROR(IF(A13382=\"\",\"\",VLOOKUP(J13382,'Соответствия статей'!$A$2:$B$50,2,0)),\"Другое\")","v":""}]
[null,null,null,null,null,null,null,null,null,null,null,null,null,{"$f":"IFERROR(IF(A13391=\"\",\"\",VLOOKUP(J13391,'Соответствия статей'!$A$2:$B$50,2,0)),\"Другое\")","v":""}]
[null,null,null,null,null,null,null,null,null,null,null,null,null,{"$f":"IFERROR(IF(A13396=\"\",\"\",VLOOKUP(J13396,'Соответствия статей'!$A$2:$B$50,2,0)),\"Другое\")","v":""}]
[null,null,null,null,null,null,null,null,null,null,null,null,null,{"$f":"IFERROR(IF(A13402=\"\",\"\",VLOOKUP(J13402,'Соответствия статей'!$A$2:$B$50,2,0)),\"Другое\")","v":""}]
[null,null,null,null,null,null,null,null,null,null,null,null,null,{"$f":"IFERROR(IF(A13409=\"\",\"\",VLOOKUP(J13409,'Соответствия статей'!$A$2:$B$50,2,0)),\"Другое\")","v":""}]
[null,null,null,null,null,null,null,null,null,null,null,null,null,{"$f":"IFERROR(IF(A13418=\"\",\"\",VLOOKUP(J13418,'Соответствия статей'!$A$2:$B$50,2,0)),\"Другое\")","v":""}]
[null,null,null,null,null,null,null,null,null,null,null,null,null,{"$f":"IFERROR(IF(A13422=\"\",\"\",VLOOKUP(J13422,'Соответствия статей'!$A$2:$B$50,2,0)),\"Другое\")","v":""}]
[null,null,null,null,null,null,null,null,null,null,null,null,null,{"$f":"IFERROR(IF(A13429=\"\",\"\",VLOOKUP(J13429,'Соответствия статей'!$A$2:$B$50,2,0)),\"Другое\")","v":""}]
[null,null,null,null,null,null,null,null,null,null,null,null,null,{"$f":"IFERROR(IF(A13432=\"\",\"\",VLOOKUP(J13432,'Соответствия статей'!$A$2:$B$50,2,0)),\"Другое\")","v":""}]
[null,null,null,null,null,null,null,null,null,null,null,null,null,{"$f":"IFERROR(IF(A13441=\"\",\"\",VLOOKUP(J13441,'Соответствия статей'!$A$2:$B$50,2,0)),\"Другое\")","v":""}]
[null,null,null,null,null,null,null,null,null,null,null,null,null,{"$f":"IFERROR(IF(A13445=\"\",\"\",VLOOKUP(J13445,'Соответствия статей'!$A$2:$B$50,2,0)),\"Другое\")","v":""}]
[null,null,null,null,null,null,null,null,null,null,null,null,null,{"$f":"IFERROR(IF(A13452=\"\",\"\",VLOOKUP(J13452,'Соответствия статей'!$A$2:$B$50,2,0)),\"Другое\")","v":""}]
[null,null,null,null,null,null,null,null,null,null,null,null,null,{"$f":"IFERROR(IF(A13459=\"\",\"\",VLOOKUP(J13459,'Соответствия статей'!$A$2:$B$50,2,0)),\"Другое\")","v":""}]
[null,null,null,null,null,null,null,null,null,null,null,null,null,{"$f":"IFERROR(IF(A13468=\"\",\"\",VLOOKUP(J13468,'Соответствия статей'!$A$2:$B$50,2,0)),\"Другое\")","v":""}]
[null,null,null,null,null,null,null,null,null,null,null,null,null,{"$f":"IFERROR(IF(A13471=\"\",\"\",VLOOKUP(J13471,'Соответствия статей'!$A$2:$B$50,2,0)),\"Другое\")","v":""}]
[null,null,null,null,null,null,null,null,null,null,null,null,null,{"$f":"IFERROR(IF(A13479=\"\",\"\",VLOOKUP(J13479,'Соответствия статей'!$A$2:$B$50,2,0)),\"Другое\")","v":""}]
[null,null,null,null,null,null,null,null,null,null,null,null,null,{"$f":"IFERROR(IF(A13482=\"\",\"\",VLOOKUP(J13482,'Соответствия статей'!$A$2:$B$50,2,0)),\"Другое\")","v":""}]
[null,null,null,null,null,null,null,null,null,null,null,null,null,{"$f":"IFERROR(IF(A13489=\"\",\"\",VLOOKUP(J13489,'Соответствия статей'!$A$2:$B$50,2,0)),\"Другое\")","v":""}]
[null,null,null,null,null,null,null,null,null,null,null,null,null,{"$f":"IFERROR(IF(A13494=\"\",\"\",VLOOKUP(J13494,'Соответствия статей'!$A$2:$B$50,2,0)),\"Другое\")","v":""}]
[null,null,null,null,null,null,null,null,null,null,null,null,null,{"$f":"IFERROR(IF(A13502=\"\",\"\",VLOOKUP(J13502,'Соответствия статей'!$A$2:$B$50,2,0)),\"Другое\")","v":""}]
[null,null,null,null,null,null,null,null,null,null,null,null,null,{"$f":"IFERROR(IF(A13509=\"\",\"\",VLOOKUP(J13509,'Соответствия статей'!$A$2:$B$50,2,0)),\"Другое\")","v":""}]
[null,null,null,null,null,null,null,null,null,null,null,null,null,{"$f":"IFERROR(IF(A13518=\"\",\"\",VLOOKUP(J13518,'Соответствия статей'!$A$2:$B$50,2,0)),\"Другое\")","v":""}]
[null,null,null,null,null,null,null,null,null,null,null,null,null,{"$f":"IFERROR(IF(A13520=\"\",\"\",VLOOKUP(J13520,'Соответствия статей'!$A$2:$B$50,2,0)),\"Другое\")","v":""}]
[null,null,null,null,null,null,null,null,null,null,null,null,null,{"$f":"IFERROR(IF(A13529=\"\",\"\",VLOOKUP(J13529,'Соответствия статей'!$A$2:$B$50,2,0)),\"Другое\")","v":""}]
[null,null,null,null,null,null,null,null,null,null,null,null,null,{"$f":"IFERROR(IF(A13532=\"\",\"\",VLOOKUP(J13532,'Соответствия статей'!$A$2:$B$50,2,0)),\"Другое\")","v":""}]
[null,null,null,null,null,null,null,null,null,null,null,null,null,{"$f":"IFERROR(IF(A13539=\"\",\"\",VLOOKUP(J13539,'Соответствия статей'!$A$2:$B$50,2,0)),\"Другое\")","v":""}]
[null,null,null,null,null,null,null,null,null,null,null,null,null,{"$f":"IFERROR(IF(A13550=\"\",\"\",VLOOKUP(J13550,'Соответствия статей'!$A$2:$B$50,2,0)),\"Другое\")","v":""}]
[null,null,null,null,null,null,null,null,null,null,null,null,null,{"$f":"IFERROR(IF(A13552=\"\",\"\",VLOOKUP(J13552,'Соответствия статей'!$A$2:$B$50,2,0)),\"Другое\")","v":""}]
[null,null,null,null,null,null,null,null,null,null,null,null,null,{"$f":"IFERROR(IF(A13559=\"\",\"\",VLOOKUP(J13559,'Соответствия статей'!$A$2:$B$50,2,0)),\"Другое\")","v":""}]
[null,null,null,null,null,null,null,null,null,null,null,null,null,{"$f":"IFERROR(IF(A13568=\"\",\"\",VLOOKUP(J13568,'Соответствия статей'!$A$2:$B$50,2,0)),\"Другое\")","v":""}]
[null,null,null,null,null,null,null,null,null,null,null,null,null,{"$f":"IFERROR(IF(A13573=\"\",\"\",VLOOKUP(J13573,'Соответствия статей'!$A$2:$B$50,2,0)),\"Другое\")","v":""}]
[null,null,null,null,null,null,null,null,null,null,null,null,null,{"$f":"IFERROR(IF(A13579=\"\",\"\",VLOOKUP(J13579,'Соответствия статей'!$A$2:$B$50,2,0)),\"Другое\")","v":""}]
[null,null,null,null,null,null,null,null,null,null,null,null,null,{"$f":"IFERROR(IF(A13582=\"\",\"\",VLOOKUP(J13582,'Соответствия статей'!$A$2:$B$50,2,0)),\"Другое\")","v":""}]
[null,null,null,null,null,null,null,null,null,null,null,null,null,{"$f":"IFERROR(IF(A13589=\"\",\"\",VLOOKUP(J13589,'Соответствия статей'!$A$2:$B$50,2,0)),\"Другое\")","v":""}]
[null,null,null,null,null,null,null,null,null,null,null,null,null,{"$f":"IFERROR(IF(A13599=\"\",\"\",VLOOKUP(J13599,'Соответствия статей'!$A$2:$B$50,2,0)),\"Другое\")","v":""}]
[null,null,null,null,null,null,null,null,null,null,null,null,null,{"$f":"IFERROR(IF(A13602=\"\",\"\",VLOOKUP(J13602,'Соответствия статей'!$A$2:$B$50,2,0)),\"Другое\")","v":""}]
[null,null,null,null,null,null,null,null,null,null,null,null,null,{"$f":"IFERROR(IF(A13609=\"\",\"\",VLOOKUP(J13609,'Соответствия статей'!$A$2:$B$50,2,0)),\"Другое\")","v":""}]
[null,null,null,null,null,null,null,null,null,null,null,null,null,{"$f":"IFERROR(IF(A13618=\"\",\"\",VLOOKUP(J13618,'Соответствия статей'!$A$2:$B$50,2,0)),\"Другое\")","v":""}]
[null,null,null,null,null,null,null,null,null,null,null,null,null,{"$f":"IFERROR(IF(A13622=\"\",\"\",VLOOKUP(J13622,'Соответствия статей'!$A$2:$B$50,2,0)),\"Другое\")","v":""}]
[null,null,null,null,null,null,null,null,null,null,null,null,null,{"$f":"IFERROR(IF(A13629=\"\",\"\",VLOOKUP(J13629,'Соответствия статей'!$A$2:$B$50,2,0)),\"Другое\")","v":""}]
[null,null,null,null,null,null,null,null,null,null,null,null,null,{"$f":"IFERROR(IF(A13632=\"\",\"\",VLOOKUP(J13632,'Соответствия статей'!$A$2:$B$50,2,0)),\"Другое\")","v":""}]
[null,null,null,null,null,null,null,null,null,null,null,null,null,{"$f":"IFERROR(IF(A13639=\"\",\"\",VLOOKUP(J13639,'Соответствия статей'!$A$2:$B$50,2,0)),\"Другое\")","v":""}]
[null,null,null,null,null,null,null,null,null,null,null,null,null,{"$f":"IFERROR(IF(A13648=\"\",\"\",VLOOKUP(J13648,'Соответствия статей'!$A$2:$B$50,2,0)),\"Другое\")","v":""}]
[null,null,null,null,null,null,null,null,null,null,null,null,null,{"$f":"IFERROR(IF(A13652=\"\",\"\",VLOOKUP(J13652,'Соответствия статей'!$A$2:$B$50,2,0)),\"Другое\")","v":""}]
[null,null,null,null,null,null,null,null,null,null,null,null,null,{"$f":"IFERROR(IF(A13659=\"\",\"\",VLOOKUP(J13659,'Соответствия статей'!$A$2:$B$50,2,0)),\"Другое\")","v":""}]
[null,null,null,null,null,null,null,null,null,null,null,null,null,{"$f":"IFERROR(IF(A13668=\"\",\"\",VLOOKUP(J13668,'Соответствия статей'!$A$2:$B$50,2,0)),\"Другое\")","v":""}]
[null,null,null,null,null,null,null,null,null,null,null,null,null,{"$f":"IFERROR(IF(A13671=\"\",\"\",VLOOKUP(J13671,'Соответствия статей'!$A$2:$B$50,2,0)),\"Другое\")","v":""}]
[null,null,null,null,null,null,null,null,null,null,null,null,null,{"$f":"IFERROR(IF(A13679=\"\",\"\",VLOOKUP(J13679,'Соответствия статей'!$A$2:$B$50,2,0)),\"Другое\")","v":""}]
[null,null,null,null,null,null,null,null,null,null,null,null,null,{"$f":"IFERROR(IF(A13682=\"\",\"\",VLOOKUP(J13682,'Соответствия статей'!$A$2:$B$50,2,0)),\"Другое\")","v":""}]
[null,null,null,null,null,null,null,null,null,null,null,null,null,{"$f":"IFERROR(IF(A13689=\"\",\"\",VLOOKUP(J13689,'Соответствия статей'!$A$2:$B$50,2,0)),\"Другое\")","v":""}]
[null,null,null,null,null,null,null,null,null,null,null,null,null,{"$f":"IFERROR(IF(A13697=\"\",\"\",VLOOKUP(J13697,'Соответствия статей'!$A$2:$B$50,2,0)),\"Другое\")","v":""}]
[null,null,null,null,null,null,null,null,null,null,null,null,null,{"$f":"IFERROR(IF(A13706=\"\",\"\",VLOOKUP(J13706,'Соответствия статей'!$A$2:$B$50,2,0)),\"Другое\")","v":""}]
[null,null,null,null,null,null,null,null,null,null,null,null,null,{"$f":"IFERROR(IF(A13709=\"\",\"\",VLOOKUP(J13709,'Соответствия статей'!$A$2:$B$50,2,0)),\"Другое\")","v":""}]
[null,null,null,null,null,null,null,null,null,null,null,null,null,{"$f":"IFERROR(IF(A13718=\"\",\"\",VLOOKUP(J13718,'Соответствия статей'!$A$2:$B$50,2,0)),\"Другое\")","v":""}]
[null,null,null,null,null,null,null,null,null,null,null,null,null,{"$f":"IFERROR(IF(A13720=\"\",\"\",VLOOKUP(J13720,'Соответствия статей'!$A$2:$B$50,2,0)),\"Другое\")","v":""}]
[null,null,null,null,null,null,null,null,null,null,null,null,null,{"$f":"IFERROR(IF(A13729=\"\",\"\",VLOOKUP(J13729,'Соответствия статей'!$A$2:$B$50,2,0)),\"Другое\")","v":""}]
[null,null,null,null,null,null,null,null,null,null,null,null,null,{"$f":"IFERROR(IF(A13732=\"\",\"\",VLOOKUP(J13732,'Соответствия статей'!$A$2:$B$50,2,0)),\"Другое\")","v":""}]
[null,null,null,null,null,null,null,null,null,null,null,null,null,{"$f":"IFERROR(IF(A13739=\"\",\"\",VLOOKUP(J13739,'Соответствия статей'!$A$2:$B$50,2,0)),\"Другое\")","v":""}]
[null,null,null,null,null,null,null,null,null,null,null,null,null,{"$f":"IFERROR(IF(A13746=\"\",\"\",VLOOKUP(J13746,'Соответствия статей'!$A$2:$B$50,2,0)),\"Другое\")","v":""}]
[null,null,null,null,null,null,null,null,null,null,null,null,null,{"$f":"IFERROR(IF(A13756=\"\",\"\",VLOOKUP(J13756,'Соответствия статей'!$A$2:$B$50,2,0)),\"Другое\")","v":""}]
[null,null,null,null,null,null,null,null,null,null,null,null,null,{"$f":"IFERROR(IF(A13759=\"\",\"\",VLOOKUP(J13759,'Соответствия статей'!$A$2:$B$50,2,0)),\"Другое\")","v":""}]
[null,null,null,null,null,null,null,null,null,null,null,null,null,{"$f":"IFERROR(IF(A13768=\"\",\"\",VLOOKUP(J13768,'Соответствия статей'!$A$2:$B$50,2,0)),\"Другое\")","v":""}]
[null,null,null,null,null,null,null,null,null,null,null,null,null,{"$f":"IFERROR(IF(A13769=\"\",\"\",VLOOKUP(J13769,'Соответствия статей'!$A$2:$B$50,2,0)),\"Другое\")","v":""}]
[null,null,null,null,null,null,null,null,null,null,null,null,null,{"$f":"IFERROR(IF(A13779=\"\",\"\",VLOOKUP(J13779,'Соответствия статей'!$A$2:$B$50,2,0)),\"Другое\")","v":""}]
[null,null,null,null,null,null,null,null,null,null,null,null,null,{"$f":"IFERROR(IF(A13786=\"\",\"\",VLOOKUP(J13786,'Соответствия статей'!$A$2:$B$50,2,0)),\"Другое\")","v":""}]
[null,null,null,null,null,null,null,null,null,null,null,null,null,{"$f":"IFERROR(IF(A13789=\"\",\"\",VLOOKUP(J13789,'Соответствия статей'!$A$2:$B$50,2,0)),\"Другое\")","v":""}]
[null,null,null,null,null,null,null,null,null,null,null,null,null,{"$f":"IFERROR(IF(A13795=\"\",\"\",VLOOKUP(J13795,'Соответствия статей'!$A$2:$B$50,2,0)),\"Другое\")","v":""}]
[null,null,null,null,null,null,null,null,null,null,null,null,null,{"$f":"IFERROR(IF(A13806=\"\",\"\",VLOOKUP(J13806,'Соответствия статей'!$A$2:$B$50,2,0)),\"Другое\")","v":""}]
[null,null,null,null,null,null,null,null,null,null,null,null,null,{"$f":"IFERROR(IF(A13809=\"\",\"\",VLOOKUP(J13809,'Соответствия статей'!$A$2:$B$50,2,0)),\"Другое\")","v":""}]
[null,null,null,null,null,null,null,null,null,null,null,null,null,{"$f":"IFERROR(IF(A13818=\"\",\"\",VLOOKUP(J13818,'Соответствия статей'!$A$2:$B$50,2,0)),\"Другое\")","v":""}]
[null,null,null,null,null,null,null,null,null,null,null,null,null,{"$f":"IFERROR(IF(A13825=\"\",\"\",VLOOKUP(J13825,'Соответствия статей'!$A$2:$B$50,2,0)),\"Другое\")","v":""}]
[null,null,null,null,null,null,null,null,null,null,null,null,null,{"$f":"IFERROR(IF(A13829=\"\",\"\",VLOOKUP(J13829,'Соответствия статей'!$A$2:$B$50,2,0)),\"Другое\")","v":""}]
[null,null,null,null,null,null,null,null,null,null,null,null,null,{"$f":"IFERROR(IF(A13836=\"\",\"\",VLOOKUP(J13836,'Соответствия статей'!$A$2:$B$50,2,0)),\"Другое\")","v":""}]
[null,null,null,null,null,null,null,null,null,null,null,null,null,{"$f":"IFERROR(IF(A13839=\"\",\"\",VLOOKUP(J13839,'Соответствия статей'!$A$2:$B$50,2,0)),\"Другое\")","v":""}]
[null,null,null,null,null,null,null,null,null,null,null,null,null,{"$f":"IFERROR(IF(A13844=\"\",\"\",VLOOKUP(J13844,'Соответствия статей'!$A$2:$B$50,2,0)),\"Другое\")","v":""}]
[null,null,null,null,null,null,null,null,null,null,null,null,null,{"$f":"IFERROR(IF(A13856=\"\",\"\",VLOOKUP(J13856,'Соответствия статей'!$A$2:$B$50,2,0)),\"Другое\")","v":""}]
[null,null,null,null,null,null,null,null,null,null,null,null,null,{"$f":"IFERROR(IF(A13859=\"\",\"\",VLOOKUP(J13859,'Соответствия статей'!$A$2:$B$50,2,0)),\"Другое\")","v":""}]
[null,null,null,null,null,null,null,null,null,null,null,null,null,{"$f":"IFERROR(IF(A13868=\"\",\"\",VLOOKUP(J13868,'Соответствия статей'!$A$2:$B$50,2,0)),\"Другое\")","v":""}]
[null,null,null,null,null,null,null,null,null,null,null,null,null,{"$f":"IFERROR(IF(A13874=\"\",\"\",VLOOKUP(J13874,'Соответствия статей'!$A$2:$B$50,2,0)),\"Другое\")","v":""}]
[null,null,null,null,null,null,null,null,null,null,null,null,null,{"$f":"IFERROR(IF(A13879=\"\",\"\",VLOOKUP(J13879,'Соответствия статей'!$A$2:$B$50,2,0)),\"Другое\")","v":""}]
[null,null,null,null,null,null,null,null,null,null,null,null,null,{"$f":"IFERROR(IF(A13886=\"\",\"\",VLOOKUP(J13886,'Соответствия статей'!$A$2:$B$50,2,0)),\"Другое\")","v":""}]
[null,null,null,null,null,null,null,null,null,null,null,null,null,{"$f":"IFERROR(IF(A13889=\"\",\"\",VLOOKUP(J13889,'Соответствия статей'!$A$2:$B$50,2,0)),\"Другое\")","v":""}]
[null,null,null,null,null,null,null,null,null,null,null,null,null,{"$f":"IFERROR(IF(A13900=\"\",\"\",VLOOKUP(J13900,'Соответствия статей'!$A$2:$B$50,2,0)),\"Другое\")","v":""}]
[null,null,null,null,null,null,null,null,null,null,null,null,null,{"$f":"IFERROR(IF(A13906=\"\",\"\",VLOOKUP(J13906,'Соответствия статей'!$A$2:$B$50,2,0)),\"Другое\")","v":""}]
[null,null,null,null,null,null,null,null,null,null,null,null,null,{"$f":"IFERROR(IF(A13909=\"\",\"\",VLOOKUP(J13909,'Соответствия статей'!$A$2:$B$50,2,0)),\"Другое\")","v":""}]
[null,null,null,null,null,null,null,null,null,null,null,null,null,{"$f":"IFERROR(IF(A13916=\"\",\"\",VLOOKUP(J13916,'Соответствия статей'!$A$2:$B$50,2,0)),\"Другое\")","v":""}]
[null,null,null,null,null,null,null,null,null,null,null,null,null,{"$f":"IFERROR(IF(A13923=\"\",\"\",VLOOKUP(J13923,'Соответствия статей'!$A$2:$B$50,2,0)),\"Другое\")","v":""}]
[null,null,null,null,null,null,null,null,null,null,null,null,null,{"$f":"IFERROR(IF(A13929=\"\",\"\",VLOOKUP(J13929,'Соответствия статей'!$A$2:$B$50,2,0)),\"Другое\")","v":""}]
[null,null,null,null,null,null,null,null,null,null,null,null,null,{"$f":"IFERROR(IF(A13936=\"\",\"\",VLOOKUP(J13936,'Соответствия статей'!$A$2:$B$50,2,0)),\"Другое\")","v":""}]
[null,null,null,null,null,null,null,null,null,null,null,null,null,{"$f":"IFERROR(IF(A13939=\"\",\"\",VLOOKUP(J13939,'Соответствия статей'!$A$2:$B$50,2,0)),\"Другое\")","v":""}]
[null,null,null,null,null,null,null,null,null,null,null,null,null,{"$f":"IFERROR(IF(A13949=\"\",\"\",VLOOKUP(J13949,'Соответствия статей'!$A$2:$B$50,2,0)),\"Другое\")","v":""}]
[null,null,null,null,null,null,null,null,null,null,null,null,null,{"$f":"IFERROR(IF(A13956=\"\",\"\",VLOOKUP(J13956,'Соответствия статей'!$A$2:$B$50,2,0)),\"Другое\")","v":""}]
[null,null,null,null,null,null,null,null,null,null,null,null,null,{"$f":"IFERROR(IF(A13959=\"\",\"\",VLOOKUP(J13959,'Соответствия статей'!$A$2:$B$50,2,0)),\"Другое\")","v":""}]
[null,null,null,null,null,null,null,null,null,null,null,null,null,{"$f":"IFERROR(IF(A13966=\"\",\"\",VLOOKUP(J13966,'Соответствия статей'!$A$2:$B$50,2,0)),\"Другое\")","v":""}]
[null,null,null,null,null,null,null,null,null,null,null,null,null,{"$f":"IFERROR(IF(A13972=\"\",\"\",VLOOKUP(J13972,'Соответствия статей'!$A$2:$B$50,2,0)),\"Другое\")","v":""}]
[null,null,null,null,null,null,null,null,null,null,null,null,null,{"$f":"IFERROR(IF(A13979=\"\",\"\",VLOOKUP(J13979,'Соответствия статей'!$A$2:$B$50,2,0)),\"Другое\")","v":""}]
[null,null,null,null,null,null,null,null,null,null,null,null,null,{"$f":"IFERROR(IF(A13986=\"\",\"\",VLOOKUP(J13986,'Соответствия статей'!$A$2:$B$50,2,0)),\"Другое\")","v":""}]
[null,null,null,null,null,null,null,null,null,null,null,null,null,{"$f":"IFERROR(IF(A13989=\"\",\"\",VLOOKUP(J13989,'Соответствия статей'!$A$2:$B$50,2,0)),\"Другое\")","v":""}]
[null,null,null,null,null,null,null,null,null,null,null,null,null,{"$f":"IFERROR(IF(A13998=\"\",\"\",VLOOKUP(J13998,'Соответствия статей'!$A$2:$B$50,2,0)),\"Другое\")","v":""}]
[null,null,null,null,null,null,null,null,null,null,null,null,null,{"$f":"IFERROR(IF(A14006=\"\",\"\",VLOOKUP(J14006,'Соответствия статей'!$A$2:$B$50,2,0)),\"Другое\")","v":""}]
[null,null,null,null,null,null,null,null,null,null,null,null,null,{"$f":"IFERROR(IF(A14009=\"\",\"\",VLOOKUP(J14009,'Соответствия статей'!$A$2:$B$50,2,0)),\"Другое\")","v":""}]
[null,null,null,null,null,null,null,null,null,null,null,null,null,{"$f":"IFERROR(IF(A14016=\"\",\"\",VLOOKUP(J14016,'Соответствия статей'!$A$2:$B$50,2,0)),\"Другое\")","v":""}]
[null,null,null,null,null,null,null,null,null,null,null,null,null,{"$f":"IFERROR(IF(A14021=\"\",\"\",VLOOKUP(J14021,'Соответствия статей'!$A$2:$B$50,2,0)),\"Другое\")","v":""}]
[null,null,null,null,null,null,null,null,null,null,null,null,null,{"$f":"IFERROR(IF(A14029=\"\",\"\",VLOOKUP(J14029,'Соответствия статей'!$A$2:$B$50,2,0)),\"Другое\")","v":""}]
[null,null,null,null,null,null,null,null,null,null,null,null,null,{"$f":"IFERROR(IF(A14036=\"\",\"\",VLOOKUP(J14036,'Соответствия статей'!$A$2:$B$50,2,0)),\"Другое\")","v":""}]
[null,null,null,null,null,null,null,null,null,null,null,null,null,{"$f":"IFERROR(IF(A14039=\"\",\"\",VLOOKUP(J14039,'Соответствия статей'!$A$2:$B$50,2,0)),\"Другое\")","v":""}]
[null,null,null,null,null,null,null,null,null,null,null,null,null,{"$f":"IFERROR(IF(A14044=\"\",\"\",VLOOKUP(J14044,'Соответствия статей'!$A$2:$B$50,2,0)),\"Другое\")","v":""}]
[null,null,null,null,null,null,null,null,null,null,null,null,null,{"$f":"IFERROR(IF(A14056=\"\",\"\",VLOOKUP(J14056,'Соответствия статей'!$A$2:$B$50,2,0)),\"Другое\")","v":""}]
[null,null,null,null,null,null,null,null,null,null,null,null,null,{"$f":"IFERROR(IF(A14059=\"\",\"\",VLOOKUP(J14059,'Соответствия статей'!$A$2:$B$50,2,0)),\"Другое\")","v":""}]
[null,null,null,null,null,null,null,null,null,null,null,null,null,{"$f":"IFERROR(IF(A14066=\"\",\"\",VLOOKUP(J14066,'Соответствия статей'!$A$2:$B$50,2,0)),\"Другое\")","v":""}]
[null,null,null,null,null,null,null,null,null,null,null,null,null,{"$f":"IFERROR(IF(A14070=\"\",\"\",VLOOKUP(J14070,'Соответствия статей'!$A$2:$B$50,2,0)),\"Другое\")","v":""}]
[null,null,null,null,null,null,null,null,null,null,null,null,null,{"$f":"IFERROR(IF(A14079=\"\",\"\",VLOOKUP(J14079,'Соответствия статей'!$A$2:$B$50,2,0)),\"Другое\")","v":""}]
[null,null,null,null,null,null,null,null,null,null,null,null,null,{"$f":"IFERROR(IF(A14086=\"\",\"\",VLOOKUP(J14086,'Соответствия статей'!$A$2:$B$50,2,0)),\"Другое\")","v":""}]
[null,null,null,null,null,null,null,null,null,null,null,null,null,{"$f":"IFERROR(IF(A14089=\"\",\"\",VLOOKUP(J14089,'Соответствия статей'!$A$2:$B$50,2,0)),\"Другое\")","v":""}]
[null,null,null,null,null,null,null,null,null,null,null,null,null,{"$f":"IFERROR(IF(A14100=\"\",\"\",VLOOKUP(J14100,'Соответствия статей'!$A$2:$B$50,2,0)),\"Другое\")","v":""}]
[null,null,null,null,null,null,null,null,null,null,null,null,null,{"$f":"IFERROR(IF(A14106=\"\",\"\",VLOOKUP(J14106,'Соответствия статей'!$A$2:$B$50,2,0)),\"Другое\")","v":""}]
[null,null,null,null,null,null,null,null,null,null,null,null,null,{"$f":"IFERROR(IF(A14109=\"\",\"\",VLOOKUP(J14109,'Соответствия статей'!$A$2:$B$50,2,0)),\"Другое\")","v":""}]
[null,null,null,null,null,null,null,null,null,null,null,null,null,{"$f":"IFERROR(IF(A14116=\"\",\"\",VLOOKUP(J14116,'Соответствия статей'!$A$2:$B$50,2,0)),\"Другое\")","v":""}]
[null,null,null,null,null,null,null,null,null,null,null,null,null,{"$f":"IFERROR(IF(A14119=\"\",\"\",VLOOKUP(J14119,'Соответствия статей'!$A$2:$B$50,2,0)),\"Другое\")","v":""}]
[null,null,null,null,null,null,null,null,null,null,null,null,null,{"$f":"IFERROR(IF(A14127=\"\",\"\",VLOOKUP(J14127,'Соответствия статей'!$A$2:$B$50,2,0)),\"Другое\")","v":""}]
[null,null,null,null,null,null,null,null,null,null,null,null,null,{"$f":"IFERROR(IF(A14136=\"\",\"\",VLOOKUP(J14136,'Соответствия статей'!$A$2:$B$50,2,0)),\"Другое\")","v":""}]
[null,null,null,null,null,null,null,null,null,null,null,null,null,{"$f":"IFERROR(IF(A14139=\"\",\"\",VLOOKUP(J14139,'Соответствия статей'!$A$2:$B$50,2,0)),\"Другое\")","v":""}]
[null,null,null,null,null,null,null,null,null,null,null,null,null,{"$f":"IFERROR(IF(A14149=\"\",\"\",VLOOKUP(J14149,'Соответствия статей'!$A$2:$B$50,2,0)),\"Другое\")","v":""}]
[null,null,null,null,null,null,null,null,null,null,null,null,null,{"$f":"IFERROR(IF(A14156=\"\",\"\",VLOOKUP(J14156,'Соответствия статей'!$A$2:$B$50,2,0)),\"Другое\")","v":""}]
[null,null,null,null,null,null,null,null,null,null,null,null,null,{"$f":"IFERROR(IF(A14159=\"\",\"\",VLOOKUP(J14159,'Соответствия статей'!$A$2:$B$50,2,0)),\"Другое\")","v":""}]
[null,null,null,null,null,null,null,null,null,null,null,null,null,{"$f":"IFERROR(IF(A14166=\"\",\"\",VLOOKUP(J14166,'Соответствия статей'!$A$2:$B$50,2,0)),\"Другое\")","v":""}]
[null,null,null,null,null,null,null,null,null,null,null,null,null,{"$f":"IFERROR(IF(A14175=\"\",\"\",VLOOKUP(J14175,'Соответствия статей'!$A$2:$B$50,2,0)),\"Другое\")","v":""}]
[null,null,null,null,null,null,null,null,null,null,null,null,null,{"$f":"IFERROR(IF(A14177=\"\",\"\",VLOOKUP(J14177,'Соответствия статей'!$A$2:$B$50,2,0)),\"Другое\")","v":""}]
[null,null,null,null,null,null,null,null,null,null,null,null,null,{"$f":"IFERROR(IF(A14186=\"\",\"\",VLOOKUP(J14186,'Соответствия статей'!$A$2:$B$50,2,0)),\"Другое\")","v":""}]
[null,null,null,null,null,null,null,null,null,null,null,null,null,{"$f":"IFERROR(IF(A14189=\"\",\"\",VLOOKUP(J14189,'Соответствия статей'!$A$2:$B$50,2,0)),\"Другое\")","v":""}]
[null,null,null,null,null,null,null,null,null,null,null,null,null,{"$f":"IFERROR(IF(A14198=\"\",\"\",VLOOKUP(J14198,'Соответствия статей'!$A$2:$B$50,2,0)),\"Другое\")","v":""}]
[null,null,null,null,null,null,null,null,null,null,null,null,null,{"$f":"IFERROR(IF(A14206=\"\",\"\",VLOOKUP(J14206,'Соответствия статей'!$A$2:$B$50,2,0)),\"Другое\")","v":""}]
[null,null,null,null,null,null,null,null,null,null,null,null,null,{"$f":"IFERROR(IF(A14209=\"\",\"\",VLOOKUP(J14209,'Соответствия статей'!$A$2:$B$50,2,0)),\"Другое\")","v":""}]
[null,null,null,null,null,null,null,null,null,null,null,null,null,{"$f":"IFERROR(IF(A14216=\"\",\"\",VLOOKUP(J14216,'Соответствия статей'!$A$2:$B$50,2,0)),\"Другое\")","v":""}]
[null,null,null,null,null,null,null,null,null,null,null,null,null,{"$f":"IFERROR(IF(A14224=\"\",\"\",VLOOKUP(J14224,'Соответствия статей'!$A$2:$B$50,2,0)),\"Другое\")","v":""}]
[null,null,null,null,null,null,null,null,null,null,null,null,null,{"$f":"IFERROR(IF(A14227=\"\",\"\",VLOOKUP(J14227,'Соответствия статей'!$A$2:$B$50,2,0)),\"Другое\")","v":""}]
[null,null,null,null,null,null,null,null,null,null,null,null,null,{"$f":"IFERROR(IF(A14236=\"\",\"\",VLOOKUP(J14236,'Соответствия статей'!$A$2:$B$50,2,0)),\"Другое\")","v":""}]
[null,null,null,null,null,null,null,null,null,null,null,null,null,{"$f":"IFERROR(IF(A14239=\"\",\"\",VLOOKUP(J14239,'Соответствия статей'!$A$2:$B$50,2,0)),\"Другое\")","v":""}]
[null,null,null,null,null,null,null,null,null,null,null,null,null,{"$f":"IFERROR(IF(A14247=\"\",\"\",VLOOKUP(J14247,'Соответствия статей'!$A$2:$B$50,2,0)),\"Другое\")","v":""}]
[null,null,null,null,null,null,null,null,null,null,null,null,null,{"$f":"IFERROR(IF(A14256=\"\",\"\",VLOOKUP(J14256,'Соответствия статей'!$A$2:$B$50,2,0)),\"Другое\")","v":""}]
[null,null,null,null,null,null,null,null,null,null,null,null,null,{"$f":"IFERROR(IF(A14257=\"\",\"\",VLOOKUP(J14257,'Соответствия статей'!$A$2:$B$50,2,0)),\"Другое\")","v":""}]
[null,null,null,null,null,null,null,null,null,null,null,null,null,{"$f":"IFERROR(IF(A14266=\"\",\"\",VLOOKUP(J14266,'Соответствия статей'!$A$2:$B$50,2,0)),\"Другое\")","v":""}]
[null,null,null,null,null,null,null,null,null,null,null,null,null,{"$f":"IFERROR(IF(A14273=\"\",\"\",VLOOKUP(J14273,'Соответствия статей'!$A$2:$B$50,2,0)),\"Другое\")","v":""}]
[null,null,null,null,null,null,null,null,null,null,null,null,null,{"$f":"IFERROR(IF(A14277=\"\",\"\",VLOOKUP(J14277,'Соответствия статей'!$A$2:$B$50,2,0)),\"Другое\")","v":""}]
[null,null,null,null,null,null,null,null,null,null,null,null,null,{"$f":"IFERROR(IF(A14286=\"\",\"\",VLOOKUP(J14286,'Соответствия статей'!$A$2:$B$50,2,0)),\"Другое\")","v":""}]
[null,null,null,null,null,null,null,null,null,null,null,null,null,{"$f":"IFERROR(IF(A14289=\"\",\"\",VLOOKUP(J14289,'Соответствия статей'!$A$2:$B$50,2,0)),\"Другое\")","v":""}]
[null,null,null,null,null,null,null,null,null,null,null,null,null,{"$f":"IFERROR(IF(A14296=\"\",\"\",VLOOKUP(J14296,'Соответствия статей'!$A$2:$B$50,2,0)),\"Другое\")","v":""}]
[null,null,null,null,null,null,null,null,null,null,null,null,null,{"$f":"IFERROR(IF(A14306=\"\",\"\",VLOOKUP(J14306,'Соответствия статей'!$A$2:$B$50,2,0)),\"Другое\")","v":""}]
[null,null,null,null,null,null,null,null,null,null,null,null,null,{"$f":"IFERROR(IF(A14307=\"\",\"\",VLOOKUP(J14307,'Соответствия статей'!$A$2:$B$50,2,0)),\"Другое\")","v":""}]
[null,null,null,null,null,null,null,null,null,null,null,null,null,{"$f":"IFERROR(IF(A14316=\"\",\"\",VLOOKUP(J14316,'Соответствия статей'!$A$2:$B$50,2,0)),\"Другое\")","v":""}]
[null,null,null,null,null,null,null,null,null,null,null,null,null,{"$f":"IFERROR(IF(A14322=\"\",\"\",VLOOKUP(J14322,'Соответствия статей'!$A$2:$B$50,2,0)),\"Другое\")","v":""}]
[null,null,null,null,null,null,null,null,null,null,null,null,null,{"$f":"IFERROR(IF(A14327=\"\",\"\",VLOOKUP(J14327,'Соответствия статей'!$A$2:$B$50,2,0)),\"Другое\")","v":""}]
[null,null,null,null,null,null,null,null,null,null,null,null,null,{"$f":"IFERROR(IF(A14336=\"\",\"\",VLOOKUP(J14336,'Соответствия статей'!$A$2:$B$50,2,0)),\"Другое\")","v":""}]
[null,null,null,null,null,null,null,null,null,null,null,null,null,{"$f":"IFERROR(IF(A14343=\"\",\"\",VLOOKUP(J14343,'Соответствия статей'!$A$2:$B$50,2,0)),\"Другое\")","v":""}]
[null,null,null,null,null,null,null,null,null,null,null,null,null,{"$f":"IFERROR(IF(A14345=\"\",\"\",VLOOKUP(J14345,'Соответствия статей'!$A$2:$B$50,2,0)),\"Другое\")","v":""}]
[null,null,null,null,null,null,null,null,null,null,null,null,null,{"$f":"IFERROR(IF(A14356=\"\",\"\",VLOOKUP(J14356,'Соответствия статей'!$A$2:$B$50,2,0)),\"Другое\")","v":""}]
[null,null,null,null,null,null,null,null,null,null,null,null,null,{"$f":"IFERROR(IF(A14357=\"\",\"\",VLOOKUP(J14357,'Соответствия статей'!$A$2:$B$50,2,0)),\"Другое\")","v":""}]
[null,null,null,null,null,null,null,null,null,null,null,null,null,{"$f":"IFERROR(IF(A14366=\"\",\"\",VLOOKUP(J14366,'Соответствия статей'!$A$2:$B$50,2,0)),\"Другое\")","v":""}]
[null,null,null,null,null,null,null,null,null,null,null,null,null,{"$f":"IFERROR(IF(A14371=\"\",\"\",VLOOKUP(J14371,'Соответствия статей'!$A$2:$B$50,2,0)),\"Другое\")","v":""}]
[null,null,null,null,null,null,null,null,null,null,null,null,null,{"$f":"IFERROR(IF(A14377=\"\",\"\",VLOOKUP(J14377,'Соответствия статей'!$A$2:$B$50,2,0)),\"Другое\")","v":""}]
[null,null,null,null,null,null,null,null,null,null,null,null,null,{"$f":"IFERROR(IF(A14386=\"\",\"\",VLOOKUP(J14386,'Соответствия статей'!$A$2:$B$50,2,0)),\"Другое\")","v":""}]
[null,null,null,null,null,null,null,null,null,null,null,null,null,{"$f":"IFERROR(IF(A14393=\"\",\"\",VLOOKUP(J14393,'Соответствия статей'!$A$2:$B$50,2,0)),\"Другое\")","v":""}]
[null,null,null,null,null,null,null,null,null,null,null,null,null,{"$f":"IFERROR(IF(A14394=\"\",\"\",VLOOKUP(J14394,'Соответствия статей'!$A$2:$B$50,2,0)),\"Другое\")","v":""}]
[null,null,null,null,null,null,null,null,null,null,null,null,null,{"$f":"IFERROR(IF(A14406=\"\",\"\",VLOOKUP(J14406,'Соответствия статей'!$A$2:$B$50,2,0)),\"Другое\")","v":""}]
[null,null,null,null,null,null,null,null,null,null,null,null,null,{"$f":"IFERROR(IF(A14407=\"\",\"\",VLOOKUP(J14407,'Соответствия статей'!$A$2:$B$50,2,0)),\"Другое\")","v":""}]
[null,null,null,null,null,null,null,null,null,null,null,null,null,{"$f":"IFERROR(IF(A14416=\"\",\"\",VLOOKUP(J14416,'Соответствия статей'!$A$2:$B$50,2,0)),\"Другое\")","v":""}]
[null,null,null,null,null,null,null,null,null,null,null,null,null,{"$f":"IFERROR(IF(A14420=\"\",\"\",VLOOKUP(J14420,'Соответствия статей'!$A$2:$B$50,2,0)),\"Другое\")","v":""}]
[null,null,null,null,null,null,null,null,null,null,null,null,null,{"$f":"IFERROR(IF(A14427=\"\",\"\",VLOOKUP(J14427,'Соответствия статей'!$A$2:$B$50,2,0)),\"Другое\")","v":""}]
[null,null,null,null,null,null,null,null,null,null,null,null,null,{"$f":"IFERROR(IF(A14436=\"\",\"\",VLOOKUP(J14436,'Соответствия статей'!$A$2:$B$50,2,0)),\"Другое\")","v":""}]
[null,null,null,null,null,null,null,null,null,null,null,null,null,{"$f":"IFERROR(IF(A14443=\"\",\"\",VLOOKUP(J14443,'Соответствия статей'!$A$2:$B$50,2,0)),\"Другое\")","v":""}]
[null,null,null,null,null,null,null,null,null,null,null,null,null,{"$f":"IFERROR(IF(A14450=\"\",\"\",VLOOKUP(J14450,'Соответствия статей'!$A$2:$B$50,2,0)),\"Другое\")","v":""}]
[null,null,null,null,null,null,null,null,null,null,null,null,null,{"$f":"IFERROR(IF(A14456=\"\",\"\",VLOOKUP(J14456,'Соответствия статей'!$A$2:$B$50,2,0)),\"Другое\")","v":""}]
[null,null,null,null,null,null,null,null,null,null,null,null,null,{"$f":"IFERROR(IF(A14457=\"\",\"\",VLOOKUP(J14457,'Соответствия статей'!$A$2:$B$50,2,0)),\"Другое\")","v":""}]
[null,null,null,null,null,null,null,null,null,null,null,null,null,{"$f":"IFERROR(IF(A14466=\"\",\"\",VLOOKUP(J14466,'Соответствия статей'!$A$2:$B$50,2,0)),\"Другое\")","v":""}]
[null,null,null,null,null,null,null,null,null,null,null,null,null,{"$f":"IFERROR(IF(A14473=\"\",\"\",VLOOKUP(J14473,'Соответствия статей'!$A$2:$B$50,2,0)),\"Другое\")","v":""}]
[null,null,null,null,null,null,null,null,null,null,null,null,null,{"$f":"IFERROR(IF(A14477=\"\",\"\",VLOOKUP(J14477,'Соответствия статей'!$A$2:$B$50,2,0)),\"Другое\")","v":""}]
[null,null,null,null,null,null,null,null,null,null,null,null,null,{"$f":"IFERROR(IF(A14486=\"\",\"\",VLOOKUP(J14486,'Соответствия статей'!$A$2:$B$50,2,0)),\"Другое\")","v":""}]
[null,null,null,null,null,null,null,null,null,null,null,null,null,{"$f":"IFERROR(IF(A14493=\"\",\"\",VLOOKUP(J14493,'Соответствия статей'!$A$2:$B$50,2,0)),\"Другое\")","v":""}]
[null,null,null,null,null,null,null,null,null,null,null,null,null,{"$f":"IFERROR(IF(A14499=\"\",\"\",VLOOKUP(J14499,'Соответствия статей'!$A$2:$B$50,2,0)),\"Другое\")","v":""}]
[null,null,null,null,null,null,null,null,null,null,null,null,null,{"$f":"IFERROR(IF(A14501=\"\",\"\",VLOOKUP(J14501,'Соответствия статей'!$A$2:$B$50,2,0)),\"Другое\")","v":""}]
[null,null,null,null,null,null,null,null,null,null,null,null,null,{"$f":"IFERROR(IF(A14502=\"\",\"\",VLOOKUP(J14502,'Соответствия статей'!$A$2:$B$50,2,0)),\"Другое\")","v":""}]
[null,null,null,null,null,null,null,null,null,null,null,null,null,{"$f":"IFERROR(IF(A14503=\"\",\"\",VLOOKUP(J14503,'Соответствия статей'!$A$2:$B$50,2,0)),\"Другое\")","v":""}]
[null,null,null,null,null,null,null,null,null,null,null,null,null,{"$f":"IFERROR(IF(A14504=\"\",\"\",VLOOKUP(J14504,'Соответствия статей'!$A$2:$B$50,2,0)),\"Другое\")","v":""}]
[null,null,null,null,null,null,null,null,null,null,null,null,null,{"$f":"IFERROR(IF(A14505=\"\",\"\",VLOOKUP(J14505,'Соответствия статей'!$A$2:$B$50,2,0)),\"Другое\")","v":""}]
[null,null,null,null,null,null,null,null,null,null,null,null,null,{"$f":"IFERROR(IF(A14506=\"\",\"\",VLOOKUP(J14506,'Соответствия статей'!$A$2:$B$50,2,0)),\"Другое\")","v":""}]
[null,null,null,null,null,null,null,null,null,null,null,null,null,{"$f":"IFERROR(IF(A14507=\"\",\"\",VLOOKUP(J14507,'Соответствия статей'!$A$2:$B$50,2,0)),\"Другое\")","v":""}]
[null,null,null,null,null,null,null,null,null,null,null,null,null,{"$f":"IFERROR(IF(A14508=\"\",\"\",VLOOKUP(J14508,'Соответствия статей'!$A$2:$B$50,2,0)),\"Другое\")","v":""}]
[null,null,null,null,null,null,null,null,null,null,null,null,null,{"$f":"IFERROR(IF(A14509=\"\",\"\",VLOOKUP(J14509,'Соответствия статей'!$A$2:$B$50,2,0)),\"Другое\")","v":""}]
[null,null,null,null,null,null,null,null,null,null,null,null,null,{"$f":"IFERROR(IF(A14510=\"\",\"\",VLOOKUP(J14510,'Соответствия статей'!$A$2:$B$50,2,0)),\"Другое\")","v":""}]
[null,null,null,null,null,null,null,null,null,null,null,null,null,{"$f":"IFERROR(IF(A14511=\"\",\"\",VLOOKUP(J14511,'Соответствия статей'!$A$2:$B$50,2,0)),\"Другое\")","v":""}]
[null,null,null,null,null,null,null,null,null,null,null,null,null,{"$f":"IFERROR(IF(A14512=\"\",\"\",VLOOKUP(J14512,'Соответствия статей'!$A$2:$B$50,2,0)),\"Другое\")","v":""}]
[null,null,null,null,null,null,null,null,null,null,null,null,null,{"$f":"IFERROR(IF(A14513=\"\",\"\",VLOOKUP(J14513,'Соответствия статей'!$A$2:$B$50,2,0)),\"Другое\")","v":""}]
[null,null,null,null,null,null,null,null,null,null,null,null,null,{"$f":"IFERROR(IF(A14514=\"\",\"\",VLOOKUP(J14514,'Соответствия статей'!$A$2:$B$50,2,0)),\"Другое\")","v":""}]
[null,null,null,null,null,null,null,null,null,null,null,null,null,{"$f":"IFERROR(IF(A14515=\"\",\"\",VLOOKUP(J14515,'Соответствия статей'!$A$2:$B$50,2,0)),\"Другое\")","v":""}]
[null,null,null,null,null,null,null,null,null,null,null,null,null,{"$f":"IFERROR(IF(A14516=\"\",\"\",VLOOKUP(J14516,'Соответствия статей'!$A$2:$B$50,2,0)),\"Другое\")","v":""}]
[null,null,null,null,null,null,null,null,null,null,null,null,null,{"$f":"IFERROR(IF(A14517=\"\",\"\",VLOOKUP(J14517,'Соответствия статей'!$A$2:$B$50,2,0)),\"Другое\")","v":""}]
[null,null,null,null,null,null,null,null,null,null,null,null,null,{"$f":"IFERROR(IF(A14518=\"\",\"\",VLOOKUP(J14518,'Соответствия статей'!$A$2:$B$50,2,0)),\"Другое\")","v":""}]
[null,null,null,null,null,null,null,null,null,null,null,null,null,{"$f":"IFERROR(IF(A14519=\"\",\"\",VLOOKUP(J14519,'Соответствия статей'!$A$2:$B$50,2,0)),\"Другое\")","v":""}]
[null,null,null,null,null,null,null,null,null,null,null,null,null,{"$f":"IFERROR(IF(A14520=\"\",\"\",VLOOKUP(J14520,'Соответствия статей'!$A$2:$B$50,2,0)),\"Другое\")","v":""}]
[null,null,null,null,null,null,null,null,null,null,null,null,null,{"$f":"IFERROR(IF(A14521=\"\",\"\",VLOOKUP(J14521,'Соответствия статей'!$A$2:$B$50,2,0)),\"Другое\")","v":""}]
[null,null,null,null,null,null,null,null,null,null,null,null,null,{"$f":"IFERROR(IF(A14522=\"\",\"\",VLOOKUP(J14522,'Соответствия статей'!$A$2:$B$50,2,0)),\"Другое\")","v":""}]
[null,null,null,null,null,null,null,null,null,null,null,null,null,{"$f":"IFERROR(IF(A14523=\"\",\"\",VLOOKUP(J14523,'Соответствия статей'!$A$2:$B$50,2,0)),\"Другое\")","v":""}]
[null,null,null,null,null,null,null,null,null,null,null,null,null,{"$f":"IFERROR(IF(A14524=\"\",\"\",VLOOKUP(J14524,'Соответствия статей'!$A$2:$B$50,2,0)),\"Другое\")","v":""}]
[null,null,null,null,null,null,null,null,null,null,null,null,null,{"$f":"IFERROR(IF(A14525=\"\",\"\",VLOOKUP(J14525,'Соответствия статей'!$A$2:$B$50,2,0)),\"Другое\")","v":""}]
[null,null,null,null,null,null,null,null,null,null,null,null,null,{"$f":"IFERROR(IF(A14526=\"\",\"\",VLOOKUP(J14526,'Соответствия статей'!$A$2:$B$50,2,0)),\"Другое\")","v":""}]
[null,null,null,null,null,null,null,null,null,null,null,null,null,{"$f":"IFERROR(IF(A14527=\"\",\"\",VLOOKUP(J14527,'Соответствия статей'!$A$2:$B$50,2,0)),\"Другое\")","v":""}]
[null,null,null,null,null,null,null,null,null,null,null,null,null,{"$f":"IFERROR(IF(A14528=\"\",\"\",VLOOKUP(J14528,'Соответствия статей'!$A$2:$B$50,2,0)),\"Другое\")","v":""}]
[null,null,null,null,null,null,null,null,null,null,null,null,null,{"$f":"IFERROR(IF(A14529=\"\",\"\",VLOOKUP(J14529,'Соответствия статей'!$A$2:$B$50,2,0)),\"Другое\")","v":""}]
[null,null,null,null,null,null,null,null,null,null,null,null,null,{"$f":"IFERROR(IF(A14530=\"\",\"\",VLOOKUP(J14530,'Соответствия статей'!$A$2:$B$50,2,0)),\"Другое\")","v":""}]
[null,null,null,null,null,null,null,null,null,null,null,null,null,{"$f":"IFERROR(IF(A14531=\"\",\"\",VLOOKUP(J14531,'Соответствия статей'!$A$2:$B$50,2,0)),\"Другое\")","v":""}]
[null,null,null,null,null,null,null,null,null,null,null,null,null,{"$f":"IFERROR(IF(A14532=\"\",\"\",VLOOKUP(J14532,'Соответствия статей'!$A$2:$B$50,2,0)),\"Другое\")","v":""}]
[null,null,null,null,null,null,null,null,null,null,null,null,null,{"$f":"IFERROR(IF(A14533=\"\",\"\",VLOOKUP(J14533,'Соответствия статей'!$A$2:$B$50,2,0)),\"Другое\")","v":""}]
[null,null,null,null,null,null,null,null,null,null,null,null,null,{"$f":"IFERROR(IF(A14534=\"\",\"\",VLOOKUP(J14534,'Соответствия статей'!$A$2:$B$50,2,0)),\"Другое\")","v":""}]
[null,null,null,null,null,null,null,null,null,null,null,null,null,{"$f":"IFERROR(IF(A14535=\"\",\"\",VLOOKUP(J14535,'Соответствия статей'!$A$2:$B$50,2,0)),\"Другое\")","v":""}]
[null,null,null,null,null,null,null,null,null,null,null,null,null,{"$f":"IFERROR(IF(A14536=\"\",\"\",VLOOKUP(J14536,'Соответствия статей'!$A$2:$B$50,2,0)),\"Другое\")","v":""}]
[null,null,null,null,null,null,null,null,null,null,null,null,null,{"$f":"IFERROR(IF(A14537=\"\",\"\",VLOOKUP(J14537,'Соответствия статей'!$A$2:$B$50,2,0)),\"Другое\")","v":""}]
[null,null,null,null,null,null,null,null,null,null,null,null,null,{"$f":"IFERROR(IF(A14538=\"\",\"\",VLOOKUP(J14538,'Соответствия статей'!$A$2:$B$50,2,0)),\"Другое\")","v":""}]
[null,null,null,null,null,null,null,null,null,null,null,null,null,{"$f":"IFERROR(IF(A14539=\"\",\"\",VLOOKUP(J14539,'Соответствия статей'!$A$2:$B$50,2,0)),\"Другое\")","v":""}]
[null,null,null,null,null,null,null,null,null,null,null,null,null,{"$f":"IFERROR(IF(A14540=\"\",\"\",VLOOKUP(J14540,'Соответствия статей'!$A$2:$B$50,2,0)),\"Другое\")","v":""}]
[null,null,null,null,null,null,null,null,null,null,null,null,null,{"$f":"IFERROR(IF(A14541=\"\",\"\",VLOOKUP(J14541,'Соответствия статей'!$A$2:$B$50,2,0)),\"Другое\")","v":""}]
[null,null,null,null,null,null,null,null,null,null,null,null,null,{"$f":"IFERROR(IF(A14542=\"\",\"\",VLOOKUP(J14542,'Соответствия статей'!$A$2:$B$50,2,0)),\"Другое\")","v":""}]
[null,null,null,null,null,null,null,null,null,null,null,null,null,{"$f":"IFERROR(IF(A14543=\"\",\"\",VLOOKUP(J14543,'Соответствия статей'!$A$2:$B$50,2,0)),\"Другое\")","v":""}]
[null,null,null,null,null,null,null,null,null,null,null,null,null,{"$f":"IFERROR(IF(A14544=\"\",\"\",VLOOKUP(J14544,'Соответствия статей'!$A$2:$B$50,2,0)),\"Другое\")","v":""}]
[null,null,null,null,null,null,null,null,null,null,null,null,null,{"$f":"IFERROR(IF(A14545=\"\",\"\",VLOOKUP(J14545,'Соответствия статей'!$A$2:$B$50,2,0)),\"Другое\")","v":""}]
[null,null,null,null,null,null,null,null,null,null,null,null,null,{"$f":"IFERROR(IF(A14546=\"\",\"\",VLOOKUP(J14546,'Соответствия статей'!$A$2:$B$50,2,0)),\"Другое\")","v":""}]
[null,null,null,null,null,null,null,null,null,null,null,null,null,{"$f":"IFERROR(IF(A14547=\"\",\"\",VLOOKUP(J14547,'Соответствия статей'!$A$2:$B$50,2,0)),\"Другое\")","v":""}]
[null,null,null,null,null,null,null,null,null,null,null,null,null,{"$f":"IFERROR(IF(A14548=\"\",\"\",VLOOKUP(J14548,'Соответствия статей'!$A$2:$B$50,2,0)),\"Другое\")","v":""}]
[null,null,null,null,null,null,null,null,null,null,null,null,null,{"$f":"IFERROR(IF(A14549=\"\",\"\",VLOOKUP(J14549,'Соответствия статей'!$A$2:$B$50,2,0)),\"Другое\")","v":""}]
[null,null,null,null,null,null,null,null,null,null,null,null,null,{"$f":"IFERROR(IF(A14550=\"\",\"\",VLOOKUP(J14550,'Соответствия статей'!$A$2:$B$50,2,0)),\"Другое\")","v":""}]
[null,null,null,null,null,null,null,null,null,null,null,null,null,{"$f":"IFERROR(IF(A14551=\"\",\"\",VLOOKUP(J14551,'Соответствия статей'!$A$2:$B$50,2,0)),\"Другое\")","v":""}]
[null,null,null,null,null,null,null,null,null,null,null,null,null,{"$f":"IFERROR(IF(A14552=\"\",\"\",VLOOKUP(J14552,'Соответствия статей'!$A$2:$B$50,2,0)),\"Другое\")","v":""}]
[null,null,null,null,null,null,null,null,null,null,null,null,null,{"$f":"IFERROR(IF(A14553=\"\",\"\",VLOOKUP(J14553,'Соответствия статей'!$A$2:$B$50,2,0)),\"Другое\")","v":""}]
[null,null,null,null,null,null,null,null,null,null,null,null,null,{"$f":"IFERROR(IF(A14554=\"\",\"\",VLOOKUP(J14554,'Соответствия статей'!$A$2:$B$50,2,0)),\"Другое\")","v":""}]
[null,null,null,null,null,null,null,null,null,null,null,null,null,{"$f":"IFERROR(IF(A14555=\"\",\"\",VLOOKUP(J14555,'Соответствия статей'!$A$2:$B$50,2,0)),\"Другое\")","v":""}]
[null,null,null,null,null,null,null,null,null,null,null,null,null,{"$f":"IFERROR(IF(A14556=\"\",\"\",VLOOKUP(J14556,'Соответствия статей'!$A$2:$B$50,2,0)),\"Другое\")","v":""}]
[null,null,null,null,null,null,null,null,null,null,null,null,null,{"$f":"IFERROR(IF(A14557=\"\",\"\",VLOOKUP(J14557,'Соответствия статей'!$A$2:$B$50,2,0)),\"Другое\")","v":""}]
[null,null,null,null,null,null,null,null,null,null,null,null,null,{"$f":"IFERROR(IF(A14558=\"\",\"\",VLOOKUP(J14558,'Соответствия статей'!$A$2:$B$50,2,0)),\"Другое\")","v":""}]
[null,null,null,null,null,null,null,null,null,null,null,null,null,{"$f":"IFERROR(IF(A14559=\"\",\"\",VLOOKUP(J14559,'Соответствия статей'!$A$2:$B$50,2,0)),\"Другое\")","v":""}]
[null,null,null,null,null,null,null,null,null,null,null,null,null,{"$f":"IFERROR(IF(A14560=\"\",\"\",VLOOKUP(J14560,'Соответствия статей'!$A$2:$B$50,2,0)),\"Другое\")","v":""}]
[null,null,null,null,null,null,null,null,null,null,null,null,null,{"$f":"IFERROR(IF(A14561=\"\",\"\",VLOOKUP(J14561,'Соответствия статей'!$A$2:$B$50,2,0)),\"Другое\")","v":""}]
[null,null,null,null,null,null,null,null,null,null,null,null,null,{"$f":"IFERROR(IF(A14562=\"\",\"\",VLOOKUP(J14562,'Соответствия статей'!$A$2:$B$50,2,0)),\"Другое\")","v":""}]
[null,null,null,null,null,null,null,null,null,null,null,null,null,{"$f":"IFERROR(IF(A14563=\"\",\"\",VLOOKUP(J14563,'Соответствия статей'!$A$2:$B$50,2,0)),\"Другое\")","v":""}]
[null,null,null,null,null,null,null,null,null,null,null,null,null,{"$f":"IFERROR(IF(A14564=\"\",\"\",VLOOKUP(J14564,'Соответствия статей'!$A$2:$B$50,2,0)),\"Другое\")","v":""}]
[null,null,null,null,null,null,null,null,null,null,null,null,null,{"$f":"IFERROR(IF(A14565=\"\",\"\",VLOOKUP(J14565,'Соответствия статей'!$A$2:$B$50,2,0)),\"Другое\")","v":""}]
[null,null,null,null,null,null,null,null,null,null,null,null,null,{"$f":"IFERROR(IF(A14566=\"\",\"\",VLOOKUP(J14566,'Соответствия статей'!$A$2:$B$50,2,0)),\"Другое\")","v":""}]
[null,null,null,null,null,null,null,null,null,null,null,null,null,{"$f":"IFERROR(IF(A14567=\"\",\"\",VLOOKUP(J14567,'Соответствия статей'!$A$2:$B$50,2,0)),\"Другое\")","v":""}]
[null,null,null,null,null,null,null,null,null,null,null,null,null,{"$f":"IFERROR(IF(A14568=\"\",\"\",VLOOKUP(J14568,'Соответствия статей'!$A$2:$B$50,2,0)),\"Другое\")","v":""}]
[null,null,null,null,null,null,null,null,null,null,null,null,null,{"$f":"IFERROR(IF(A14569=\"\",\"\",VLOOKUP(J14569,'Соответствия статей'!$A$2:$B$50,2,0)),\"Другое\")","v":""}]
[null,null,null,null,null,null,null,null,null,null,null,null,null,{"$f":"IFERROR(IF(A14570=\"\",\"\",VLOOKUP(J14570,'Соответствия статей'!$A$2:$B$50,2,0)),\"Другое\")","v":""}]
[null,null,null,null,null,null,null,null,null,null,null,null,null,{"$f":"IFERROR(IF(A14571=\"\",\"\",VLOOKUP(J14571,'Соответствия статей'!$A$2:$B$50,2,0)),\"Другое\")","v":""}]
[null,null,null,null,null,null,null,null,null,null,null,null,null,{"$f":"IFERROR(IF(A14572=\"\",\"\",VLOOKUP(J14572,'Соответствия статей'!$A$2:$B$50,2,0)),\"Другое\")","v":""}]
[null,null,null,null,null,null,null,null,null,null,null,null,null,{"$f":"IFERROR(IF(A14573=\"\",\"\",VLOOKUP(J14573,'Соответствия статей'!$A$2:$B$50,2,0)),\"Другое\")","v":""}]
[null,null,null,null,null,null,null,null,null,null,null,null,null,{"$f":"IFERROR(IF(A14574=\"\",\"\",VLOOKUP(J14574,'Соответствия статей'!$A$2:$B$50,2,0)),\"Другое\")","v":""}]
[null,null,null,null,null,null,null,null,null,null,null,null,null,{"$f":"IFERROR(IF(A14575=\"\",\"\",VLOOKUP(J14575,'Соответствия статей'!$A$2:$B$50,2,0)),\"Другое\")","v":""}]
[null,null,null,null,null,null,null,null,null,null,null,null,null,{"$f":"IFERROR(IF(A14576=\"\",\"\",VLOOKUP(J14576,'Соответствия статей'!$A$2:$B$50,2,0)),\"Другое\")","v":""}]
[null,null,null,null,null,null,null,null,null,null,null,null,null,{"$f":"IFERROR(IF(A14577=\"\",\"\",VLOOKUP(J14577,'Соответствия статей'!$A$2:$B$50,2,0)),\"Другое\")","v":""}]
[null,null,null,null,null,null,null,null,null,null,null,null,null,{"$f":"IFERROR(IF(A14578=\"\",\"\",VLOOKUP(J14578,'Соответствия статей'!$A$2:$B$50,2,0)),\"Другое\")","v":""}]
[null,null,null,null,null,null,null,null,null,null,null,null,null,{"$f":"IFERROR(IF(A14579=\"\",\"\",VLOOKUP(J14579,'Соответствия статей'!$A$2:$B$50,2,0)),\"Другое\")","v":""}]
[null,null,null,null,null,null,null,null,null,null,null,null,null,{"$f":"IFERROR(IF(A14580=\"\",\"\",VLOOKUP(J14580,'Соответствия статей'!$A$2:$B$50,2,0)),\"Другое\")","v":""}]
[null,null,null,null,null,null,null,null,null,null,null,null,null,{"$f":"IFERROR(IF(A14581=\"\",\"\",VLOOKUP(J14581,'Соответствия статей'!$A$2:$B$50,2,0)),\"Другое\")","v":""}]
[null,null,null,null,null,null,null,null,null,null,null,null,null,{"$f":"IFERROR(IF(A14582=\"\",\"\",VLOOKUP(J14582,'Соответствия статей'!$A$2:$B$50,2,0)),\"Другое\")","v":""}]
[null,null,null,null,null,null,null,null,null,null,null,null,null,{"$f":"IFERROR(IF(A14583=\"\",\"\",VLOOKUP(J14583,'Соответствия статей'!$A$2:$B$50,2,0)),\"Другое\")","v":""}]
[null,null,null,null,null,null,null,null,null,null,null,null,null,{"$f":"IFERROR(IF(A14584=\"\",\"\",VLOOKUP(J14584,'Соответствия статей'!$A$2:$B$50,2,0)),\"Другое\")","v":""}]
[null,null,null,null,null,null,null,null,null,null,null,null,null,{"$f":"IFERROR(IF(A14585=\"\",\"\",VLOOKUP(J14585,'Соответствия статей'!$A$2:$B$50,2,0)),\"Другое\")","v":""}]
[null,null,null,null,null,null,null,null,null,null,null,null,null,{"$f":"IFERROR(IF(A14586=\"\",\"\",VLOOKUP(J14586,'Соответствия статей'!$A$2:$B$50,2,0)),\"Другое\")","v":""}]
[null,null,null,null,null,null,null,null,null,null,null,null,null,{"$f":"IFERROR(IF(A14587=\"\",\"\",VLOOKUP(J14587,'Соответствия статей'!$A$2:$B$50,2,0)),\"Другое\")","v":""}]
[null,null,null,null,null,null,null,null,null,null,null,null,null,{"$f":"IFERROR(IF(A14588=\"\",\"\",VLOOKUP(J14588,'Соответствия статей'!$A$2:$B$50,2,0)),\"Другое\")","v":""}]
[null,null,null,null,null,null,null,null,null,null,null,null,null,{"$f":"IFERROR(IF(A14589=\"\",\"\",VLOOKUP(J14589,'Соответствия статей'!$A$2:$B$50,2,0)),\"Другое\")","v":""}]
[null,null,null,null,null,null,null,null,null,null,null,null,null,{"$f":"IFERROR(IF(A14590=\"\",\"\",VLOOKUP(J14590,'Соответствия статей'!$A$2:$B$50,2,0)),\"Другое\")","v":""}]
[null,null,null,null,null,null,null,null,null,null,null,null,null,{"$f":"IFERROR(IF(A14591=\"\",\"\",VLOOKUP(J14591,'Соответствия статей'!$A$2:$B$50,2,0)),\"Другое\")","v":""}]
[null,null,null,null,null,null,null,null,null,null,null,null,null,{"$f":"IFERROR(IF(A14592=\"\",\"\",VLOOKUP(J14592,'Соответствия статей'!$A$2:$B$50,2,0)),\"Другое\")","v":""}]
[null,null,null,null,null,null,null,null,null,null,null,null,null,{"$f":"IFERROR(IF(A14593=\"\",\"\",VLOOKUP(J14593,'Соответствия статей'!$A$2:$B$50,2,0)),\"Другое\")","v":""}]
[null,null,null,null,null,null,null,null,null,null,null,null,null,{"$f":"IFERROR(IF(A14594=\"\",\"\",VLOOKUP(J14594,'Соответствия статей'!$A$2:$B$50,2,0)),\"Другое\")","v":""}]
[null,null,null,null,null,null,null,null,null,null,null,null,null,{"$f":"IFERROR(IF(A14595=\"\",\"\",VLOOKUP(J14595,'Соответствия статей'!$A$2:$B$50,2,0)),\"Другое\")","v":""}]
[null,null,null,null,null,null,null,null,null,null,null,null,null,{"$f":"IFERROR(IF(A14596=\"\",\"\",VLOOKUP(J14596,'Соответствия статей'!$A$2:$B$50,2,0)),\"Другое\")","v":""}]
[null,null,null,null,null,null,null,null,null,null,null,null,null,{"$f":"IFERROR(IF(A14597=\"\",\"\",VLOOKUP(J14597,'Соответствия статей'!$A$2:$B$50,2,0)),\"Другое\")","v":""}]
[null,null,null,null,null,null,null,null,null,null,null,null,null,{"$f":"IFERROR(IF(A14598=\"\",\"\",VLOOKUP(J14598,'Соответствия статей'!$A$2:$B$50,2,0)),\"Другое\")","v":""}]
[null,null,null,null,null,null,null,null,null,null,null,null,null,{"$f":"IFERROR(IF(A14599=\"\",\"\",VLOOKUP(J14599,'Соответствия статей'!$A$2:$B$50,2,0)),\"Другое\")","v":""}]
[null,null,null,null,null,null,null,null,null,null,null,null,null,{"$f":"IFERROR(IF(A14600=\"\",\"\",VLOOKUP(J14600,'Соответствия статей'!$A$2:$B$50,2,0)),\"Другое\")","v":""}]
[null,null,null,null,null,null,null,null,null,null,null,null,null,{"$f":"IFERROR(IF(A14601=\"\",\"\",VLOOKUP(J14601,'Соответствия статей'!$A$2:$B$50,2,0)),\"Другое\")","v":""}]
[null,null,null,null,null,null,null,null,null,null,null,null,null,{"$f":"IFERROR(IF(A14602=\"\",\"\",VLOOKUP(J14602,'Соответствия статей'!$A$2:$B$50,2,0)),\"Другое\")","v":""}]
[null,null,null,null,null,null,null,null,null,null,null,null,null,{"$f":"IFERROR(IF(A14603=\"\",\"\",VLOOKUP(J14603,'Соответствия статей'!$A$2:$B$50,2,0)),\"Другое\")","v":""}]
[null,null,null,null,null,null,null,null,null,null,null,null,null,{"$f":"IFERROR(IF(A14604=\"\",\"\",VLOOKUP(J14604,'Соответствия статей'!$A$2:$B$50,2,0)),\"Другое\")","v":""}]
[null,null,null,null,null,null,null,null,null,null,null,null,null,{"$f":"IFERROR(IF(A14605=\"\",\"\",VLOOKUP(J14605,'Соответствия статей'!$A$2:$B$50,2,0)),\"Другое\")","v":""}]
[null,null,null,null,null,null,null,null,null,null,null,null,null,{"$f":"IFERROR(IF(A14606=\"\",\"\",VLOOKUP(J14606,'Соответствия статей'!$A$2:$B$50,2,0)),\"Другое\")","v":""}]
[null,null,null,null,null,null,null,null,null,null,null,null,null,{"$f":"IFERROR(IF(A14607=\"\",\"\",VLOOKUP(J14607,'Соответствия статей'!$A$2:$B$50,2,0)),\"Другое\")","v":""}]
[null,null,null,null,null,null,null,null,null,null,null,null,null,{"$f":"IFERROR(IF(A14608=\"\",\"\",VLOOKUP(J14608,'Соответствия статей'!$A$2:$B$50,2,0)),\"Другое\")","v":""}]
[null,null,null,null,null,null,null,null,null,null,null,null,null,{"$f":"IFERROR(IF(A14609=\"\",\"\",VLOOKUP(J14609,'Соответствия статей'!$A$2:$B$50,2,0)),\"Другое\")","v":""}]
[null,null,null,null,null,null,null,null,null,null,null,null,null,{"$f":"IFERROR(IF(A14610=\"\",\"\",VLOOKUP(J14610,'Соответствия статей'!$A$2:$B$50,2,0)),\"Другое\")","v":""}]
[null,null,null,null,null,null,null,null,null,null,null,null,null,{"$f":"IFERROR(IF(A14611=\"\",\"\",VLOOKUP(J14611,'Соответствия статей'!$A$2:$B$50,2,0)),\"Другое\")","v":""}]
[null,null,null,null,null,null,null,null,null,null,null,null,null,{"$f":"IFERROR(IF(A14612=\"\",\"\",VLOOKUP(J14612,'Соответствия статей'!$A$2:$B$50,2,0)),\"Другое\")","v":""}]
[null,null,null,null,null,null,null,null,null,null,null,null,null,{"$f":"IFERROR(IF(A14613=\"\",\"\",VLOOKUP(J14613,'Соответствия статей'!$A$2:$B$50,2,0)),\"Другое\")","v":""}]
[null,null,null,null,null,null,null,null,null,null,null,null,null,{"$f":"IFERROR(IF(A14614=\"\",\"\",VLOOKUP(J14614,'Соответствия статей'!$A$2:$B$50,2,0)),\"Другое\")","v":""}]
[null,null,null,null,null,null,null,null,null,null,null,null,null,{"$f":"IFERROR(IF(A14615=\"\",\"\",VLOOKUP(J14615,'Соответствия статей'!$A$2:$B$50,2,0)),\"Другое\")","v":""}]
[null,null,null,null,null,null,null,null,null,null,null,null,null,{"$f":"IFERROR(IF(A14616=\"\",\"\",VLOOKUP(J14616,'Соответствия статей'!$A$2:$B$50,2,0)),\"Другое\")","v":""}]
[null,null,null,null,null,null,null,null,null,null,null,null,null,{"$f":"IFERROR(IF(A14617=\"\",\"\",VLOOKUP(J14617,'Соответствия статей'!$A$2:$B$50,2,0)),\"Другое\")","v":""}]
[null,null,null,null,null,null,null,null,null,null,null,null,null,{"$f":"IFERROR(IF(A14618=\"\",\"\",VLOOKUP(J14618,'Соответствия статей'!$A$2:$B$50,2,0)),\"Другое\")","v":""}]
[null,null,null,null,null,null,null,null,null,null,null,null,null,{"$f":"IFERROR(IF(A14619=\"\",\"\",VLOOKUP(J14619,'Соответствия статей'!$A$2:$B$50,2,0)),\"Другое\")","v":""}]
[null,null,null,null,null,null,null,null,null,null,null,null,null,{"$f":"IFERROR(IF(A14620=\"\",\"\",VLOOKUP(J14620,'Соответствия статей'!$A$2:$B$50,2,0)),\"Другое\")","v":""}]
[null,null,null,null,null,null,null,null,null,null,null,null,null,{"$f":"IFERROR(IF(A14621=\"\",\"\",VLOOKUP(J14621,'Соответствия статей'!$A$2:$B$50,2,0)),\"Другое\")","v":""}]
[null,null,null,null,null,null,null,null,null,null,null,null,null,{"$f":"IFERROR(IF(A14622=\"\",\"\",VLOOKUP(J14622,'Соответствия статей'!$A$2:$B$50,2,0)),\"Другое\")","v":""}]
[null,null,null,null,null,null,null,null,null,null,null,null,null,{"$f":"IFERROR(IF(A14623=\"\",\"\",VLOOKUP(J14623,'Соответствия статей'!$A$2:$B$50,2,0)),\"Другое\")","v":""}]
[null,null,null,null,null,null,null,null,null,null,null,null,null,{"$f":"IFERROR(IF(A14624=\"\",\"\",VLOOKUP(J14624,'Соответствия статей'!$A$2:$B$50,2,0)),\"Другое\")","v":""}]
[null,null,null,null,null,null,null,null,null,null,null,null,null,{"$f":"IFERROR(IF(A14625=\"\",\"\",VLOOKUP(J14625,'Соответствия статей'!$A$2:$B$50,2,0)),\"Другое\")","v":""}]
[null,null,null,null,null,null,null,null,null,null,null,null,null,{"$f":"IFERROR(IF(A14626=\"\",\"\",VLOOKUP(J14626,'Соответствия статей'!$A$2:$B$50,2,0)),\"Другое\")","v":""}]
[null,null,null,null,null,null,null,null,null,null,null,null,null,{"$f":"IFERROR(IF(A14627=\"\",\"\",VLOOKUP(J14627,'Соответствия статей'!$A$2:$B$50,2,0)),\"Другое\")","v":""}]
[null,null,null,null,null,null,null,null,null,null,null,null,null,{"$f":"IFERROR(IF(A14628=\"\",\"\",VLOOKUP(J14628,'Соответствия статей'!$A$2:$B$50,2,0)),\"Другое\")","v":""}]
[null,null,null,null,null,null,null,null,null,null,null,null,null,{"$f":"IFERROR(IF(A14629=\"\",\"\",VLOOKUP(J14629,'Соответствия статей'!$A$2:$B$50,2,0)),\"Другое\")","v":""}]
[null,null,null,null,null,null,null,null,null,null,null,null,null,{"$f":"IFERROR(IF(A14630=\"\",\"\",VLOOKUP(J14630,'Соответствия статей'!$A$2:$B$50,2,0)),\"Другое\")","v":""}]
[null,null,null,null,null,null,null,null,null,null,null,null,null,{"$f":"IFERROR(IF(A14631=\"\",\"\",VLOOKUP(J14631,'Соответствия статей'!$A$2:$B$50,2,0)),\"Другое\")","v":""}]
[null,null,null,null,null,null,null,null,null,null,null,null,null,{"$f":"IFERROR(IF(A14632=\"\",\"\",VLOOKUP(J14632,'Соответствия статей'!$A$2:$B$50,2,0)),\"Другое\")","v":""}]
[null,null,null,null,null,null,null,null,null,null,null,null,null,{"$f":"IFERROR(IF(A14633=\"\",\"\",VLOOKUP(J14633,'Соответствия статей'!$A$2:$B$50,2,0)),\"Другое\")","v":""}]
[null,null,null,null,null,null,null,null,null,null,null,null,null,{"$f":"IFERROR(IF(A14634=\"\",\"\",VLOOKUP(J14634,'Соответствия статей'!$A$2:$B$50,2,0)),\"Другое\")","v":""}]
[null,null,null,null,null,null,null,null,null,null,null,null,null,{"$f":"IFERROR(IF(A14635=\"\",\"\",VLOOKUP(J14635,'Соответствия статей'!$A$2:$B$50,2,0)),\"Другое\")","v":""}]
[null,null,null,null,null,null,null,null,null,null,null,null,null,{"$f":"IFERROR(IF(A14636=\"\",\"\",VLOOKUP(J14636,'Соответствия статей'!$A$2:$B$50,2,0)),\"Другое\")","v":""}]
[null,null,null,null,null,null,null,null,null,null,null,null,null,{"$f":"IFERROR(IF(A14637=\"\",\"\",VLOOKUP(J14637,'Соответствия статей'!$A$2:$B$50,2,0)),\"Другое\")","v":""}]
[null,null,null,null,null,null,null,null,null,null,null,null,null,{"$f":"IFERROR(IF(A14638=\"\",\"\",VLOOKUP(J14638,'Соответствия статей'!$A$2:$B$50,2,0)),\"Другое\")","v":""}]
[null,null,null,null,null,null,null,null,null,null,null,null,null,{"$f":"IFERROR(IF(A14639=\"\",\"\",VLOOKUP(J14639,'Соответствия статей'!$A$2:$B$50,2,0)),\"Другое\")","v":""}]
[null,null,null,null,null,null,null,null,null,null,null,null,null,{"$f":"IFERROR(IF(A14640=\"\",\"\",VLOOKUP(J14640,'Соответствия статей'!$A$2:$B$50,2,0)),\"Другое\")","v":""}]
[null,null,null,null,null,null,null,null,null,null,null,null,null,{"$f":"IFERROR(IF(A14641=\"\",\"\",VLOOKUP(J14641,'Соответствия статей'!$A$2:$B$50,2,0)),\"Другое\")","v":""}]
[null,null,null,null,null,null,null,null,null,null,null,null,null,{"$f":"IFERROR(IF(A14642=\"\",\"\",VLOOKUP(J14642,'Соответствия статей'!$A$2:$B$50,2,0)),\"Другое\")","v":""}]
[null,null,null,null,null,null,null,null,null,null,null,null,null,{"$f":"IFERROR(IF(A14643=\"\",\"\",VLOOKUP(J14643,'Соответствия статей'!$A$2:$B$50,2,0)),\"Другое\")","v":""}]
[null,null,null,null,null,null,null,null,null,null,null,null,null,{"$f":"IFERROR(IF(A14644=\"\",\"\",VLOOKUP(J14644,'Соответствия статей'!$A$2:$B$50,2,0)),\"Другое\")","v":""}]
[null,null,null,null,null,null,null,null,null,null,null,null,null,{"$f":"IFERROR(IF(A14645=\"\",\"\",VLOOKUP(J14645,'Соответствия статей'!$A$2:$B$50,2,0)),\"Другое\")","v":""}]
[null,null,null,null,null,null,null,null,null,null,null,null,null,{"$f":"IFERROR(IF(A14646=\"\",\"\",VLOOKUP(J14646,'Соответствия статей'!$A$2:$B$50,2,0)),\"Другое\")","v":""}]
[null,null,null,null,null,null,null,null,null,null,null,null,null,{"$f":"IFERROR(IF(A14647=\"\",\"\",VLOOKUP(J14647,'Соответствия статей'!$A$2:$B$50,2,0)),\"Другое\")","v":""}]
[null,null,null,null,null,null,null,null,null,null,null,null,null,{"$f":"IFERROR(IF(A14648=\"\",\"\",VLOOKUP(J14648,'Соответствия статей'!$A$2:$B$50,2,0)),\"Другое\")","v":""}]
[null,null,null,null,null,null,null,null,null,null,null,null,null,{"$f":"IFERROR(IF(A14649=\"\",\"\",VLOOKUP(J14649,'Соответствия статей'!$A$2:$B$50,2,0)),\"Другое\")","v":""}]
[null,null,null,null,null,null,null,null,null,null,null,null,null,{"$f":"IFERROR(IF(A14650=\"\",\"\",VLOOKUP(J14650,'Соответствия статей'!$A$2:$B$50,2,0)),\"Другое\")","v":""}]
[null,null,null,null,null,null,null,null,null,null,null,null,null,{"$f":"IFERROR(IF(A14651=\"\",\"\",VLOOKUP(J14651,'Соответствия статей'!$A$2:$B$50,2,0)),\"Другое\")","v":""}]
[null,null,null,null,null,null,null,null,null,null,null,null,null,{"$f":"IFERROR(IF(A14652=\"\",\"\",VLOOKUP(J14652,'Соответствия статей'!$A$2:$B$50,2,0)),\"Другое\")","v":""}]
[null,null,null,null,null,null,null,null,null,null,null,null,null,{"$f":"IFERROR(IF(A14653=\"\",\"\",VLOOKUP(J14653,'Соответствия статей'!$A$2:$B$50,2,0)),\"Другое\")","v":""}]
[null,null,null,null,null,null,null,null,null,null,null,null,null,{"$f":"IFERROR(IF(A14654=\"\",\"\",VLOOKUP(J14654,'Соответствия статей'!$A$2:$B$50,2,0)),\"Другое\")","v":""}]
[null,null,null,null,null,null,null,null,null,null,null,null,null,{"$f":"IFERROR(IF(A14655=\"\",\"\",VLOOKUP(J14655,'Соответствия статей'!$A$2:$B$50,2,0)),\"Другое\")","v":""}]
[null,null,null,null,null,null,null,null,null,null,null,null,null,{"$f":"IFERROR(IF(A14656=\"\",\"\",VLOOKUP(J14656,'Соответствия статей'!$A$2:$B$50,2,0)),\"Другое\")","v":""}]
[null,null,null,null,null,null,null,null,null,null,null,null,null,{"$f":"IFERROR(IF(A14657=\"\",\"\",VLOOKUP(J14657,'Соответствия статей'!$A$2:$B$50,2,0)),\"Другое\")","v":""}]
[null,null,null,null,null,null,null,null,null,null,null,null,null,{"$f":"IFERROR(IF(A14658=\"\",\"\",VLOOKUP(J14658,'Соответствия статей'!$A$2:$B$50,2,0)),\"Другое\")","v":""}]
[null,null,null,null,null,null,null,null,null,null,null,null,null,{"$f":"IFERROR(IF(A14659=\"\",\"\",VLOOKUP(J14659,'Соответствия статей'!$A$2:$B$50,2,0)),\"Другое\")","v":""}]
[null,null,null,null,null,null,null,null,null,null,null,null,null,{"$f":"IFERROR(IF(A14660=\"\",\"\",VLOOKUP(J14660,'Соответствия статей'!$A$2:$B$50,2,0)),\"Другое\")","v":""}]
[null,null,null,null,null,null,null,null,null,null,null,null,null,{"$f":"IFERROR(IF(A14661=\"\",\"\",VLOOKUP(J14661,'Соответствия статей'!$A$2:$B$50,2,0)),\"Другое\")","v":""}]
[null,null,null,null,null,null,null,null,null,null,null,null,null,{"$f":"IFERROR(IF(A14662=\"\",\"\",VLOOKUP(J14662,'Соответствия статей'!$A$2:$B$50,2,0)),\"Другое\")","v":""}]
[null,null,null,null,null,null,null,null,null,null,null,null,null,{"$f":"IFERROR(IF(A14663=\"\",\"\",VLOOKUP(J14663,'Соответствия статей'!$A$2:$B$50,2,0)),\"Другое\")","v":""}]
[null,null,null,null,null,null,null,null,null,null,null,null,null,{"$f":"IFERROR(IF(A14664=\"\",\"\",VLOOKUP(J14664,'Соответствия статей'!$A$2:$B$50,2,0)),\"Другое\")","v":""}]
[null,null,null,null,null,null,null,null,null,null,null,null,null,{"$f":"IFERROR(IF(A14665=\"\",\"\",VLOOKUP(J14665,'Соответствия статей'!$A$2:$B$50,2,0)),\"Другое\")","v":""}]
[null,null,null,null,null,null,null,null,null,null,null,null,null,{"$f":"IFERROR(IF(A14666=\"\",\"\",VLOOKUP(J14666,'Соответствия статей'!$A$2:$B$50,2,0)),\"Другое\")","v":""}]
[null,null,null,null,null,null,null,null,null,null,null,null,null,{"$f":"IFERROR(IF(A14667=\"\",\"\",VLOOKUP(J14667,'Соответствия статей'!$A$2:$B$50,2,0)),\"Другое\")","v":""}]
[null,null,null,null,null,null,null,null,null,null,null,null,null,{"$f":"IFERROR(IF(A14668=\"\",\"\",VLOOKUP(J14668,'Соответствия статей'!$A$2:$B$50,2,0)),\"Другое\")","v":""}]
[null,null,null,null,null,null,null,null,null,null,null,null,null,{"$f":"IFERROR(IF(A14669=\"\",\"\",VLOOKUP(J14669,'Соответствия статей'!$A$2:$B$50,2,0)),\"Другое\")","v":""}]
[null,null,null,null,null,null,null,null,null,null,null,null,null,{"$f":"IFERROR(IF(A14670=\"\",\"\",VLOOKUP(J14670,'Соответствия статей'!$A$2:$B$50,2,0)),\"Другое\")","v":""}]
[null,null,null,null,null,null,null,null,null,null,null,null,null,{"$f":"IFERROR(IF(A14671=\"\",\"\",VLOOKUP(J14671,'Соответствия статей'!$A$2:$B$50,2,0)),\"Другое\")","v":""}]
[null,null,null,null,null,null,null,null,null,null,null,null,null,{"$f":"IFERROR(IF(A14672=\"\",\"\",VLOOKUP(J14672,'Соответствия статей'!$A$2:$B$50,2,0)),\"Другое\")","v":""}]
[null,null,null,null,null,null,null,null,null,null,null,null,null,{"$f":"IFERROR(IF(A14673=\"\",\"\",VLOOKUP(J14673,'Соответствия статей'!$A$2:$B$50,2,0)),\"Другое\")","v":""}]
[null,null,null,null,null,null,null,null,null,null,null,null,null,{"$f":"IFERROR(IF(A14674=\"\",\"\",VLOOKUP(J14674,'Соответствия статей'!$A$2:$B$50,2,0)),\"Другое\")","v":""}]
[null,null,null,null,null,null,null,null,null,null,null,null,null,{"$f":"IFERROR(IF(A14675=\"\",\"\",VLOOKUP(J14675,'Соответствия статей'!$A$2:$B$50,2,0)),\"Другое\")","v":""}]
[null,null,null,null,null,null,null,null,null,null,null,null,null,{"$f":"IFERROR(IF(A14676=\"\",\"\",VLOOKUP(J14676,'Соответствия статей'!$A$2:$B$50,2,0)),\"Другое\")","v":""}]
[null,null,null,null,null,null,null,null,null,null,null,null,null,{"$f":"IFERROR(IF(A14677=\"\",\"\",VLOOKUP(J14677,'Соответствия статей'!$A$2:$B$50,2,0)),\"Другое\")","v":""}]
[null,null,null,null,null,null,null,null,null,null,null,null,null,{"$f":"IFERROR(IF(A14678=\"\",\"\",VLOOKUP(J14678,'Соответствия статей'!$A$2:$B$50,2,0)),\"Другое\")","v":""}]
[null,null,null,null,null,null,null,null,null,null,null,null,null,{"$f":"IFERROR(IF(A14679=\"\",\"\",VLOOKUP(J14679,'Соответствия статей'!$A$2:$B$50,2,0)),\"Другое\")","v":""}]
[null,null,null,null,null,null,null,null,null,null,null,null,null,{"$f":"IFERROR(IF(A14680=\"\",\"\",VLOOKUP(J14680,'Соответствия статей'!$A$2:$B$50,2,0)),\"Другое\")","v":""}]
[null,null,null,null,null,null,null,null,null,null,null,null,null,{"$f":"IFERROR(IF(A14681=\"\",\"\",VLOOKUP(J14681,'Соответствия статей'!$A$2:$B$50,2,0)),\"Другое\")","v":""}]
[null,null,null,null,null,null,null,null,null,null,null,null,null,{"$f":"IFERROR(IF(A14682=\"\",\"\",VLOOKUP(J14682,'Соответствия статей'!$A$2:$B$50,2,0)),\"Другое\")","v":""}]
[null,null,null,null,null,null,null,null,null,null,null,null,null,{"$f":"IFERROR(IF(A14683=\"\",\"\",VLOOKUP(J14683,'Соответствия статей'!$A$2:$B$50,2,0)),\"Другое\")","v":""}]
[null,null,null,null,null,null,null,null,null,null,null,null,null,{"$f":"IFERROR(IF(A14684=\"\",\"\",VLOOKUP(J14684,'Соответствия статей'!$A$2:$B$50,2,0)),\"Другое\")","v":""}]
[null,null,null,null,null,null,null,null,null,null,null,null,null,{"$f":"IFERROR(IF(A14685=\"\",\"\",VLOOKUP(J14685,'Соответствия статей'!$A$2:$B$50,2,0)),\"Другое\")","v":""}]
[null,null,null,null,null,null,null,null,null,null,null,null,null,{"$f":"IFERROR(IF(A14686=\"\",\"\",VLOOKUP(J14686,'Соответствия статей'!$A$2:$B$50,2,0)),\"Другое\")","v":""}]
[null,null,null,null,null,null,null,null,null,null,null,null,null,{"$f":"IFERROR(IF(A14687=\"\",\"\",VLOOKUP(J14687,'Соответствия статей'!$A$2:$B$50,2,0)),\"Другое\")","v":""}]
[null,null,null,null,null,null,null,null,null,null,null,null,null,{"$f":"IFERROR(IF(A14688=\"\",\"\",VLOOKUP(J14688,'Соответствия статей'!$A$2:$B$50,2,0)),\"Другое\")","v":""}]
[null,null,null,null,null,null,null,null,null,null,null,null,null,{"$f":"IFERROR(IF(A14689=\"\",\"\",VLOOKUP(J14689,'Соответствия статей'!$A$2:$B$50,2,0)),\"Другое\")","v":""}]
[null,null,null,null,null,null,null,null,null,null,null,null,null,{"$f":"IFERROR(IF(A14690=\"\",\"\",VLOOKUP(J14690,'Соответствия статей'!$A$2:$B$50,2,0)),\"Другое\")","v":""}]
[null,null,null,null,null,null,null,null,null,null,null,null,null,{"$f":"IFERROR(IF(A14691=\"\",\"\",VLOOKUP(J14691,'Соответствия статей'!$A$2:$B$50,2,0)),\"Другое\")","v":""}]
[null,null,null,null,null,null,null,null,null,null,null,null,null,{"$f":"IFERROR(IF(A14692=\"\",\"\",VLOOKUP(J14692,'Соответствия статей'!$A$2:$B$50,2,0)),\"Другое\")","v":""}]
[null,null,null,null,null,null,null,null,null,null,null,null,null,{"$f":"IFERROR(IF(A14693=\"\",\"\",VLOOKUP(J14693,'Соответствия статей'!$A$2:$B$50,2,0)),\"Другое\")","v":""}]
[null,null,null,null,null,null,null,null,null,null,null,null,null,{"$f":"IFERROR(IF(A14694=\"\",\"\",VLOOKUP(J14694,'Соответствия статей'!$A$2:$B$50,2,0)),\"Другое\")","v":""}]
[null,null,null,null,null,null,null,null,null,null,null,null,null,{"$f":"IFERROR(IF(A14695=\"\",\"\",VLOOKUP(J14695,'Соответствия статей'!$A$2:$B$50,2,0)),\"Другое\")","v":""}]
[null,null,null,null,null,null,null,null,null,null,null,null,null,{"$f":"IFERROR(IF(A14696=\"\",\"\",VLOOKUP(J14696,'Соответствия статей'!$A$2:$B$50,2,0)),\"Другое\")","v":""}]
[null,null,null,null,null,null,null,null,null,null,null,null,null,{"$f":"IFERROR(IF(A14697=\"\",\"\",VLOOKUP(J14697,'Соответствия статей'!$A$2:$B$50,2,0)),\"Другое\")","v":""}]
[null,null,null,null,null,null,null,null,null,null,null,null,null,{"$f":"IFERROR(IF(A14698=\"\",\"\",VLOOKUP(J14698,'Соответствия статей'!$A$2:$B$50,2,0)),\"Другое\")","v":""}]
[null,null,null,null,null,null,null,null,null,null,null,null,null,{"$f":"IFERROR(IF(A14699=\"\",\"\",VLOOKUP(J14699,'Соответствия статей'!$A$2:$B$50,2,0)),\"Другое\")","v":""}]
[null,null,null,null,null,null,null,null,null,null,null,null,null,{"$f":"IFERROR(IF(A14700=\"\",\"\",VLOOKUP(J14700,'Соответствия статей'!$A$2:$B$50,2,0)),\"Другое\")","v":""}]
[null,null,null,null,null,null,null,null,null,null,null,null,null,{"$f":"IFERROR(IF(A14701=\"\",\"\",VLOOKUP(J14701,'Соответствия статей'!$A$2:$B$50,2,0)),\"Другое\")","v":""}]
[null,null,null,null,null,null,null,null,null,null,null,null,null,{"$f":"IFERROR(IF(A14702=\"\",\"\",VLOOKUP(J14702,'Соответствия статей'!$A$2:$B$50,2,0)),\"Другое\")","v":""}]
[null,null,null,null,null,null,null,null,null,null,null,null,null,{"$f":"IFERROR(IF(A14703=\"\",\"\",VLOOKUP(J14703,'Соответствия статей'!$A$2:$B$50,2,0)),\"Другое\")","v":""}]
[null,null,null,null,null,null,null,null,null,null,null,null,null,{"$f":"IFERROR(IF(A14704=\"\",\"\",VLOOKUP(J14704,'Соответствия статей'!$A$2:$B$50,2,0)),\"Другое\")","v":""}]
[null,null,null,null,null,null,null,null,null,null,null,null,null,{"$f":"IFERROR(IF(A14705=\"\",\"\",VLOOKUP(J14705,'Соответствия статей'!$A$2:$B$50,2,0)),\"Другое\")","v":""}]
[null,null,null,null,null,null,null,null,null,null,null,null,null,{"$f":"IFERROR(IF(A14706=\"\",\"\",VLOOKUP(J14706,'Соответствия статей'!$A$2:$B$50,2,0)),\"Другое\")","v":""}]
[null,null,null,null,null,null,null,null,null,null,null,null,null,{"$f":"IFERROR(IF(A14707=\"\",\"\",VLOOKUP(J14707,'Соответствия статей'!$A$2:$B$50,2,0)),\"Другое\")","v":""}]
[null,null,null,null,null,null,null,null,null,null,null,null,null,{"$f":"IFERROR(IF(A14708=\"\",\"\",VLOOKUP(J14708,'Соответствия статей'!$A$2:$B$50,2,0)),\"Другое\")","v":""}]
[null,null,null,null,null,null,null,null,null,null,null,null,null,{"$f":"IFERROR(IF(A14709=\"\",\"\",VLOOKUP(J14709,'Соответствия статей'!$A$2:$B$50,2,0)),\"Другое\")","v":""}]
[null,null,null,null,null,null,null,null,null,null,null,null,null,{"$f":"IFERROR(IF(A14710=\"\",\"\",VLOOKUP(J14710,'Соответствия статей'!$A$2:$B$50,2,0)),\"Другое\")","v":""}]
[null,null,null,null,null,null,null,null,null,null,null,null,null,{"$f":"IFERROR(IF(A14711=\"\",\"\",VLOOKUP(J14711,'Соответствия статей'!$A$2:$B$50,2,0)),\"Другое\")","v":""}]
[null,null,null,null,null,null,null,null,null,null,null,null,null,{"$f":"IFERROR(IF(A14712=\"\",\"\",VLOOKUP(J14712,'Соответствия статей'!$A$2:$B$50,2,0)),\"Другое\")","v":""}]
[null,null,null,null,null,null,null,null,null,null,null,null,null,{"$f":"IFERROR(IF(A14713=\"\",\"\",VLOOKUP(J14713,'Соответствия статей'!$A$2:$B$50,2,0)),\"Другое\")","v":""}]
[null,null,null,null,null,null,null,null,null,null,null,null,null,{"$f":"IFERROR(IF(A14714=\"\",\"\",VLOOKUP(J14714,'Соответствия статей'!$A$2:$B$50,2,0)),\"Другое\")","v":""}]
[null,null,null,null,null,null,null,null,null,null,null,null,null,{"$f":"IFERROR(IF(A14715=\"\",\"\",VLOOKUP(J14715,'Соответствия статей'!$A$2:$B$50,2,0)),\"Другое\")","v":""}]
[null,null,null,null,null,null,null,null,null,null,null,null,null,{"$f":"IFERROR(IF(A14716=\"\",\"\",VLOOKUP(J14716,'Соответствия статей'!$A$2:$B$50,2,0)),\"Другое\")","v":""}]
[null,null,null,null,null,null,null,null,null,null,null,null,null,{"$f":"IFERROR(IF(A14717=\"\",\"\",VLOOKUP(J14717,'Соответствия статей'!$A$2:$B$50,2,0)),\"Другое\")","v":""}]
[null,null,null,null,null,null,null,null,null,null,null,null,null,{"$f":"IFERROR(IF(A14718=\"\",\"\",VLOOKUP(J14718,'Соответствия статей'!$A$2:$B$50,2,0)),\"Другое\")","v":""}]
[null,null,null,null,null,null,null,null,null,null,null,null,null,{"$f":"IFERROR(IF(A14719=\"\",\"\",VLOOKUP(J14719,'Соответствия статей'!$A$2:$B$50,2,0)),\"Другое\")","v":""}]
[null,null,null,null,null,null,null,null,null,null,null,null,null,{"$f":"IFERROR(IF(A14720=\"\",\"\",VLOOKUP(J14720,'Соответствия статей'!$A$2:$B$50,2,0)),\"Другое\")","v":""}]
[null,null,null,null,null,null,null,null,null,null,null,null,null,{"$f":"IFERROR(IF(A14721=\"\",\"\",VLOOKUP(J14721,'Соответствия статей'!$A$2:$B$50,2,0)),\"Другое\")","v":""}]
[null,null,null,null,null,null,null,null,null,null,null,null,null,{"$f":"IFERROR(IF(A14722=\"\",\"\",VLOOKUP(J14722,'Соответствия статей'!$A$2:$B$50,2,0)),\"Другое\")","v":""}]
[null,null,null,null,null,null,null,null,null,null,null,null,null,{"$f":"IFERROR(IF(A14723=\"\",\"\",VLOOKUP(J14723,'Соответствия статей'!$A$2:$B$50,2,0)),\"Другое\")","v":""}]
[null,null,null,null,null,null,null,null,null,null,null,null,null,{"$f":"IFERROR(IF(A14724=\"\",\"\",VLOOKUP(J14724,'Соответствия статей'!$A$2:$B$50,2,0)),\"Другое\")","v":""}]
[null,null,null,null,null,null,null,null,null,null,null,null,null,{"$f":"IFERROR(IF(A14725=\"\",\"\",VLOOKUP(J14725,'Соответствия статей'!$A$2:$B$50,2,0)),\"Другое\")","v":""}]
[null,null,null,null,null,null,null,null,null,null,null,null,null,{"$f":"IFERROR(IF(A14726=\"\",\"\",VLOOKUP(J14726,'Соответствия статей'!$A$2:$B$50,2,0)),\"Другое\")","v":""}]
[null,null,null,null,null,null,null,null,null,null,null,null,null,{"$f":"IFERROR(IF(A14727=\"\",\"\",VLOOKUP(J14727,'Соответствия статей'!$A$2:$B$50,2,0)),\"Другое\")","v":""}]
[null,null,null,null,null,null,null,null,null,null,null,null,null,{"$f":"IFERROR(IF(A14728=\"\",\"\",VLOOKUP(J14728,'Соответствия статей'!$A$2:$B$50,2,0)),\"Другое\")","v":""}]
[null,null,null,null,null,null,null,null,null,null,null,null,null,{"$f":"IFERROR(IF(A14729=\"\",\"\",VLOOKUP(J14729,'Соответствия статей'!$A$2:$B$50,2,0)),\"Другое\")","v":""}]
[null,null,null,null,null,null,null,null,null,null,null,null,null,{"$f":"IFERROR(IF(A14730=\"\",\"\",VLOOKUP(J14730,'Соответствия статей'!$A$2:$B$50,2,0)),\"Другое\")","v":""}]
[null,null,null,null,null,null,null,null,null,null,null,null,null,{"$f":"IFERROR(IF(A14731=\"\",\"\",VLOOKUP(J14731,'Соответствия статей'!$A$2:$B$50,2,0)),\"Другое\")","v":""}]
[null,null,null,null,null,null,null,null,null,null,null,null,null,{"$f":"IFERROR(IF(A14732=\"\",\"\",VLOOKUP(J14732,'Соответствия статей'!$A$2:$B$50,2,0)),\"Другое\")","v":""}]
[null,null,null,null,null,null,null,null,null,null,null,null,null,{"$f":"IFERROR(IF(A14733=\"\",\"\",VLOOKUP(J14733,'Соответствия статей'!$A$2:$B$50,2,0)),\"Другое\")","v":""}]
[null,null,null,null,null,null,null,null,null,null,null,null,null,{"$f":"IFERROR(IF(A14734=\"\",\"\",VLOOKUP(J14734,'Соответствия статей'!$A$2:$B$50,2,0)),\"Другое\")","v":""}]
[null,null,null,null,null,null,null,null,null,null,null,null,null,{"$f":"IFERROR(IF(A14735=\"\",\"\",VLOOKUP(J14735,'Соответствия статей'!$A$2:$B$50,2,0)),\"Другое\")","v":""}]
[null,null,null,null,null,null,null,null,null,null,null,null,null,{"$f":"IFERROR(IF(A14736=\"\",\"\",VLOOKUP(J14736,'Соответствия статей'!$A$2:$B$50,2,0)),\"Другое\")","v":""}]
[null,null,null,null,null,null,null,null,null,null,null,null,null,{"$f":"IFERROR(IF(A14737=\"\",\"\",VLOOKUP(J14737,'Соответствия статей'!$A$2:$B$50,2,0)),\"Другое\")","v":""}]
[null,null,null,null,null,null,null,null,null,null,null,null,null,{"$f":"IFERROR(IF(A14738=\"\",\"\",VLOOKUP(J14738,'Соответствия статей'!$A$2:$B$50,2,0)),\"Другое\")","v":""}]
[null,null,null,null,null,null,null,null,null,null,null,null,null,{"$f":"IFERROR(IF(A14739=\"\",\"\",VLOOKUP(J14739,'Соответствия статей'!$A$2:$B$50,2,0)),\"Другое\")","v":""}]
[null,null,null,null,null,null,null,null,null,null,null,null,null,{"$f":"IFERROR(IF(A14740=\"\",\"\",VLOOKUP(J14740,'Соответствия статей'!$A$2:$B$50,2,0)),\"Другое\")","v":""}]
[null,null,null,null,null,null,null,null,null,null,null,null,null,{"$f":"IFERROR(IF(A14741=\"\",\"\",VLOOKUP(J14741,'Соответствия статей'!$A$2:$B$50,2,0)),\"Другое\")","v":""}]
[null,null,null,null,null,null,null,null,null,null,null,null,null,{"$f":"IFERROR(IF(A14742=\"\",\"\",VLOOKUP(J14742,'Соответствия статей'!$A$2:$B$50,2,0)),\"Другое\")","v":""}]
[null,null,null,null,null,null,null,null,null,null,null,null,null,{"$f":"IFERROR(IF(A14743=\"\",\"\",VLOOKUP(J14743,'Соответствия статей'!$A$2:$B$50,2,0)),\"Другое\")","v":""}]
[null,null,null,null,null,null,null,null,null,null,null,null,null,{"$f":"IFERROR(IF(A14744=\"\",\"\",VLOOKUP(J14744,'Соответствия статей'!$A$2:$B$50,2,0)),\"Другое\")","v":""}]
[null,null,null,null,null,null,null,null,null,null,null,null,null,{"$f":"IFERROR(IF(A14745=\"\",\"\",VLOOKUP(J14745,'Соответствия статей'!$A$2:$B$50,2,0)),\"Другое\")","v":""}]
[null,null,null,null,null,null,null,null,null,null,null,null,null,{"$f":"IFERROR(IF(A14746=\"\",\"\",VLOOKUP(J14746,'Соответствия статей'!$A$2:$B$50,2,0)),\"Другое\")","v":""}]
[null,null,null,null,null,null,null,null,null,null,null,null,null,{"$f":"IFERROR(IF(A14747=\"\",\"\",VLOOKUP(J14747,'Соответствия статей'!$A$2:$B$50,2,0)),\"Другое\")","v":""}]
[null,null,null,null,null,null,null,null,null,null,null,null,null,{"$f":"IFERROR(IF(A14748=\"\",\"\",VLOOKUP(J14748,'Соответствия статей'!$A$2:$B$50,2,0)),\"Другое\")","v":""}]
[null,null,null,null,null,null,null,null,null,null,null,null,null,{"$f":"IFERROR(IF(A14749=\"\",\"\",VLOOKUP(J14749,'Соответствия статей'!$A$2:$B$50,2,0)),\"Другое\")","v":""}]
[null,null,null,null,null,null,null,null,null,null,null,null,null,{"$f":"IFERROR(IF(A14750=\"\",\"\",VLOOKUP(J14750,'Соответствия статей'!$A$2:$B$50,2,0)),\"Другое\")","v":""}]
[null,null,null,null,null,null,null,null,null,null,null,null,null,{"$f":"IFERROR(IF(A14751=\"\",\"\",VLOOKUP(J14751,'Соответствия статей'!$A$2:$B$50,2,0)),\"Другое\")","v":""}]
[null,null,null,null,null,null,null,null,null,null,null,null,null,{"$f":"IFERROR(IF(A14752=\"\",\"\",VLOOKUP(J14752,'Соответствия статей'!$A$2:$B$50,2,0)),\"Другое\")","v":""}]
[null,null,null,null,null,null,null,null,null,null,null,null,null,{"$f":"IFERROR(IF(A14753=\"\",\"\",VLOOKUP(J14753,'Соответствия статей'!$A$2:$B$50,2,0)),\"Другое\")","v":""}]
[null,null,null,null,null,null,null,null,null,null,null,null,null,{"$f":"IFERROR(IF(A14754=\"\",\"\",VLOOKUP(J14754,'Соответствия статей'!$A$2:$B$50,2,0)),\"Другое\")","v":""}]
[null,null,null,null,null,null,null,null,null,null,null,null,null,{"$f":"IFERROR(IF(A14755=\"\",\"\",VLOOKUP(J14755,'Соответствия статей'!$A$2:$B$50,2,0)),\"Другое\")","v":""}]
[null,null,null,null,null,null,null,null,null,null,null,null,null,{"$f":"IFERROR(IF(A14756=\"\",\"\",VLOOKUP(J14756,'Соответствия статей'!$A$2:$B$50,2,0)),\"Другое\")","v":""}]
[null,null,null,null,null,null,null,null,null,null,null,null,null,{"$f":"IFERROR(IF(A14757=\"\",\"\",VLOOKUP(J14757,'Соответствия статей'!$A$2:$B$50,2,0)),\"Другое\")","v":""}]
[null,null,null,null,null,null,null,null,null,null,null,null,null,{"$f":"IFERROR(IF(A14758=\"\",\"\",VLOOKUP(J14758,'Соответствия статей'!$A$2:$B$50,2,0)),\"Другое\")","v":""}]
[null,null,null,null,null,null,null,null,null,null,null,null,null,{"$f":"IFERROR(IF(A14759=\"\",\"\",VLOOKUP(J14759,'Соответствия статей'!$A$2:$B$50,2,0)),\"Другое\")","v":""}]
[null,null,null,null,null,null,null,null,null,null,null,null,null,{"$f":"IFERROR(IF(A14760=\"\",\"\",VLOOKUP(J14760,'Соответствия статей'!$A$2:$B$50,2,0)),\"Другое\")","v":""}]
[null,null,null,null,null,null,null,null,null,null,null,null,null,{"$f":"IFERROR(IF(A14761=\"\",\"\",VLOOKUP(J14761,'Соответствия статей'!$A$2:$B$50,2,0)),\"Другое\")","v":""}]
[null,null,null,null,null,null,null,null,null,null,null,null,null,{"$f":"IFERROR(IF(A14762=\"\",\"\",VLOOKUP(J14762,'Соответствия статей'!$A$2:$B$50,2,0)),\"Другое\")","v":""}]
[null,null,null,null,null,null,null,null,null,null,null,null,null,{"$f":"IFERROR(IF(A14763=\"\",\"\",VLOOKUP(J14763,'Соответствия статей'!$A$2:$B$50,2,0)),\"Другое\")","v":""}]
[null,null,null,null,null,null,null,null,null,null,null,null,null,{"$f":"IFERROR(IF(A14764=\"\",\"\",VLOOKUP(J14764,'Соответствия статей'!$A$2:$B$50,2,0)),\"Другое\")","v":""}]
[null,null,null,null,null,null,null,null,null,null,null,null,null,{"$f":"IFERROR(IF(A14765=\"\",\"\",VLOOKUP(J14765,'Соответствия статей'!$A$2:$B$50,2,0)),\"Другое\")","v":""}]
[null,null,null,null,null,null,null,null,null,null,null,null,null,{"$f":"IFERROR(IF(A14766=\"\",\"\",VLOOKUP(J14766,'Соответствия статей'!$A$2:$B$50,2,0)),\"Другое\")","v":""}]
[null,null,null,null,null,null,null,null,null,null,null,null,null,{"$f":"IFERROR(IF(A14767=\"\",\"\",VLOOKUP(J14767,'Соответствия статей'!$A$2:$B$50,2,0)),\"Другое\")","v":""}]
[null,null,null,null,null,null,null,null,null,null,null,null,null,{"$f":"IFERROR(IF(A14768=\"\",\"\",VLOOKUP(J14768,'Соответствия статей'!$A$2:$B$50,2,0)),\"Другое\")","v":""}]
[null,null,null,null,null,null,null,null,null,null,null,null,null,{"$f":"IFERROR(IF(A14769=\"\",\"\",VLOOKUP(J14769,'Соответствия статей'!$A$2:$B$50,2,0)),\"Другое\")","v":""}]
[null,null,null,null,null,null,null,null,null,null,null,null,null,{"$f":"IFERROR(IF(A14770=\"\",\"\",VLOOKUP(J14770,'Соответствия статей'!$A$2:$B$50,2,0)),\"Другое\")","v":""}]
[null,null,null,null,null,null,null,null,null,null,null,null,null,{"$f":"IFERROR(IF(A14771=\"\",\"\",VLOOKUP(J14771,'Соответствия статей'!$A$2:$B$50,2,0)),\"Другое\")","v":""}]
[null,null,null,null,null,null,null,null,null,null,null,null,null,{"$f":"IFERROR(IF(A14772=\"\",\"\",VLOOKUP(J14772,'Соответствия статей'!$A$2:$B$50,2,0)),\"Другое\")","v":""}]
[null,null,null,null,null,null,null,null,null,null,null,null,null,{"$f":"IFERROR(IF(A14773=\"\",\"\",VLOOKUP(J14773,'Соответствия статей'!$A$2:$B$50,2,0)),\"Другое\")","v":""}]
[null,null,null,null,null,null,null,null,null,null,null,null,null,{"$f":"IFERROR(IF(A14774=\"\",\"\",VLOOKUP(J14774,'Соответствия статей'!$A$2:$B$50,2,0)),\"Другое\")","v":""}]
[null,null,null,null,null,null,null,null,null,null,null,null,null,{"$f":"IFERROR(IF(A14775=\"\",\"\",VLOOKUP(J14775,'Соответствия статей'!$A$2:$B$50,2,0)),\"Другое\")","v":""}]
[null,null,null,null,null,null,null,null,null,null,null,null,null,{"$f":"IFERROR(IF(A14776=\"\",\"\",VLOOKUP(J14776,'Соответствия статей'!$A$2:$B$50,2,0)),\"Другое\")","v":""}]
[null,null,null,null,null,null,null,null,null,null,null,null,null,{"$f":"IFERROR(IF(A14777=\"\",\"\",VLOOKUP(J14777,'Соответствия статей'!$A$2:$B$50,2,0)),\"Другое\")","v":""}]
[null,null,null,null,null,null,null,null,null,null,null,null,null,{"$f":"IFERROR(IF(A14778=\"\",\"\",VLOOKUP(J14778,'Соответствия статей'!$A$2:$B$50,2,0)),\"Другое\")","v":""}]
[null,null,null,null,null,null,null,null,null,null,null,null,null,{"$f":"IFERROR(IF(A14779=\"\",\"\",VLOOKUP(J14779,'Соответствия статей'!$A$2:$B$50,2,0)),\"Другое\")","v":""}]
[null,null,null,null,null,null,null,null,null,null,null,null,null,{"$f":"IFERROR(IF(A14780=\"\",\"\",VLOOKUP(J14780,'Соответствия статей'!$A$2:$B$50,2,0)),\"Другое\")","v":""}]
[null,null,null,null,null,null,null,null,null,null,null,null,null,{"$f":"IFERROR(IF(A14781=\"\",\"\",VLOOKUP(J14781,'Соответствия статей'!$A$2:$B$50,2,0)),\"Другое\")","v":""}]
[null,null,null,null,null,null,null,null,null,null,null,null,null,{"$f":"IFERROR(IF(A14782=\"\",\"\",VLOOKUP(J14782,'Соответствия статей'!$A$2:$B$50,2,0)),\"Другое\")","v":""}]
[null,null,null,null,null,null,null,null,null,null,null,null,null,{"$f":"IFERROR(IF(A14783=\"\",\"\",VLOOKUP(J14783,'Соответствия статей'!$A$2:$B$50,2,0)),\"Другое\")","v":""}]
[null,null,null,null,null,null,null,null,null,null,null,null,null,{"$f":"IFERROR(IF(A14784=\"\",\"\",VLOOKUP(J14784,'Соответствия статей'!$A$2:$B$50,2,0)),\"Другое\")","v":""}]
[null,null,null,null,null,null,null,null,null,null,null,null,null,{"$f":"IFERROR(IF(A14785=\"\",\"\",VLOOKUP(J14785,'Соответствия статей'!$A$2:$B$50,2,0)),\"Другое\")","v":""}]
[null,null,null,null,null,null,null,null,null,null,null,null,null,{"$f":"IFERROR(IF(A14786=\"\",\"\",VLOOKUP(J14786,'Соответствия статей'!$A$2:$B$50,2,0)),\"Другое\")","v":""}]
[null,null,null,null,null,null,null,null,null,null,null,null,null,{"$f":"IFERROR(IF(A14787=\"\",\"\",VLOOKUP(J14787,'Соответствия статей'!$A$2:$B$50,2,0)),\"Другое\")","v":""}]
[null,null,null,null,null,null,null,null,null,null,null,null,null,{"$f":"IFERROR(IF(A14788=\"\",\"\",VLOOKUP(J14788,'Соответствия статей'!$A$2:$B$50,2,0)),\"Другое\")","v":""}]
[null,null,null,null,null,null,null,null,null,null,null,null,null,{"$f":"IFERROR(IF(A14789=\"\",\"\",VLOOKUP(J14789,'Соответствия статей'!$A$2:$B$50,2,0)),\"Другое\")","v":""}]
[null,null,null,null,null,null,null,null,null,null,null,null,null,{"$f":"IFERROR(IF(A14790=\"\",\"\",VLOOKUP(J14790,'Соответствия статей'!$A$2:$B$50,2,0)),\"Другое\")","v":""}]
[null,null,null,null,null,null,null,null,null,null,null,null,null,{"$f":"IFERROR(IF(A14791=\"\",\"\",VLOOKUP(J14791,'Соответствия статей'!$A$2:$B$50,2,0)),\"Другое\")","v":""}]
[null,null,null,null,null,null,null,null,null,null,null,null,null,{"$f":"IFERROR(IF(A14792=\"\",\"\",VLOOKUP(J14792,'Соответствия статей'!$A$2:$B$50,2,0)),\"Другое\")","v":""}]
[null,null,null,null,null,null,null,null,null,null,null,null,null,{"$f":"IFERROR(IF(A14793=\"\",\"\",VLOOKUP(J14793,'Соответствия статей'!$A$2:$B$50,2,0)),\"Другое\")","v":""}]
[null,null,null,null,null,null,null,null,null,null,null,null,null,{"$f":"IFERROR(IF(A14794=\"\",\"\",VLOOKUP(J14794,'Соответствия статей'!$A$2:$B$50,2,0)),\"Другое\")","v":""}]
[null,null,null,null,null,null,null,null,null,null,null,null,null,{"$f":"IFERROR(IF(A14795=\"\",\"\",VLOOKUP(J14795,'Соответствия статей'!$A$2:$B$50,2,0)),\"Другое\")","v":""}]
[null,null,null,null,null,null,null,null,null,null,null,null,null,{"$f":"IFERROR(IF(A14796=\"\",\"\",VLOOKUP(J14796,'Соответствия статей'!$A$2:$B$50,2,0)),\"Другое\")","v":""}]
[null,null,null,null,null,null,null,null,null,null,null,null,null,{"$f":"IFERROR(IF(A14797=\"\",\"\",VLOOKUP(J14797,'Соответствия статей'!$A$2:$B$50,2,0)),\"Другое\")","v":""}]
[null,null,null,null,null,null,null,null,null,null,null,null,null,{"$f":"IFERROR(IF(A14798=\"\",\"\",VLOOKUP(J14798,'Соответствия статей'!$A$2:$B$50,2,0)),\"Другое\")","v":""}]
[null,null,null,null,null,null,null,null,null,null,null,null,null,{"$f":"IFERROR(IF(A14799=\"\",\"\",VLOOKUP(J14799,'Соответствия статей'!$A$2:$B$50,2,0)),\"Другое\")","v":""}]
[null,null,null,null,null,null,null,null,null,null,null,null,null,{"$f":"IFERROR(IF(A14800=\"\",\"\",VLOOKUP(J14800,'Соответствия статей'!$A$2:$B$50,2,0)),\"Другое\")","v":""}]
[null,null,null,null,null,null,null,null,null,null,null,null,null,{"$f":"IFERROR(IF(A14801=\"\",\"\",VLOOKUP(J14801,'Соответствия статей'!$A$2:$B$50,2,0)),\"Другое\")","v":""}]
[null,null,null,null,null,null,null,null,null,null,null,null,null,{"$f":"IFERROR(IF(A14802=\"\",\"\",VLOOKUP(J14802,'Соответствия статей'!$A$2:$B$50,2,0)),\"Другое\")","v":""}]
[null,null,null,null,null,null,null,null,null,null,null,null,null,{"$f":"IFERROR(IF(A14803=\"\",\"\",VLOOKUP(J14803,'Соответствия статей'!$A$2:$B$50,2,0)),\"Другое\")","v":""}]
[null,null,null,null,null,null,null,null,null,null,null,null,null,{"$f":"IFERROR(IF(A14804=\"\",\"\",VLOOKUP(J14804,'Соответствия статей'!$A$2:$B$50,2,0)),\"Другое\")","v":""}]
[null,null,null,null,null,null,null,null,null,null,null,null,null,{"$f":"IFERROR(IF(A14805=\"\",\"\",VLOOKUP(J14805,'Соответствия статей'!$A$2:$B$50,2,0)),\"Другое\")","v":""}]
[null,null,null,null,null,null,null,null,null,null,null,null,null,{"$f":"IFERROR(IF(A14806=\"\",\"\",VLOOKUP(J14806,'Соответствия статей'!$A$2:$B$50,2,0)),\"Другое\")","v":""}]
[null,null,null,null,null,null,null,null,null,null,null,null,null,{"$f":"IFERROR(IF(A14807=\"\",\"\",VLOOKUP(J14807,'Соответствия статей'!$A$2:$B$50,2,0)),\"Другое\")","v":""}]
[null,null,null,null,null,null,null,null,null,null,null,null,null,{"$f":"IFERROR(IF(A14808=\"\",\"\",VLOOKUP(J14808,'Соответствия статей'!$A$2:$B$50,2,0)),\"Другое\")","v":""}]
[null,null,null,null,null,null,null,null,null,null,null,null,null,{"$f":"IFERROR(IF(A14809=\"\",\"\",VLOOKUP(J14809,'Соответствия статей'!$A$2:$B$50,2,0)),\"Другое\")","v":""}]
[null,null,null,null,null,null,null,null,null,null,null,null,null,{"$f":"IFERROR(IF(A14810=\"\",\"\",VLOOKUP(J14810,'Соответствия статей'!$A$2:$B$50,2,0)),\"Другое\")","v":""}]
[null,null,null,null,null,null,null,null,null,null,null,null,null,{"$f":"IFERROR(IF(A14811=\"\",\"\",VLOOKUP(J14811,'Соответствия статей'!$A$2:$B$50,2,0)),\"Другое\")","v":""}]
[null,null,null,null,null,null,null,null,null,null,null,null,null,{"$f":"IFERROR(IF(A14812=\"\",\"\",VLOOKUP(J14812,'Соответствия статей'!$A$2:$B$50,2,0)),\"Другое\")","v":""}]
[null,null,null,null,null,null,null,null,null,null,null,null,null,{"$f":"IFERROR(IF(A14813=\"\",\"\",VLOOKUP(J14813,'Соответствия статей'!$A$2:$B$50,2,0)),\"Другое\")","v":""}]
[null,null,null,null,null,null,null,null,null,null,null,null,null,{"$f":"IFERROR(IF(A14814=\"\",\"\",VLOOKUP(J14814,'Соответствия статей'!$A$2:$B$50,2,0)),\"Другое\")","v":""}]
[null,null,null,null,null,null,null,null,null,null,null,null,null,{"$f":"IFERROR(IF(A14815=\"\",\"\",VLOOKUP(J14815,'Соответствия статей'!$A$2:$B$50,2,0)),\"Другое\")","v":""}]
[null,null,null,null,null,null,null,null,null,null,null,null,null,{"$f":"IFERROR(IF(A14816=\"\",\"\",VLOOKUP(J14816,'Соответствия статей'!$A$2:$B$50,2,0)),\"Другое\")","v":""}]
[null,null,null,null,null,null,null,null,null,null,null,null,null,{"$f":"IFERROR(IF(A14817=\"\",\"\",VLOOKUP(J14817,'Соответствия статей'!$A$2:$B$50,2,0)),\"Другое\")","v":""}]
[null,null,null,null,null,null,null,null,null,null,null,null,null,{"$f":"IFERROR(IF(A14818=\"\",\"\",VLOOKUP(J14818,'Соответствия статей'!$A$2:$B$50,2,0)),\"Другое\")","v":""}]
[null,null,null,null,null,null,null,null,null,null,null,null,null,{"$f":"IFERROR(IF(A14819=\"\",\"\",VLOOKUP(J14819,'Соответствия статей'!$A$2:$B$50,2,0)),\"Другое\")","v":""}]
[null,null,null,null,null,null,null,null,null,null,null,null,null,{"$f":"IFERROR(IF(A14820=\"\",\"\",VLOOKUP(J14820,'Соответствия статей'!$A$2:$B$50,2,0)),\"Другое\")","v":""}]
[null,null,null,null,null,null,null,null,null,null,null,null,null,{"$f":"IFERROR(IF(A14821=\"\",\"\",VLOOKUP(J14821,'Соответствия статей'!$A$2:$B$50,2,0)),\"Другое\")","v":""}]
[null,null,null,null,null,null,null,null,null,null,null,null,null,{"$f":"IFERROR(IF(A14822=\"\",\"\",VLOOKUP(J14822,'Соответствия статей'!$A$2:$B$50,2,0)),\"Другое\")","v":""}]
[null,null,null,null,null,null,null,null,null,null,null,null,null,{"$f":"IFERROR(IF(A14823=\"\",\"\",VLOOKUP(J14823,'Соответствия статей'!$A$2:$B$50,2,0)),\"Другое\")","v":""}]
[null,null,null,null,null,null,null,null,null,null,null,null,null,{"$f":"IFERROR(IF(A14824=\"\",\"\",VLOOKUP(J14824,'Соответствия статей'!$A$2:$B$50,2,0)),\"Другое\")","v":""}]
[null,null,null,null,null,null,null,null,null,null,null,null,null,{"$f":"IFERROR(IF(A14825=\"\",\"\",VLOOKUP(J14825,'Соответствия статей'!$A$2:$B$50,2,0)),\"Другое\")","v":""}]
[null,null,null,null,null,null,null,null,null,null,null,null,null,{"$f":"IFERROR(IF(A14826=\"\",\"\",VLOOKUP(J14826,'Соответствия статей'!$A$2:$B$50,2,0)),\"Другое\")","v":""}]
[null,null,null,null,null,null,null,null,null,null,null,null,null,{"$f":"IFERROR(IF(A14827=\"\",\"\",VLOOKUP(J14827,'Соответствия статей'!$A$2:$B$50,2,0)),\"Другое\")","v":""}]
[null,null,null,null,null,null,null,null,null,null,null,null,null,{"$f":"IFERROR(IF(A14828=\"\",\"\",VLOOKUP(J14828,'Соответствия статей'!$A$2:$B$50,2,0)),\"Другое\")","v":""}]
[null,null,null,null,null,null,null,null,null,null,null,null,null,{"$f":"IFERROR(IF(A14829=\"\",\"\",VLOOKUP(J14829,'Соответствия статей'!$A$2:$B$50,2,0)),\"Другое\")","v":""}]
[null,null,null,null,null,null,null,null,null,null,null,null,null,{"$f":"IFERROR(IF(A14830=\"\",\"\",VLOOKUP(J14830,'Соответствия статей'!$A$2:$B$50,2,0)),\"Другое\")","v":""}]
[null,null,null,null,null,null,null,null,null,null,null,null,null,{"$f":"IFERROR(IF(A14831=\"\",\"\",VLOOKUP(J14831,'Соответствия статей'!$A$2:$B$50,2,0)),\"Другое\")","v":""}]
[null,null,null,null,null,null,null,null,null,null,null,null,null,{"$f":"IFERROR(IF(A14832=\"\",\"\",VLOOKUP(J14832,'Соответствия статей'!$A$2:$B$50,2,0)),\"Другое\")","v":""}]
[null,null,null,null,null,null,null,null,null,null,null,null,null,{"$f":"IFERROR(IF(A14833=\"\",\"\",VLOOKUP(J14833,'Соответствия статей'!$A$2:$B$50,2,0)),\"Другое\")","v":""}]
[null,null,null,null,null,null,null,null,null,null,null,null,null,{"$f":"IFERROR(IF(A14834=\"\",\"\",VLOOKUP(J14834,'Соответствия статей'!$A$2:$B$50,2,0)),\"Другое\")","v":""}]
[null,null,null,null,null,null,null,null,null,null,null,null,null,{"$f":"IFERROR(IF(A14835=\"\",\"\",VLOOKUP(J14835,'Соответствия статей'!$A$2:$B$50,2,0)),\"Другое\")","v":""}]
[null,null,null,null,null,null,null,null,null,null,null,null,null,{"$f":"IFERROR(IF(A14836=\"\",\"\",VLOOKUP(J14836,'Соответствия статей'!$A$2:$B$50,2,0)),\"Другое\")","v":""}]
[null,null,null,null,null,null,null,null,null,null,null,null,null,{"$f":"IFERROR(IF(A14837=\"\",\"\",VLOOKUP(J14837,'Соответствия статей'!$A$2:$B$50,2,0)),\"Другое\")","v":""}]
[null,null,null,null,null,null,null,null,null,null,null,null,null,{"$f":"IFERROR(IF(A14838=\"\",\"\",VLOOKUP(J14838,'Соответствия статей'!$A$2:$B$50,2,0)),\"Другое\")","v":""}]
[null,null,null,null,null,null,null,null,null,null,null,null,null,{"$f":"IFERROR(IF(A14839=\"\",\"\",VLOOKUP(J14839,'Соответствия статей'!$A$2:$B$50,2,0)),\"Другое\")","v":""}]
[null,null,null,null,null,null,null,null,null,null,null,null,null,{"$f":"IFERROR(IF(A14840=\"\",\"\",VLOOKUP(J14840,'Соответствия статей'!$A$2:$B$50,2,0)),\"Другое\")","v":""}]
[null,null,null,null,null,null,null,null,null,null,null,null,null,{"$f":"IFERROR(IF(A14841=\"\",\"\",VLOOKUP(J14841,'Соответствия статей'!$A$2:$B$50,2,0)),\"Другое\")","v":""}]
[null,null,null,null,null,null,null,null,null,null,null,null,null,{"$f":"IFERROR(IF(A14842=\"\",\"\",VLOOKUP(J14842,'Соответствия статей'!$A$2:$B$50,2,0)),\"Другое\")","v":""}]
[null,null,null,null,null,null,null,null,null,null,null,null,null,{"$f":"IFERROR(IF(A14843=\"\",\"\",VLOOKUP(J14843,'Соответствия статей'!$A$2:$B$50,2,0)),\"Другое\")","v":""}]
[null,null,null,null,null,null,null,null,null,null,null,null,null,{"$f":"IFERROR(IF(A14844=\"\",\"\",VLOOKUP(J14844,'Соответствия статей'!$A$2:$B$50,2,0)),\"Другое\")","v":""}]
[null,null,null,null,null,null,null,null,null,null,null,null,null,{"$f":"IFERROR(IF(A14845=\"\",\"\",VLOOKUP(J14845,'Соответствия статей'!$A$2:$B$50,2,0)),\"Другое\")","v":""}]
[null,null,null,null,null,null,null,null,null,null,null,null,null,{"$f":"IFERROR(IF(A14846=\"\",\"\",VLOOKUP(J14846,'Соответствия статей'!$A$2:$B$50,2,0)),\"Другое\")","v":""}]
[null,null,null,null,null,null,null,null,null,null,null,null,null,{"$f":"IFERROR(IF(A14847=\"\",\"\",VLOOKUP(J14847,'Соответствия статей'!$A$2:$B$50,2,0)),\"Другое\")","v":""}]
[null,null,null,null,null,null,null,null,null,null,null,null,null,{"$f":"IFERROR(IF(A14848=\"\",\"\",VLOOKUP(J14848,'Соответствия статей'!$A$2:$B$50,2,0)),\"Другое\")","v":""}]
[null,null,null,null,null,null,null,null,null,null,null,null,null,{"$f":"IFERROR(IF(A14849=\"\",\"\",VLOOKUP(J14849,'Соответствия статей'!$A$2:$B$50,2,0)),\"Другое\")","v":""}]
[null,null,null,null,null,null,null,null,null,null,null,null,null,{"$f":"IFERROR(IF(A14850=\"\",\"\",VLOOKUP(J14850,'Соответствия статей'!$A$2:$B$50,2,0)),\"Другое\")","v":""}]
[null,null,null,null,null,null,null,null,null,null,null,null,null,{"$f":"IFERROR(IF(A14851=\"\",\"\",VLOOKUP(J14851,'Соответствия статей'!$A$2:$B$50,2,0)),\"Другое\")","v":""}]
[null,null,null,null,null,null,null,null,null,null,null,null,null,{"$f":"IFERROR(IF(A14852=\"\",\"\",VLOOKUP(J14852,'Соответствия статей'!$A$2:$B$50,2,0)),\"Другое\")","v":""}]
[null,null,null,null,null,null,null,null,null,null,null,null,null,{"$f":"IFERROR(IF(A14853=\"\",\"\",VLOOKUP(J14853,'Соответствия статей'!$A$2:$B$50,2,0)),\"Другое\")","v":""}]
[null,null,null,null,null,null,null,null,null,null,null,null,null,{"$f":"IFERROR(IF(A14854=\"\",\"\",VLOOKUP(J14854,'Соответствия статей'!$A$2:$B$50,2,0)),\"Другое\")","v":""}]
[null,null,null,null,null,null,null,null,null,null,null,null,null,{"$f":"IFERROR(IF(A14855=\"\",\"\",VLOOKUP(J14855,'Соответствия статей'!$A$2:$B$50,2,0)),\"Другое\")","v":""}]
[null,null,null,null,null,null,null,null,null,null,null,null,null,{"$f":"IFERROR(IF(A14856=\"\",\"\",VLOOKUP(J14856,'Соответствия статей'!$A$2:$B$50,2,0)),\"Другое\")","v":""}]
[null,null,null,null,null,null,null,null,null,null,null,null,null,{"$f":"IFERROR(IF(A14857=\"\",\"\",VLOOKUP(J14857,'Соответствия статей'!$A$2:$B$50,2,0)),\"Другое\")","v":""}]
[null,null,null,null,null,null,null,null,null,null,null,null,null,{"$f":"IFERROR(IF(A14858=\"\",\"\",VLOOKUP(J14858,'Соответствия статей'!$A$2:$B$50,2,0)),\"Другое\")","v":""}]
[null,null,null,null,null,null,null,null,null,null,null,null,null,{"$f":"IFERROR(IF(A14859=\"\",\"\",VLOOKUP(J14859,'Соответствия статей'!$A$2:$B$50,2,0)),\"Другое\")","v":""}]
[null,null,null,null,null,null,null,null,null,null,null,null,null,{"$f":"IFERROR(IF(A14860=\"\",\"\",VLOOKUP(J14860,'Соответствия статей'!$A$2:$B$50,2,0)),\"Другое\")","v":""}]
[null,null,null,null,null,null,null,null,null,null,null,null,null,{"$f":"IFERROR(IF(A14861=\"\",\"\",VLOOKUP(J14861,'Соответствия статей'!$A$2:$B$50,2,0)),\"Другое\")","v":""}]
[null,null,null,null,null,null,null,null,null,null,null,null,null,{"$f":"IFERROR(IF(A14862=\"\",\"\",VLOOKUP(J14862,'Соответствия статей'!$A$2:$B$50,2,0)),\"Другое\")","v":""}]
[null,null,null,null,null,null,null,null,null,null,null,null,null,{"$f":"IFERROR(IF(A14863=\"\",\"\",VLOOKUP(J14863,'Соответствия статей'!$A$2:$B$50,2,0)),\"Другое\")","v":""}]
[null,null,null,null,null,null,null,null,null,null,null,null,null,{"$f":"IFERROR(IF(A14864=\"\",\"\",VLOOKUP(J14864,'Соответствия статей'!$A$2:$B$50,2,0)),\"Другое\")","v":""}]
[null,null,null,null,null,null,null,null,null,null,null,null,null,{"$f":"IFERROR(IF(A14865=\"\",\"\",VLOOKUP(J14865,'Соответствия статей'!$A$2:$B$50,2,0)),\"Другое\")","v":""}]
[null,null,null,null,null,null,null,null,null,null,null,null,null,{"$f":"IFERROR(IF(A14866=\"\",\"\",VLOOKUP(J14866,'Соответствия статей'!$A$2:$B$50,2,0)),\"Другое\")","v":""}]
[null,null,null,null,null,null,null,null,null,null,null,null,null,{"$f":"IFERROR(IF(A14867=\"\",\"\",VLOOKUP(J14867,'Соответствия статей'!$A$2:$B$50,2,0)),\"Другое\")","v":""}]
[null,null,null,null,null,null,null,null,null,null,null,null,null,{"$f":"IFERROR(IF(A14868=\"\",\"\",VLOOKUP(J14868,'Соответствия статей'!$A$2:$B$50,2,0)),\"Другое\")","v":""}]
[null,null,null,null,null,null,null,null,null,null,null,null,null,{"$f":"IFERROR(IF(A14869=\"\",\"\",VLOOKUP(J14869,'Соответствия статей'!$A$2:$B$50,2,0)),\"Другое\")","v":""}]
[null,null,null,null,null,null,null,null,null,null,null,null,null,{"$f":"IFERROR(IF(A14870=\"\",\"\",VLOOKUP(J14870,'Соответствия статей'!$A$2:$B$50,2,0)),\"Другое\")","v":""}]
[null,null,null,null,null,null,null,null,null,null,null,null,null,{"$f":"IFERROR(IF(A14871=\"\",\"\",VLOOKUP(J14871,'Соответствия статей'!$A$2:$B$50,2,0)),\"Другое\")","v":""}]
[null,null,null,null,null,null,null,null,null,null,null,null,null,{"$f":"IFERROR(IF(A14872=\"\",\"\",VLOOKUP(J14872,'Соответствия статей'!$A$2:$B$50,2,0)),\"Другое\")","v":""}]
[null,null,null,null,null,null,null,null,null,null,null,null,null,{"$f":"IFERROR(IF(A14873=\"\",\"\",VLOOKUP(J14873,'Соответствия статей'!$A$2:$B$50,2,0)),\"Другое\")","v":""}]
[null,null,null,null,null,null,null,null,null,null,null,null,null,{"$f":"IFERROR(IF(A14874=\"\",\"\",VLOOKUP(J14874,'Соответствия статей'!$A$2:$B$50,2,0)),\"Другое\")","v":""}]
[null,null,null,null,null,null,null,null,null,null,null,null,null,{"$f":"IFERROR(IF(A14875=\"\",\"\",VLOOKUP(J14875,'Соответствия статей'!$A$2:$B$50,2,0)),\"Другое\")","v":""}]
[null,null,null,null,null,null,null,null,null,null,null,null,null,{"$f":"IFERROR(IF(A14876=\"\",\"\",VLOOKUP(J14876,'Соответствия статей'!$A$2:$B$50,2,0)),\"Другое\")","v":""}]
[null,null,null,null,null,null,null,null,null,null,null,null,null,{"$f":"IFERROR(IF(A14877=\"\",\"\",VLOOKUP(J14877,'Соответствия статей'!$A$2:$B$50,2,0)),\"Другое\")","v":""}]
[null,null,null,null,null,null,null,null,null,null,null,null,null,{"$f":"IFERROR(IF(A14878=\"\",\"\",VLOOKUP(J14878,'Соответствия статей'!$A$2:$B$50,2,0)),\"Другое\")","v":""}]
[null,null,null,null,null,null,null,null,null,null,null,null,null,{"$f":"IFERROR(IF(A14879=\"\",\"\",VLOOKUP(J14879,'Соответствия статей'!$A$2:$B$50,2,0)),\"Другое\")","v":""}]
[null,null,null,null,null,null,null,null,null,null,null,null,null,{"$f":"IFERROR(IF(A14880=\"\",\"\",VLOOKUP(J14880,'Соответствия статей'!$A$2:$B$50,2,0)),\"Другое\")","v":""}]
[null,null,null,null,null,null,null,null,null,null,null,null,null,{"$f":"IFERROR(IF(A14881=\"\",\"\",VLOOKUP(J14881,'Соответствия статей'!$A$2:$B$50,2,0)),\"Другое\")","v":""}]
[null,null,null,null,null,null,null,null,null,null,null,null,null,{"$f":"IFERROR(IF(A14882=\"\",\"\",VLOOKUP(J14882,'Соответствия статей'!$A$2:$B$50,2,0)),\"Другое\")","v":""}]
[null,null,null,null,null,null,null,null,null,null,null,null,null,{"$f":"IFERROR(IF(A14883=\"\",\"\",VLOOKUP(J14883,'Соответствия статей'!$A$2:$B$50,2,0)),\"Другое\")","v":""}]
[null,null,null,null,null,null,null,null,null,null,null,null,null,{"$f":"IFERROR(IF(A14884=\"\",\"\",VLOOKUP(J14884,'Соответствия статей'!$A$2:$B$50,2,0)),\"Другое\")","v":""}]
[null,null,null,null,null,null,null,null,null,null,null,null,null,{"$f":"IFERROR(IF(A14885=\"\",\"\",VLOOKUP(J14885,'Соответствия статей'!$A$2:$B$50,2,0)),\"Другое\")","v":""}]
[null,null,null,null,null,null,null,null,null,null,null,null,null,{"$f":"IFERROR(IF(A14886=\"\",\"\",VLOOKUP(J14886,'Соответствия статей'!$A$2:$B$50,2,0)),\"Другое\")","v":""}]
[null,null,null,null,null,null,null,null,null,null,null,null,null,{"$f":"IFERROR(IF(A14887=\"\",\"\",VLOOKUP(J14887,'Соответствия статей'!$A$2:$B$50,2,0)),\"Другое\")","v":""}]
[null,null,null,null,null,null,null,null,null,null,null,null,null,{"$f":"IFERROR(IF(A14888=\"\",\"\",VLOOKUP(J14888,'Соответствия статей'!$A$2:$B$50,2,0)),\"Другое\")","v":""}]
[null,null,null,null,null,null,null,null,null,null,null,null,null,{"$f":"IFERROR(IF(A14889=\"\",\"\",VLOOKUP(J14889,'Соответствия статей'!$A$2:$B$50,2,0)),\"Другое\")","v":""}]
[null,null,null,null,null,null,null,null,null,null,null,null,null,{"$f":"IFERROR(IF(A14890=\"\",\"\",VLOOKUP(J14890,'Соответствия статей'!$A$2:$B$50,2,0)),\"Другое\")","v":""}]
[null,null,null,null,null,null,null,null,null,null,null,null,null,{"$f":"IFERROR(IF(A14891=\"\",\"\",VLOOKUP(J14891,'Соответствия статей'!$A$2:$B$50,2,0)),\"Другое\")","v":""}]
[null,null,null,null,null,null,null,null,null,null,null,null,null,{"$f":"IFERROR(IF(A14892=\"\",\"\",VLOOKUP(J14892,'Соответствия статей'!$A$2:$B$50,2,0)),\"Другое\")","v":""}]
[null,null,null,null,null,null,null,null,null,null,null,null,null,{"$f":"IFERROR(IF(A14893=\"\",\"\",VLOOKUP(J14893,'Соответствия статей'!$A$2:$B$50,2,0)),\"Другое\")","v":""}]
[null,null,null,null,null,null,null,null,null,null,null,null,null,{"$f":"IFERROR(IF(A14894=\"\",\"\",VLOOKUP(J14894,'Соответствия статей'!$A$2:$B$50,2,0)),\"Другое\")","v":""}]
[null,null,null,null,null,null,null,null,null,null,null,null,null,{"$f":"IFERROR(IF(A14895=\"\",\"\",VLOOKUP(J14895,'Соответствия статей'!$A$2:$B$50,2,0)),\"Другое\")","v":""}]
[null,null,null,null,null,null,null,null,null,null,null,null,null,{"$f":"IFERROR(IF(A14896=\"\",\"\",VLOOKUP(J14896,'Соответствия статей'!$A$2:$B$50,2,0)),\"Другое\")","v":""}]
[null,null,null,null,null,null,null,null,null,null,null,null,null,{"$f":"IFERROR(IF(A14897=\"\",\"\",VLOOKUP(J14897,'Соответствия статей'!$A$2:$B$50,2,0)),\"Другое\")","v":""}]
[null,null,null,null,null,null,null,null,null,null,null,null,null,{"$f":"IFERROR(IF(A14898=\"\",\"\",VLOOKUP(J14898,'Соответствия статей'!$A$2:$B$50,2,0)),\"Другое\")","v":""}]
[null,null,null,null,null,null,null,null,null,null,null,null,null,{"$f":"IFERROR(IF(A14899=\"\",\"\",VLOOKUP(J14899,'Соответствия статей'!$A$2:$B$50,2,0)),\"Другое\")","v":""}]
[null,null,null,null,null,null,null,null,null,null,null,null,null,{"$f":"IFERROR(IF(A14900=\"\",\"\",VLOOKUP(J14900,'Соответствия статей'!$A$2:$B$50,2,0)),\"Другое\")","v":""}]
[null,null,null,null,null,null,null,null,null,null,null,null,null,{"$f":"IFERROR(IF(A14901=\"\",\"\",VLOOKUP(J14901,'Соответствия статей'!$A$2:$B$50,2,0)),\"Другое\")","v":""}]
[null,null,null,null,null,null,null,null,null,null,null,null,null,{"$f":"IFERROR(IF(A14902=\"\",\"\",VLOOKUP(J14902,'Соответствия статей'!$A$2:$B$50,2,0)),\"Другое\")","v":""}]
[null,null,null,null,null,null,null,null,null,null,null,null,null,{"$f":"IFERROR(IF(A14903=\"\",\"\",VLOOKUP(J14903,'Соответствия статей'!$A$2:$B$50,2,0)),\"Другое\")","v":""}]
[null,null,null,null,null,null,null,null,null,null,null,null,null,{"$f":"IFERROR(IF(A14904=\"\",\"\",VLOOKUP(J14904,'Соответствия статей'!$A$2:$B$50,2,0)),\"Другое\")","v":""}]
[null,null,null,null,null,null,null,null,null,null,null,null,null,{"$f":"IFERROR(IF(A14905=\"\",\"\",VLOOKUP(J14905,'Соответствия статей'!$A$2:$B$50,2,0)),\"Другое\")","v":""}]
[null,null,null,null,null,null,null,null,null,null,null,null,null,{"$f":"IFERROR(IF(A14906=\"\",\"\",VLOOKUP(J14906,'Соответствия статей'!$A$2:$B$50,2,0)),\"Другое\")","v":""}]
[null,null,null,null,null,null,null,null,null,null,null,null,null,{"$f":"IFERROR(IF(A14907=\"\",\"\",VLOOKUP(J14907,'Соответствия статей'!$A$2:$B$50,2,0)),\"Другое\")","v":""}]
[null,null,null,null,null,null,null,null,null,null,null,null,null,{"$f":"IFERROR(IF(A14908=\"\",\"\",VLOOKUP(J14908,'Соответствия статей'!$A$2:$B$50,2,0)),\"Другое\")","v":""}]
[null,null,null,null,null,null,null,null,null,null,null,null,null,{"$f":"IFERROR(IF(A14909=\"\",\"\",VLOOKUP(J14909,'Соответствия статей'!$A$2:$B$50,2,0)),\"Другое\")","v":""}]
[null,null,null,null,null,null,null,null,null,null,null,null,null,{"$f":"IFERROR(IF(A14910=\"\",\"\",VLOOKUP(J14910,'Соответствия статей'!$A$2:$B$50,2,0)),\"Другое\")","v":""}]
[null,null,null,null,null,null,null,null,null,null,null,null,null,{"$f":"IFERROR(IF(A14911=\"\",\"\",VLOOKUP(J14911,'Соответствия статей'!$A$2:$B$50,2,0)),\"Другое\")","v":""}]
[null,null,null,null,null,null,null,null,null,null,null,null,null,{"$f":"IFERROR(IF(A14912=\"\",\"\",VLOOKUP(J14912,'Соответствия статей'!$A$2:$B$50,2,0)),\"Другое\")","v":""}]
[null,null,null,null,null,null,null,null,null,null,null,null,null,{"$f":"IFERROR(IF(A14913=\"\",\"\",VLOOKUP(J14913,'Соответствия статей'!$A$2:$B$50,2,0)),\"Другое\")","v":""}]
[null,null,null,null,null,null,null,null,null,null,null,null,null,{"$f":"IFERROR(IF(A14914=\"\",\"\",VLOOKUP(J14914,'Соответствия статей'!$A$2:$B$50,2,0)),\"Другое\")","v":""}]
[null,null,null,null,null,null,null,null,null,null,null,null,null,{"$f":"IFERROR(IF(A14915=\"\",\"\",VLOOKUP(J14915,'Соответствия статей'!$A$2:$B$50,2,0)),\"Другое\")","v":""}]
[null,null,null,null,null,null,null,null,null,null,null,null,null,{"$f":"IFERROR(IF(A14916=\"\",\"\",VLOOKUP(J14916,'Соответствия статей'!$A$2:$B$50,2,0)),\"Другое\")","v":""}]
[null,null,null,null,null,null,null,null,null,null,null,null,null,{"$f":"IFERROR(IF(A14917=\"\",\"\",VLOOKUP(J14917,'Соответствия статей'!$A$2:$B$50,2,0)),\"Другое\")","v":""}]
[null,null,null,null,null,null,null,null,null,null,null,null,null,{"$f":"IFERROR(IF(A14918=\"\",\"\",VLOOKUP(J14918,'Соответствия статей'!$A$2:$B$50,2,0)),\"Другое\")","v":""}]
[null,null,null,null,null,null,null,null,null,null,null,null,null,{"$f":"IFERROR(IF(A14919=\"\",\"\",VLOOKUP(J14919,'Соответствия статей'!$A$2:$B$50,2,0)),\"Другое\")","v":""}]
[null,null,null,null,null,null,null,null,null,null,null,null,null,{"$f":"IFERROR(IF(A14920=\"\",\"\",VLOOKUP(J14920,'Соответствия статей'!$A$2:$B$50,2,0)),\"Другое\")","v":""}]
[null,null,null,null,null,null,null,null,null,null,null,null,null,{"$f":"IFERROR(IF(A14921=\"\",\"\",VLOOKUP(J14921,'Соответствия статей'!$A$2:$B$50,2,0)),\"Другое\")","v":""}]
[null,null,null,null,null,null,null,null,null,null,null,null,null,{"$f":"IFERROR(IF(A14922=\"\",\"\",VLOOKUP(J14922,'Соответствия статей'!$A$2:$B$50,2,0)),\"Другое\")","v":""}]
[null,null,null,null,null,null,null,null,null,null,null,null,null,{"$f":"IFERROR(IF(A14923=\"\",\"\",VLOOKUP(J14923,'Соответствия статей'!$A$2:$B$50,2,0)),\"Другое\")","v":""}]
[null,null,null,null,null,null,null,null,null,null,null,null,null,{"$f":"IFERROR(IF(A14924=\"\",\"\",VLOOKUP(J14924,'Соответствия статей'!$A$2:$B$50,2,0)),\"Другое\")","v":""}]
[null,null,null,null,null,null,null,null,null,null,null,null,null,{"$f":"IFERROR(IF(A14925=\"\",\"\",VLOOKUP(J14925,'Соответствия статей'!$A$2:$B$50,2,0)),\"Другое\")","v":""}]
[null,null,null,null,null,null,null,null,null,null,null,null,null,{"$f":"IFERROR(IF(A14926=\"\",\"\",VLOOKUP(J14926,'Соответствия статей'!$A$2:$B$50,2,0)),\"Другое\")","v":""}]
[null,null,null,null,null,null,null,null,null,null,null,null,null,{"$f":"IFERROR(IF(A14927=\"\",\"\",VLOOKUP(J14927,'Соответствия статей'!$A$2:$B$50,2,0)),\"Другое\")","v":""}]
[null,null,null,null,null,null,null,null,null,null,null,null,null,{"$f":"IFERROR(IF(A14928=\"\",\"\",VLOOKUP(J14928,'Соответствия статей'!$A$2:$B$50,2,0)),\"Другое\")","v":""}]
[null,null,null,null,null,null,null,null,null,null,null,null,null,{"$f":"IFERROR(IF(A14929=\"\",\"\",VLOOKUP(J14929,'Соответствия статей'!$A$2:$B$50,2,0)),\"Другое\")","v":""}]
[null,null,null,null,null,null,null,null,null,null,null,null,null,{"$f":"IFERROR(IF(A14930=\"\",\"\",VLOOKUP(J14930,'Соответствия статей'!$A$2:$B$50,2,0)),\"Другое\")","v":""}]
[null,null,null,null,null,null,null,null,null,null,null,null,null,{"$f":"IFERROR(IF(A14931=\"\",\"\",VLOOKUP(J14931,'Соответствия статей'!$A$2:$B$50,2,0)),\"Другое\")","v":""}]
[null,null,null,null,null,null,null,null,null,null,null,null,null,{"$f":"IFERROR(IF(A14932=\"\",\"\",VLOOKUP(J14932,'Соответствия статей'!$A$2:$B$50,2,0)),\"Другое\")","v":""}]
[null,null,null,null,null,null,null,null,null,null,null,null,null,{"$f":"IFERROR(IF(A14933=\"\",\"\",VLOOKUP(J14933,'Соответствия статей'!$A$2:$B$50,2,0)),\"Другое\")","v":""}]
[null,null,null,null,null,null,null,null,null,null,null,null,null,{"$f":"IFERROR(IF(A14934=\"\",\"\",VLOOKUP(J14934,'Соответствия статей'!$A$2:$B$50,2,0)),\"Другое\")","v":""}]
[null,null,null,null,null,null,null,null,null,null,null,null,null,{"$f":"IFERROR(IF(A14935=\"\",\"\",VLOOKUP(J14935,'Соответствия статей'!$A$2:$B$50,2,0)),\"Другое\")","v":""}]
[null,null,null,null,null,null,null,null,null,null,null,null,null,{"$f":"IFERROR(IF(A14936=\"\",\"\",VLOOKUP(J14936,'Соответствия статей'!$A$2:$B$50,2,0)),\"Другое\")","v":""}]
[null,null,null,null,null,null,null,null,null,null,null,null,null,{"$f":"IFERROR(IF(A14937=\"\",\"\",VLOOKUP(J14937,'Соответствия статей'!$A$2:$B$50,2,0)),\"Другое\")","v":""}]
[null,null,null,null,null,null,null,null,null,null,null,null,null,{"$f":"IFERROR(IF(A14938=\"\",\"\",VLOOKUP(J14938,'Соответствия статей'!$A$2:$B$50,2,0)),\"Другое\")","v":""}]
[null,null,null,null,null,null,null,null,null,null,null,null,null,{"$f":"IFERROR(IF(A14939=\"\",\"\",VLOOKUP(J14939,'Соответствия статей'!$A$2:$B$50,2,0)),\"Другое\")","v":""}]
[null,null,null,null,null,null,null,null,null,null,null,null,null,{"$f":"IFERROR(IF(A14940=\"\",\"\",VLOOKUP(J14940,'Соответствия статей'!$A$2:$B$50,2,0)),\"Другое\")","v":""}]
[null,null,null,null,null,null,null,null,null,null,null,null,null,{"$f":"IFERROR(IF(A14941=\"\",\"\",VLOOKUP(J14941,'Соответствия статей'!$A$2:$B$50,2,0)),\"Другое\")","v":""}]
[null,null,null,null,null,null,null,null,null,null,null,null,null,{"$f":"IFERROR(IF(A14942=\"\",\"\",VLOOKUP(J14942,'Соответствия статей'!$A$2:$B$50,2,0)),\"Другое\")","v":""}]
[null,null,null,null,null,null,null,null,null,null,null,null,null,{"$f":"IFERROR(IF(A14943=\"\",\"\",VLOOKUP(J14943,'Соответствия статей'!$A$2:$B$50,2,0)),\"Другое\")","v":""}]
[null,null,null,null,null,null,null,null,null,null,null,null,null,{"$f":"IFERROR(IF(A14944=\"\",\"\",VLOOKUP(J14944,'Соответствия статей'!$A$2:$B$50,2,0)),\"Другое\")","v":""}]
[null,null,null,null,null,null,null,null,null,null,null,null,null,{"$f":"IFERROR(IF(A14945=\"\",\"\",VLOOKUP(J14945,'Соответствия статей'!$A$2:$B$50,2,0)),\"Другое\")","v":""}]
[null,null,null,null,null,null,null,null,null,null,null,null,null,{"$f":"IFERROR(IF(A14946=\"\",\"\",VLOOKUP(J14946,'Соответствия статей'!$A$2:$B$50,2,0)),\"Другое\")","v":""}]
[null,null,null,null,null,null,null,null,null,null,null,null,null,{"$f":"IFERROR(IF(A14947=\"\",\"\",VLOOKUP(J14947,'Соответствия статей'!$A$2:$B$50,2,0)),\"Другое\")","v":""}]
[null,null,null,null,null,null,null,null,null,null,null,null,null,{"$f":"IFERROR(IF(A14948=\"\",\"\",VLOOKUP(J14948,'Соответствия статей'!$A$2:$B$50,2,0)),\"Другое\")","v":""}]
[null,null,null,null,null,null,null,null,null,null,null,null,null,{"$f":"IFERROR(IF(A14949=\"\",\"\",VLOOKUP(J14949,'Соответствия статей'!$A$2:$B$50,2,0)),\"Другое\")","v":""}]
[null,null,null,null,null,null,null,null,null,null,null,null,null,{"$f":"IFERROR(IF(A14950=\"\",\"\",VLOOKUP(J14950,'Соответствия статей'!$A$2:$B$50,2,0)),\"Другое\")","v":""}]
[null,null,null,null,null,null,null,null,null,null,null,null,null,{"$f":"IFERROR(IF(A14951=\"\",\"\",VLOOKUP(J14951,'Соответствия статей'!$A$2:$B$50,2,0)),\"Другое\")","v":""}]
[null,null,null,null,null,null,null,null,null,null,null,null,null,{"$f":"IFERROR(IF(A14952=\"\",\"\",VLOOKUP(J14952,'Соответствия статей'!$A$2:$B$50,2,0)),\"Другое\")","v":""}]
[null,null,null,null,null,null,null,null,null,null,null,null,null,{"$f":"IFERROR(IF(A14953=\"\",\"\",VLOOKUP(J14953,'Соответствия статей'!$A$2:$B$50,2,0)),\"Другое\")","v":""}]
[null,null,null,null,null,null,null,null,null,null,null,null,null,{"$f":"IFERROR(IF(A14954=\"\",\"\",VLOOKUP(J14954,'Соответствия статей'!$A$2:$B$50,2,0)),\"Другое\")","v":""}]
[null,null,null,null,null,null,null,null,null,null,null,null,null,{"$f":"IFERROR(IF(A14955=\"\",\"\",VLOOKUP(J14955,'Соответствия статей'!$A$2:$B$50,2,0)),\"Другое\")","v":""}]
[null,null,null,null,null,null,null,null,null,null,null,null,null,{"$f":"IFERROR(IF(A14956=\"\",\"\",VLOOKUP(J14956,'Соответствия статей'!$A$2:$B$50,2,0)),\"Другое\")","v":""}]
[null,null,null,null,null,null,null,null,null,null,null,null,null,{"$f":"IFERROR(IF(A14957=\"\",\"\",VLOOKUP(J14957,'Соответствия статей'!$A$2:$B$50,2,0)),\"Другое\")","v":""}]
[null,null,null,null,null,null,null,null,null,null,null,null,null,{"$f":"IFERROR(IF(A14958=\"\",\"\",VLOOKUP(J14958,'Соответствия статей'!$A$2:$B$50,2,0)),\"Другое\")","v":""}]
[null,null,null,null,null,null,null,null,null,null,null,null,null,{"$f":"IFERROR(IF(A14959=\"\",\"\",VLOOKUP(J14959,'Соответствия статей'!$A$2:$B$50,2,0)),\"Другое\")","v":""}]
[null,null,null,null,null,null,null,null,null,null,null,null,null,{"$f":"IFERROR(IF(A14960=\"\",\"\",VLOOKUP(J14960,'Соответствия статей'!$A$2:$B$50,2,0)),\"Другое\")","v":""}]
[null,null,null,null,null,null,null,null,null,null,null,null,null,{"$f":"IFERROR(IF(A14961=\"\",\"\",VLOOKUP(J14961,'Соответствия статей'!$A$2:$B$50,2,0)),\"Другое\")","v":""}]
[null,null,null,null,null,null,null,null,null,null,null,null,null,{"$f":"IFERROR(IF(A14962=\"\",\"\",VLOOKUP(J14962,'Соответствия статей'!$A$2:$B$50,2,0)),\"Другое\")","v":""}]
[null,null,null,null,null,null,null,null,null,null,null,null,null,{"$f":"IFERROR(IF(A14963=\"\",\"\",VLOOKUP(J14963,'Соответствия статей'!$A$2:$B$50,2,0)),\"Другое\")","v":""}]
[null,null,null,null,null,null,null,null,null,null,null,null,null,{"$f":"IFERROR(IF(A14964=\"\",\"\",VLOOKUP(J14964,'Соответствия статей'!$A$2:$B$50,2,0)),\"Другое\")","v":""}]
[null,null,null,null,null,null,null,null,null,null,null,null,null,{"$f":"IFERROR(IF(A14965=\"\",\"\",VLOOKUP(J14965,'Соответствия статей'!$A$2:$B$50,2,0)),\"Другое\")","v":""}]
[null,null,null,null,null,null,null,null,null,null,null,null,null,{"$f":"IFERROR(IF(A14966=\"\",\"\",VLOOKUP(J14966,'Соответствия статей'!$A$2:$B$50,2,0)),\"Другое\")","v":""}]
[null,null,null,null,null,null,null,null,null,null,null,null,null,{"$f":"IFERROR(IF(A14967=\"\",\"\",VLOOKUP(J14967,'Соответствия статей'!$A$2:$B$50,2,0)),\"Другое\")","v":""}]
[null,null,null,null,null,null,null,null,null,null,null,null,null,{"$f":"IFERROR(IF(A14968=\"\",\"\",VLOOKUP(J14968,'Соответствия статей'!$A$2:$B$50,2,0)),\"Другое\")","v":""}]
[null,null,null,null,null,null,null,null,null,null,null,null,null,{"$f":"IFERROR(IF(A14969=\"\",\"\",VLOOKUP(J14969,'Соответствия статей'!$A$2:$B$50,2,0)),\"Другое\")","v":""}]
[null,null,null,null,null,null,null,null,null,null,null,null,null,{"$f":"IFERROR(IF(A14970=\"\",\"\",VLOOKUP(J14970,'Соответствия статей'!$A$2:$B$50,2,0)),\"Другое\")","v":""}]
[null,null,null,null,null,null,null,null,null,null,null,null,null,{"$f":"IFERROR(IF(A14971=\"\",\"\",VLOOKUP(J14971,'Соответствия статей'!$A$2:$B$50,2,0)),\"Другое\")","v":""}]
[null,null,null,null,null,null,null,null,null,null,null,null,null,{"$f":"IFERROR(IF(A14972=\"\",\"\",VLOOKUP(J14972,'Соответствия статей'!$A$2:$B$50,2,0)),\"Другое\")","v":""}]
[null,null,null,null,null,null,null,null,null,null,null,null,null,{"$f":"IFERROR(IF(A14973=\"\",\"\",VLOOKUP(J14973,'Соответствия статей'!$A$2:$B$50,2,0)),\"Другое\")","v":""}]
[null,null,null,null,null,null,null,null,null,null,null,null,null,{"$f":"IFERROR(IF(A14974=\"\",\"\",VLOOKUP(J14974,'Соответствия статей'!$A$2:$B$50,2,0)),\"Другое\")","v":""}]
[null,null,null,null,null,null,null,null,null,null,null,null,null,{"$f":"IFERROR(IF(A14975=\"\",\"\",VLOOKUP(J14975,'Соответствия статей'!$A$2:$B$50,2,0)),\"Другое\")","v":""}]
[null,null,null,null,null,null,null,null,null,null,null,null,null,{"$f":"IFERROR(IF(A14976=\"\",\"\",VLOOKUP(J14976,'Соответствия статей'!$A$2:$B$50,2,0)),\"Другое\")","v":""}]
[null,null,null,null,null,null,null,null,null,null,null,null,null,{"$f":"IFERROR(IF(A14977=\"\",\"\",VLOOKUP(J14977,'Соответствия статей'!$A$2:$B$50,2,0)),\"Другое\")","v":""}]
[null,null,null,null,null,null,null,null,null,null,null,null,null,{"$f":"IFERROR(IF(A14978=\"\",\"\",VLOOKUP(J14978,'Соответствия статей'!$A$2:$B$50,2,0)),\"Другое\")","v":""}]
[null,null,null,null,null,null,null,null,null,null,null,null,null,{"$f":"IFERROR(IF(A14979=\"\",\"\",VLOOKUP(J14979,'Соответствия статей'!$A$2:$B$50,2,0)),\"Другое\")","v":""}]
[null,null,null,null,null,null,null,null,null,null,null,null,null,{"$f":"IFERROR(IF(A14980=\"\",\"\",VLOOKUP(J14980,'Соответствия статей'!$A$2:$B$50,2,0)),\"Другое\")","v":""}]
[null,null,null,null,null,null,null,null,null,null,null,null,null,{"$f":"IFERROR(IF(A14981=\"\",\"\",VLOOKUP(J14981,'Соответствия статей'!$A$2:$B$50,2,0)),\"Другое\")","v":""}]
[null,null,null,null,null,null,null,null,null,null,null,null,null,{"$f":"IFERROR(IF(A14982=\"\",\"\",VLOOKUP(J14982,'Соответствия статей'!$A$2:$B$50,2,0)),\"Другое\")","v":""}]
[null,null,null,null,null,null,null,null,null,null,null,null,null,{"$f":"IFERROR(IF(A14983=\"\",\"\",VLOOKUP(J14983,'Соответствия статей'!$A$2:$B$50,2,0)),\"Другое\")","v":""}]
[null,null,null,null,null,null,null,null,null,null,null,null,null,{"$f":"IFERROR(IF(A14984=\"\",\"\",VLOOKUP(J14984,'Соответствия статей'!$A$2:$B$50,2,0)),\"Другое\")","v":""}]
[null,null,null,null,null,null,null,null,null,null,null,null,null,{"$f":"IFERROR(IF(A14985=\"\",\"\",VLOOKUP(J14985,'Соответствия статей'!$A$2:$B$50,2,0)),\"Другое\")","v":""}]
[null,null,null,null,null,null,null,null,null,null,null,null,null,{"$f":"IFERROR(IF(A14986=\"\",\"\",VLOOKUP(J14986,'Соответствия статей'!$A$2:$B$50,2,0)),\"Другое\")","v":""}]
[null,null,null,null,null,null,null,null,null,null,null,null,null,{"$f":"IFERROR(IF(A14987=\"\",\"\",VLOOKUP(J14987,'Соответствия статей'!$A$2:$B$50,2,0)),\"Другое\")","v":""}]
[null,null,null,null,null,null,null,null,null,null,null,null,null,{"$f":"IFERROR(IF(A14988=\"\",\"\",VLOOKUP(J14988,'Соответствия статей'!$A$2:$B$50,2,0)),\"Другое\")","v":""}]
[null,null,null,null,null,null,null,null,null,null,null,null,null,{"$f":"IFERROR(IF(A14989=\"\",\"\",VLOOKUP(J14989,'Соответствия статей'!$A$2:$B$50,2,0)),\"Другое\")","v":""}]
[null,null,null,null,null,null,null,null,null,null,null,null,null,{"$f":"IFERROR(IF(A14990=\"\",\"\",VLOOKUP(J14990,'Соответствия статей'!$A$2:$B$50,2,0)),\"Другое\")","v":""}]
[null,null,null,null,null,null,null,null,null,null,null,null,null,{"$f":"IFERROR(IF(A14991=\"\",\"\",VLOOKUP(J14991,'Соответствия статей'!$A$2:$B$50,2,0)),\"Другое\")","v":""}]
[null,null,null,null,null,null,null,null,null,null,null,null,null,{"$f":"IFERROR(IF(A14992=\"\",\"\",VLOOKUP(J14992,'Соответствия статей'!$A$2:$B$50,2,0)),\"Другое\")","v":""}]
[null,null,null,null,null,null,null,null,null,null,null,null,null,{"$f":"IFERROR(IF(A14993=\"\",\"\",VLOOKUP(J14993,'Соответствия статей'!$A$2:$B$50,2,0)),\"Другое\")","v":""}]
[null,null,null,null,null,null,null,null,null,null,null,null,null,{"$f":"IFERROR(IF(A14994=\"\",\"\",VLOOKUP(J14994,'Соответствия статей'!$A$2:$B$50,2,0)),\"Другое\")","v":""}]
[null,null,null,null,null,null,null,null,null,null,null,null,null,{"$f":"IFERROR(IF(A14995=\"\",\"\",VLOOKUP(J14995,'Соответствия статей'!$A$2:$B$50,2,0)),\"Другое\")","v":""}]
[null,null,null,null,null,null,null,null,null,null,null,null,null,{"$f":"IFERROR(IF(A14996=\"\",\"\",VLOOKUP(J14996,'Соответствия статей'!$A$2:$B$50,2,0)),\"Другое\")","v":""}]
[null,null,null,null,null,null,null,null,null,null,null,null,null,{"$f":"IFERROR(IF(A14997=\"\",\"\",VLOOKUP(J14997,'Соответствия статей'!$A$2:$B$50,2,0)),\"Другое\")","v":""}]
[null,null,null,null,null,null,null,null,null,null,null,null,null,{"$f":"IFERROR(IF(A14998=\"\",\"\",VLOOKUP(J14998,'Соответствия статей'!$A$2:$B$50,2,0)),\"Другое\")","v":""}]
[null,null,null,null,null,null,null,null,null,null,null,null,null,{"$f":"IFERROR(IF(A14999=\"\",\"\",VLOOKUP(J14999,'Соответствия статей'!$A$2:$B$50,2,0)),\"Другое\")","v":""}]
[null,null,null,null,null,null,null,null,null,null,null,null,null,{"$f":"IFERROR(IF(A15000=\"\",\"\",VLOOKUP(J15000,'Соответствия статей'!$A$2:$B$50,2,0)),\"Другое\")","v":""}]

{"sheet":"ДАННЫЕ ДИАГРАММЫ","index":7,"n_rows":6,"n_cols":4,"rows_kept":6,"cut":false,"hidden":true,"merged":[]}
[null,"ДАННЫЕ ДИАГРАММЫ"]
[]
[null,null,"Прогнозируемые","Фактические"]
[null,"Движение денежных средств",{"$f":"'Движение денежных средств'!$C$11","v":37270},{"$f":"'Движение денежных средств'!$D$11","v":23357.599999999991}]
[null,"Доходы за месяц",{"$f":"Доходы[[#Totals],[План Январь]]","v":72000},{"$f":"Доходы[[#Totals],[Факт Январь]]","v":88167.039999999994}]
[null,"Расходы за месяц",{"$f":"Расходы[[#Totals],[Январь План]]","v":34730},{"$f":"Расходы[[#Totals],[Январь Факт]]","v":64809.440000000002}]